{"text_format":"1","workbook":"xlsx","n_sheets":9,"sheets":["WEEKLY PAYMENTS","Summary","Section 61(11) Summary","Dates","Dates2","Tax ranges","Tax Scales","Spreadsheet History","Variables"],"not_rendered":{"charts":0,"images":0,"macros":1,"external_links":0,"defined_names":29,"comments":3,"pivot_tables":0},"unopened":[],"bounds":{"document_bytes":16777216,"sheet_cells":100000,"rows_first":2000,"rows_last":500,"rows_between":2000,"halvings":0,"cell_chars":16384,"cell_head_chars":4096},"cells_cut":0,"cells_raw":0,"read":"whole","date_system":"1900"}

{"sheet":"WEEKLY PAYMENTS","index":0,"n_rows":1803,"n_cols":22,"rows_kept":1803,"cut":false,"hidden":false,"merged":[]}
[null,"Column1","Column2",".3","Column2","Version",{"$f":"MAX('Spreadsheet History'!A:A)","v":"2017-07-07"},{"$f":"MAX('Spreadsheet History'!B:B)","v":1.0609999999999999},{"$f":"DATE(YEAR(B2),MONTH(B2),DAY(B2))","v":"2018-04-25"},{"$f":"SUM(J7:J1055)","v":0},null,null,null,"Tax on Backpay","Tax on Interest",true]
["Anticipated Backpay Payment Date:",{"$f":"TODAY()+CHOOSE(WEEKDAY(TODAY()),2,2,2,2,4,4,3)","v":"2018-04-25"},null,null,null,null,null,null,null,null,null,null,null,{"$f":"(('Tax Scales'!U7)-(D5))*52","v":0},{"$f":"('Tax Scales'!AQ7*52) - (D5*52) - N2","v":0},null,null,null,null,null,null,"2012-06-29"]
["Interest Effective Start Date:",{"$f":"IF(ISERROR(INDEX(A7:A5000,MATCH(TRUE,INDEX($B7:$B5000>0,0),0))),\"\",INDEX(A7:A5000,MATCH(TRUE,INDEX($B7:$B5000>0,0),0)))","v":""},null,null,null,null,null,null,null,null,null,"Backpay","Interest",{"$f":"SUMIF(P:P, P6,O:O)","v":0},{"$f":"SUMIF(P:P, P6,R:R)","v":0},null,null,null,null,null,null,"."]
["Worker Name:",".",null,null,"Backpay Due",null,"Interest Due",null,"Due",null,"Current",{"$f":"SUMIF(P:P, P6,L:L)","v":0},{"$f":"ROUND(SUMIF(P:P, P6,M:M), 2)","v":0},null,null,null,null,null,null,null,null,"."]
["Claim No:",".",null,null,{"$f":"SUMIF(A:A,\">06\",E:E)","v":0},null,{"$f":"SUMIF(A:A,\">06\",G:G)","v":0},null,{"$f":"E5+G5","v":0},null,"Past",{"$f":"SUMIF(P:P, CONCATENATE( \"<\",P6),E:E)","v":0},{"$f":"SUMIF(P:P,CONCATENATE(\"<\",P6),G:G)","v":0},null,null,null,null,null,null,null,null,"."]
["Payment Due Date","New Entitlement For Week","Gross Already Paid By Agent","Tax Already Paid","Gross Amount Overdue","Interest Applied","Interest Accrued","Interest Rate %","Running Balance",null,"# Of Weeks Overdue","Financial Year Backpay"," Financial Year Interest","Net Backpay Owing","Tax On Backpay Compnent",{"$f":"VLOOKUP(B2,Table3,2)","v":2018},null,"Tax on Interest"]
["1987-09-30",null,null,null,{"$f":"IF(A7<>\"\",IF(B7-C7>=0,B7-C7,0),\"\")","v":0},{"$f":"IF(SUM($B$7)=0,\"\",IF(A7<>\"\",IF(A7<$B$3,\"N\",\"Y\"),\"\"))","v":""},{"$f":"IF(F7=\"N\",0,IF(A7<>\"\",IF(K7>=0,((E7)*(1+(H7/52)/100)-E7),0),\"\"))","v":0},14.5,{"$f":"IF(A7<>\"\",E7,\"\")","v":0},null,{"$f":"IF(A7<>\"\",IF((TODAY()-A7)/7>=0,INT((TODAY()-A7)/7),0),\"\")","v":1594},null,null,null,null,{"$f":"FinYear(A7)","v":1988},{"$f":"ROUND((A7-StartOfFinYear(P7))/7,0)","v":13}]
[{"$f":"IF(A7<>\"\",IF(A7+12<=TODAY(),+A7+7,\"\"),\"\")","v":"1987-10-07"},null,null,null,{"$f":"IF(A8<>\"\",IF(B8-C8>=0,B8-C8,0),\"\")","v":0},{"$f":"IF(SUM($B$7:$B8)=0,\"\",IF(A8<>\"\",IF(A8<$B$3,\"N\",\"Y\"),\"\"))","v":""},{"$f":"IF(F8=\"N\",0,IF(A8<>\"\",IF(K8>=0,((E8+I7)*(1+(H8/52)/100)-E8-I7),0),\"\"))","v":0},14.5,{"$f":"IF(A8<>\"\",I7+E8+G8,\"\")","v":0},null,1593,null,null,null,null,{"$error":"#NAME?"},{"$f":"ROUND((A8-StartOfFinYear(P8))/7,0)","v":{"$error":"#NAME?"}}]
[{"$f":"IF(A8<>\"\",IF(A8+12<=TODAY(),+A8+7,\"\"),\"\")","v":"1987-10-14"},null,null,null,0,{"$f":"IF(SUM($B$7:$B9)=0,\"\",IF(A9<>\"\",IF(A9<$B$3,\"N\",\"Y\"),\"\"))","v":""},{"$f":"IF(F9=\"N\",0,IF(A9<>\"\",IF(K9>=0,((E9+I8)*(1+(H9/52)/100)-E9-I8),0),\"\"))","v":0},14.5,{"$f":"IF(A9<>\"\",I8+E9+G9,\"\")","v":0},null,1592,null,null,null,null,{"$error":"#NAME?"},{"$error":"#NAME?"}]
[{"$f":"IF(A9<>\"\",IF(A9+12<=TODAY(),+A9+7,\"\"),\"\")","v":"1987-10-21"},null,null,null,0,{"$f":"IF(SUM($B$7:$B10)=0,\"\",IF(A10<>\"\",IF(A10<$B$3,\"N\",\"Y\"),\"\"))","v":""},0,14.5,0,null,1591,null,null,null,null,{"$error":"#NAME?"},{"$error":"#NAME?"}]
["1987-10-28",null,null,null,0,{"$f":"IF(SUM($B$7:$B11)=0,\"\",IF(A11<>\"\",IF(A11<$B$3,\"N\",\"Y\"),\"\"))","v":""},0,14.5,0,null,1590,null,null,null,null,{"$error":"#NAME?"},{"$error":"#NAME?"}]
["1987-11-04",null,null,null,0,{"$f":"IF(SUM($B$7:$B12)=0,\"\",IF(A12<>\"\",IF(A12<$B$3,\"N\",\"Y\"),\"\"))","v":""},0,14.5,0,null,1589,null,null,null,null,{"$error":"#NAME?"},{"$error":"#NAME?"}]
["1987-11-11",null,null,null,0,{"$f":"IF(SUM($B$7:$B13)=0,\"\",IF(A13<>\"\",IF(A13<$B$3,\"N\",\"Y\"),\"\"))","v":""},0,14.5,0,null,1588,null,null,null,null,{"$error":"#NAME?"},{"$error":"#NAME?"}]
["1987-11-18",null,null,null,0,{"$f":"IF(SUM($B$7:$B14)=0,\"\",IF(A14<>\"\",IF(A14<$B$3,\"N\",\"Y\"),\"\"))","v":""},0,14.5,0,null,1587,null,null,null,null,{"$error":"#NAME?"},{"$error":"#NAME?"}]
["1987-11-25",null,null,null,0,{"$f":"IF(SUM($B$7:$B15)=0,\"\",IF(A15<>\"\",IF(A15<$B$3,\"N\",\"Y\"),\"\"))","v":""},0,14.5,0,null,1586,null,null,null,null,{"$error":"#NAME?"},{"$error":"#NAME?"}]
["1987-12-02",null,null,null,0,{"$f":"IF(SUM($B$7:$B16)=0,\"\",IF(A16<>\"\",IF(A16<$B$3,\"N\",\"Y\"),\"\"))","v":""},0,14.5,0,null,1585,null,null,null,null,{"$error":"#NAME?"},{"$error":"#NAME?"}]
["1987-12-09",null,null,null,0,{"$f":"IF(SUM($B$7:$B17)=0,\"\",IF(A17<>\"\",IF(A17<$B$3,\"N\",\"Y\"),\"\"))","v":""},0,14.5,0,null,1584,null,null,null,null,{"$error":"#NAME?"},{"$error":"#NAME?"}]
["1987-12-16",null,null,null,0,{"$f":"IF(SUM($B$7:$B18)=0,\"\",IF(A18<>\"\",IF(A18<$B$3,\"N\",\"Y\"),\"\"))","v":""},0,14.5,0,null,1583,null,null,null,null,{"$error":"#NAME?"},{"$error":"#NAME?"}]
["1987-12-23",null,null,null,0,{"$f":"IF(SUM($B$7:$B19)=0,\"\",IF(A19<>\"\",IF(A19<$B$3,\"N\",\"Y\"),\"\"))","v":""},0,14.5,0,null,1582,null,null,null,null,{"$error":"#NAME?"},{"$error":"#NAME?"}]
["1987-12-30",null,null,null,0,{"$f":"IF(SUM($B$7:$B20)=0,\"\",IF(A20<>\"\",IF(A20<$B$3,\"N\",\"Y\"),\"\"))","v":""},0,14.5,0,null,1581,null,null,null,null,{"$error":"#NAME?"},{"$error":"#NAME?"}]
["1988-01-06",null,null,null,0,{"$f":"IF(SUM($B$7:$B21)=0,\"\",IF(A21<>\"\",IF(A21<$B$3,\"N\",\"Y\"),\"\"))","v":""},0,14.5,0,null,1580,null,null,null,null,{"$error":"#NAME?"},{"$error":"#NAME?"}]
["1988-01-13",null,null,null,0,{"$f":"IF(SUM($B$7:$B22)=0,\"\",IF(A22<>\"\",IF(A22<$B$3,\"N\",\"Y\"),\"\"))","v":""},0,14.5,0,null,1579,null,null,null,null,{"$error":"#NAME?"},{"$error":"#NAME?"}]
["1988-01-20",null,null,null,0,{"$f":"IF(SUM($B$7:$B23)=0,\"\",IF(A23<>\"\",IF(A23<$B$3,\"N\",\"Y\"),\"\"))","v":""},0,14.5,0,null,1578,null,null,null,null,{"$error":"#NAME?"},{"$error":"#NAME?"}]
["1988-01-27",null,null,null,0,{"$f":"IF(SUM($B$7:$B24)=0,\"\",IF(A24<>\"\",IF(A24<$B$3,\"N\",\"Y\"),\"\"))","v":""},0,14.5,0,null,1577,null,null,null,null,{"$error":"#NAME?"},{"$error":"#NAME?"}]
["1988-02-03",null,null,null,0,{"$f":"IF(SUM($B$7:$B25)=0,\"\",IF(A25<>\"\",IF(A25<$B$3,\"N\",\"Y\"),\"\"))","v":""},0,14.5,0,null,1576,null,null,null,null,{"$error":"#NAME?"},{"$error":"#NAME?"}]
["1988-02-10",null,null,null,0,{"$f":"IF(SUM($B$7:$B26)=0,\"\",IF(A26<>\"\",IF(A26<$B$3,\"N\",\"Y\"),\"\"))","v":""},0,14.5,0,null,1575,null,null,null,null,{"$error":"#NAME?"},{"$error":"#NAME?"}]
["1988-02-17",null,null,null,0,{"$f":"IF(SUM($B$7:$B27)=0,\"\",IF(A27<>\"\",IF(A27<$B$3,\"N\",\"Y\"),\"\"))","v":""},0,14.5,0,null,1574,null,null,null,null,{"$error":"#NAME?"},{"$error":"#NAME?"}]
["1988-02-24",null,null,null,0,{"$f":"IF(SUM($B$7:$B28)=0,\"\",IF(A28<>\"\",IF(A28<$B$3,\"N\",\"Y\"),\"\"))","v":""},0,14.5,0,null,1573,null,null,null,null,{"$error":"#NAME?"},{"$error":"#NAME?"}]
["1988-03-02",null,null,null,0,{"$f":"IF(SUM($B$7:$B29)=0,\"\",IF(A29<>\"\",IF(A29<$B$3,\"N\",\"Y\"),\"\"))","v":""},0,14.5,0,null,1572,null,null,null,null,{"$error":"#NAME?"},{"$error":"#NAME?"}]
["1988-03-09",null,null,null,0,{"$f":"IF(SUM($B$7:$B30)=0,\"\",IF(A30<>\"\",IF(A30<$B$3,\"N\",\"Y\"),\"\"))","v":""},0,14.5,0,null,1571,null,null,null,null,{"$error":"#NAME?"},{"$error":"#NAME?"}]
["1988-03-16",null,null,null,0,{"$f":"IF(SUM($B$7:$B31)=0,\"\",IF(A31<>\"\",IF(A31<$B$3,\"N\",\"Y\"),\"\"))","v":""},0,14.5,0,null,1570,null,null,null,null,{"$error":"#NAME?"},{"$error":"#NAME?"}]
["1988-03-23",null,null,null,0,{"$f":"IF(SUM($B$7:$B32)=0,\"\",IF(A32<>\"\",IF(A32<$B$3,\"N\",\"Y\"),\"\"))","v":""},0,14.5,0,null,1569,null,null,null,null,{"$error":"#NAME?"},{"$error":"#NAME?"}]
["1988-03-30",null,null,null,0,{"$f":"IF(SUM($B$7:$B33)=0,\"\",IF(A33<>\"\",IF(A33<$B$3,\"N\",\"Y\"),\"\"))","v":""},0,14.5,0,null,1568,null,null,null,null,{"$error":"#NAME?"},{"$error":"#NAME?"}]
["1988-04-06",null,null,null,0,{"$f":"IF(SUM($B$7:$B34)=0,\"\",IF(A34<>\"\",IF(A34<$B$3,\"N\",\"Y\"),\"\"))","v":""},0,14.5,0,null,1567,null,null,null,null,{"$error":"#NAME?"},{"$error":"#NAME?"}]
["1988-04-13",null,null,null,0,{"$f":"IF(SUM($B$7:$B35)=0,\"\",IF(A35<>\"\",IF(A35<$B$3,\"N\",\"Y\"),\"\"))","v":""},0,14.5,0,null,1566,null,null,null,null,{"$error":"#NAME?"},{"$error":"#NAME?"}]
["1988-04-20",null,null,null,0,{"$f":"IF(SUM($B$7:$B36)=0,\"\",IF(A36<>\"\",IF(A36<$B$3,\"N\",\"Y\"),\"\"))","v":""},0,14.5,0,null,1565,null,null,null,null,{"$error":"#NAME?"},{"$error":"#NAME?"}]
["1988-04-27",null,null,null,0,{"$f":"IF(SUM($B$7:$B37)=0,\"\",IF(A37<>\"\",IF(A37<$B$3,\"N\",\"Y\"),\"\"))","v":""},0,14.5,0,null,1564,null,null,null,null,{"$error":"#NAME?"},{"$error":"#NAME?"}]
["1988-05-04",null,null,null,0,{"$f":"IF(SUM($B$7:$B38)=0,\"\",IF(A38<>\"\",IF(A38<$B$3,\"N\",\"Y\"),\"\"))","v":""},0,14.5,0,null,1563,null,null,null,null,{"$error":"#NAME?"},{"$error":"#NAME?"}]
["1988-05-11",null,null,null,0,{"$f":"IF(SUM($B$7:$B39)=0,\"\",IF(A39<>\"\",IF(A39<$B$3,\"N\",\"Y\"),\"\"))","v":""},0,14.5,0,null,1562,null,null,null,null,{"$error":"#NAME?"},{"$error":"#NAME?"}]
["1988-05-18",null,null,null,0,{"$f":"IF(SUM($B$7:$B40)=0,\"\",IF(A40<>\"\",IF(A40<$B$3,\"N\",\"Y\"),\"\"))","v":""},0,14.5,0,null,1561,null,null,null,null,{"$error":"#NAME?"},{"$error":"#NAME?"}]
["1988-05-25",null,null,null,0,{"$f":"IF(SUM($B$7:$B41)=0,\"\",IF(A41<>\"\",IF(A41<$B$3,\"N\",\"Y\"),\"\"))","v":""},0,14.5,0,null,1560,null,null,null,null,{"$error":"#NAME?"},{"$error":"#NAME?"}]
["1988-06-01",null,null,null,0,{"$f":"IF(SUM($B$7:$B42)=0,\"\",IF(A42<>\"\",IF(A42<$B$3,\"N\",\"Y\"),\"\"))","v":""},0,14.5,0,null,1559,null,null,null,null,{"$error":"#NAME?"},{"$error":"#NAME?"}]
["1988-06-08",null,null,null,0,{"$f":"IF(SUM($B$7:$B43)=0,\"\",IF(A43<>\"\",IF(A43<$B$3,\"N\",\"Y\"),\"\"))","v":""},0,14.5,0,null,1558,null,null,null,null,{"$error":"#NAME?"},{"$error":"#NAME?"}]
["1988-06-15",null,null,null,0,{"$f":"IF(SUM($B$7:$B44)=0,\"\",IF(A44<>\"\",IF(A44<$B$3,\"N\",\"Y\"),\"\"))","v":""},0,14.5,0,null,1557,null,null,null,null,{"$error":"#NAME?"},{"$error":"#NAME?"}]
["1988-06-22",null,null,null,0,{"$f":"IF(SUM($B$7:$B45)=0,\"\",IF(A45<>\"\",IF(A45<$B$3,\"N\",\"Y\"),\"\"))","v":""},0,14.5,0,null,1556,null,null,null,null,{"$error":"#NAME?"},{"$error":"#NAME?"}]
["1988-06-29",null,null,null,0,{"$f":"IF(SUM($B$7:$B46)=0,\"\",IF(A46<>\"\",IF(A46<$B$3,\"N\",\"Y\"),\"\"))","v":""},0,14.5,0,null,1555,{"$f":"SUM(E7:E46)","v":0},{"$f":"SUM(G7:G46)","v":0},null,null,{"$error":"#NAME?"},{"$error":"#NAME?"}]
["1988-07-06",null,null,null,0,{"$f":"IF(SUM($B$7:$B47)=0,\"\",IF(A47<>\"\",IF(A47<$B$3,\"N\",\"Y\"),\"\"))","v":""},0,15,0,null,1554,null,null,null,null,{"$error":"#NAME?"},{"$error":"#NAME?"}]
["1988-07-13",null,null,null,0,{"$f":"IF(SUM($B$7:$B48)=0,\"\",IF(A48<>\"\",IF(A48<$B$3,\"N\",\"Y\"),\"\"))","v":""},0,15,0,null,1553,null,null,null,null,{"$error":"#NAME?"},{"$error":"#NAME?"}]
["1988-07-20",null,null,null,0,{"$f":"IF(SUM($B$7:$B49)=0,\"\",IF(A49<>\"\",IF(A49<$B$3,\"N\",\"Y\"),\"\"))","v":""},0,15,0,null,1552,null,null,null,null,{"$error":"#NAME?"},{"$error":"#NAME?"}]
["1988-07-27",null,null,null,0,{"$f":"IF(SUM($B$7:$B50)=0,\"\",IF(A50<>\"\",IF(A50<$B$3,\"N\",\"Y\"),\"\"))","v":""},0,15,0,null,1551,null,null,null,null,{"$error":"#NAME?"},{"$error":"#NAME?"}]
["1988-08-03",null,null,null,0,{"$f":"IF(SUM($B$7:$B51)=0,\"\",IF(A51<>\"\",IF(A51<$B$3,\"N\",\"Y\"),\"\"))","v":""},0,15,0,null,1550,null,null,null,null,{"$error":"#NAME?"},{"$error":"#NAME?"}]
["1988-08-10",null,null,null,0,{"$f":"IF(SUM($B$7:$B52)=0,\"\",IF(A52<>\"\",IF(A52<$B$3,\"N\",\"Y\"),\"\"))","v":""},0,15,0,null,1549,null,null,null,null,{"$error":"#NAME?"},{"$error":"#NAME?"}]
["1988-08-17",null,null,null,0,{"$f":"IF(SUM($B$7:$B53)=0,\"\",IF(A53<>\"\",IF(A53<$B$3,\"N\",\"Y\"),\"\"))","v":""},0,15,0,null,1548,null,null,null,null,{"$error":"#NAME?"},{"$error":"#NAME?"}]
["1988-08-24",null,null,null,0,{"$f":"IF(SUM($B$7:$B54)=0,\"\",IF(A54<>\"\",IF(A54<$B$3,\"N\",\"Y\"),\"\"))","v":""},0,15,0,null,1547,null,null,null,null,{"$error":"#NAME?"},{"$error":"#NAME?"}]
["1988-08-31",null,null,null,0,{"$f":"IF(SUM($B$7:$B55)=0,\"\",IF(A55<>\"\",IF(A55<$B$3,\"N\",\"Y\"),\"\"))","v":""},0,15,0,null,1546,null,null,null,null,{"$error":"#NAME?"},{"$error":"#NAME?"}]
["1988-09-07",null,null,null,0,{"$f":"IF(SUM($B$7:$B56)=0,\"\",IF(A56<>\"\",IF(A56<$B$3,\"N\",\"Y\"),\"\"))","v":""},0,15,0,null,1545,null,null,null,null,{"$error":"#NAME?"},{"$error":"#NAME?"}]
["1988-09-14",null,null,null,0,{"$f":"IF(SUM($B$7:$B57)=0,\"\",IF(A57<>\"\",IF(A57<$B$3,\"N\",\"Y\"),\"\"))","v":""},0,15,0,null,1544,null,null,null,null,{"$error":"#NAME?"},{"$error":"#NAME?"}]
["1988-09-21",null,null,null,0,{"$f":"IF(SUM($B$7:$B58)=0,\"\",IF(A58<>\"\",IF(A58<$B$3,\"N\",\"Y\"),\"\"))","v":""},0,15,0,null,1543,null,null,null,null,{"$error":"#NAME?"},{"$error":"#NAME?"}]
["1988-09-28",null,null,null,0,{"$f":"IF(SUM($B$7:$B59)=0,\"\",IF(A59<>\"\",IF(A59<$B$3,\"N\",\"Y\"),\"\"))","v":""},0,15,0,null,1542,null,null,null,null,{"$error":"#NAME?"},{"$error":"#NAME?"}]
["1988-10-05",null,null,null,0,{"$f":"IF(SUM($B$7:$B60)=0,\"\",IF(A60<>\"\",IF(A60<$B$3,\"N\",\"Y\"),\"\"))","v":""},0,15,0,null,1541,null,null,null,null,{"$error":"#NAME?"},{"$error":"#NAME?"}]
["1988-10-12",null,null,null,0,{"$f":"IF(SUM($B$7:$B61)=0,\"\",IF(A61<>\"\",IF(A61<$B$3,\"N\",\"Y\"),\"\"))","v":""},0,15,0,null,1540,null,null,null,null,{"$error":"#NAME?"},{"$error":"#NAME?"}]
["1988-10-19",null,null,null,0,{"$f":"IF(SUM($B$7:$B62)=0,\"\",IF(A62<>\"\",IF(A62<$B$3,\"N\",\"Y\"),\"\"))","v":""},0,15,0,null,1539,null,null,null,null,{"$error":"#NAME?"},{"$error":"#NAME?"}]
["1988-10-26",null,null,null,0,{"$f":"IF(SUM($B$7:$B63)=0,\"\",IF(A63<>\"\",IF(A63<$B$3,\"N\",\"Y\"),\"\"))","v":""},0,15,0,null,1538,null,null,null,null,{"$error":"#NAME?"},{"$error":"#NAME?"}]
["1988-11-02",null,null,null,0,{"$f":"IF(SUM($B$7:$B64)=0,\"\",IF(A64<>\"\",IF(A64<$B$3,\"N\",\"Y\"),\"\"))","v":""},0,15,0,null,1537,null,null,null,null,{"$error":"#NAME?"},{"$error":"#NAME?"}]
["1988-11-09",null,null,null,0,{"$f":"IF(SUM($B$7:$B65)=0,\"\",IF(A65<>\"\",IF(A65<$B$3,\"N\",\"Y\"),\"\"))","v":""},0,15,0,null,1536,null,null,null,null,{"$error":"#NAME?"},{"$error":"#NAME?"}]
["1988-11-16",null,null,null,0,{"$f":"IF(SUM($B$7:$B66)=0,\"\",IF(A66<>\"\",IF(A66<$B$3,\"N\",\"Y\"),\"\"))","v":""},0,15,0,null,1535,null,null,null,null,{"$error":"#NAME?"},{"$error":"#NAME?"}]
["1988-11-23",null,null,null,0,{"$f":"IF(SUM($B$7:$B67)=0,\"\",IF(A67<>\"\",IF(A67<$B$3,\"N\",\"Y\"),\"\"))","v":""},0,15,0,null,1534,null,null,null,null,{"$error":"#NAME?"},{"$error":"#NAME?"}]
["1988-11-30",null,null,null,0,{"$f":"IF(SUM($B$7:$B68)=0,\"\",IF(A68<>\"\",IF(A68<$B$3,\"N\",\"Y\"),\"\"))","v":""},0,15,0,null,1533,null,null,null,null,{"$error":"#NAME?"},{"$error":"#NAME?"}]
["1988-12-07",null,null,null,0,{"$f":"IF(SUM($B$7:$B69)=0,\"\",IF(A69<>\"\",IF(A69<$B$3,\"N\",\"Y\"),\"\"))","v":""},0,15,0,null,1532,null,null,null,null,{"$error":"#NAME?"},{"$error":"#NAME?"}]
["1988-12-14",null,null,null,0,{"$f":"IF(SUM($B$7:$B70)=0,\"\",IF(A70<>\"\",IF(A70<$B$3,\"N\",\"Y\"),\"\"))","v":""},0,15,0,null,1531,null,null,null,null,{"$error":"#NAME?"},{"$error":"#NAME?"}]
["1988-12-21",null,null,null,0,{"$f":"IF(SUM($B$7:$B71)=0,\"\",IF(A71<>\"\",IF(A71<$B$3,\"N\",\"Y\"),\"\"))","v":""},0,15,0,null,{"$f":"IF(A71<>\"\",IF((TODAY()-A71)/7>=0,INT((TODAY()-A71)/7),0),\"\")","v":1530},null,null,null,null,{"$f":"FinYear(A71)","v":{"$error":"#NAME?"}},{"$error":"#NAME?"}]
["1988-12-28",null,null,null,{"$f":"IF(A72<>\"\",IF(B72-C72>=0,B72-C72,0),\"\")","v":0},{"$f":"IF(SUM($B$7:$B72)=0,\"\",IF(A72<>\"\",IF(A72<$B$3,\"N\",\"Y\"),\"\"))","v":""},0,15,0,null,1529,null,null,null,null,{"$error":"#NAME?"},{"$f":"ROUND((A72-StartOfFinYear(P72))/7,0)","v":{"$error":"#NAME?"}}]
["1989-01-04",null,null,null,0,{"$f":"IF(SUM($B$7:$B73)=0,\"\",IF(A73<>\"\",IF(A73<$B$3,\"N\",\"Y\"),\"\"))","v":""},{"$f":"IF(F73=\"N\",0,IF(A73<>\"\",IF(K73>=0,((E73+I72)*(1+(H73/52)/100)-E73-I72),0),\"\"))","v":0},15,{"$f":"IF(A73<>\"\",I72+E73+G73,\"\")","v":0},null,1528,null,null,null,null,{"$error":"#NAME?"},{"$error":"#NAME?"}]
[{"$f":"IF(A73<>\"\",IF(A73+12<=TODAY(),+A73+7,\"\"),\"\")","v":"1989-01-11"},null,null,null,0,{"$f":"IF(SUM($B$7:$B74)=0,\"\",IF(A74<>\"\",IF(A74<$B$3,\"N\",\"Y\"),\"\"))","v":""},0,15,0,null,1527,null,null,null,null,{"$error":"#NAME?"},{"$error":"#NAME?"}]
["1989-01-18",null,null,null,0,{"$f":"IF(SUM($B$7:$B75)=0,\"\",IF(A75<>\"\",IF(A75<$B$3,\"N\",\"Y\"),\"\"))","v":""},0,15,0,null,1526,null,null,null,null,{"$error":"#NAME?"},{"$error":"#NAME?"}]
["1989-01-25",null,null,null,0,{"$f":"IF(SUM($B$7:$B76)=0,\"\",IF(A76<>\"\",IF(A76<$B$3,\"N\",\"Y\"),\"\"))","v":""},0,15,0,null,1525,null,null,null,null,{"$error":"#NAME?"},{"$error":"#NAME?"}]
["1989-02-01",null,null,null,0,{"$f":"IF(SUM($B$7:$B77)=0,\"\",IF(A77<>\"\",IF(A77<$B$3,\"N\",\"Y\"),\"\"))","v":""},0,15,0,null,1524,null,null,null,null,{"$error":"#NAME?"},{"$error":"#NAME?"}]
["1989-02-08",null,null,null,0,{"$f":"IF(SUM($B$7:$B78)=0,\"\",IF(A78<>\"\",IF(A78<$B$3,\"N\",\"Y\"),\"\"))","v":""},0,15,0,null,1523,null,null,null,null,{"$error":"#NAME?"},{"$error":"#NAME?"}]
["1989-02-15",null,null,null,0,{"$f":"IF(SUM($B$7:$B79)=0,\"\",IF(A79<>\"\",IF(A79<$B$3,\"N\",\"Y\"),\"\"))","v":""},0,15,0,null,1522,null,null,null,null,{"$error":"#NAME?"},{"$error":"#NAME?"}]
["1989-02-22",null,null,null,0,{"$f":"IF(SUM($B$7:$B80)=0,\"\",IF(A80<>\"\",IF(A80<$B$3,\"N\",\"Y\"),\"\"))","v":""},0,15,0,null,1521,null,null,null,null,{"$error":"#NAME?"},{"$error":"#NAME?"}]
["1989-03-01",null,null,null,0,{"$f":"IF(SUM($B$7:$B81)=0,\"\",IF(A81<>\"\",IF(A81<$B$3,\"N\",\"Y\"),\"\"))","v":""},0,15,0,null,1520,null,null,null,null,{"$error":"#NAME?"},{"$error":"#NAME?"}]
["1989-03-08",null,null,null,0,{"$f":"IF(SUM($B$7:$B82)=0,\"\",IF(A82<>\"\",IF(A82<$B$3,\"N\",\"Y\"),\"\"))","v":""},0,15,0,null,1519,null,null,null,null,{"$error":"#NAME?"},{"$error":"#NAME?"}]
["1989-03-15",null,null,null,0,{"$f":"IF(SUM($B$7:$B83)=0,\"\",IF(A83<>\"\",IF(A83<$B$3,\"N\",\"Y\"),\"\"))","v":""},0,15,0,null,1518,null,null,null,null,{"$error":"#NAME?"},{"$error":"#NAME?"}]
["1989-03-22",null,null,null,0,{"$f":"IF(SUM($B$7:$B84)=0,\"\",IF(A84<>\"\",IF(A84<$B$3,\"N\",\"Y\"),\"\"))","v":""},0,15,0,null,1517,null,null,null,null,{"$error":"#NAME?"},{"$error":"#NAME?"}]
["1989-03-29",null,null,null,0,{"$f":"IF(SUM($B$7:$B85)=0,\"\",IF(A85<>\"\",IF(A85<$B$3,\"N\",\"Y\"),\"\"))","v":""},0,15,0,null,1516,null,null,null,null,{"$error":"#NAME?"},{"$error":"#NAME?"}]
["1989-04-05",null,null,null,0,{"$f":"IF(SUM($B$7:$B86)=0,\"\",IF(A86<>\"\",IF(A86<$B$3,\"N\",\"Y\"),\"\"))","v":""},0,15,0,null,1515,null,null,null,null,{"$error":"#NAME?"},{"$error":"#NAME?"}]
["1989-04-12",null,null,null,0,{"$f":"IF(SUM($B$7:$B87)=0,\"\",IF(A87<>\"\",IF(A87<$B$3,\"N\",\"Y\"),\"\"))","v":""},0,15,0,null,1514,null,null,null,null,{"$error":"#NAME?"},{"$error":"#NAME?"}]
["1989-04-19",null,null,null,0,{"$f":"IF(SUM($B$7:$B88)=0,\"\",IF(A88<>\"\",IF(A88<$B$3,\"N\",\"Y\"),\"\"))","v":""},0,15,0,null,1513,null,null,null,null,{"$error":"#NAME?"},{"$error":"#NAME?"}]
["1989-04-26",null,null,null,0,{"$f":"IF(SUM($B$7:$B89)=0,\"\",IF(A89<>\"\",IF(A89<$B$3,\"N\",\"Y\"),\"\"))","v":""},0,15,0,null,1512,null,null,null,null,{"$error":"#NAME?"},{"$error":"#NAME?"}]
["1989-05-03",null,null,null,0,{"$f":"IF(SUM($B$7:$B90)=0,\"\",IF(A90<>\"\",IF(A90<$B$3,\"N\",\"Y\"),\"\"))","v":""},0,15,0,null,1511,null,null,null,null,{"$error":"#NAME?"},{"$error":"#NAME?"}]
["1989-05-10",null,null,null,0,{"$f":"IF(SUM($B$7:$B91)=0,\"\",IF(A91<>\"\",IF(A91<$B$3,\"N\",\"Y\"),\"\"))","v":""},0,15,0,null,1510,null,null,null,null,{"$error":"#NAME?"},{"$error":"#NAME?"}]
["1989-05-17",null,null,null,0,{"$f":"IF(SUM($B$7:$B92)=0,\"\",IF(A92<>\"\",IF(A92<$B$3,\"N\",\"Y\"),\"\"))","v":""},0,15,0,null,1509,null,null,null,null,{"$error":"#NAME?"},{"$error":"#NAME?"}]
["1989-05-24",null,null,null,0,{"$f":"IF(SUM($B$7:$B93)=0,\"\",IF(A93<>\"\",IF(A93<$B$3,\"N\",\"Y\"),\"\"))","v":""},0,15,0,null,1508,null,null,null,null,{"$error":"#NAME?"},{"$error":"#NAME?"}]
["1989-05-31",null,null,null,0,{"$f":"IF(SUM($B$7:$B94)=0,\"\",IF(A94<>\"\",IF(A94<$B$3,\"N\",\"Y\"),\"\"))","v":""},0,15,0,null,1507,null,null,null,null,{"$error":"#NAME?"},{"$error":"#NAME?"}]
["1989-06-07",null,null,null,0,{"$f":"IF(SUM($B$7:$B95)=0,\"\",IF(A95<>\"\",IF(A95<$B$3,\"N\",\"Y\"),\"\"))","v":""},0,15,0,null,1506,null,null,null,null,{"$error":"#NAME?"},{"$error":"#NAME?"}]
["1989-06-14",null,null,null,0,{"$f":"IF(SUM($B$7:$B96)=0,\"\",IF(A96<>\"\",IF(A96<$B$3,\"N\",\"Y\"),\"\"))","v":""},0,15,0,null,1505,null,null,null,null,{"$error":"#NAME?"},{"$error":"#NAME?"}]
["1989-06-21",null,null,null,0,{"$f":"IF(SUM($B$7:$B97)=0,\"\",IF(A97<>\"\",IF(A97<$B$3,\"N\",\"Y\"),\"\"))","v":""},0,15,0,null,1504,null,null,null,null,{"$error":"#NAME?"},{"$error":"#NAME?"}]
["1989-06-28",null,null,null,0,{"$f":"IF(SUM($B$7:$B98)=0,\"\",IF(A98<>\"\",IF(A98<$B$3,\"N\",\"Y\"),\"\"))","v":""},0,15,0,null,1503,{"$f":"IF(AND(ISNUMBER(A98),NOT(ISNUMBER(A99))),IF((OFFSET(Q98,-Q98,0)>50),SUM(OFFSET(E98,-Q98+1,0):E98),SUM(OFFSET(E98,-Q98,0):E98)),IF(AND(ISNUMBER(P98),ISNUMBER(P99),P98  <P99),IF((OFFSET(Q98,-Q98,0)>50),SUM(OFFSET(E98,-Q98+1,0):E98),SUM(OFFSET(E98,-Q98,0):E98)),\"\"))","v":{"$error":"#NAME?"}},{"$f":"IF(ISNUMBER(L98),IF((OFFSET(Q98,-Q98,0)>50),SUM(OFFSET(G98,-Q98+1,0):G98),SUM(OFFSET(G98,-Q98,0):G98)),\"\")","v":""},null,null,{"$error":"#NAME?"},{"$error":"#NAME?"}]
["1989-07-05",null,null,null,0,{"$f":"IF(SUM($B$7:$B99)=0,\"\",IF(A99<>\"\",IF(A99<$B$3,\"N\",\"Y\"),\"\"))","v":""},0,19.75,0,null,1502,{"$f":"IF(AND(ISNUMBER(A99),NOT(ISNUMBER(A100))),IF((OFFSET(Q99,-Q99,0)>50),SUM(OFFSET(E99,-Q99+1,0):E99),SUM(OFFSET(E99,-Q99,0):E99)),IF(AND(ISNUMBER(P99),ISNUMBER(P100),P99  <P100),IF((OFFSET(Q99,-Q99,0)>50),SUM(OFFSET(E99,-Q99+1,0):E99),SUM(OFFSET(E99,-Q99,0):E99)),\"\"))","v":{"$error":"#NAME?"}},{"$f":"IF(ISNUMBER(L99),IF((OFFSET(Q99,-Q99,0)>50),SUM(OFFSET(G99,-Q99+1,0):G99),SUM(OFFSET(G99,-Q99,0):G99)),\"\")","v":""},null,null,{"$error":"#NAME?"},{"$error":"#NAME?"}]
["1989-07-12",null,null,null,0,{"$f":"IF(SUM($B$7:$B100)=0,\"\",IF(A100<>\"\",IF(A100<$B$3,\"N\",\"Y\"),\"\"))","v":""},0,19.75,0,null,1501,{"$f":"IF(AND(ISNUMBER(A100),NOT(ISNUMBER(A101))),IF((OFFSET(Q100,-Q100,0)>50),SUM(OFFSET(E100,-Q100+1,0):E100),SUM(OFFSET(E100,-Q100,0):E100)),IF(AND(ISNUMBER(P100),ISNUMBER(P101),P100  <P101),IF((OFFSET(Q100,-Q100,0)>50),SUM(OFFSET(E100,-Q100+1,0):E100),SUM(OFFSET(E100,-Q100,0):E100)),\"\"))","v":{"$error":"#NAME?"}},{"$f":"IF(ISNUMBER(L100),IF((OFFSET(Q100,-Q100,0)>50),SUM(OFFSET(G100,-Q100+1,0):G100),SUM(OFFSET(G100,-Q100,0):G100)),\"\")","v":""},null,null,{"$error":"#NAME?"},{"$error":"#NAME?"}]
["1989-07-19",null,null,null,0,{"$f":"IF(SUM($B$7:$B101)=0,\"\",IF(A101<>\"\",IF(A101<$B$3,\"N\",\"Y\"),\"\"))","v":""},0,19.75,0,null,1500,{"$f":"IF(AND(ISNUMBER(A101),NOT(ISNUMBER(A102))),IF((OFFSET(Q101,-Q101,0)>50),SUM(OFFSET(E101,-Q101+1,0):E101),SUM(OFFSET(E101,-Q101,0):E101)),IF(AND(ISNUMBER(P101),ISNUMBER(P102),P101  <P102),IF((OFFSET(Q101,-Q101,0)>50),SUM(OFFSET(E101,-Q101+1,0):E101),SUM(OFFSET(E101,-Q101,0):E101)),\"\"))","v":{"$error":"#NAME?"}},{"$f":"IF(ISNUMBER(L101),IF((OFFSET(Q101,-Q101,0)>50),SUM(OFFSET(G101,-Q101+1,0):G101),SUM(OFFSET(G101,-Q101,0):G101)),\"\")","v":""},null,null,{"$error":"#NAME?"},{"$error":"#NAME?"}]
["1989-07-26",null,null,null,0,{"$f":"IF(SUM($B$7:$B102)=0,\"\",IF(A102<>\"\",IF(A102<$B$3,\"N\",\"Y\"),\"\"))","v":""},0,19.75,0,null,1499,{"$f":"IF(AND(ISNUMBER(A102),NOT(ISNUMBER(A103))),IF((OFFSET(Q102,-Q102,0)>50),SUM(OFFSET(E102,-Q102+1,0):E102),SUM(OFFSET(E102,-Q102,0):E102)),IF(AND(ISNUMBER(P102),ISNUMBER(P103),P102  <P103),IF((OFFSET(Q102,-Q102,0)>50),SUM(OFFSET(E102,-Q102+1,0):E102),SUM(OFFSET(E102,-Q102,0):E102)),\"\"))","v":{"$error":"#NAME?"}},{"$f":"IF(ISNUMBER(L102),IF((OFFSET(Q102,-Q102,0)>50),SUM(OFFSET(G102,-Q102+1,0):G102),SUM(OFFSET(G102,-Q102,0):G102)),\"\")","v":""},null,null,{"$error":"#NAME?"},{"$error":"#NAME?"}]
["1989-08-02",null,null,null,0,{"$f":"IF(SUM($B$7:$B103)=0,\"\",IF(A103<>\"\",IF(A103<$B$3,\"N\",\"Y\"),\"\"))","v":""},0,19.75,0,null,1498,{"$f":"IF(AND(ISNUMBER(A103),NOT(ISNUMBER(A104))),IF((OFFSET(Q103,-Q103,0)>50),SUM(OFFSET(E103,-Q103+1,0):E103),SUM(OFFSET(E103,-Q103,0):E103)),IF(AND(ISNUMBER(P103),ISNUMBER(P104),P103  <P104),IF((OFFSET(Q103,-Q103,0)>50),SUM(OFFSET(E103,-Q103+1,0):E103),SUM(OFFSET(E103,-Q103,0):E103)),\"\"))","v":{"$error":"#NAME?"}},{"$f":"IF(ISNUMBER(L103),IF((OFFSET(Q103,-Q103,0)>50),SUM(OFFSET(G103,-Q103+1,0):G103),SUM(OFFSET(G103,-Q103,0):G103)),\"\")","v":""},null,null,{"$error":"#NAME?"},{"$error":"#NAME?"}]
["1989-08-09",null,null,null,0,{"$f":"IF(SUM($B$7:$B104)=0,\"\",IF(A104<>\"\",IF(A104<$B$3,\"N\",\"Y\"),\"\"))","v":""},0,19.75,0,null,1497,{"$f":"IF(AND(ISNUMBER(A104),NOT(ISNUMBER(A105))),IF((OFFSET(Q104,-Q104,0)>50),SUM(OFFSET(E104,-Q104+1,0):E104),SUM(OFFSET(E104,-Q104,0):E104)),IF(AND(ISNUMBER(P104),ISNUMBER(P105),P104  <P105),IF((OFFSET(Q104,-Q104,0)>50),SUM(OFFSET(E104,-Q104+1,0):E104),SUM(OFFSET(E104,-Q104,0):E104)),\"\"))","v":{"$error":"#NAME?"}},{"$f":"IF(ISNUMBER(L104),IF((OFFSET(Q104,-Q104,0)>50),SUM(OFFSET(G104,-Q104+1,0):G104),SUM(OFFSET(G104,-Q104,0):G104)),\"\")","v":""},null,null,{"$error":"#NAME?"},{"$error":"#NAME?"}]
["1989-08-16",null,null,null,0,{"$f":"IF(SUM($B$7:$B105)=0,\"\",IF(A105<>\"\",IF(A105<$B$3,\"N\",\"Y\"),\"\"))","v":""},0,19.75,0,null,1496,{"$f":"IF(AND(ISNUMBER(A105),NOT(ISNUMBER(A106))),IF((OFFSET(Q105,-Q105,0)>50),SUM(OFFSET(E105,-Q105+1,0):E105),SUM(OFFSET(E105,-Q105,0):E105)),IF(AND(ISNUMBER(P105),ISNUMBER(P106),P105  <P106),IF((OFFSET(Q105,-Q105,0)>50),SUM(OFFSET(E105,-Q105+1,0):E105),SUM(OFFSET(E105,-Q105,0):E105)),\"\"))","v":{"$error":"#NAME?"}},{"$f":"IF(ISNUMBER(L105),IF((OFFSET(Q105,-Q105,0)>50),SUM(OFFSET(G105,-Q105+1,0):G105),SUM(OFFSET(G105,-Q105,0):G105)),\"\")","v":""},null,null,{"$error":"#NAME?"},{"$error":"#NAME?"}]
["1989-08-23",null,null,null,0,{"$f":"IF(SUM($B$7:$B106)=0,\"\",IF(A106<>\"\",IF(A106<$B$3,\"N\",\"Y\"),\"\"))","v":""},0,19.75,0,null,1495,{"$f":"IF(AND(ISNUMBER(A106),NOT(ISNUMBER(A107))),IF((OFFSET(Q106,-Q106,0)>50),SUM(OFFSET(E106,-Q106+1,0):E106),SUM(OFFSET(E106,-Q106,0):E106)),IF(AND(ISNUMBER(P106),ISNUMBER(P107),P106  <P107),IF((OFFSET(Q106,-Q106,0)>50),SUM(OFFSET(E106,-Q106+1,0):E106),SUM(OFFSET(E106,-Q106,0):E106)),\"\"))","v":{"$error":"#NAME?"}},{"$f":"IF(ISNUMBER(L106),IF((OFFSET(Q106,-Q106,0)>50),SUM(OFFSET(G106,-Q106+1,0):G106),SUM(OFFSET(G106,-Q106,0):G106)),\"\")","v":""},null,null,{"$error":"#NAME?"},{"$error":"#NAME?"}]
["1989-08-30",null,null,null,0,{"$f":"IF(SUM($B$7:$B107)=0,\"\",IF(A107<>\"\",IF(A107<$B$3,\"N\",\"Y\"),\"\"))","v":""},0,19.75,0,null,1494,{"$f":"IF(AND(ISNUMBER(A107),NOT(ISNUMBER(A108))),IF((OFFSET(Q107,-Q107,0)>50),SUM(OFFSET(E107,-Q107+1,0):E107),SUM(OFFSET(E107,-Q107,0):E107)),IF(AND(ISNUMBER(P107),ISNUMBER(P108),P107  <P108),IF((OFFSET(Q107,-Q107,0)>50),SUM(OFFSET(E107,-Q107+1,0):E107),SUM(OFFSET(E107,-Q107,0):E107)),\"\"))","v":{"$error":"#NAME?"}},{"$f":"IF(ISNUMBER(L107),IF((OFFSET(Q107,-Q107,0)>50),SUM(OFFSET(G107,-Q107+1,0):G107),SUM(OFFSET(G107,-Q107,0):G107)),\"\")","v":""},null,null,{"$error":"#NAME?"},{"$error":"#NAME?"}]
["1989-09-06",null,null,null,0,{"$f":"IF(SUM($B$7:$B108)=0,\"\",IF(A108<>\"\",IF(A108<$B$3,\"N\",\"Y\"),\"\"))","v":""},0,19.75,0,null,1493,{"$f":"IF(AND(ISNUMBER(A108),NOT(ISNUMBER(A109))),IF((OFFSET(Q108,-Q108,0)>50),SUM(OFFSET(E108,-Q108+1,0):E108),SUM(OFFSET(E108,-Q108,0):E108)),IF(AND(ISNUMBER(P108),ISNUMBER(P109),P108  <P109),IF((OFFSET(Q108,-Q108,0)>50),SUM(OFFSET(E108,-Q108+1,0):E108),SUM(OFFSET(E108,-Q108,0):E108)),\"\"))","v":{"$error":"#NAME?"}},{"$f":"IF(ISNUMBER(L108),IF((OFFSET(Q108,-Q108,0)>50),SUM(OFFSET(G108,-Q108+1,0):G108),SUM(OFFSET(G108,-Q108,0):G108)),\"\")","v":""},null,null,{"$error":"#NAME?"},{"$error":"#NAME?"}]
["1989-09-13",null,null,null,0,{"$f":"IF(SUM($B$7:$B109)=0,\"\",IF(A109<>\"\",IF(A109<$B$3,\"N\",\"Y\"),\"\"))","v":""},0,19.75,0,null,1492,{"$f":"IF(AND(ISNUMBER(A109),NOT(ISNUMBER(A110))),IF((OFFSET(Q109,-Q109,0)>50),SUM(OFFSET(E109,-Q109+1,0):E109),SUM(OFFSET(E109,-Q109,0):E109)),IF(AND(ISNUMBER(P109),ISNUMBER(P110),P109  <P110),IF((OFFSET(Q109,-Q109,0)>50),SUM(OFFSET(E109,-Q109+1,0):E109),SUM(OFFSET(E109,-Q109,0):E109)),\"\"))","v":{"$error":"#NAME?"}},{"$f":"IF(ISNUMBER(L109),IF((OFFSET(Q109,-Q109,0)>50),SUM(OFFSET(G109,-Q109+1,0):G109),SUM(OFFSET(G109,-Q109,0):G109)),\"\")","v":""},null,null,{"$error":"#NAME?"},{"$error":"#NAME?"}]
["1989-09-20",null,null,null,0,{"$f":"IF(SUM($B$7:$B110)=0,\"\",IF(A110<>\"\",IF(A110<$B$3,\"N\",\"Y\"),\"\"))","v":""},0,19.75,0,null,1491,{"$f":"IF(AND(ISNUMBER(A110),NOT(ISNUMBER(A111))),IF((OFFSET(Q110,-Q110,0)>50),SUM(OFFSET(E110,-Q110+1,0):E110),SUM(OFFSET(E110,-Q110,0):E110)),IF(AND(ISNUMBER(P110),ISNUMBER(P111),P110  <P111),IF((OFFSET(Q110,-Q110,0)>50),SUM(OFFSET(E110,-Q110+1,0):E110),SUM(OFFSET(E110,-Q110,0):E110)),\"\"))","v":{"$error":"#NAME?"}},{"$f":"IF(ISNUMBER(L110),IF((OFFSET(Q110,-Q110,0)>50),SUM(OFFSET(G110,-Q110+1,0):G110),SUM(OFFSET(G110,-Q110,0):G110)),\"\")","v":""},null,null,{"$error":"#NAME?"},{"$error":"#NAME?"}]
["1989-09-27",null,null,null,0,{"$f":"IF(SUM($B$7:$B111)=0,\"\",IF(A111<>\"\",IF(A111<$B$3,\"N\",\"Y\"),\"\"))","v":""},0,19.75,0,null,1490,{"$f":"IF(AND(ISNUMBER(A111),NOT(ISNUMBER(A112))),IF((OFFSET(Q111,-Q111,0)>50),SUM(OFFSET(E111,-Q111+1,0):E111),SUM(OFFSET(E111,-Q111,0):E111)),IF(AND(ISNUMBER(P111),ISNUMBER(P112),P111  <P112),IF((OFFSET(Q111,-Q111,0)>50),SUM(OFFSET(E111,-Q111+1,0):E111),SUM(OFFSET(E111,-Q111,0):E111)),\"\"))","v":{"$error":"#NAME?"}},{"$f":"IF(ISNUMBER(L111),IF((OFFSET(Q111,-Q111,0)>50),SUM(OFFSET(G111,-Q111+1,0):G111),SUM(OFFSET(G111,-Q111,0):G111)),\"\")","v":""},null,null,{"$error":"#NAME?"},{"$error":"#NAME?"}]
["1989-10-04",null,null,null,0,{"$f":"IF(SUM($B$7:$B112)=0,\"\",IF(A112<>\"\",IF(A112<$B$3,\"N\",\"Y\"),\"\"))","v":""},0,19.75,0,null,1489,{"$f":"IF(AND(ISNUMBER(A112),NOT(ISNUMBER(A113))),IF((OFFSET(Q112,-Q112,0)>50),SUM(OFFSET(E112,-Q112+1,0):E112),SUM(OFFSET(E112,-Q112,0):E112)),IF(AND(ISNUMBER(P112),ISNUMBER(P113),P112  <P113),IF((OFFSET(Q112,-Q112,0)>50),SUM(OFFSET(E112,-Q112+1,0):E112),SUM(OFFSET(E112,-Q112,0):E112)),\"\"))","v":{"$error":"#NAME?"}},{"$f":"IF(ISNUMBER(L112),IF((OFFSET(Q112,-Q112,0)>50),SUM(OFFSET(G112,-Q112+1,0):G112),SUM(OFFSET(G112,-Q112,0):G112)),\"\")","v":""},null,null,{"$error":"#NAME?"},{"$error":"#NAME?"}]
["1989-10-11",null,null,null,0,{"$f":"IF(SUM($B$7:$B113)=0,\"\",IF(A113<>\"\",IF(A113<$B$3,\"N\",\"Y\"),\"\"))","v":""},0,19.75,0,null,1488,{"$f":"IF(AND(ISNUMBER(A113),NOT(ISNUMBER(A114))),IF((OFFSET(Q113,-Q113,0)>50),SUM(OFFSET(E113,-Q113+1,0):E113),SUM(OFFSET(E113,-Q113,0):E113)),IF(AND(ISNUMBER(P113),ISNUMBER(P114),P113  <P114),IF((OFFSET(Q113,-Q113,0)>50),SUM(OFFSET(E113,-Q113+1,0):E113),SUM(OFFSET(E113,-Q113,0):E113)),\"\"))","v":{"$error":"#NAME?"}},{"$f":"IF(ISNUMBER(L113),IF((OFFSET(Q113,-Q113,0)>50),SUM(OFFSET(G113,-Q113+1,0):G113),SUM(OFFSET(G113,-Q113,0):G113)),\"\")","v":""},null,null,{"$error":"#NAME?"},{"$error":"#NAME?"}]
["1989-10-18",null,null,null,0,{"$f":"IF(SUM($B$7:$B114)=0,\"\",IF(A114<>\"\",IF(A114<$B$3,\"N\",\"Y\"),\"\"))","v":""},0,19.75,0,null,1487,{"$f":"IF(AND(ISNUMBER(A114),NOT(ISNUMBER(A115))),IF((OFFSET(Q114,-Q114,0)>50),SUM(OFFSET(E114,-Q114+1,0):E114),SUM(OFFSET(E114,-Q114,0):E114)),IF(AND(ISNUMBER(P114),ISNUMBER(P115),P114  <P115),IF((OFFSET(Q114,-Q114,0)>50),SUM(OFFSET(E114,-Q114+1,0):E114),SUM(OFFSET(E114,-Q114,0):E114)),\"\"))","v":{"$error":"#NAME?"}},{"$f":"IF(ISNUMBER(L114),IF((OFFSET(Q114,-Q114,0)>50),SUM(OFFSET(G114,-Q114+1,0):G114),SUM(OFFSET(G114,-Q114,0):G114)),\"\")","v":""},null,null,{"$error":"#NAME?"},{"$error":"#NAME?"}]
["1989-10-25",null,null,null,0,{"$f":"IF(SUM($B$7:$B115)=0,\"\",IF(A115<>\"\",IF(A115<$B$3,\"N\",\"Y\"),\"\"))","v":""},0,19.75,0,null,1486,{"$f":"IF(AND(ISNUMBER(A115),NOT(ISNUMBER(A116))),IF((OFFSET(Q115,-Q115,0)>50),SUM(OFFSET(E115,-Q115+1,0):E115),SUM(OFFSET(E115,-Q115,0):E115)),IF(AND(ISNUMBER(P115),ISNUMBER(P116),P115  <P116),IF((OFFSET(Q115,-Q115,0)>50),SUM(OFFSET(E115,-Q115+1,0):E115),SUM(OFFSET(E115,-Q115,0):E115)),\"\"))","v":{"$error":"#NAME?"}},{"$f":"IF(ISNUMBER(L115),IF((OFFSET(Q115,-Q115,0)>50),SUM(OFFSET(G115,-Q115+1,0):G115),SUM(OFFSET(G115,-Q115,0):G115)),\"\")","v":""},null,null,{"$error":"#NAME?"},{"$error":"#NAME?"}]
["1989-11-01",null,null,null,0,{"$f":"IF(SUM($B$7:$B116)=0,\"\",IF(A116<>\"\",IF(A116<$B$3,\"N\",\"Y\"),\"\"))","v":""},0,19.75,0,null,1485,{"$f":"IF(AND(ISNUMBER(A116),NOT(ISNUMBER(A117))),IF((OFFSET(Q116,-Q116,0)>50),SUM(OFFSET(E116,-Q116+1,0):E116),SUM(OFFSET(E116,-Q116,0):E116)),IF(AND(ISNUMBER(P116),ISNUMBER(P117),P116  <P117),IF((OFFSET(Q116,-Q116,0)>50),SUM(OFFSET(E116,-Q116+1,0):E116),SUM(OFFSET(E116,-Q116,0):E116)),\"\"))","v":{"$error":"#NAME?"}},{"$f":"IF(ISNUMBER(L116),IF((OFFSET(Q116,-Q116,0)>50),SUM(OFFSET(G116,-Q116+1,0):G116),SUM(OFFSET(G116,-Q116,0):G116)),\"\")","v":""},null,null,{"$error":"#NAME?"},{"$error":"#NAME?"}]
["1989-11-08",null,null,null,0,{"$f":"IF(SUM($B$7:$B117)=0,\"\",IF(A117<>\"\",IF(A117<$B$3,\"N\",\"Y\"),\"\"))","v":""},0,19.75,0,null,1484,{"$f":"IF(AND(ISNUMBER(A117),NOT(ISNUMBER(A118))),IF((OFFSET(Q117,-Q117,0)>50),SUM(OFFSET(E117,-Q117+1,0):E117),SUM(OFFSET(E117,-Q117,0):E117)),IF(AND(ISNUMBER(P117),ISNUMBER(P118),P117  <P118),IF((OFFSET(Q117,-Q117,0)>50),SUM(OFFSET(E117,-Q117+1,0):E117),SUM(OFFSET(E117,-Q117,0):E117)),\"\"))","v":{"$error":"#NAME?"}},{"$f":"IF(ISNUMBER(L117),IF((OFFSET(Q117,-Q117,0)>50),SUM(OFFSET(G117,-Q117+1,0):G117),SUM(OFFSET(G117,-Q117,0):G117)),\"\")","v":""},null,null,{"$error":"#NAME?"},{"$error":"#NAME?"}]
["1989-11-15",null,null,null,0,{"$f":"IF(SUM($B$7:$B118)=0,\"\",IF(A118<>\"\",IF(A118<$B$3,\"N\",\"Y\"),\"\"))","v":""},0,19.75,0,null,1483,{"$f":"IF(AND(ISNUMBER(A118),NOT(ISNUMBER(A119))),IF((OFFSET(Q118,-Q118,0)>50),SUM(OFFSET(E118,-Q118+1,0):E118),SUM(OFFSET(E118,-Q118,0):E118)),IF(AND(ISNUMBER(P118),ISNUMBER(P119),P118  <P119),IF((OFFSET(Q118,-Q118,0)>50),SUM(OFFSET(E118,-Q118+1,0):E118),SUM(OFFSET(E118,-Q118,0):E118)),\"\"))","v":{"$error":"#NAME?"}},{"$f":"IF(ISNUMBER(L118),IF((OFFSET(Q118,-Q118,0)>50),SUM(OFFSET(G118,-Q118+1,0):G118),SUM(OFFSET(G118,-Q118,0):G118)),\"\")","v":""},null,null,{"$error":"#NAME?"},{"$error":"#NAME?"}]
["1989-11-22",null,null,null,0,{"$f":"IF(SUM($B$7:$B119)=0,\"\",IF(A119<>\"\",IF(A119<$B$3,\"N\",\"Y\"),\"\"))","v":""},0,19.75,0,null,1482,{"$f":"IF(AND(ISNUMBER(A119),NOT(ISNUMBER(A120))),IF((OFFSET(Q119,-Q119,0)>50),SUM(OFFSET(E119,-Q119+1,0):E119),SUM(OFFSET(E119,-Q119,0):E119)),IF(AND(ISNUMBER(P119),ISNUMBER(P120),P119  <P120),IF((OFFSET(Q119,-Q119,0)>50),SUM(OFFSET(E119,-Q119+1,0):E119),SUM(OFFSET(E119,-Q119,0):E119)),\"\"))","v":{"$error":"#NAME?"}},{"$f":"IF(ISNUMBER(L119),IF((OFFSET(Q119,-Q119,0)>50),SUM(OFFSET(G119,-Q119+1,0):G119),SUM(OFFSET(G119,-Q119,0):G119)),\"\")","v":""},null,null,{"$error":"#NAME?"},{"$error":"#NAME?"}]
["1989-11-29",null,null,null,0,{"$f":"IF(SUM($B$7:$B120)=0,\"\",IF(A120<>\"\",IF(A120<$B$3,\"N\",\"Y\"),\"\"))","v":""},0,19.75,0,null,1481,{"$f":"IF(AND(ISNUMBER(A120),NOT(ISNUMBER(A121))),IF((OFFSET(Q120,-Q120,0)>50),SUM(OFFSET(E120,-Q120+1,0):E120),SUM(OFFSET(E120,-Q120,0):E120)),IF(AND(ISNUMBER(P120),ISNUMBER(P121),P120  <P121),IF((OFFSET(Q120,-Q120,0)>50),SUM(OFFSET(E120,-Q120+1,0):E120),SUM(OFFSET(E120,-Q120,0):E120)),\"\"))","v":{"$error":"#NAME?"}},{"$f":"IF(ISNUMBER(L120),IF((OFFSET(Q120,-Q120,0)>50),SUM(OFFSET(G120,-Q120+1,0):G120),SUM(OFFSET(G120,-Q120,0):G120)),\"\")","v":""},null,null,{"$error":"#NAME?"},{"$error":"#NAME?"}]
["1989-12-06",null,null,null,0,{"$f":"IF(SUM($B$7:$B121)=0,\"\",IF(A121<>\"\",IF(A121<$B$3,\"N\",\"Y\"),\"\"))","v":""},0,19.75,0,null,1480,{"$f":"IF(AND(ISNUMBER(A121),NOT(ISNUMBER(A122))),IF((OFFSET(Q121,-Q121,0)>50),SUM(OFFSET(E121,-Q121+1,0):E121),SUM(OFFSET(E121,-Q121,0):E121)),IF(AND(ISNUMBER(P121),ISNUMBER(P122),P121  <P122),IF((OFFSET(Q121,-Q121,0)>50),SUM(OFFSET(E121,-Q121+1,0):E121),SUM(OFFSET(E121,-Q121,0):E121)),\"\"))","v":{"$error":"#NAME?"}},{"$f":"IF(ISNUMBER(L121),IF((OFFSET(Q121,-Q121,0)>50),SUM(OFFSET(G121,-Q121+1,0):G121),SUM(OFFSET(G121,-Q121,0):G121)),\"\")","v":""},null,null,{"$error":"#NAME?"},{"$error":"#NAME?"}]
["1989-12-13",null,null,null,0,{"$f":"IF(SUM($B$7:$B122)=0,\"\",IF(A122<>\"\",IF(A122<$B$3,\"N\",\"Y\"),\"\"))","v":""},0,19.75,0,null,1479,{"$f":"IF(AND(ISNUMBER(A122),NOT(ISNUMBER(A123))),IF((OFFSET(Q122,-Q122,0)>50),SUM(OFFSET(E122,-Q122+1,0):E122),SUM(OFFSET(E122,-Q122,0):E122)),IF(AND(ISNUMBER(P122),ISNUMBER(P123),P122  <P123),IF((OFFSET(Q122,-Q122,0)>50),SUM(OFFSET(E122,-Q122+1,0):E122),SUM(OFFSET(E122,-Q122,0):E122)),\"\"))","v":{"$error":"#NAME?"}},{"$f":"IF(ISNUMBER(L122),IF((OFFSET(Q122,-Q122,0)>50),SUM(OFFSET(G122,-Q122+1,0):G122),SUM(OFFSET(G122,-Q122,0):G122)),\"\")","v":""},null,null,{"$error":"#NAME?"},{"$error":"#NAME?"}]
["1989-12-20",null,null,null,0,{"$f":"IF(SUM($B$7:$B123)=0,\"\",IF(A123<>\"\",IF(A123<$B$3,\"N\",\"Y\"),\"\"))","v":""},0,19.75,0,null,1478,{"$f":"IF(AND(ISNUMBER(A123),NOT(ISNUMBER(A124))),IF((OFFSET(Q123,-Q123,0)>50),SUM(OFFSET(E123,-Q123+1,0):E123),SUM(OFFSET(E123,-Q123,0):E123)),IF(AND(ISNUMBER(P123),ISNUMBER(P124),P123  <P124),IF((OFFSET(Q123,-Q123,0)>50),SUM(OFFSET(E123,-Q123+1,0):E123),SUM(OFFSET(E123,-Q123,0):E123)),\"\"))","v":{"$error":"#NAME?"}},{"$f":"IF(ISNUMBER(L123),IF((OFFSET(Q123,-Q123,0)>50),SUM(OFFSET(G123,-Q123+1,0):G123),SUM(OFFSET(G123,-Q123,0):G123)),\"\")","v":""},null,null,{"$error":"#NAME?"},{"$error":"#NAME?"}]
["1989-12-27",null,null,null,0,{"$f":"IF(SUM($B$7:$B124)=0,\"\",IF(A124<>\"\",IF(A124<$B$3,\"N\",\"Y\"),\"\"))","v":""},0,19.75,0,null,1477,{"$f":"IF(AND(ISNUMBER(A124),NOT(ISNUMBER(A125))),IF((OFFSET(Q124,-Q124,0)>50),SUM(OFFSET(E124,-Q124+1,0):E124),SUM(OFFSET(E124,-Q124,0):E124)),IF(AND(ISNUMBER(P124),ISNUMBER(P125),P124  <P125),IF((OFFSET(Q124,-Q124,0)>50),SUM(OFFSET(E124,-Q124+1,0):E124),SUM(OFFSET(E124,-Q124,0):E124)),\"\"))","v":{"$error":"#NAME?"}},{"$f":"IF(ISNUMBER(L124),IF((OFFSET(Q124,-Q124,0)>50),SUM(OFFSET(G124,-Q124+1,0):G124),SUM(OFFSET(G124,-Q124,0):G124)),\"\")","v":""},null,null,{"$error":"#NAME?"},{"$error":"#NAME?"}]
["1990-01-03",null,null,null,0,{"$f":"IF(SUM($B$7:$B125)=0,\"\",IF(A125<>\"\",IF(A125<$B$3,\"N\",\"Y\"),\"\"))","v":""},0,19.75,0,null,1476,{"$f":"IF(AND(ISNUMBER(A125),NOT(ISNUMBER(A126))),IF((OFFSET(Q125,-Q125,0)>50),SUM(OFFSET(E125,-Q125+1,0):E125),SUM(OFFSET(E125,-Q125,0):E125)),IF(AND(ISNUMBER(P125),ISNUMBER(P126),P125  <P126),IF((OFFSET(Q125,-Q125,0)>50),SUM(OFFSET(E125,-Q125+1,0):E125),SUM(OFFSET(E125,-Q125,0):E125)),\"\"))","v":{"$error":"#NAME?"}},{"$f":"IF(ISNUMBER(L125),IF((OFFSET(Q125,-Q125,0)>50),SUM(OFFSET(G125,-Q125+1,0):G125),SUM(OFFSET(G125,-Q125,0):G125)),\"\")","v":""},null,null,{"$error":"#NAME?"},{"$error":"#NAME?"}]
["1990-01-10",null,null,null,0,{"$f":"IF(SUM($B$7:$B126)=0,\"\",IF(A126<>\"\",IF(A126<$B$3,\"N\",\"Y\"),\"\"))","v":""},0,19.75,0,null,1475,{"$f":"IF(AND(ISNUMBER(A126),NOT(ISNUMBER(A127))),IF((OFFSET(Q126,-Q126,0)>50),SUM(OFFSET(E126,-Q126+1,0):E126),SUM(OFFSET(E126,-Q126,0):E126)),IF(AND(ISNUMBER(P126),ISNUMBER(P127),P126  <P127),IF((OFFSET(Q126,-Q126,0)>50),SUM(OFFSET(E126,-Q126+1,0):E126),SUM(OFFSET(E126,-Q126,0):E126)),\"\"))","v":{"$error":"#NAME?"}},{"$f":"IF(ISNUMBER(L126),IF((OFFSET(Q126,-Q126,0)>50),SUM(OFFSET(G126,-Q126+1,0):G126),SUM(OFFSET(G126,-Q126,0):G126)),\"\")","v":""},null,null,{"$error":"#NAME?"},{"$error":"#NAME?"}]
["1990-01-17",null,null,null,0,{"$f":"IF(SUM($B$7:$B127)=0,\"\",IF(A127<>\"\",IF(A127<$B$3,\"N\",\"Y\"),\"\"))","v":""},0,19.75,0,null,1474,{"$f":"IF(AND(ISNUMBER(A127),NOT(ISNUMBER(A128))),IF((OFFSET(Q127,-Q127,0)>50),SUM(OFFSET(E127,-Q127+1,0):E127),SUM(OFFSET(E127,-Q127,0):E127)),IF(AND(ISNUMBER(P127),ISNUMBER(P128),P127  <P128),IF((OFFSET(Q127,-Q127,0)>50),SUM(OFFSET(E127,-Q127+1,0):E127),SUM(OFFSET(E127,-Q127,0):E127)),\"\"))","v":{"$error":"#NAME?"}},{"$f":"IF(ISNUMBER(L127),IF((OFFSET(Q127,-Q127,0)>50),SUM(OFFSET(G127,-Q127+1,0):G127),SUM(OFFSET(G127,-Q127,0):G127)),\"\")","v":""},null,null,{"$error":"#NAME?"},{"$error":"#NAME?"}]
["1990-01-24",null,null,null,0,{"$f":"IF(SUM($B$7:$B128)=0,\"\",IF(A128<>\"\",IF(A128<$B$3,\"N\",\"Y\"),\"\"))","v":""},0,19.75,0,null,1473,{"$f":"IF(AND(ISNUMBER(A128),NOT(ISNUMBER(A129))),IF((OFFSET(Q128,-Q128,0)>50),SUM(OFFSET(E128,-Q128+1,0):E128),SUM(OFFSET(E128,-Q128,0):E128)),IF(AND(ISNUMBER(P128),ISNUMBER(P129),P128  <P129),IF((OFFSET(Q128,-Q128,0)>50),SUM(OFFSET(E128,-Q128+1,0):E128),SUM(OFFSET(E128,-Q128,0):E128)),\"\"))","v":{"$error":"#NAME?"}},{"$f":"IF(ISNUMBER(L128),IF((OFFSET(Q128,-Q128,0)>50),SUM(OFFSET(G128,-Q128+1,0):G128),SUM(OFFSET(G128,-Q128,0):G128)),\"\")","v":""},null,null,{"$error":"#NAME?"},{"$error":"#NAME?"}]
["1990-01-31",null,null,null,0,{"$f":"IF(SUM($B$7:$B129)=0,\"\",IF(A129<>\"\",IF(A129<$B$3,\"N\",\"Y\"),\"\"))","v":""},0,19.75,0,null,1472,{"$f":"IF(AND(ISNUMBER(A129),NOT(ISNUMBER(A130))),IF((OFFSET(Q129,-Q129,0)>50),SUM(OFFSET(E129,-Q129+1,0):E129),SUM(OFFSET(E129,-Q129,0):E129)),IF(AND(ISNUMBER(P129),ISNUMBER(P130),P129  <P130),IF((OFFSET(Q129,-Q129,0)>50),SUM(OFFSET(E129,-Q129+1,0):E129),SUM(OFFSET(E129,-Q129,0):E129)),\"\"))","v":{"$error":"#NAME?"}},{"$f":"IF(ISNUMBER(L129),IF((OFFSET(Q129,-Q129,0)>50),SUM(OFFSET(G129,-Q129+1,0):G129),SUM(OFFSET(G129,-Q129,0):G129)),\"\")","v":""},null,null,{"$error":"#NAME?"},{"$error":"#NAME?"}]
["1990-02-07",null,null,null,0,{"$f":"IF(SUM($B$7:$B130)=0,\"\",IF(A130<>\"\",IF(A130<$B$3,\"N\",\"Y\"),\"\"))","v":""},0,19.75,0,null,1471,{"$f":"IF(AND(ISNUMBER(A130),NOT(ISNUMBER(A131))),IF((OFFSET(Q130,-Q130,0)>50),SUM(OFFSET(E130,-Q130+1,0):E130),SUM(OFFSET(E130,-Q130,0):E130)),IF(AND(ISNUMBER(P130),ISNUMBER(P131),P130  <P131),IF((OFFSET(Q130,-Q130,0)>50),SUM(OFFSET(E130,-Q130+1,0):E130),SUM(OFFSET(E130,-Q130,0):E130)),\"\"))","v":{"$error":"#NAME?"}},{"$f":"IF(ISNUMBER(L130),IF((OFFSET(Q130,-Q130,0)>50),SUM(OFFSET(G130,-Q130+1,0):G130),SUM(OFFSET(G130,-Q130,0):G130)),\"\")","v":""},null,null,{"$error":"#NAME?"},{"$error":"#NAME?"}]
["1990-02-14",null,null,null,0,{"$f":"IF(SUM($B$7:$B131)=0,\"\",IF(A131<>\"\",IF(A131<$B$3,\"N\",\"Y\"),\"\"))","v":""},0,19.75,0,null,1470,{"$f":"IF(AND(ISNUMBER(A131),NOT(ISNUMBER(A132))),IF((OFFSET(Q131,-Q131,0)>50),SUM(OFFSET(E131,-Q131+1,0):E131),SUM(OFFSET(E131,-Q131,0):E131)),IF(AND(ISNUMBER(P131),ISNUMBER(P132),P131  <P132),IF((OFFSET(Q131,-Q131,0)>50),SUM(OFFSET(E131,-Q131+1,0):E131),SUM(OFFSET(E131,-Q131,0):E131)),\"\"))","v":{"$error":"#NAME?"}},{"$f":"IF(ISNUMBER(L131),IF((OFFSET(Q131,-Q131,0)>50),SUM(OFFSET(G131,-Q131+1,0):G131),SUM(OFFSET(G131,-Q131,0):G131)),\"\")","v":""},null,null,{"$error":"#NAME?"},{"$error":"#NAME?"}]
["1990-02-21",null,null,null,0,{"$f":"IF(SUM($B$7:$B132)=0,\"\",IF(A132<>\"\",IF(A132<$B$3,\"N\",\"Y\"),\"\"))","v":""},0,19.75,0,null,1469,{"$f":"IF(AND(ISNUMBER(A132),NOT(ISNUMBER(A133))),IF((OFFSET(Q132,-Q132,0)>50),SUM(OFFSET(E132,-Q132+1,0):E132),SUM(OFFSET(E132,-Q132,0):E132)),IF(AND(ISNUMBER(P132),ISNUMBER(P133),P132  <P133),IF((OFFSET(Q132,-Q132,0)>50),SUM(OFFSET(E132,-Q132+1,0):E132),SUM(OFFSET(E132,-Q132,0):E132)),\"\"))","v":{"$error":"#NAME?"}},{"$f":"IF(ISNUMBER(L132),IF((OFFSET(Q132,-Q132,0)>50),SUM(OFFSET(G132,-Q132+1,0):G132),SUM(OFFSET(G132,-Q132,0):G132)),\"\")","v":""},null,null,{"$error":"#NAME?"},{"$error":"#NAME?"}]
["1990-02-28",null,null,null,0,{"$f":"IF(SUM($B$7:$B133)=0,\"\",IF(A133<>\"\",IF(A133<$B$3,\"N\",\"Y\"),\"\"))","v":""},0,19.75,0,null,1468,{"$f":"IF(AND(ISNUMBER(A133),NOT(ISNUMBER(A134))),IF((OFFSET(Q133,-Q133,0)>50),SUM(OFFSET(E133,-Q133+1,0):E133),SUM(OFFSET(E133,-Q133,0):E133)),IF(AND(ISNUMBER(P133),ISNUMBER(P134),P133  <P134),IF((OFFSET(Q133,-Q133,0)>50),SUM(OFFSET(E133,-Q133+1,0):E133),SUM(OFFSET(E133,-Q133,0):E133)),\"\"))","v":{"$error":"#NAME?"}},{"$f":"IF(ISNUMBER(L133),IF((OFFSET(Q133,-Q133,0)>50),SUM(OFFSET(G133,-Q133+1,0):G133),SUM(OFFSET(G133,-Q133,0):G133)),\"\")","v":""},null,null,{"$error":"#NAME?"},{"$error":"#NAME?"}]
["1990-03-07",null,null,null,0,{"$f":"IF(SUM($B$7:$B134)=0,\"\",IF(A134<>\"\",IF(A134<$B$3,\"N\",\"Y\"),\"\"))","v":""},0,19.75,0,null,1467,{"$f":"IF(AND(ISNUMBER(A134),NOT(ISNUMBER(A135))),IF((OFFSET(Q134,-Q134,0)>50),SUM(OFFSET(E134,-Q134+1,0):E134),SUM(OFFSET(E134,-Q134,0):E134)),IF(AND(ISNUMBER(P134),ISNUMBER(P135),P134  <P135),IF((OFFSET(Q134,-Q134,0)>50),SUM(OFFSET(E134,-Q134+1,0):E134),SUM(OFFSET(E134,-Q134,0):E134)),\"\"))","v":{"$error":"#NAME?"}},{"$f":"IF(ISNUMBER(L134),IF((OFFSET(Q134,-Q134,0)>50),SUM(OFFSET(G134,-Q134+1,0):G134),SUM(OFFSET(G134,-Q134,0):G134)),\"\")","v":""},null,null,{"$error":"#NAME?"},{"$error":"#NAME?"}]
["1990-03-14",null,null,null,0,{"$f":"IF(SUM($B$7:$B135)=0,\"\",IF(A135<>\"\",IF(A135<$B$3,\"N\",\"Y\"),\"\"))","v":""},0,19.75,0,null,{"$f":"IF(A135<>\"\",IF((TODAY()-A135)/7>=0,INT((TODAY()-A135)/7),0),\"\")","v":1466},{"$f":"IF(AND(ISNUMBER(A135),NOT(ISNUMBER(A136))),IF((OFFSET(Q135,-Q135,0)>50),SUM(OFFSET(E135,-Q135+1,0):E135),SUM(OFFSET(E135,-Q135,0):E135)),IF(AND(ISNUMBER(P135),ISNUMBER(P136),P135  <P136),IF((OFFSET(Q135,-Q135,0)>50),SUM(OFFSET(E135,-Q135+1,0):E135),SUM(OFFSET(E135,-Q135,0):E135)),\"\"))","v":{"$error":"#NAME?"}},{"$f":"IF(ISNUMBER(L135),IF((OFFSET(Q135,-Q135,0)>50),SUM(OFFSET(G135,-Q135+1,0):G135),SUM(OFFSET(G135,-Q135,0):G135)),\"\")","v":""},null,null,{"$f":"FinYear(A135)","v":{"$error":"#NAME?"}},{"$error":"#NAME?"}]
["1990-03-21",null,null,null,{"$f":"IF(A136<>\"\",IF(B136-C136>=0,B136-C136,0),\"\")","v":0},{"$f":"IF(SUM($B$7:$B136)=0,\"\",IF(A136<>\"\",IF(A136<$B$3,\"N\",\"Y\"),\"\"))","v":""},0,19.75,0,null,1465,{"$f":"IF(AND(ISNUMBER(A136),NOT(ISNUMBER(A137))),IF((OFFSET(Q136,-Q136,0)>50),SUM(OFFSET(E136,-Q136+1,0):E136),SUM(OFFSET(E136,-Q136,0):E136)),IF(AND(ISNUMBER(P136),ISNUMBER(P137),P136  <P137),IF((OFFSET(Q136,-Q136,0)>50),SUM(OFFSET(E136,-Q136+1,0):E136),SUM(OFFSET(E136,-Q136,0):E136)),\"\"))","v":{"$error":"#NAME?"}},{"$f":"IF(ISNUMBER(L136),IF((OFFSET(Q136,-Q136,0)>50),SUM(OFFSET(G136,-Q136+1,0):G136),SUM(OFFSET(G136,-Q136,0):G136)),\"\")","v":""},null,null,{"$error":"#NAME?"},{"$f":"ROUND((A136-StartOfFinYear(P136))/7,0)","v":{"$error":"#NAME?"}}]
["1990-03-28",null,null,null,0,{"$f":"IF(SUM($B$7:$B137)=0,\"\",IF(A137<>\"\",IF(A137<$B$3,\"N\",\"Y\"),\"\"))","v":""},{"$f":"IF(F137=\"N\",0,IF(A137<>\"\",IF(K137>=0,((E137+I136)*(1+(H137/52)/100)-E137-I136),0),\"\"))","v":0},19.75,{"$f":"IF(A137<>\"\",I136+E137+G137,\"\")","v":0},null,1464,{"$f":"IF(AND(ISNUMBER(A137),NOT(ISNUMBER(A138))),IF((OFFSET(Q137,-Q137,0)>50),SUM(OFFSET(E137,-Q137+1,0):E137),SUM(OFFSET(E137,-Q137,0):E137)),IF(AND(ISNUMBER(P137),ISNUMBER(P138),P137  <P138),IF((OFFSET(Q137,-Q137,0)>50),SUM(OFFSET(E137,-Q137+1,0):E137),SUM(OFFSET(E137,-Q137,0):E137)),\"\"))","v":{"$error":"#NAME?"}},{"$f":"IF(ISNUMBER(L137),IF((OFFSET(Q137,-Q137,0)>50),SUM(OFFSET(G137,-Q137+1,0):G137),SUM(OFFSET(G137,-Q137,0):G137)),\"\")","v":""},null,null,{"$error":"#NAME?"},{"$error":"#NAME?"}]
[{"$f":"IF(A137<>\"\",IF(A137+12<=TODAY(),+A137+7,\"\"),\"\")","v":"1990-04-04"},null,null,null,0,{"$f":"IF(SUM($B$7:$B138)=0,\"\",IF(A138<>\"\",IF(A138<$B$3,\"N\",\"Y\"),\"\"))","v":""},0,19.75,0,null,1463,{"$f":"IF(AND(ISNUMBER(A138),NOT(ISNUMBER(A139))),IF((OFFSET(Q138,-Q138,0)>50),SUM(OFFSET(E138,-Q138+1,0):E138),SUM(OFFSET(E138,-Q138,0):E138)),IF(AND(ISNUMBER(P138),ISNUMBER(P139),P138  <P139),IF((OFFSET(Q138,-Q138,0)>50),SUM(OFFSET(E138,-Q138+1,0):E138),SUM(OFFSET(E138,-Q138,0):E138)),\"\"))","v":{"$error":"#NAME?"}},{"$f":"IF(ISNUMBER(L138),IF((OFFSET(Q138,-Q138,0)>50),SUM(OFFSET(G138,-Q138+1,0):G138),SUM(OFFSET(G138,-Q138,0):G138)),\"\")","v":""},null,null,{"$error":"#NAME?"},{"$error":"#NAME?"}]
["1990-04-11",null,null,null,0,{"$f":"IF(SUM($B$7:$B139)=0,\"\",IF(A139<>\"\",IF(A139<$B$3,\"N\",\"Y\"),\"\"))","v":""},0,19.75,0,null,1462,{"$f":"IF(AND(ISNUMBER(A139),NOT(ISNUMBER(A140))),IF((OFFSET(Q139,-Q139,0)>50),SUM(OFFSET(E139,-Q139+1,0):E139),SUM(OFFSET(E139,-Q139,0):E139)),IF(AND(ISNUMBER(P139),ISNUMBER(P140),P139  <P140),IF((OFFSET(Q139,-Q139,0)>50),SUM(OFFSET(E139,-Q139+1,0):E139),SUM(OFFSET(E139,-Q139,0):E139)),\"\"))","v":{"$error":"#NAME?"}},{"$f":"IF(ISNUMBER(L139),IF((OFFSET(Q139,-Q139,0)>50),SUM(OFFSET(G139,-Q139+1,0):G139),SUM(OFFSET(G139,-Q139,0):G139)),\"\")","v":""},null,null,{"$error":"#NAME?"},{"$error":"#NAME?"}]
["1990-04-18",null,null,null,0,{"$f":"IF(SUM($B$7:$B140)=0,\"\",IF(A140<>\"\",IF(A140<$B$3,\"N\",\"Y\"),\"\"))","v":""},0,19.75,0,null,1461,{"$f":"IF(AND(ISNUMBER(A140),NOT(ISNUMBER(A141))),IF((OFFSET(Q140,-Q140,0)>50),SUM(OFFSET(E140,-Q140+1,0):E140),SUM(OFFSET(E140,-Q140,0):E140)),IF(AND(ISNUMBER(P140),ISNUMBER(P141),P140  <P141),IF((OFFSET(Q140,-Q140,0)>50),SUM(OFFSET(E140,-Q140+1,0):E140),SUM(OFFSET(E140,-Q140,0):E140)),\"\"))","v":{"$error":"#NAME?"}},{"$f":"IF(ISNUMBER(L140),IF((OFFSET(Q140,-Q140,0)>50),SUM(OFFSET(G140,-Q140+1,0):G140),SUM(OFFSET(G140,-Q140,0):G140)),\"\")","v":""},null,null,{"$error":"#NAME?"},{"$error":"#NAME?"}]
["1990-04-25",null,null,null,0,{"$f":"IF(SUM($B$7:$B141)=0,\"\",IF(A141<>\"\",IF(A141<$B$3,\"N\",\"Y\"),\"\"))","v":""},0,19.75,0,null,1460,{"$f":"IF(AND(ISNUMBER(A141),NOT(ISNUMBER(A142))),IF((OFFSET(Q141,-Q141,0)>50),SUM(OFFSET(E141,-Q141+1,0):E141),SUM(OFFSET(E141,-Q141,0):E141)),IF(AND(ISNUMBER(P141),ISNUMBER(P142),P141  <P142),IF((OFFSET(Q141,-Q141,0)>50),SUM(OFFSET(E141,-Q141+1,0):E141),SUM(OFFSET(E141,-Q141,0):E141)),\"\"))","v":{"$error":"#NAME?"}},{"$f":"IF(ISNUMBER(L141),IF((OFFSET(Q141,-Q141,0)>50),SUM(OFFSET(G141,-Q141+1,0):G141),SUM(OFFSET(G141,-Q141,0):G141)),\"\")","v":""},null,null,{"$error":"#NAME?"},{"$error":"#NAME?"}]
["1990-05-02",null,null,null,0,{"$f":"IF(SUM($B$7:$B142)=0,\"\",IF(A142<>\"\",IF(A142<$B$3,\"N\",\"Y\"),\"\"))","v":""},0,19.75,0,null,1459,{"$f":"IF(AND(ISNUMBER(A142),NOT(ISNUMBER(A143))),IF((OFFSET(Q142,-Q142,0)>50),SUM(OFFSET(E142,-Q142+1,0):E142),SUM(OFFSET(E142,-Q142,0):E142)),IF(AND(ISNUMBER(P142),ISNUMBER(P143),P142  <P143),IF((OFFSET(Q142,-Q142,0)>50),SUM(OFFSET(E142,-Q142+1,0):E142),SUM(OFFSET(E142,-Q142,0):E142)),\"\"))","v":{"$error":"#NAME?"}},{"$f":"IF(ISNUMBER(L142),IF((OFFSET(Q142,-Q142,0)>50),SUM(OFFSET(G142,-Q142+1,0):G142),SUM(OFFSET(G142,-Q142,0):G142)),\"\")","v":""},null,null,{"$error":"#NAME?"},{"$error":"#NAME?"}]
["1990-05-09",null,null,null,0,{"$f":"IF(SUM($B$7:$B143)=0,\"\",IF(A143<>\"\",IF(A143<$B$3,\"N\",\"Y\"),\"\"))","v":""},0,19.75,0,null,1458,{"$f":"IF(AND(ISNUMBER(A143),NOT(ISNUMBER(A144))),IF((OFFSET(Q143,-Q143,0)>50),SUM(OFFSET(E143,-Q143+1,0):E143),SUM(OFFSET(E143,-Q143,0):E143)),IF(AND(ISNUMBER(P143),ISNUMBER(P144),P143  <P144),IF((OFFSET(Q143,-Q143,0)>50),SUM(OFFSET(E143,-Q143+1,0):E143),SUM(OFFSET(E143,-Q143,0):E143)),\"\"))","v":{"$error":"#NAME?"}},{"$f":"IF(ISNUMBER(L143),IF((OFFSET(Q143,-Q143,0)>50),SUM(OFFSET(G143,-Q143+1,0):G143),SUM(OFFSET(G143,-Q143,0):G143)),\"\")","v":""},null,null,{"$error":"#NAME?"},{"$error":"#NAME?"}]
["1990-05-16",null,null,null,0,{"$f":"IF(SUM($B$7:$B144)=0,\"\",IF(A144<>\"\",IF(A144<$B$3,\"N\",\"Y\"),\"\"))","v":""},0,19.75,0,null,1457,{"$f":"IF(AND(ISNUMBER(A144),NOT(ISNUMBER(A145))),IF((OFFSET(Q144,-Q144,0)>50),SUM(OFFSET(E144,-Q144+1,0):E144),SUM(OFFSET(E144,-Q144,0):E144)),IF(AND(ISNUMBER(P144),ISNUMBER(P145),P144  <P145),IF((OFFSET(Q144,-Q144,0)>50),SUM(OFFSET(E144,-Q144+1,0):E144),SUM(OFFSET(E144,-Q144,0):E144)),\"\"))","v":{"$error":"#NAME?"}},{"$f":"IF(ISNUMBER(L144),IF((OFFSET(Q144,-Q144,0)>50),SUM(OFFSET(G144,-Q144+1,0):G144),SUM(OFFSET(G144,-Q144,0):G144)),\"\")","v":""},null,null,{"$error":"#NAME?"},{"$error":"#NAME?"}]
["1990-05-23",null,null,null,0,{"$f":"IF(SUM($B$7:$B145)=0,\"\",IF(A145<>\"\",IF(A145<$B$3,\"N\",\"Y\"),\"\"))","v":""},0,19.75,0,null,1456,{"$f":"IF(AND(ISNUMBER(A145),NOT(ISNUMBER(A146))),IF((OFFSET(Q145,-Q145,0)>50),SUM(OFFSET(E145,-Q145+1,0):E145),SUM(OFFSET(E145,-Q145,0):E145)),IF(AND(ISNUMBER(P145),ISNUMBER(P146),P145  <P146),IF((OFFSET(Q145,-Q145,0)>50),SUM(OFFSET(E145,-Q145+1,0):E145),SUM(OFFSET(E145,-Q145,0):E145)),\"\"))","v":{"$error":"#NAME?"}},{"$f":"IF(ISNUMBER(L145),IF((OFFSET(Q145,-Q145,0)>50),SUM(OFFSET(G145,-Q145+1,0):G145),SUM(OFFSET(G145,-Q145,0):G145)),\"\")","v":""},null,null,{"$error":"#NAME?"},{"$error":"#NAME?"}]
["1990-05-30",null,null,null,0,{"$f":"IF(SUM($B$7:$B146)=0,\"\",IF(A146<>\"\",IF(A146<$B$3,\"N\",\"Y\"),\"\"))","v":""},0,19.75,0,null,1455,{"$f":"IF(AND(ISNUMBER(A146),NOT(ISNUMBER(A147))),IF((OFFSET(Q146,-Q146,0)>50),SUM(OFFSET(E146,-Q146+1,0):E146),SUM(OFFSET(E146,-Q146,0):E146)),IF(AND(ISNUMBER(P146),ISNUMBER(P147),P146  <P147),IF((OFFSET(Q146,-Q146,0)>50),SUM(OFFSET(E146,-Q146+1,0):E146),SUM(OFFSET(E146,-Q146,0):E146)),\"\"))","v":{"$error":"#NAME?"}},{"$f":"IF(ISNUMBER(L146),IF((OFFSET(Q146,-Q146,0)>50),SUM(OFFSET(G146,-Q146+1,0):G146),SUM(OFFSET(G146,-Q146,0):G146)),\"\")","v":""},null,null,{"$error":"#NAME?"},{"$error":"#NAME?"}]
["1990-06-06",null,null,null,0,{"$f":"IF(SUM($B$7:$B147)=0,\"\",IF(A147<>\"\",IF(A147<$B$3,\"N\",\"Y\"),\"\"))","v":""},0,19.75,0,null,1454,{"$f":"IF(AND(ISNUMBER(A147),NOT(ISNUMBER(A148))),IF((OFFSET(Q147,-Q147,0)>50),SUM(OFFSET(E147,-Q147+1,0):E147),SUM(OFFSET(E147,-Q147,0):E147)),IF(AND(ISNUMBER(P147),ISNUMBER(P148),P147  <P148),IF((OFFSET(Q147,-Q147,0)>50),SUM(OFFSET(E147,-Q147+1,0):E147),SUM(OFFSET(E147,-Q147,0):E147)),\"\"))","v":{"$error":"#NAME?"}},{"$f":"IF(ISNUMBER(L147),IF((OFFSET(Q147,-Q147,0)>50),SUM(OFFSET(G147,-Q147+1,0):G147),SUM(OFFSET(G147,-Q147,0):G147)),\"\")","v":""},null,null,{"$error":"#NAME?"},{"$error":"#NAME?"}]
["1990-06-13",null,null,null,0,{"$f":"IF(SUM($B$7:$B148)=0,\"\",IF(A148<>\"\",IF(A148<$B$3,\"N\",\"Y\"),\"\"))","v":""},0,19.75,0,null,1453,{"$f":"IF(AND(ISNUMBER(A148),NOT(ISNUMBER(A149))),IF((OFFSET(Q148,-Q148,0)>50),SUM(OFFSET(E148,-Q148+1,0):E148),SUM(OFFSET(E148,-Q148,0):E148)),IF(AND(ISNUMBER(P148),ISNUMBER(P149),P148  <P149),IF((OFFSET(Q148,-Q148,0)>50),SUM(OFFSET(E148,-Q148+1,0):E148),SUM(OFFSET(E148,-Q148,0):E148)),\"\"))","v":{"$error":"#NAME?"}},{"$f":"IF(ISNUMBER(L148),IF((OFFSET(Q148,-Q148,0)>50),SUM(OFFSET(G148,-Q148+1,0):G148),SUM(OFFSET(G148,-Q148,0):G148)),\"\")","v":""},null,null,{"$error":"#NAME?"},{"$error":"#NAME?"}]
["1990-06-20",null,null,null,0,{"$f":"IF(SUM($B$7:$B149)=0,\"\",IF(A149<>\"\",IF(A149<$B$3,\"N\",\"Y\"),\"\"))","v":""},0,19.75,0,null,1452,{"$f":"IF(AND(ISNUMBER(A149),NOT(ISNUMBER(A150))),IF((OFFSET(Q149,-Q149,0)>50),SUM(OFFSET(E149,-Q149+1,0):E149),SUM(OFFSET(E149,-Q149,0):E149)),IF(AND(ISNUMBER(P149),ISNUMBER(P150),P149  <P150),IF((OFFSET(Q149,-Q149,0)>50),SUM(OFFSET(E149,-Q149+1,0):E149),SUM(OFFSET(E149,-Q149,0):E149)),\"\"))","v":{"$error":"#NAME?"}},{"$f":"IF(ISNUMBER(L149),IF((OFFSET(Q149,-Q149,0)>50),SUM(OFFSET(G149,-Q149+1,0):G149),SUM(OFFSET(G149,-Q149,0):G149)),\"\")","v":""},null,null,{"$error":"#NAME?"},{"$error":"#NAME?"}]
["1990-06-27",null,null,null,0,{"$f":"IF(SUM($B$7:$B150)=0,\"\",IF(A150<>\"\",IF(A150<$B$3,\"N\",\"Y\"),\"\"))","v":""},0,19.75,0,null,1451,{"$f":"IF(AND(ISNUMBER(A150),NOT(ISNUMBER(A151))),IF((OFFSET(Q150,-Q150,0)>50),SUM(OFFSET(E150,-Q150+1,0):E150),SUM(OFFSET(E150,-Q150,0):E150)),IF(AND(ISNUMBER(P150),ISNUMBER(P151),P150  <P151),IF((OFFSET(Q150,-Q150,0)>50),SUM(OFFSET(E150,-Q150+1,0):E150),SUM(OFFSET(E150,-Q150,0):E150)),\"\"))","v":{"$error":"#NAME?"}},{"$f":"IF(ISNUMBER(L150),IF((OFFSET(Q150,-Q150,0)>50),SUM(OFFSET(G150,-Q150+1,0):G150),SUM(OFFSET(G150,-Q150,0):G150)),\"\")","v":""},null,null,{"$error":"#NAME?"},{"$error":"#NAME?"}]
["1990-07-04",null,null,null,0,{"$f":"IF(SUM($B$7:$B151)=0,\"\",IF(A151<>\"\",IF(A151<$B$3,\"N\",\"Y\"),\"\"))","v":""},0,18.5,0,null,1450,{"$f":"IF(AND(ISNUMBER(A151),NOT(ISNUMBER(A152))),IF((OFFSET(Q151,-Q151,0)>50),SUM(OFFSET(E151,-Q151+1,0):E151),SUM(OFFSET(E151,-Q151,0):E151)),IF(AND(ISNUMBER(P151),ISNUMBER(P152),P151  <P152),IF((OFFSET(Q151,-Q151,0)>50),SUM(OFFSET(E151,-Q151+1,0):E151),SUM(OFFSET(E151,-Q151,0):E151)),\"\"))","v":{"$error":"#NAME?"}},{"$f":"IF(ISNUMBER(L151),IF((OFFSET(Q151,-Q151,0)>50),SUM(OFFSET(G151,-Q151+1,0):G151),SUM(OFFSET(G151,-Q151,0):G151)),\"\")","v":""},null,null,{"$error":"#NAME?"},{"$error":"#NAME?"}]
["1990-07-11",null,null,null,0,{"$f":"IF(SUM($B$7:$B152)=0,\"\",IF(A152<>\"\",IF(A152<$B$3,\"N\",\"Y\"),\"\"))","v":""},0,18.5,0,null,1449,{"$f":"IF(AND(ISNUMBER(A152),NOT(ISNUMBER(A153))),IF((OFFSET(Q152,-Q152,0)>50),SUM(OFFSET(E152,-Q152+1,0):E152),SUM(OFFSET(E152,-Q152,0):E152)),IF(AND(ISNUMBER(P152),ISNUMBER(P153),P152  <P153),IF((OFFSET(Q152,-Q152,0)>50),SUM(OFFSET(E152,-Q152+1,0):E152),SUM(OFFSET(E152,-Q152,0):E152)),\"\"))","v":{"$error":"#NAME?"}},{"$f":"IF(ISNUMBER(L152),IF((OFFSET(Q152,-Q152,0)>50),SUM(OFFSET(G152,-Q152+1,0):G152),SUM(OFFSET(G152,-Q152,0):G152)),\"\")","v":""},null,null,{"$error":"#NAME?"},{"$error":"#NAME?"}]
["1990-07-18",null,null,null,0,{"$f":"IF(SUM($B$7:$B153)=0,\"\",IF(A153<>\"\",IF(A153<$B$3,\"N\",\"Y\"),\"\"))","v":""},0,18.5,0,null,1448,{"$f":"IF(AND(ISNUMBER(A153),NOT(ISNUMBER(A154))),IF((OFFSET(Q153,-Q153,0)>50),SUM(OFFSET(E153,-Q153+1,0):E153),SUM(OFFSET(E153,-Q153,0):E153)),IF(AND(ISNUMBER(P153),ISNUMBER(P154),P153  <P154),IF((OFFSET(Q153,-Q153,0)>50),SUM(OFFSET(E153,-Q153+1,0):E153),SUM(OFFSET(E153,-Q153,0):E153)),\"\"))","v":{"$error":"#NAME?"}},{"$f":"IF(ISNUMBER(L153),IF((OFFSET(Q153,-Q153,0)>50),SUM(OFFSET(G153,-Q153+1,0):G153),SUM(OFFSET(G153,-Q153,0):G153)),\"\")","v":""},null,null,{"$error":"#NAME?"},{"$error":"#NAME?"}]
["1990-07-25",null,null,null,0,{"$f":"IF(SUM($B$7:$B154)=0,\"\",IF(A154<>\"\",IF(A154<$B$3,\"N\",\"Y\"),\"\"))","v":""},0,18.5,0,null,1447,{"$f":"IF(AND(ISNUMBER(A154),NOT(ISNUMBER(A155))),IF((OFFSET(Q154,-Q154,0)>50),SUM(OFFSET(E154,-Q154+1,0):E154),SUM(OFFSET(E154,-Q154,0):E154)),IF(AND(ISNUMBER(P154),ISNUMBER(P155),P154  <P155),IF((OFFSET(Q154,-Q154,0)>50),SUM(OFFSET(E154,-Q154+1,0):E154),SUM(OFFSET(E154,-Q154,0):E154)),\"\"))","v":{"$error":"#NAME?"}},{"$f":"IF(ISNUMBER(L154),IF((OFFSET(Q154,-Q154,0)>50),SUM(OFFSET(G154,-Q154+1,0):G154),SUM(OFFSET(G154,-Q154,0):G154)),\"\")","v":""},null,null,{"$error":"#NAME?"},{"$error":"#NAME?"}]
["1990-08-01",null,null,null,0,{"$f":"IF(SUM($B$7:$B155)=0,\"\",IF(A155<>\"\",IF(A155<$B$3,\"N\",\"Y\"),\"\"))","v":""},0,18.5,0,null,1446,{"$f":"IF(AND(ISNUMBER(A155),NOT(ISNUMBER(A156))),IF((OFFSET(Q155,-Q155,0)>50),SUM(OFFSET(E155,-Q155+1,0):E155),SUM(OFFSET(E155,-Q155,0):E155)),IF(AND(ISNUMBER(P155),ISNUMBER(P156),P155  <P156),IF((OFFSET(Q155,-Q155,0)>50),SUM(OFFSET(E155,-Q155+1,0):E155),SUM(OFFSET(E155,-Q155,0):E155)),\"\"))","v":{"$error":"#NAME?"}},{"$f":"IF(ISNUMBER(L155),IF((OFFSET(Q155,-Q155,0)>50),SUM(OFFSET(G155,-Q155+1,0):G155),SUM(OFFSET(G155,-Q155,0):G155)),\"\")","v":""},null,null,{"$error":"#NAME?"},{"$error":"#NAME?"}]
["1990-08-08",null,null,null,0,{"$f":"IF(SUM($B$7:$B156)=0,\"\",IF(A156<>\"\",IF(A156<$B$3,\"N\",\"Y\"),\"\"))","v":""},0,18.5,0,null,1445,{"$f":"IF(AND(ISNUMBER(A156),NOT(ISNUMBER(A157))),IF((OFFSET(Q156,-Q156,0)>50),SUM(OFFSET(E156,-Q156+1,0):E156),SUM(OFFSET(E156,-Q156,0):E156)),IF(AND(ISNUMBER(P156),ISNUMBER(P157),P156  <P157),IF((OFFSET(Q156,-Q156,0)>50),SUM(OFFSET(E156,-Q156+1,0):E156),SUM(OFFSET(E156,-Q156,0):E156)),\"\"))","v":{"$error":"#NAME?"}},{"$f":"IF(ISNUMBER(L156),IF((OFFSET(Q156,-Q156,0)>50),SUM(OFFSET(G156,-Q156+1,0):G156),SUM(OFFSET(G156,-Q156,0):G156)),\"\")","v":""},null,null,{"$error":"#NAME?"},{"$error":"#NAME?"}]
["1990-08-15",null,null,null,0,{"$f":"IF(SUM($B$7:$B157)=0,\"\",IF(A157<>\"\",IF(A157<$B$3,\"N\",\"Y\"),\"\"))","v":""},0,18.5,0,null,1444,{"$f":"IF(AND(ISNUMBER(A157),NOT(ISNUMBER(A158))),IF((OFFSET(Q157,-Q157,0)>50),SUM(OFFSET(E157,-Q157+1,0):E157),SUM(OFFSET(E157,-Q157,0):E157)),IF(AND(ISNUMBER(P157),ISNUMBER(P158),P157  <P158),IF((OFFSET(Q157,-Q157,0)>50),SUM(OFFSET(E157,-Q157+1,0):E157),SUM(OFFSET(E157,-Q157,0):E157)),\"\"))","v":{"$error":"#NAME?"}},{"$f":"IF(ISNUMBER(L157),IF((OFFSET(Q157,-Q157,0)>50),SUM(OFFSET(G157,-Q157+1,0):G157),SUM(OFFSET(G157,-Q157,0):G157)),\"\")","v":""},null,null,{"$error":"#NAME?"},{"$error":"#NAME?"}]
["1990-08-22",null,null,null,0,{"$f":"IF(SUM($B$7:$B158)=0,\"\",IF(A158<>\"\",IF(A158<$B$3,\"N\",\"Y\"),\"\"))","v":""},0,18.5,0,null,1443,{"$f":"IF(AND(ISNUMBER(A158),NOT(ISNUMBER(A159))),IF((OFFSET(Q158,-Q158,0)>50),SUM(OFFSET(E158,-Q158+1,0):E158),SUM(OFFSET(E158,-Q158,0):E158)),IF(AND(ISNUMBER(P158),ISNUMBER(P159),P158  <P159),IF((OFFSET(Q158,-Q158,0)>50),SUM(OFFSET(E158,-Q158+1,0):E158),SUM(OFFSET(E158,-Q158,0):E158)),\"\"))","v":{"$error":"#NAME?"}},{"$f":"IF(ISNUMBER(L158),IF((OFFSET(Q158,-Q158,0)>50),SUM(OFFSET(G158,-Q158+1,0):G158),SUM(OFFSET(G158,-Q158,0):G158)),\"\")","v":""},null,null,{"$error":"#NAME?"},{"$error":"#NAME?"}]
["1990-08-29",null,null,null,0,{"$f":"IF(SUM($B$7:$B159)=0,\"\",IF(A159<>\"\",IF(A159<$B$3,\"N\",\"Y\"),\"\"))","v":""},0,18.5,0,null,1442,{"$f":"IF(AND(ISNUMBER(A159),NOT(ISNUMBER(A160))),IF((OFFSET(Q159,-Q159,0)>50),SUM(OFFSET(E159,-Q159+1,0):E159),SUM(OFFSET(E159,-Q159,0):E159)),IF(AND(ISNUMBER(P159),ISNUMBER(P160),P159  <P160),IF((OFFSET(Q159,-Q159,0)>50),SUM(OFFSET(E159,-Q159+1,0):E159),SUM(OFFSET(E159,-Q159,0):E159)),\"\"))","v":{"$error":"#NAME?"}},{"$f":"IF(ISNUMBER(L159),IF((OFFSET(Q159,-Q159,0)>50),SUM(OFFSET(G159,-Q159+1,0):G159),SUM(OFFSET(G159,-Q159,0):G159)),\"\")","v":""},null,null,{"$error":"#NAME?"},{"$error":"#NAME?"}]
["1990-09-05",null,null,null,0,{"$f":"IF(SUM($B$7:$B160)=0,\"\",IF(A160<>\"\",IF(A160<$B$3,\"N\",\"Y\"),\"\"))","v":""},0,18.5,0,null,1441,{"$f":"IF(AND(ISNUMBER(A160),NOT(ISNUMBER(A161))),IF((OFFSET(Q160,-Q160,0)>50),SUM(OFFSET(E160,-Q160+1,0):E160),SUM(OFFSET(E160,-Q160,0):E160)),IF(AND(ISNUMBER(P160),ISNUMBER(P161),P160  <P161),IF((OFFSET(Q160,-Q160,0)>50),SUM(OFFSET(E160,-Q160+1,0):E160),SUM(OFFSET(E160,-Q160,0):E160)),\"\"))","v":{"$error":"#NAME?"}},{"$f":"IF(ISNUMBER(L160),IF((OFFSET(Q160,-Q160,0)>50),SUM(OFFSET(G160,-Q160+1,0):G160),SUM(OFFSET(G160,-Q160,0):G160)),\"\")","v":""},null,null,{"$error":"#NAME?"},{"$error":"#NAME?"}]
["1990-09-12",null,null,null,0,{"$f":"IF(SUM($B$7:$B161)=0,\"\",IF(A161<>\"\",IF(A161<$B$3,\"N\",\"Y\"),\"\"))","v":""},0,18.5,0,null,1440,{"$f":"IF(AND(ISNUMBER(A161),NOT(ISNUMBER(A162))),IF((OFFSET(Q161,-Q161,0)>50),SUM(OFFSET(E161,-Q161+1,0):E161),SUM(OFFSET(E161,-Q161,0):E161)),IF(AND(ISNUMBER(P161),ISNUMBER(P162),P161  <P162),IF((OFFSET(Q161,-Q161,0)>50),SUM(OFFSET(E161,-Q161+1,0):E161),SUM(OFFSET(E161,-Q161,0):E161)),\"\"))","v":{"$error":"#NAME?"}},{"$f":"IF(ISNUMBER(L161),IF((OFFSET(Q161,-Q161,0)>50),SUM(OFFSET(G161,-Q161+1,0):G161),SUM(OFFSET(G161,-Q161,0):G161)),\"\")","v":""},null,null,{"$error":"#NAME?"},{"$error":"#NAME?"}]
["1990-09-19",null,null,null,0,{"$f":"IF(SUM($B$7:$B162)=0,\"\",IF(A162<>\"\",IF(A162<$B$3,\"N\",\"Y\"),\"\"))","v":""},0,18.5,0,null,1439,{"$f":"IF(AND(ISNUMBER(A162),NOT(ISNUMBER(A163))),IF((OFFSET(Q162,-Q162,0)>50),SUM(OFFSET(E162,-Q162+1,0):E162),SUM(OFFSET(E162,-Q162,0):E162)),IF(AND(ISNUMBER(P162),ISNUMBER(P163),P162  <P163),IF((OFFSET(Q162,-Q162,0)>50),SUM(OFFSET(E162,-Q162+1,0):E162),SUM(OFFSET(E162,-Q162,0):E162)),\"\"))","v":{"$error":"#NAME?"}},{"$f":"IF(ISNUMBER(L162),IF((OFFSET(Q162,-Q162,0)>50),SUM(OFFSET(G162,-Q162+1,0):G162),SUM(OFFSET(G162,-Q162,0):G162)),\"\")","v":""},null,null,{"$error":"#NAME?"},{"$error":"#NAME?"}]
["1990-09-26",null,null,null,0,{"$f":"IF(SUM($B$7:$B163)=0,\"\",IF(A163<>\"\",IF(A163<$B$3,\"N\",\"Y\"),\"\"))","v":""},0,18.5,0,null,1438,{"$f":"IF(AND(ISNUMBER(A163),NOT(ISNUMBER(A164))),IF((OFFSET(Q163,-Q163,0)>50),SUM(OFFSET(E163,-Q163+1,0):E163),SUM(OFFSET(E163,-Q163,0):E163)),IF(AND(ISNUMBER(P163),ISNUMBER(P164),P163  <P164),IF((OFFSET(Q163,-Q163,0)>50),SUM(OFFSET(E163,-Q163+1,0):E163),SUM(OFFSET(E163,-Q163,0):E163)),\"\"))","v":{"$error":"#NAME?"}},{"$f":"IF(ISNUMBER(L163),IF((OFFSET(Q163,-Q163,0)>50),SUM(OFFSET(G163,-Q163+1,0):G163),SUM(OFFSET(G163,-Q163,0):G163)),\"\")","v":""},null,null,{"$error":"#NAME?"},{"$error":"#NAME?"}]
["1990-10-03",null,null,null,0,{"$f":"IF(SUM($B$7:$B164)=0,\"\",IF(A164<>\"\",IF(A164<$B$3,\"N\",\"Y\"),\"\"))","v":""},0,18.5,0,null,1437,{"$f":"IF(AND(ISNUMBER(A164),NOT(ISNUMBER(A165))),IF((OFFSET(Q164,-Q164,0)>50),SUM(OFFSET(E164,-Q164+1,0):E164),SUM(OFFSET(E164,-Q164,0):E164)),IF(AND(ISNUMBER(P164),ISNUMBER(P165),P164  <P165),IF((OFFSET(Q164,-Q164,0)>50),SUM(OFFSET(E164,-Q164+1,0):E164),SUM(OFFSET(E164,-Q164,0):E164)),\"\"))","v":{"$error":"#NAME?"}},{"$f":"IF(ISNUMBER(L164),IF((OFFSET(Q164,-Q164,0)>50),SUM(OFFSET(G164,-Q164+1,0):G164),SUM(OFFSET(G164,-Q164,0):G164)),\"\")","v":""},null,null,{"$error":"#NAME?"},{"$error":"#NAME?"}]
["1990-10-10",null,null,null,0,{"$f":"IF(SUM($B$7:$B165)=0,\"\",IF(A165<>\"\",IF(A165<$B$3,\"N\",\"Y\"),\"\"))","v":""},0,18.5,0,null,1436,{"$f":"IF(AND(ISNUMBER(A165),NOT(ISNUMBER(A166))),IF((OFFSET(Q165,-Q165,0)>50),SUM(OFFSET(E165,-Q165+1,0):E165),SUM(OFFSET(E165,-Q165,0):E165)),IF(AND(ISNUMBER(P165),ISNUMBER(P166),P165  <P166),IF((OFFSET(Q165,-Q165,0)>50),SUM(OFFSET(E165,-Q165+1,0):E165),SUM(OFFSET(E165,-Q165,0):E165)),\"\"))","v":{"$error":"#NAME?"}},{"$f":"IF(ISNUMBER(L165),IF((OFFSET(Q165,-Q165,0)>50),SUM(OFFSET(G165,-Q165+1,0):G165),SUM(OFFSET(G165,-Q165,0):G165)),\"\")","v":""},null,null,{"$error":"#NAME?"},{"$error":"#NAME?"}]
["1990-10-17",null,null,null,0,{"$f":"IF(SUM($B$7:$B166)=0,\"\",IF(A166<>\"\",IF(A166<$B$3,\"N\",\"Y\"),\"\"))","v":""},0,18.5,0,null,1435,{"$f":"IF(AND(ISNUMBER(A166),NOT(ISNUMBER(A167))),IF((OFFSET(Q166,-Q166,0)>50),SUM(OFFSET(E166,-Q166+1,0):E166),SUM(OFFSET(E166,-Q166,0):E166)),IF(AND(ISNUMBER(P166),ISNUMBER(P167),P166  <P167),IF((OFFSET(Q166,-Q166,0)>50),SUM(OFFSET(E166,-Q166+1,0):E166),SUM(OFFSET(E166,-Q166,0):E166)),\"\"))","v":{"$error":"#NAME?"}},{"$f":"IF(ISNUMBER(L166),IF((OFFSET(Q166,-Q166,0)>50),SUM(OFFSET(G166,-Q166+1,0):G166),SUM(OFFSET(G166,-Q166,0):G166)),\"\")","v":""},null,null,{"$error":"#NAME?"},{"$error":"#NAME?"}]
["1990-10-24",null,null,null,0,{"$f":"IF(SUM($B$7:$B167)=0,\"\",IF(A167<>\"\",IF(A167<$B$3,\"N\",\"Y\"),\"\"))","v":""},0,18.5,0,null,1434,{"$f":"IF(AND(ISNUMBER(A167),NOT(ISNUMBER(A168))),IF((OFFSET(Q167,-Q167,0)>50),SUM(OFFSET(E167,-Q167+1,0):E167),SUM(OFFSET(E167,-Q167,0):E167)),IF(AND(ISNUMBER(P167),ISNUMBER(P168),P167  <P168),IF((OFFSET(Q167,-Q167,0)>50),SUM(OFFSET(E167,-Q167+1,0):E167),SUM(OFFSET(E167,-Q167,0):E167)),\"\"))","v":{"$error":"#NAME?"}},{"$f":"IF(ISNUMBER(L167),IF((OFFSET(Q167,-Q167,0)>50),SUM(OFFSET(G167,-Q167+1,0):G167),SUM(OFFSET(G167,-Q167,0):G167)),\"\")","v":""},null,null,{"$error":"#NAME?"},{"$error":"#NAME?"}]
["1990-10-31",null,null,null,0,{"$f":"IF(SUM($B$7:$B168)=0,\"\",IF(A168<>\"\",IF(A168<$B$3,\"N\",\"Y\"),\"\"))","v":""},0,18.5,0,null,1433,{"$f":"IF(AND(ISNUMBER(A168),NOT(ISNUMBER(A169))),IF((OFFSET(Q168,-Q168,0)>50),SUM(OFFSET(E168,-Q168+1,0):E168),SUM(OFFSET(E168,-Q168,0):E168)),IF(AND(ISNUMBER(P168),ISNUMBER(P169),P168  <P169),IF((OFFSET(Q168,-Q168,0)>50),SUM(OFFSET(E168,-Q168+1,0):E168),SUM(OFFSET(E168,-Q168,0):E168)),\"\"))","v":{"$error":"#NAME?"}},{"$f":"IF(ISNUMBER(L168),IF((OFFSET(Q168,-Q168,0)>50),SUM(OFFSET(G168,-Q168+1,0):G168),SUM(OFFSET(G168,-Q168,0):G168)),\"\")","v":""},null,null,{"$error":"#NAME?"},{"$error":"#NAME?"}]
["1990-11-07",null,null,null,0,{"$f":"IF(SUM($B$7:$B169)=0,\"\",IF(A169<>\"\",IF(A169<$B$3,\"N\",\"Y\"),\"\"))","v":""},0,18.5,0,null,1432,{"$f":"IF(AND(ISNUMBER(A169),NOT(ISNUMBER(A170))),IF((OFFSET(Q169,-Q169,0)>50),SUM(OFFSET(E169,-Q169+1,0):E169),SUM(OFFSET(E169,-Q169,0):E169)),IF(AND(ISNUMBER(P169),ISNUMBER(P170),P169  <P170),IF((OFFSET(Q169,-Q169,0)>50),SUM(OFFSET(E169,-Q169+1,0):E169),SUM(OFFSET(E169,-Q169,0):E169)),\"\"))","v":{"$error":"#NAME?"}},{"$f":"IF(ISNUMBER(L169),IF((OFFSET(Q169,-Q169,0)>50),SUM(OFFSET(G169,-Q169+1,0):G169),SUM(OFFSET(G169,-Q169,0):G169)),\"\")","v":""},null,null,{"$error":"#NAME?"},{"$error":"#NAME?"}]
["1990-11-14",null,null,null,0,{"$f":"IF(SUM($B$7:$B170)=0,\"\",IF(A170<>\"\",IF(A170<$B$3,\"N\",\"Y\"),\"\"))","v":""},0,18.5,0,null,1431,{"$f":"IF(AND(ISNUMBER(A170),NOT(ISNUMBER(A171))),IF((OFFSET(Q170,-Q170,0)>50),SUM(OFFSET(E170,-Q170+1,0):E170),SUM(OFFSET(E170,-Q170,0):E170)),IF(AND(ISNUMBER(P170),ISNUMBER(P171),P170  <P171),IF((OFFSET(Q170,-Q170,0)>50),SUM(OFFSET(E170,-Q170+1,0):E170),SUM(OFFSET(E170,-Q170,0):E170)),\"\"))","v":{"$error":"#NAME?"}},{"$f":"IF(ISNUMBER(L170),IF((OFFSET(Q170,-Q170,0)>50),SUM(OFFSET(G170,-Q170+1,0):G170),SUM(OFFSET(G170,-Q170,0):G170)),\"\")","v":""},null,null,{"$error":"#NAME?"},{"$error":"#NAME?"}]
["1990-11-21",null,null,null,0,{"$f":"IF(SUM($B$7:$B171)=0,\"\",IF(A171<>\"\",IF(A171<$B$3,\"N\",\"Y\"),\"\"))","v":""},0,18.5,0,null,1430,{"$f":"IF(AND(ISNUMBER(A171),NOT(ISNUMBER(A172))),IF((OFFSET(Q171,-Q171,0)>50),SUM(OFFSET(E171,-Q171+1,0):E171),SUM(OFFSET(E171,-Q171,0):E171)),IF(AND(ISNUMBER(P171),ISNUMBER(P172),P171  <P172),IF((OFFSET(Q171,-Q171,0)>50),SUM(OFFSET(E171,-Q171+1,0):E171),SUM(OFFSET(E171,-Q171,0):E171)),\"\"))","v":{"$error":"#NAME?"}},{"$f":"IF(ISNUMBER(L171),IF((OFFSET(Q171,-Q171,0)>50),SUM(OFFSET(G171,-Q171+1,0):G171),SUM(OFFSET(G171,-Q171,0):G171)),\"\")","v":""},null,null,{"$error":"#NAME?"},{"$error":"#NAME?"}]
["1990-11-28",null,null,null,0,{"$f":"IF(SUM($B$7:$B172)=0,\"\",IF(A172<>\"\",IF(A172<$B$3,\"N\",\"Y\"),\"\"))","v":""},0,18.5,0,null,1429,{"$f":"IF(AND(ISNUMBER(A172),NOT(ISNUMBER(A173))),IF((OFFSET(Q172,-Q172,0)>50),SUM(OFFSET(E172,-Q172+1,0):E172),SUM(OFFSET(E172,-Q172,0):E172)),IF(AND(ISNUMBER(P172),ISNUMBER(P173),P172  <P173),IF((OFFSET(Q172,-Q172,0)>50),SUM(OFFSET(E172,-Q172+1,0):E172),SUM(OFFSET(E172,-Q172,0):E172)),\"\"))","v":{"$error":"#NAME?"}},{"$f":"IF(ISNUMBER(L172),IF((OFFSET(Q172,-Q172,0)>50),SUM(OFFSET(G172,-Q172+1,0):G172),SUM(OFFSET(G172,-Q172,0):G172)),\"\")","v":""},null,null,{"$error":"#NAME?"},{"$error":"#NAME?"}]
["1990-12-05",null,null,null,0,{"$f":"IF(SUM($B$7:$B173)=0,\"\",IF(A173<>\"\",IF(A173<$B$3,\"N\",\"Y\"),\"\"))","v":""},0,18.5,0,null,1428,{"$f":"IF(AND(ISNUMBER(A173),NOT(ISNUMBER(A174))),IF((OFFSET(Q173,-Q173,0)>50),SUM(OFFSET(E173,-Q173+1,0):E173),SUM(OFFSET(E173,-Q173,0):E173)),IF(AND(ISNUMBER(P173),ISNUMBER(P174),P173  <P174),IF((OFFSET(Q173,-Q173,0)>50),SUM(OFFSET(E173,-Q173+1,0):E173),SUM(OFFSET(E173,-Q173,0):E173)),\"\"))","v":{"$error":"#NAME?"}},{"$f":"IF(ISNUMBER(L173),IF((OFFSET(Q173,-Q173,0)>50),SUM(OFFSET(G173,-Q173+1,0):G173),SUM(OFFSET(G173,-Q173,0):G173)),\"\")","v":""},null,null,{"$error":"#NAME?"},{"$error":"#NAME?"}]
["1990-12-12",null,null,null,0,{"$f":"IF(SUM($B$7:$B174)=0,\"\",IF(A174<>\"\",IF(A174<$B$3,\"N\",\"Y\"),\"\"))","v":""},0,18.5,0,null,1427,{"$f":"IF(AND(ISNUMBER(A174),NOT(ISNUMBER(A175))),IF((OFFSET(Q174,-Q174,0)>50),SUM(OFFSET(E174,-Q174+1,0):E174),SUM(OFFSET(E174,-Q174,0):E174)),IF(AND(ISNUMBER(P174),ISNUMBER(P175),P174  <P175),IF((OFFSET(Q174,-Q174,0)>50),SUM(OFFSET(E174,-Q174+1,0):E174),SUM(OFFSET(E174,-Q174,0):E174)),\"\"))","v":{"$error":"#NAME?"}},{"$f":"IF(ISNUMBER(L174),IF((OFFSET(Q174,-Q174,0)>50),SUM(OFFSET(G174,-Q174+1,0):G174),SUM(OFFSET(G174,-Q174,0):G174)),\"\")","v":""},null,null,{"$error":"#NAME?"},{"$error":"#NAME?"}]
["1990-12-19",null,null,null,0,{"$f":"IF(SUM($B$7:$B175)=0,\"\",IF(A175<>\"\",IF(A175<$B$3,\"N\",\"Y\"),\"\"))","v":""},0,18.5,0,null,1426,{"$f":"IF(AND(ISNUMBER(A175),NOT(ISNUMBER(A176))),IF((OFFSET(Q175,-Q175,0)>50),SUM(OFFSET(E175,-Q175+1,0):E175),SUM(OFFSET(E175,-Q175,0):E175)),IF(AND(ISNUMBER(P175),ISNUMBER(P176),P175  <P176),IF((OFFSET(Q175,-Q175,0)>50),SUM(OFFSET(E175,-Q175+1,0):E175),SUM(OFFSET(E175,-Q175,0):E175)),\"\"))","v":{"$error":"#NAME?"}},{"$f":"IF(ISNUMBER(L175),IF((OFFSET(Q175,-Q175,0)>50),SUM(OFFSET(G175,-Q175+1,0):G175),SUM(OFFSET(G175,-Q175,0):G175)),\"\")","v":""},null,null,{"$error":"#NAME?"},{"$error":"#NAME?"}]
["1990-12-26",null,null,null,0,{"$f":"IF(SUM($B$7:$B176)=0,\"\",IF(A176<>\"\",IF(A176<$B$3,\"N\",\"Y\"),\"\"))","v":""},0,18.5,0,null,1425,{"$f":"IF(AND(ISNUMBER(A176),NOT(ISNUMBER(A177))),IF((OFFSET(Q176,-Q176,0)>50),SUM(OFFSET(E176,-Q176+1,0):E176),SUM(OFFSET(E176,-Q176,0):E176)),IF(AND(ISNUMBER(P176),ISNUMBER(P177),P176  <P177),IF((OFFSET(Q176,-Q176,0)>50),SUM(OFFSET(E176,-Q176+1,0):E176),SUM(OFFSET(E176,-Q176,0):E176)),\"\"))","v":{"$error":"#NAME?"}},{"$f":"IF(ISNUMBER(L176),IF((OFFSET(Q176,-Q176,0)>50),SUM(OFFSET(G176,-Q176+1,0):G176),SUM(OFFSET(G176,-Q176,0):G176)),\"\")","v":""},null,null,{"$error":"#NAME?"},{"$error":"#NAME?"}]
["1991-01-02",null,null,null,0,{"$f":"IF(SUM($B$7:$B177)=0,\"\",IF(A177<>\"\",IF(A177<$B$3,\"N\",\"Y\"),\"\"))","v":""},0,18.5,0,null,1424,{"$f":"IF(AND(ISNUMBER(A177),NOT(ISNUMBER(A178))),IF((OFFSET(Q177,-Q177,0)>50),SUM(OFFSET(E177,-Q177+1,0):E177),SUM(OFFSET(E177,-Q177,0):E177)),IF(AND(ISNUMBER(P177),ISNUMBER(P178),P177  <P178),IF((OFFSET(Q177,-Q177,0)>50),SUM(OFFSET(E177,-Q177+1,0):E177),SUM(OFFSET(E177,-Q177,0):E177)),\"\"))","v":{"$error":"#NAME?"}},{"$f":"IF(ISNUMBER(L177),IF((OFFSET(Q177,-Q177,0)>50),SUM(OFFSET(G177,-Q177+1,0):G177),SUM(OFFSET(G177,-Q177,0):G177)),\"\")","v":""},null,null,{"$error":"#NAME?"},{"$error":"#NAME?"}]
["1991-01-09",null,null,null,0,{"$f":"IF(SUM($B$7:$B178)=0,\"\",IF(A178<>\"\",IF(A178<$B$3,\"N\",\"Y\"),\"\"))","v":""},0,18.5,0,null,1423,{"$f":"IF(AND(ISNUMBER(A178),NOT(ISNUMBER(A179))),IF((OFFSET(Q178,-Q178,0)>50),SUM(OFFSET(E178,-Q178+1,0):E178),SUM(OFFSET(E178,-Q178,0):E178)),IF(AND(ISNUMBER(P178),ISNUMBER(P179),P178  <P179),IF((OFFSET(Q178,-Q178,0)>50),SUM(OFFSET(E178,-Q178+1,0):E178),SUM(OFFSET(E178,-Q178,0):E178)),\"\"))","v":{"$error":"#NAME?"}},{"$f":"IF(ISNUMBER(L178),IF((OFFSET(Q178,-Q178,0)>50),SUM(OFFSET(G178,-Q178+1,0):G178),SUM(OFFSET(G178,-Q178,0):G178)),\"\")","v":""},null,null,{"$error":"#NAME?"},{"$error":"#NAME?"}]
["1991-01-16",null,null,null,0,{"$f":"IF(SUM($B$7:$B179)=0,\"\",IF(A179<>\"\",IF(A179<$B$3,\"N\",\"Y\"),\"\"))","v":""},0,18.5,0,null,1422,{"$f":"IF(AND(ISNUMBER(A179),NOT(ISNUMBER(A180))),IF((OFFSET(Q179,-Q179,0)>50),SUM(OFFSET(E179,-Q179+1,0):E179),SUM(OFFSET(E179,-Q179,0):E179)),IF(AND(ISNUMBER(P179),ISNUMBER(P180),P179  <P180),IF((OFFSET(Q179,-Q179,0)>50),SUM(OFFSET(E179,-Q179+1,0):E179),SUM(OFFSET(E179,-Q179,0):E179)),\"\"))","v":{"$error":"#NAME?"}},{"$f":"IF(ISNUMBER(L179),IF((OFFSET(Q179,-Q179,0)>50),SUM(OFFSET(G179,-Q179+1,0):G179),SUM(OFFSET(G179,-Q179,0):G179)),\"\")","v":""},null,null,{"$error":"#NAME?"},{"$error":"#NAME?"}]
["1991-01-23",null,null,null,0,{"$f":"IF(SUM($B$7:$B180)=0,\"\",IF(A180<>\"\",IF(A180<$B$3,\"N\",\"Y\"),\"\"))","v":""},0,18.5,0,null,1421,{"$f":"IF(AND(ISNUMBER(A180),NOT(ISNUMBER(A181))),IF((OFFSET(Q180,-Q180,0)>50),SUM(OFFSET(E180,-Q180+1,0):E180),SUM(OFFSET(E180,-Q180,0):E180)),IF(AND(ISNUMBER(P180),ISNUMBER(P181),P180  <P181),IF((OFFSET(Q180,-Q180,0)>50),SUM(OFFSET(E180,-Q180+1,0):E180),SUM(OFFSET(E180,-Q180,0):E180)),\"\"))","v":{"$error":"#NAME?"}},{"$f":"IF(ISNUMBER(L180),IF((OFFSET(Q180,-Q180,0)>50),SUM(OFFSET(G180,-Q180+1,0):G180),SUM(OFFSET(G180,-Q180,0):G180)),\"\")","v":""},null,null,{"$error":"#NAME?"},{"$error":"#NAME?"}]
["1991-01-30",null,null,null,0,{"$f":"IF(SUM($B$7:$B181)=0,\"\",IF(A181<>\"\",IF(A181<$B$3,\"N\",\"Y\"),\"\"))","v":""},0,18.5,0,null,1420,{"$f":"IF(AND(ISNUMBER(A181),NOT(ISNUMBER(A182))),IF((OFFSET(Q181,-Q181,0)>50),SUM(OFFSET(E181,-Q181+1,0):E181),SUM(OFFSET(E181,-Q181,0):E181)),IF(AND(ISNUMBER(P181),ISNUMBER(P182),P181  <P182),IF((OFFSET(Q181,-Q181,0)>50),SUM(OFFSET(E181,-Q181+1,0):E181),SUM(OFFSET(E181,-Q181,0):E181)),\"\"))","v":{"$error":"#NAME?"}},{"$f":"IF(ISNUMBER(L181),IF((OFFSET(Q181,-Q181,0)>50),SUM(OFFSET(G181,-Q181+1,0):G181),SUM(OFFSET(G181,-Q181,0):G181)),\"\")","v":""},null,null,{"$error":"#NAME?"},{"$error":"#NAME?"}]
["1991-02-06",null,null,null,0,{"$f":"IF(SUM($B$7:$B182)=0,\"\",IF(A182<>\"\",IF(A182<$B$3,\"N\",\"Y\"),\"\"))","v":""},0,18.5,0,null,1419,{"$f":"IF(AND(ISNUMBER(A182),NOT(ISNUMBER(A183))),IF((OFFSET(Q182,-Q182,0)>50),SUM(OFFSET(E182,-Q182+1,0):E182),SUM(OFFSET(E182,-Q182,0):E182)),IF(AND(ISNUMBER(P182),ISNUMBER(P183),P182  <P183),IF((OFFSET(Q182,-Q182,0)>50),SUM(OFFSET(E182,-Q182+1,0):E182),SUM(OFFSET(E182,-Q182,0):E182)),\"\"))","v":{"$error":"#NAME?"}},{"$f":"IF(ISNUMBER(L182),IF((OFFSET(Q182,-Q182,0)>50),SUM(OFFSET(G182,-Q182+1,0):G182),SUM(OFFSET(G182,-Q182,0):G182)),\"\")","v":""},null,null,{"$error":"#NAME?"},{"$error":"#NAME?"}]
["1991-02-13",null,null,null,0,{"$f":"IF(SUM($B$7:$B183)=0,\"\",IF(A183<>\"\",IF(A183<$B$3,\"N\",\"Y\"),\"\"))","v":""},0,18.5,0,null,1418,{"$f":"IF(AND(ISNUMBER(A183),NOT(ISNUMBER(A184))),IF((OFFSET(Q183,-Q183,0)>50),SUM(OFFSET(E183,-Q183+1,0):E183),SUM(OFFSET(E183,-Q183,0):E183)),IF(AND(ISNUMBER(P183),ISNUMBER(P184),P183  <P184),IF((OFFSET(Q183,-Q183,0)>50),SUM(OFFSET(E183,-Q183+1,0):E183),SUM(OFFSET(E183,-Q183,0):E183)),\"\"))","v":{"$error":"#NAME?"}},{"$f":"IF(ISNUMBER(L183),IF((OFFSET(Q183,-Q183,0)>50),SUM(OFFSET(G183,-Q183+1,0):G183),SUM(OFFSET(G183,-Q183,0):G183)),\"\")","v":""},null,null,{"$error":"#NAME?"},{"$error":"#NAME?"}]
["1991-02-20",null,null,null,0,{"$f":"IF(SUM($B$7:$B184)=0,\"\",IF(A184<>\"\",IF(A184<$B$3,\"N\",\"Y\"),\"\"))","v":""},0,18.5,0,null,1417,{"$f":"IF(AND(ISNUMBER(A184),NOT(ISNUMBER(A185))),IF((OFFSET(Q184,-Q184,0)>50),SUM(OFFSET(E184,-Q184+1,0):E184),SUM(OFFSET(E184,-Q184,0):E184)),IF(AND(ISNUMBER(P184),ISNUMBER(P185),P184  <P185),IF((OFFSET(Q184,-Q184,0)>50),SUM(OFFSET(E184,-Q184+1,0):E184),SUM(OFFSET(E184,-Q184,0):E184)),\"\"))","v":{"$error":"#NAME?"}},{"$f":"IF(ISNUMBER(L184),IF((OFFSET(Q184,-Q184,0)>50),SUM(OFFSET(G184,-Q184+1,0):G184),SUM(OFFSET(G184,-Q184,0):G184)),\"\")","v":""},null,null,{"$error":"#NAME?"},{"$error":"#NAME?"}]
["1991-02-27",null,null,null,0,{"$f":"IF(SUM($B$7:$B185)=0,\"\",IF(A185<>\"\",IF(A185<$B$3,\"N\",\"Y\"),\"\"))","v":""},0,18.5,0,null,1416,{"$f":"IF(AND(ISNUMBER(A185),NOT(ISNUMBER(A186))),IF((OFFSET(Q185,-Q185,0)>50),SUM(OFFSET(E185,-Q185+1,0):E185),SUM(OFFSET(E185,-Q185,0):E185)),IF(AND(ISNUMBER(P185),ISNUMBER(P186),P185  <P186),IF((OFFSET(Q185,-Q185,0)>50),SUM(OFFSET(E185,-Q185+1,0):E185),SUM(OFFSET(E185,-Q185,0):E185)),\"\"))","v":{"$error":"#NAME?"}},{"$f":"IF(ISNUMBER(L185),IF((OFFSET(Q185,-Q185,0)>50),SUM(OFFSET(G185,-Q185+1,0):G185),SUM(OFFSET(G185,-Q185,0):G185)),\"\")","v":""},null,null,{"$error":"#NAME?"},{"$error":"#NAME?"}]
["1991-03-06",null,null,null,0,{"$f":"IF(SUM($B$7:$B186)=0,\"\",IF(A186<>\"\",IF(A186<$B$3,\"N\",\"Y\"),\"\"))","v":""},0,18.5,0,null,1415,{"$f":"IF(AND(ISNUMBER(A186),NOT(ISNUMBER(A187))),IF((OFFSET(Q186,-Q186,0)>50),SUM(OFFSET(E186,-Q186+1,0):E186),SUM(OFFSET(E186,-Q186,0):E186)),IF(AND(ISNUMBER(P186),ISNUMBER(P187),P186  <P187),IF((OFFSET(Q186,-Q186,0)>50),SUM(OFFSET(E186,-Q186+1,0):E186),SUM(OFFSET(E186,-Q186,0):E186)),\"\"))","v":{"$error":"#NAME?"}},{"$f":"IF(ISNUMBER(L186),IF((OFFSET(Q186,-Q186,0)>50),SUM(OFFSET(G186,-Q186+1,0):G186),SUM(OFFSET(G186,-Q186,0):G186)),\"\")","v":""},null,null,{"$error":"#NAME?"},{"$error":"#NAME?"}]
["1991-03-13",null,null,null,0,{"$f":"IF(SUM($B$7:$B187)=0,\"\",IF(A187<>\"\",IF(A187<$B$3,\"N\",\"Y\"),\"\"))","v":""},0,18.5,0,null,1414,{"$f":"IF(AND(ISNUMBER(A187),NOT(ISNUMBER(A188))),IF((OFFSET(Q187,-Q187,0)>50),SUM(OFFSET(E187,-Q187+1,0):E187),SUM(OFFSET(E187,-Q187,0):E187)),IF(AND(ISNUMBER(P187),ISNUMBER(P188),P187  <P188),IF((OFFSET(Q187,-Q187,0)>50),SUM(OFFSET(E187,-Q187+1,0):E187),SUM(OFFSET(E187,-Q187,0):E187)),\"\"))","v":{"$error":"#NAME?"}},{"$f":"IF(ISNUMBER(L187),IF((OFFSET(Q187,-Q187,0)>50),SUM(OFFSET(G187,-Q187+1,0):G187),SUM(OFFSET(G187,-Q187,0):G187)),\"\")","v":""},null,null,{"$error":"#NAME?"},{"$error":"#NAME?"}]
["1991-03-20",null,null,null,0,{"$f":"IF(SUM($B$7:$B188)=0,\"\",IF(A188<>\"\",IF(A188<$B$3,\"N\",\"Y\"),\"\"))","v":""},0,18.5,0,null,1413,{"$f":"IF(AND(ISNUMBER(A188),NOT(ISNUMBER(A189))),IF((OFFSET(Q188,-Q188,0)>50),SUM(OFFSET(E188,-Q188+1,0):E188),SUM(OFFSET(E188,-Q188,0):E188)),IF(AND(ISNUMBER(P188),ISNUMBER(P189),P188  <P189),IF((OFFSET(Q188,-Q188,0)>50),SUM(OFFSET(E188,-Q188+1,0):E188),SUM(OFFSET(E188,-Q188,0):E188)),\"\"))","v":{"$error":"#NAME?"}},{"$f":"IF(ISNUMBER(L188),IF((OFFSET(Q188,-Q188,0)>50),SUM(OFFSET(G188,-Q188+1,0):G188),SUM(OFFSET(G188,-Q188,0):G188)),\"\")","v":""},null,null,{"$error":"#NAME?"},{"$error":"#NAME?"}]
["1991-03-27",null,null,null,0,{"$f":"IF(SUM($B$7:$B189)=0,\"\",IF(A189<>\"\",IF(A189<$B$3,\"N\",\"Y\"),\"\"))","v":""},0,18.5,0,null,1412,{"$f":"IF(AND(ISNUMBER(A189),NOT(ISNUMBER(A190))),IF((OFFSET(Q189,-Q189,0)>50),SUM(OFFSET(E189,-Q189+1,0):E189),SUM(OFFSET(E189,-Q189,0):E189)),IF(AND(ISNUMBER(P189),ISNUMBER(P190),P189  <P190),IF((OFFSET(Q189,-Q189,0)>50),SUM(OFFSET(E189,-Q189+1,0):E189),SUM(OFFSET(E189,-Q189,0):E189)),\"\"))","v":{"$error":"#NAME?"}},{"$f":"IF(ISNUMBER(L189),IF((OFFSET(Q189,-Q189,0)>50),SUM(OFFSET(G189,-Q189+1,0):G189),SUM(OFFSET(G189,-Q189,0):G189)),\"\")","v":""},null,null,{"$error":"#NAME?"},{"$error":"#NAME?"}]
["1991-04-03",null,null,null,0,{"$f":"IF(SUM($B$7:$B190)=0,\"\",IF(A190<>\"\",IF(A190<$B$3,\"N\",\"Y\"),\"\"))","v":""},0,18.5,0,null,1411,{"$f":"IF(AND(ISNUMBER(A190),NOT(ISNUMBER(A191))),IF((OFFSET(Q190,-Q190,0)>50),SUM(OFFSET(E190,-Q190+1,0):E190),SUM(OFFSET(E190,-Q190,0):E190)),IF(AND(ISNUMBER(P190),ISNUMBER(P191),P190  <P191),IF((OFFSET(Q190,-Q190,0)>50),SUM(OFFSET(E190,-Q190+1,0):E190),SUM(OFFSET(E190,-Q190,0):E190)),\"\"))","v":{"$error":"#NAME?"}},{"$f":"IF(ISNUMBER(L190),IF((OFFSET(Q190,-Q190,0)>50),SUM(OFFSET(G190,-Q190+1,0):G190),SUM(OFFSET(G190,-Q190,0):G190)),\"\")","v":""},null,null,{"$error":"#NAME?"},{"$error":"#NAME?"}]
["1991-04-10",null,null,null,0,{"$f":"IF(SUM($B$7:$B191)=0,\"\",IF(A191<>\"\",IF(A191<$B$3,\"N\",\"Y\"),\"\"))","v":""},0,18.5,0,null,1410,{"$f":"IF(AND(ISNUMBER(A191),NOT(ISNUMBER(A192))),IF((OFFSET(Q191,-Q191,0)>50),SUM(OFFSET(E191,-Q191+1,0):E191),SUM(OFFSET(E191,-Q191,0):E191)),IF(AND(ISNUMBER(P191),ISNUMBER(P192),P191  <P192),IF((OFFSET(Q191,-Q191,0)>50),SUM(OFFSET(E191,-Q191+1,0):E191),SUM(OFFSET(E191,-Q191,0):E191)),\"\"))","v":{"$error":"#NAME?"}},{"$f":"IF(ISNUMBER(L191),IF((OFFSET(Q191,-Q191,0)>50),SUM(OFFSET(G191,-Q191+1,0):G191),SUM(OFFSET(G191,-Q191,0):G191)),\"\")","v":""},null,null,{"$error":"#NAME?"},{"$error":"#NAME?"}]
["1991-04-17",null,null,null,0,{"$f":"IF(SUM($B$7:$B192)=0,\"\",IF(A192<>\"\",IF(A192<$B$3,\"N\",\"Y\"),\"\"))","v":""},0,18.5,0,null,1409,{"$f":"IF(AND(ISNUMBER(A192),NOT(ISNUMBER(A193))),IF((OFFSET(Q192,-Q192,0)>50),SUM(OFFSET(E192,-Q192+1,0):E192),SUM(OFFSET(E192,-Q192,0):E192)),IF(AND(ISNUMBER(P192),ISNUMBER(P193),P192  <P193),IF((OFFSET(Q192,-Q192,0)>50),SUM(OFFSET(E192,-Q192+1,0):E192),SUM(OFFSET(E192,-Q192,0):E192)),\"\"))","v":{"$error":"#NAME?"}},{"$f":"IF(ISNUMBER(L192),IF((OFFSET(Q192,-Q192,0)>50),SUM(OFFSET(G192,-Q192+1,0):G192),SUM(OFFSET(G192,-Q192,0):G192)),\"\")","v":""},null,null,{"$error":"#NAME?"},{"$error":"#NAME?"}]
["1991-04-24",null,null,null,0,{"$f":"IF(SUM($B$7:$B193)=0,\"\",IF(A193<>\"\",IF(A193<$B$3,\"N\",\"Y\"),\"\"))","v":""},0,18.5,0,null,1408,{"$f":"IF(AND(ISNUMBER(A193),NOT(ISNUMBER(A194))),IF((OFFSET(Q193,-Q193,0)>50),SUM(OFFSET(E193,-Q193+1,0):E193),SUM(OFFSET(E193,-Q193,0):E193)),IF(AND(ISNUMBER(P193),ISNUMBER(P194),P193  <P194),IF((OFFSET(Q193,-Q193,0)>50),SUM(OFFSET(E193,-Q193+1,0):E193),SUM(OFFSET(E193,-Q193,0):E193)),\"\"))","v":{"$error":"#NAME?"}},{"$f":"IF(ISNUMBER(L193),IF((OFFSET(Q193,-Q193,0)>50),SUM(OFFSET(G193,-Q193+1,0):G193),SUM(OFFSET(G193,-Q193,0):G193)),\"\")","v":""},null,null,{"$error":"#NAME?"},{"$error":"#NAME?"}]
["1991-05-01",null,null,null,0,{"$f":"IF(SUM($B$7:$B194)=0,\"\",IF(A194<>\"\",IF(A194<$B$3,\"N\",\"Y\"),\"\"))","v":""},0,18.5,0,null,1407,{"$f":"IF(AND(ISNUMBER(A194),NOT(ISNUMBER(A195))),IF((OFFSET(Q194,-Q194,0)>50),SUM(OFFSET(E194,-Q194+1,0):E194),SUM(OFFSET(E194,-Q194,0):E194)),IF(AND(ISNUMBER(P194),ISNUMBER(P195),P194  <P195),IF((OFFSET(Q194,-Q194,0)>50),SUM(OFFSET(E194,-Q194+1,0):E194),SUM(OFFSET(E194,-Q194,0):E194)),\"\"))","v":{"$error":"#NAME?"}},{"$f":"IF(ISNUMBER(L194),IF((OFFSET(Q194,-Q194,0)>50),SUM(OFFSET(G194,-Q194+1,0):G194),SUM(OFFSET(G194,-Q194,0):G194)),\"\")","v":""},null,null,{"$error":"#NAME?"},{"$error":"#NAME?"}]
["1991-05-08",null,null,null,0,{"$f":"IF(SUM($B$7:$B195)=0,\"\",IF(A195<>\"\",IF(A195<$B$3,\"N\",\"Y\"),\"\"))","v":""},0,18.5,0,null,1406,{"$f":"IF(AND(ISNUMBER(A195),NOT(ISNUMBER(A196))),IF((OFFSET(Q195,-Q195,0)>50),SUM(OFFSET(E195,-Q195+1,0):E195),SUM(OFFSET(E195,-Q195,0):E195)),IF(AND(ISNUMBER(P195),ISNUMBER(P196),P195  <P196),IF((OFFSET(Q195,-Q195,0)>50),SUM(OFFSET(E195,-Q195+1,0):E195),SUM(OFFSET(E195,-Q195,0):E195)),\"\"))","v":{"$error":"#NAME?"}},{"$f":"IF(ISNUMBER(L195),IF((OFFSET(Q195,-Q195,0)>50),SUM(OFFSET(G195,-Q195+1,0):G195),SUM(OFFSET(G195,-Q195,0):G195)),\"\")","v":""},null,null,{"$error":"#NAME?"},{"$error":"#NAME?"}]
["1991-05-15",null,null,null,0,{"$f":"IF(SUM($B$7:$B196)=0,\"\",IF(A196<>\"\",IF(A196<$B$3,\"N\",\"Y\"),\"\"))","v":""},0,18.5,0,null,1405,{"$f":"IF(AND(ISNUMBER(A196),NOT(ISNUMBER(A197))),IF((OFFSET(Q196,-Q196,0)>50),SUM(OFFSET(E196,-Q196+1,0):E196),SUM(OFFSET(E196,-Q196,0):E196)),IF(AND(ISNUMBER(P196),ISNUMBER(P197),P196  <P197),IF((OFFSET(Q196,-Q196,0)>50),SUM(OFFSET(E196,-Q196+1,0):E196),SUM(OFFSET(E196,-Q196,0):E196)),\"\"))","v":{"$error":"#NAME?"}},{"$f":"IF(ISNUMBER(L196),IF((OFFSET(Q196,-Q196,0)>50),SUM(OFFSET(G196,-Q196+1,0):G196),SUM(OFFSET(G196,-Q196,0):G196)),\"\")","v":""},null,null,{"$error":"#NAME?"},{"$error":"#NAME?"}]
["1991-05-22",null,null,null,0,{"$f":"IF(SUM($B$7:$B197)=0,\"\",IF(A197<>\"\",IF(A197<$B$3,\"N\",\"Y\"),\"\"))","v":""},0,18.5,0,null,1404,{"$f":"IF(AND(ISNUMBER(A197),NOT(ISNUMBER(A198))),IF((OFFSET(Q197,-Q197,0)>50),SUM(OFFSET(E197,-Q197+1,0):E197),SUM(OFFSET(E197,-Q197,0):E197)),IF(AND(ISNUMBER(P197),ISNUMBER(P198),P197  <P198),IF((OFFSET(Q197,-Q197,0)>50),SUM(OFFSET(E197,-Q197+1,0):E197),SUM(OFFSET(E197,-Q197,0):E197)),\"\"))","v":{"$error":"#NAME?"}},{"$f":"IF(ISNUMBER(L197),IF((OFFSET(Q197,-Q197,0)>50),SUM(OFFSET(G197,-Q197+1,0):G197),SUM(OFFSET(G197,-Q197,0):G197)),\"\")","v":""},null,null,{"$error":"#NAME?"},{"$error":"#NAME?"}]
["1991-05-29",null,null,null,0,{"$f":"IF(SUM($B$7:$B198)=0,\"\",IF(A198<>\"\",IF(A198<$B$3,\"N\",\"Y\"),\"\"))","v":""},0,18.5,0,null,1403,{"$f":"IF(AND(ISNUMBER(A198),NOT(ISNUMBER(A199))),IF((OFFSET(Q198,-Q198,0)>50),SUM(OFFSET(E198,-Q198+1,0):E198),SUM(OFFSET(E198,-Q198,0):E198)),IF(AND(ISNUMBER(P198),ISNUMBER(P199),P198  <P199),IF((OFFSET(Q198,-Q198,0)>50),SUM(OFFSET(E198,-Q198+1,0):E198),SUM(OFFSET(E198,-Q198,0):E198)),\"\"))","v":{"$error":"#NAME?"}},{"$f":"IF(ISNUMBER(L198),IF((OFFSET(Q198,-Q198,0)>50),SUM(OFFSET(G198,-Q198+1,0):G198),SUM(OFFSET(G198,-Q198,0):G198)),\"\")","v":""},null,null,{"$error":"#NAME?"},{"$error":"#NAME?"}]
["1991-06-05",null,null,null,0,{"$f":"IF(SUM($B$7:$B199)=0,\"\",IF(A199<>\"\",IF(A199<$B$3,\"N\",\"Y\"),\"\"))","v":""},0,18.5,0,null,{"$f":"IF(A199<>\"\",IF((TODAY()-A199)/7>=0,INT((TODAY()-A199)/7),0),\"\")","v":1402},{"$f":"IF(AND(ISNUMBER(A199),NOT(ISNUMBER(A200))),IF((OFFSET(Q199,-Q199,0)>50),SUM(OFFSET(E199,-Q199+1,0):E199),SUM(OFFSET(E199,-Q199,0):E199)),IF(AND(ISNUMBER(P199),ISNUMBER(P200),P199  <P200),IF((OFFSET(Q199,-Q199,0)>50),SUM(OFFSET(E199,-Q199+1,0):E199),SUM(OFFSET(E199,-Q199,0):E199)),\"\"))","v":{"$error":"#NAME?"}},{"$f":"IF(ISNUMBER(L199),IF((OFFSET(Q199,-Q199,0)>50),SUM(OFFSET(G199,-Q199+1,0):G199),SUM(OFFSET(G199,-Q199,0):G199)),\"\")","v":""},null,null,{"$f":"FinYear(A199)","v":{"$error":"#NAME?"}},{"$error":"#NAME?"}]
["1991-06-12",null,null,null,{"$f":"IF(A200<>\"\",IF(B200-C200>=0,B200-C200,0),\"\")","v":0},{"$f":"IF(SUM($B$7:$B200)=0,\"\",IF(A200<>\"\",IF(A200<$B$3,\"N\",\"Y\"),\"\"))","v":""},0,18.5,0,null,1401,{"$f":"IF(AND(ISNUMBER(A200),NOT(ISNUMBER(A201))),IF((OFFSET(Q200,-Q200,0)>50),SUM(OFFSET(E200,-Q200+1,0):E200),SUM(OFFSET(E200,-Q200,0):E200)),IF(AND(ISNUMBER(P200),ISNUMBER(P201),P200  <P201),IF((OFFSET(Q200,-Q200,0)>50),SUM(OFFSET(E200,-Q200+1,0):E200),SUM(OFFSET(E200,-Q200,0):E200)),\"\"))","v":{"$error":"#NAME?"}},{"$f":"IF(ISNUMBER(L200),IF((OFFSET(Q200,-Q200,0)>50),SUM(OFFSET(G200,-Q200+1,0):G200),SUM(OFFSET(G200,-Q200,0):G200)),\"\")","v":""},null,null,{"$error":"#NAME?"},{"$f":"ROUND((A200-StartOfFinYear(P200))/7,0)","v":{"$error":"#NAME?"}}]
["1991-06-19",null,null,null,0,{"$f":"IF(SUM($B$7:$B201)=0,\"\",IF(A201<>\"\",IF(A201<$B$3,\"N\",\"Y\"),\"\"))","v":""},{"$f":"IF(F201=\"N\",0,IF(A201<>\"\",IF(K201>=0,((E201+I200)*(1+(H201/52)/100)-E201-I200),0),\"\"))","v":0},18.5,{"$f":"IF(A201<>\"\",I200+E201+G201,\"\")","v":0},null,1400,{"$f":"IF(AND(ISNUMBER(A201),NOT(ISNUMBER(A202))),IF((OFFSET(Q201,-Q201,0)>50),SUM(OFFSET(E201,-Q201+1,0):E201),SUM(OFFSET(E201,-Q201,0):E201)),IF(AND(ISNUMBER(P201),ISNUMBER(P202),P201  <P202),IF((OFFSET(Q201,-Q201,0)>50),SUM(OFFSET(E201,-Q201+1,0):E201),SUM(OFFSET(E201,-Q201,0):E201)),\"\"))","v":{"$error":"#NAME?"}},{"$f":"IF(ISNUMBER(L201),IF((OFFSET(Q201,-Q201,0)>50),SUM(OFFSET(G201,-Q201+1,0):G201),SUM(OFFSET(G201,-Q201,0):G201)),\"\")","v":""},null,null,{"$error":"#NAME?"},{"$error":"#NAME?"}]
[{"$f":"IF(A201<>\"\",IF(A201+12<=TODAY(),+A201+7,\"\"),\"\")","v":"1991-06-26"},null,null,null,0,{"$f":"IF(SUM($B$7:$B202)=0,\"\",IF(A202<>\"\",IF(A202<$B$3,\"N\",\"Y\"),\"\"))","v":""},0,18.5,0,null,1399,{"$f":"IF(AND(ISNUMBER(A202),NOT(ISNUMBER(A203))),IF((OFFSET(Q202,-Q202,0)>50),SUM(OFFSET(E202,-Q202+1,0):E202),SUM(OFFSET(E202,-Q202,0):E202)),IF(AND(ISNUMBER(P202),ISNUMBER(P203),P202  <P203),IF((OFFSET(Q202,-Q202,0)>50),SUM(OFFSET(E202,-Q202+1,0):E202),SUM(OFFSET(E202,-Q202,0):E202)),\"\"))","v":{"$error":"#NAME?"}},{"$f":"IF(ISNUMBER(L202),IF((OFFSET(Q202,-Q202,0)>50),SUM(OFFSET(G202,-Q202+1,0):G202),SUM(OFFSET(G202,-Q202,0):G202)),\"\")","v":""},null,null,{"$error":"#NAME?"},{"$error":"#NAME?"}]
["1991-07-03",null,null,null,0,{"$f":"IF(SUM($B$7:$B203)=0,\"\",IF(A203<>\"\",IF(A203<$B$3,\"N\",\"Y\"),\"\"))","v":""},0,14.25,0,null,1398,{"$f":"IF(AND(ISNUMBER(A203),NOT(ISNUMBER(A204))),IF((OFFSET(Q203,-Q203,0)>50),SUM(OFFSET(E203,-Q203+1,0):E203),SUM(OFFSET(E203,-Q203,0):E203)),IF(AND(ISNUMBER(P203),ISNUMBER(P204),P203  <P204),IF((OFFSET(Q203,-Q203,0)>50),SUM(OFFSET(E203,-Q203+1,0):E203),SUM(OFFSET(E203,-Q203,0):E203)),\"\"))","v":{"$error":"#NAME?"}},{"$f":"IF(ISNUMBER(L203),IF((OFFSET(Q203,-Q203,0)>50),SUM(OFFSET(G203,-Q203+1,0):G203),SUM(OFFSET(G203,-Q203,0):G203)),\"\")","v":""},null,null,{"$error":"#NAME?"},{"$error":"#NAME?"}]
["1991-07-10",null,null,null,0,{"$f":"IF(SUM($B$7:$B204)=0,\"\",IF(A204<>\"\",IF(A204<$B$3,\"N\",\"Y\"),\"\"))","v":""},0,14.25,0,null,1397,{"$f":"IF(AND(ISNUMBER(A204),NOT(ISNUMBER(A205))),IF((OFFSET(Q204,-Q204,0)>50),SUM(OFFSET(E204,-Q204+1,0):E204),SUM(OFFSET(E204,-Q204,0):E204)),IF(AND(ISNUMBER(P204),ISNUMBER(P205),P204  <P205),IF((OFFSET(Q204,-Q204,0)>50),SUM(OFFSET(E204,-Q204+1,0):E204),SUM(OFFSET(E204,-Q204,0):E204)),\"\"))","v":{"$error":"#NAME?"}},{"$f":"IF(ISNUMBER(L204),IF((OFFSET(Q204,-Q204,0)>50),SUM(OFFSET(G204,-Q204+1,0):G204),SUM(OFFSET(G204,-Q204,0):G204)),\"\")","v":""},null,null,{"$error":"#NAME?"},{"$error":"#NAME?"}]
["1991-07-17",null,null,null,0,{"$f":"IF(SUM($B$7:$B205)=0,\"\",IF(A205<>\"\",IF(A205<$B$3,\"N\",\"Y\"),\"\"))","v":""},0,14.25,0,null,1396,{"$f":"IF(AND(ISNUMBER(A205),NOT(ISNUMBER(A206))),IF((OFFSET(Q205,-Q205,0)>50),SUM(OFFSET(E205,-Q205+1,0):E205),SUM(OFFSET(E205,-Q205,0):E205)),IF(AND(ISNUMBER(P205),ISNUMBER(P206),P205  <P206),IF((OFFSET(Q205,-Q205,0)>50),SUM(OFFSET(E205,-Q205+1,0):E205),SUM(OFFSET(E205,-Q205,0):E205)),\"\"))","v":{"$error":"#NAME?"}},{"$f":"IF(ISNUMBER(L205),IF((OFFSET(Q205,-Q205,0)>50),SUM(OFFSET(G205,-Q205+1,0):G205),SUM(OFFSET(G205,-Q205,0):G205)),\"\")","v":""},null,null,{"$error":"#NAME?"},{"$error":"#NAME?"}]
["1991-07-24",null,null,null,0,{"$f":"IF(SUM($B$7:$B206)=0,\"\",IF(A206<>\"\",IF(A206<$B$3,\"N\",\"Y\"),\"\"))","v":""},0,14.25,0,null,1395,{"$f":"IF(AND(ISNUMBER(A206),NOT(ISNUMBER(A207))),IF((OFFSET(Q206,-Q206,0)>50),SUM(OFFSET(E206,-Q206+1,0):E206),SUM(OFFSET(E206,-Q206,0):E206)),IF(AND(ISNUMBER(P206),ISNUMBER(P207),P206  <P207),IF((OFFSET(Q206,-Q206,0)>50),SUM(OFFSET(E206,-Q206+1,0):E206),SUM(OFFSET(E206,-Q206,0):E206)),\"\"))","v":{"$error":"#NAME?"}},{"$f":"IF(ISNUMBER(L206),IF((OFFSET(Q206,-Q206,0)>50),SUM(OFFSET(G206,-Q206+1,0):G206),SUM(OFFSET(G206,-Q206,0):G206)),\"\")","v":""},null,null,{"$error":"#NAME?"},{"$error":"#NAME?"}]
["1991-07-31",null,null,null,0,{"$f":"IF(SUM($B$7:$B207)=0,\"\",IF(A207<>\"\",IF(A207<$B$3,\"N\",\"Y\"),\"\"))","v":""},0,14.25,0,null,1394,{"$f":"IF(AND(ISNUMBER(A207),NOT(ISNUMBER(A208))),IF((OFFSET(Q207,-Q207,0)>50),SUM(OFFSET(E207,-Q207+1,0):E207),SUM(OFFSET(E207,-Q207,0):E207)),IF(AND(ISNUMBER(P207),ISNUMBER(P208),P207  <P208),IF((OFFSET(Q207,-Q207,0)>50),SUM(OFFSET(E207,-Q207+1,0):E207),SUM(OFFSET(E207,-Q207,0):E207)),\"\"))","v":{"$error":"#NAME?"}},{"$f":"IF(ISNUMBER(L207),IF((OFFSET(Q207,-Q207,0)>50),SUM(OFFSET(G207,-Q207+1,0):G207),SUM(OFFSET(G207,-Q207,0):G207)),\"\")","v":""},null,null,{"$error":"#NAME?"},{"$error":"#NAME?"}]
["1991-08-07",null,null,null,0,{"$f":"IF(SUM($B$7:$B208)=0,\"\",IF(A208<>\"\",IF(A208<$B$3,\"N\",\"Y\"),\"\"))","v":""},0,14.25,0,null,1393,{"$f":"IF(AND(ISNUMBER(A208),NOT(ISNUMBER(A209))),IF((OFFSET(Q208,-Q208,0)>50),SUM(OFFSET(E208,-Q208+1,0):E208),SUM(OFFSET(E208,-Q208,0):E208)),IF(AND(ISNUMBER(P208),ISNUMBER(P209),P208  <P209),IF((OFFSET(Q208,-Q208,0)>50),SUM(OFFSET(E208,-Q208+1,0):E208),SUM(OFFSET(E208,-Q208,0):E208)),\"\"))","v":{"$error":"#NAME?"}},{"$f":"IF(ISNUMBER(L208),IF((OFFSET(Q208,-Q208,0)>50),SUM(OFFSET(G208,-Q208+1,0):G208),SUM(OFFSET(G208,-Q208,0):G208)),\"\")","v":""},null,null,{"$error":"#NAME?"},{"$error":"#NAME?"}]
["1991-08-14",null,null,null,0,{"$f":"IF(SUM($B$7:$B209)=0,\"\",IF(A209<>\"\",IF(A209<$B$3,\"N\",\"Y\"),\"\"))","v":""},0,14.25,0,null,1392,{"$f":"IF(AND(ISNUMBER(A209),NOT(ISNUMBER(A210))),IF((OFFSET(Q209,-Q209,0)>50),SUM(OFFSET(E209,-Q209+1,0):E209),SUM(OFFSET(E209,-Q209,0):E209)),IF(AND(ISNUMBER(P209),ISNUMBER(P210),P209  <P210),IF((OFFSET(Q209,-Q209,0)>50),SUM(OFFSET(E209,-Q209+1,0):E209),SUM(OFFSET(E209,-Q209,0):E209)),\"\"))","v":{"$error":"#NAME?"}},{"$f":"IF(ISNUMBER(L209),IF((OFFSET(Q209,-Q209,0)>50),SUM(OFFSET(G209,-Q209+1,0):G209),SUM(OFFSET(G209,-Q209,0):G209)),\"\")","v":""},null,null,{"$error":"#NAME?"},{"$error":"#NAME?"}]
["1991-08-21",null,null,null,0,{"$f":"IF(SUM($B$7:$B210)=0,\"\",IF(A210<>\"\",IF(A210<$B$3,\"N\",\"Y\"),\"\"))","v":""},0,14.25,0,null,1391,{"$f":"IF(AND(ISNUMBER(A210),NOT(ISNUMBER(A211))),IF((OFFSET(Q210,-Q210,0)>50),SUM(OFFSET(E210,-Q210+1,0):E210),SUM(OFFSET(E210,-Q210,0):E210)),IF(AND(ISNUMBER(P210),ISNUMBER(P211),P210  <P211),IF((OFFSET(Q210,-Q210,0)>50),SUM(OFFSET(E210,-Q210+1,0):E210),SUM(OFFSET(E210,-Q210,0):E210)),\"\"))","v":{"$error":"#NAME?"}},{"$f":"IF(ISNUMBER(L210),IF((OFFSET(Q210,-Q210,0)>50),SUM(OFFSET(G210,-Q210+1,0):G210),SUM(OFFSET(G210,-Q210,0):G210)),\"\")","v":""},null,null,{"$error":"#NAME?"},{"$error":"#NAME?"}]
["1991-08-28",null,null,null,0,{"$f":"IF(SUM($B$7:$B211)=0,\"\",IF(A211<>\"\",IF(A211<$B$3,\"N\",\"Y\"),\"\"))","v":""},0,14.25,0,null,1390,{"$f":"IF(AND(ISNUMBER(A211),NOT(ISNUMBER(A212))),IF((OFFSET(Q211,-Q211,0)>50),SUM(OFFSET(E211,-Q211+1,0):E211),SUM(OFFSET(E211,-Q211,0):E211)),IF(AND(ISNUMBER(P211),ISNUMBER(P212),P211  <P212),IF((OFFSET(Q211,-Q211,0)>50),SUM(OFFSET(E211,-Q211+1,0):E211),SUM(OFFSET(E211,-Q211,0):E211)),\"\"))","v":{"$error":"#NAME?"}},{"$f":"IF(ISNUMBER(L211),IF((OFFSET(Q211,-Q211,0)>50),SUM(OFFSET(G211,-Q211+1,0):G211),SUM(OFFSET(G211,-Q211,0):G211)),\"\")","v":""},null,null,{"$error":"#NAME?"},{"$error":"#NAME?"}]
["1991-09-04",null,null,null,0,{"$f":"IF(SUM($B$7:$B212)=0,\"\",IF(A212<>\"\",IF(A212<$B$3,\"N\",\"Y\"),\"\"))","v":""},0,14.25,0,null,1389,{"$f":"IF(AND(ISNUMBER(A212),NOT(ISNUMBER(A213))),IF((OFFSET(Q212,-Q212,0)>50),SUM(OFFSET(E212,-Q212+1,0):E212),SUM(OFFSET(E212,-Q212,0):E212)),IF(AND(ISNUMBER(P212),ISNUMBER(P213),P212  <P213),IF((OFFSET(Q212,-Q212,0)>50),SUM(OFFSET(E212,-Q212+1,0):E212),SUM(OFFSET(E212,-Q212,0):E212)),\"\"))","v":{"$error":"#NAME?"}},{"$f":"IF(ISNUMBER(L212),IF((OFFSET(Q212,-Q212,0)>50),SUM(OFFSET(G212,-Q212+1,0):G212),SUM(OFFSET(G212,-Q212,0):G212)),\"\")","v":""},null,null,{"$error":"#NAME?"},{"$error":"#NAME?"}]
["1991-09-11",null,null,null,0,{"$f":"IF(SUM($B$7:$B213)=0,\"\",IF(A213<>\"\",IF(A213<$B$3,\"N\",\"Y\"),\"\"))","v":""},0,14.25,0,null,1388,{"$f":"IF(AND(ISNUMBER(A213),NOT(ISNUMBER(A214))),IF((OFFSET(Q213,-Q213,0)>50),SUM(OFFSET(E213,-Q213+1,0):E213),SUM(OFFSET(E213,-Q213,0):E213)),IF(AND(ISNUMBER(P213),ISNUMBER(P214),P213  <P214),IF((OFFSET(Q213,-Q213,0)>50),SUM(OFFSET(E213,-Q213+1,0):E213),SUM(OFFSET(E213,-Q213,0):E213)),\"\"))","v":{"$error":"#NAME?"}},{"$f":"IF(ISNUMBER(L213),IF((OFFSET(Q213,-Q213,0)>50),SUM(OFFSET(G213,-Q213+1,0):G213),SUM(OFFSET(G213,-Q213,0):G213)),\"\")","v":""},null,null,{"$error":"#NAME?"},{"$error":"#NAME?"}]
["1991-09-18",null,null,null,0,{"$f":"IF(SUM($B$7:$B214)=0,\"\",IF(A214<>\"\",IF(A214<$B$3,\"N\",\"Y\"),\"\"))","v":""},0,14.25,0,null,1387,{"$f":"IF(AND(ISNUMBER(A214),NOT(ISNUMBER(A215))),IF((OFFSET(Q214,-Q214,0)>50),SUM(OFFSET(E214,-Q214+1,0):E214),SUM(OFFSET(E214,-Q214,0):E214)),IF(AND(ISNUMBER(P214),ISNUMBER(P215),P214  <P215),IF((OFFSET(Q214,-Q214,0)>50),SUM(OFFSET(E214,-Q214+1,0):E214),SUM(OFFSET(E214,-Q214,0):E214)),\"\"))","v":{"$error":"#NAME?"}},{"$f":"IF(ISNUMBER(L214),IF((OFFSET(Q214,-Q214,0)>50),SUM(OFFSET(G214,-Q214+1,0):G214),SUM(OFFSET(G214,-Q214,0):G214)),\"\")","v":""},null,null,{"$error":"#NAME?"},{"$error":"#NAME?"}]
["1991-09-25",null,null,null,0,{"$f":"IF(SUM($B$7:$B215)=0,\"\",IF(A215<>\"\",IF(A215<$B$3,\"N\",\"Y\"),\"\"))","v":""},0,14.25,0,null,1386,{"$f":"IF(AND(ISNUMBER(A215),NOT(ISNUMBER(A216))),IF((OFFSET(Q215,-Q215,0)>50),SUM(OFFSET(E215,-Q215+1,0):E215),SUM(OFFSET(E215,-Q215,0):E215)),IF(AND(ISNUMBER(P215),ISNUMBER(P216),P215  <P216),IF((OFFSET(Q215,-Q215,0)>50),SUM(OFFSET(E215,-Q215+1,0):E215),SUM(OFFSET(E215,-Q215,0):E215)),\"\"))","v":{"$error":"#NAME?"}},{"$f":"IF(ISNUMBER(L215),IF((OFFSET(Q215,-Q215,0)>50),SUM(OFFSET(G215,-Q215+1,0):G215),SUM(OFFSET(G215,-Q215,0):G215)),\"\")","v":""},null,null,{"$error":"#NAME?"},{"$error":"#NAME?"}]
["1991-10-02",null,null,null,0,{"$f":"IF(SUM($B$7:$B216)=0,\"\",IF(A216<>\"\",IF(A216<$B$3,\"N\",\"Y\"),\"\"))","v":""},0,14.25,0,null,1385,{"$f":"IF(AND(ISNUMBER(A216),NOT(ISNUMBER(A217))),IF((OFFSET(Q216,-Q216,0)>50),SUM(OFFSET(E216,-Q216+1,0):E216),SUM(OFFSET(E216,-Q216,0):E216)),IF(AND(ISNUMBER(P216),ISNUMBER(P217),P216  <P217),IF((OFFSET(Q216,-Q216,0)>50),SUM(OFFSET(E216,-Q216+1,0):E216),SUM(OFFSET(E216,-Q216,0):E216)),\"\"))","v":{"$error":"#NAME?"}},{"$f":"IF(ISNUMBER(L216),IF((OFFSET(Q216,-Q216,0)>50),SUM(OFFSET(G216,-Q216+1,0):G216),SUM(OFFSET(G216,-Q216,0):G216)),\"\")","v":""},null,null,{"$error":"#NAME?"},{"$error":"#NAME?"}]
["1991-10-09",null,null,null,0,{"$f":"IF(SUM($B$7:$B217)=0,\"\",IF(A217<>\"\",IF(A217<$B$3,\"N\",\"Y\"),\"\"))","v":""},0,14.25,0,null,1384,{"$f":"IF(AND(ISNUMBER(A217),NOT(ISNUMBER(A218))),IF((OFFSET(Q217,-Q217,0)>50),SUM(OFFSET(E217,-Q217+1,0):E217),SUM(OFFSET(E217,-Q217,0):E217)),IF(AND(ISNUMBER(P217),ISNUMBER(P218),P217  <P218),IF((OFFSET(Q217,-Q217,0)>50),SUM(OFFSET(E217,-Q217+1,0):E217),SUM(OFFSET(E217,-Q217,0):E217)),\"\"))","v":{"$error":"#NAME?"}},{"$f":"IF(ISNUMBER(L217),IF((OFFSET(Q217,-Q217,0)>50),SUM(OFFSET(G217,-Q217+1,0):G217),SUM(OFFSET(G217,-Q217,0):G217)),\"\")","v":""},null,null,{"$error":"#NAME?"},{"$error":"#NAME?"}]
["1991-10-16",null,null,null,0,{"$f":"IF(SUM($B$7:$B218)=0,\"\",IF(A218<>\"\",IF(A218<$B$3,\"N\",\"Y\"),\"\"))","v":""},0,14.25,0,null,1383,{"$f":"IF(AND(ISNUMBER(A218),NOT(ISNUMBER(A219))),IF((OFFSET(Q218,-Q218,0)>50),SUM(OFFSET(E218,-Q218+1,0):E218),SUM(OFFSET(E218,-Q218,0):E218)),IF(AND(ISNUMBER(P218),ISNUMBER(P219),P218  <P219),IF((OFFSET(Q218,-Q218,0)>50),SUM(OFFSET(E218,-Q218+1,0):E218),SUM(OFFSET(E218,-Q218,0):E218)),\"\"))","v":{"$error":"#NAME?"}},{"$f":"IF(ISNUMBER(L218),IF((OFFSET(Q218,-Q218,0)>50),SUM(OFFSET(G218,-Q218+1,0):G218),SUM(OFFSET(G218,-Q218,0):G218)),\"\")","v":""},null,null,{"$error":"#NAME?"},{"$error":"#NAME?"}]
["1991-10-23",null,null,null,0,{"$f":"IF(SUM($B$7:$B219)=0,\"\",IF(A219<>\"\",IF(A219<$B$3,\"N\",\"Y\"),\"\"))","v":""},0,14.25,0,null,1382,{"$f":"IF(AND(ISNUMBER(A219),NOT(ISNUMBER(A220))),IF((OFFSET(Q219,-Q219,0)>50),SUM(OFFSET(E219,-Q219+1,0):E219),SUM(OFFSET(E219,-Q219,0):E219)),IF(AND(ISNUMBER(P219),ISNUMBER(P220),P219  <P220),IF((OFFSET(Q219,-Q219,0)>50),SUM(OFFSET(E219,-Q219+1,0):E219),SUM(OFFSET(E219,-Q219,0):E219)),\"\"))","v":{"$error":"#NAME?"}},{"$f":"IF(ISNUMBER(L219),IF((OFFSET(Q219,-Q219,0)>50),SUM(OFFSET(G219,-Q219+1,0):G219),SUM(OFFSET(G219,-Q219,0):G219)),\"\")","v":""},null,null,{"$error":"#NAME?"},{"$error":"#NAME?"}]
["1991-10-30",null,null,null,0,{"$f":"IF(SUM($B$7:$B220)=0,\"\",IF(A220<>\"\",IF(A220<$B$3,\"N\",\"Y\"),\"\"))","v":""},0,14.25,0,null,1381,{"$f":"IF(AND(ISNUMBER(A220),NOT(ISNUMBER(A221))),IF((OFFSET(Q220,-Q220,0)>50),SUM(OFFSET(E220,-Q220+1,0):E220),SUM(OFFSET(E220,-Q220,0):E220)),IF(AND(ISNUMBER(P220),ISNUMBER(P221),P220  <P221),IF((OFFSET(Q220,-Q220,0)>50),SUM(OFFSET(E220,-Q220+1,0):E220),SUM(OFFSET(E220,-Q220,0):E220)),\"\"))","v":{"$error":"#NAME?"}},{"$f":"IF(ISNUMBER(L220),IF((OFFSET(Q220,-Q220,0)>50),SUM(OFFSET(G220,-Q220+1,0):G220),SUM(OFFSET(G220,-Q220,0):G220)),\"\")","v":""},null,null,{"$error":"#NAME?"},{"$error":"#NAME?"}]
["1991-11-06",null,null,null,0,{"$f":"IF(SUM($B$7:$B221)=0,\"\",IF(A221<>\"\",IF(A221<$B$3,\"N\",\"Y\"),\"\"))","v":""},0,14.25,0,null,1380,{"$f":"IF(AND(ISNUMBER(A221),NOT(ISNUMBER(A222))),IF((OFFSET(Q221,-Q221,0)>50),SUM(OFFSET(E221,-Q221+1,0):E221),SUM(OFFSET(E221,-Q221,0):E221)),IF(AND(ISNUMBER(P221),ISNUMBER(P222),P221  <P222),IF((OFFSET(Q221,-Q221,0)>50),SUM(OFFSET(E221,-Q221+1,0):E221),SUM(OFFSET(E221,-Q221,0):E221)),\"\"))","v":{"$error":"#NAME?"}},{"$f":"IF(ISNUMBER(L221),IF((OFFSET(Q221,-Q221,0)>50),SUM(OFFSET(G221,-Q221+1,0):G221),SUM(OFFSET(G221,-Q221,0):G221)),\"\")","v":""},null,null,{"$error":"#NAME?"},{"$error":"#NAME?"}]
["1991-11-13",null,null,null,0,{"$f":"IF(SUM($B$7:$B222)=0,\"\",IF(A222<>\"\",IF(A222<$B$3,\"N\",\"Y\"),\"\"))","v":""},0,14.25,0,null,1379,{"$f":"IF(AND(ISNUMBER(A222),NOT(ISNUMBER(A223))),IF((OFFSET(Q222,-Q222,0)>50),SUM(OFFSET(E222,-Q222+1,0):E222),SUM(OFFSET(E222,-Q222,0):E222)),IF(AND(ISNUMBER(P222),ISNUMBER(P223),P222  <P223),IF((OFFSET(Q222,-Q222,0)>50),SUM(OFFSET(E222,-Q222+1,0):E222),SUM(OFFSET(E222,-Q222,0):E222)),\"\"))","v":{"$error":"#NAME?"}},{"$f":"IF(ISNUMBER(L222),IF((OFFSET(Q222,-Q222,0)>50),SUM(OFFSET(G222,-Q222+1,0):G222),SUM(OFFSET(G222,-Q222,0):G222)),\"\")","v":""},null,null,{"$error":"#NAME?"},{"$error":"#NAME?"}]
["1991-11-20",null,null,null,0,{"$f":"IF(SUM($B$7:$B223)=0,\"\",IF(A223<>\"\",IF(A223<$B$3,\"N\",\"Y\"),\"\"))","v":""},0,14.25,0,null,1378,{"$f":"IF(AND(ISNUMBER(A223),NOT(ISNUMBER(A224))),IF((OFFSET(Q223,-Q223,0)>50),SUM(OFFSET(E223,-Q223+1,0):E223),SUM(OFFSET(E223,-Q223,0):E223)),IF(AND(ISNUMBER(P223),ISNUMBER(P224),P223  <P224),IF((OFFSET(Q223,-Q223,0)>50),SUM(OFFSET(E223,-Q223+1,0):E223),SUM(OFFSET(E223,-Q223,0):E223)),\"\"))","v":{"$error":"#NAME?"}},{"$f":"IF(ISNUMBER(L223),IF((OFFSET(Q223,-Q223,0)>50),SUM(OFFSET(G223,-Q223+1,0):G223),SUM(OFFSET(G223,-Q223,0):G223)),\"\")","v":""},null,null,{"$error":"#NAME?"},{"$error":"#NAME?"}]
["1991-11-27",null,null,null,0,{"$f":"IF(SUM($B$7:$B224)=0,\"\",IF(A224<>\"\",IF(A224<$B$3,\"N\",\"Y\"),\"\"))","v":""},0,14.25,0,null,1377,{"$f":"IF(AND(ISNUMBER(A224),NOT(ISNUMBER(A225))),IF((OFFSET(Q224,-Q224,0)>50),SUM(OFFSET(E224,-Q224+1,0):E224),SUM(OFFSET(E224,-Q224,0):E224)),IF(AND(ISNUMBER(P224),ISNUMBER(P225),P224  <P225),IF((OFFSET(Q224,-Q224,0)>50),SUM(OFFSET(E224,-Q224+1,0):E224),SUM(OFFSET(E224,-Q224,0):E224)),\"\"))","v":{"$error":"#NAME?"}},{"$f":"IF(ISNUMBER(L224),IF((OFFSET(Q224,-Q224,0)>50),SUM(OFFSET(G224,-Q224+1,0):G224),SUM(OFFSET(G224,-Q224,0):G224)),\"\")","v":""},null,null,{"$error":"#NAME?"},{"$error":"#NAME?"}]
["1991-12-04",null,null,null,0,{"$f":"IF(SUM($B$7:$B225)=0,\"\",IF(A225<>\"\",IF(A225<$B$3,\"N\",\"Y\"),\"\"))","v":""},0,14.25,0,null,1376,{"$f":"IF(AND(ISNUMBER(A225),NOT(ISNUMBER(A226))),IF((OFFSET(Q225,-Q225,0)>50),SUM(OFFSET(E225,-Q225+1,0):E225),SUM(OFFSET(E225,-Q225,0):E225)),IF(AND(ISNUMBER(P225),ISNUMBER(P226),P225  <P226),IF((OFFSET(Q225,-Q225,0)>50),SUM(OFFSET(E225,-Q225+1,0):E225),SUM(OFFSET(E225,-Q225,0):E225)),\"\"))","v":{"$error":"#NAME?"}},{"$f":"IF(ISNUMBER(L225),IF((OFFSET(Q225,-Q225,0)>50),SUM(OFFSET(G225,-Q225+1,0):G225),SUM(OFFSET(G225,-Q225,0):G225)),\"\")","v":""},null,null,{"$error":"#NAME?"},{"$error":"#NAME?"}]
["1991-12-11",null,null,null,0,{"$f":"IF(SUM($B$7:$B226)=0,\"\",IF(A226<>\"\",IF(A226<$B$3,\"N\",\"Y\"),\"\"))","v":""},0,14.25,0,null,1375,{"$f":"IF(AND(ISNUMBER(A226),NOT(ISNUMBER(A227))),IF((OFFSET(Q226,-Q226,0)>50),SUM(OFFSET(E226,-Q226+1,0):E226),SUM(OFFSET(E226,-Q226,0):E226)),IF(AND(ISNUMBER(P226),ISNUMBER(P227),P226  <P227),IF((OFFSET(Q226,-Q226,0)>50),SUM(OFFSET(E226,-Q226+1,0):E226),SUM(OFFSET(E226,-Q226,0):E226)),\"\"))","v":{"$error":"#NAME?"}},{"$f":"IF(ISNUMBER(L226),IF((OFFSET(Q226,-Q226,0)>50),SUM(OFFSET(G226,-Q226+1,0):G226),SUM(OFFSET(G226,-Q226,0):G226)),\"\")","v":""},null,null,{"$error":"#NAME?"},{"$error":"#NAME?"}]
["1991-12-18",null,null,null,0,{"$f":"IF(SUM($B$7:$B227)=0,\"\",IF(A227<>\"\",IF(A227<$B$3,\"N\",\"Y\"),\"\"))","v":""},0,14.25,0,null,1374,{"$f":"IF(AND(ISNUMBER(A227),NOT(ISNUMBER(A228))),IF((OFFSET(Q227,-Q227,0)>50),SUM(OFFSET(E227,-Q227+1,0):E227),SUM(OFFSET(E227,-Q227,0):E227)),IF(AND(ISNUMBER(P227),ISNUMBER(P228),P227  <P228),IF((OFFSET(Q227,-Q227,0)>50),SUM(OFFSET(E227,-Q227+1,0):E227),SUM(OFFSET(E227,-Q227,0):E227)),\"\"))","v":{"$error":"#NAME?"}},{"$f":"IF(ISNUMBER(L227),IF((OFFSET(Q227,-Q227,0)>50),SUM(OFFSET(G227,-Q227+1,0):G227),SUM(OFFSET(G227,-Q227,0):G227)),\"\")","v":""},null,null,{"$error":"#NAME?"},{"$error":"#NAME?"}]
["1991-12-25",null,null,null,0,{"$f":"IF(SUM($B$7:$B228)=0,\"\",IF(A228<>\"\",IF(A228<$B$3,\"N\",\"Y\"),\"\"))","v":""},0,14.25,0,null,1373,{"$f":"IF(AND(ISNUMBER(A228),NOT(ISNUMBER(A229))),IF((OFFSET(Q228,-Q228,0)>50),SUM(OFFSET(E228,-Q228+1,0):E228),SUM(OFFSET(E228,-Q228,0):E228)),IF(AND(ISNUMBER(P228),ISNUMBER(P229),P228  <P229),IF((OFFSET(Q228,-Q228,0)>50),SUM(OFFSET(E228,-Q228+1,0):E228),SUM(OFFSET(E228,-Q228,0):E228)),\"\"))","v":{"$error":"#NAME?"}},{"$f":"IF(ISNUMBER(L228),IF((OFFSET(Q228,-Q228,0)>50),SUM(OFFSET(G228,-Q228+1,0):G228),SUM(OFFSET(G228,-Q228,0):G228)),\"\")","v":""},null,null,{"$error":"#NAME?"},{"$error":"#NAME?"}]
["1992-01-01",null,null,null,0,{"$f":"IF(SUM($B$7:$B229)=0,\"\",IF(A229<>\"\",IF(A229<$B$3,\"N\",\"Y\"),\"\"))","v":""},0,14.25,0,null,1372,{"$f":"IF(AND(ISNUMBER(A229),NOT(ISNUMBER(A230))),IF((OFFSET(Q229,-Q229,0)>50),SUM(OFFSET(E229,-Q229+1,0):E229),SUM(OFFSET(E229,-Q229,0):E229)),IF(AND(ISNUMBER(P229),ISNUMBER(P230),P229  <P230),IF((OFFSET(Q229,-Q229,0)>50),SUM(OFFSET(E229,-Q229+1,0):E229),SUM(OFFSET(E229,-Q229,0):E229)),\"\"))","v":{"$error":"#NAME?"}},{"$f":"IF(ISNUMBER(L229),IF((OFFSET(Q229,-Q229,0)>50),SUM(OFFSET(G229,-Q229+1,0):G229),SUM(OFFSET(G229,-Q229,0):G229)),\"\")","v":""},null,null,{"$error":"#NAME?"},{"$error":"#NAME?"}]
["1992-01-08",null,null,null,0,{"$f":"IF(SUM($B$7:$B230)=0,\"\",IF(A230<>\"\",IF(A230<$B$3,\"N\",\"Y\"),\"\"))","v":""},0,14.25,0,null,1371,{"$f":"IF(AND(ISNUMBER(A230),NOT(ISNUMBER(A231))),IF((OFFSET(Q230,-Q230,0)>50),SUM(OFFSET(E230,-Q230+1,0):E230),SUM(OFFSET(E230,-Q230,0):E230)),IF(AND(ISNUMBER(P230),ISNUMBER(P231),P230  <P231),IF((OFFSET(Q230,-Q230,0)>50),SUM(OFFSET(E230,-Q230+1,0):E230),SUM(OFFSET(E230,-Q230,0):E230)),\"\"))","v":{"$error":"#NAME?"}},{"$f":"IF(ISNUMBER(L230),IF((OFFSET(Q230,-Q230,0)>50),SUM(OFFSET(G230,-Q230+1,0):G230),SUM(OFFSET(G230,-Q230,0):G230)),\"\")","v":""},null,null,{"$error":"#NAME?"},{"$error":"#NAME?"}]
["1992-01-15",null,null,null,0,{"$f":"IF(SUM($B$7:$B231)=0,\"\",IF(A231<>\"\",IF(A231<$B$3,\"N\",\"Y\"),\"\"))","v":""},0,14.25,0,null,1370,{"$f":"IF(AND(ISNUMBER(A231),NOT(ISNUMBER(A232))),IF((OFFSET(Q231,-Q231,0)>50),SUM(OFFSET(E231,-Q231+1,0):E231),SUM(OFFSET(E231,-Q231,0):E231)),IF(AND(ISNUMBER(P231),ISNUMBER(P232),P231  <P232),IF((OFFSET(Q231,-Q231,0)>50),SUM(OFFSET(E231,-Q231+1,0):E231),SUM(OFFSET(E231,-Q231,0):E231)),\"\"))","v":{"$error":"#NAME?"}},{"$f":"IF(ISNUMBER(L231),IF((OFFSET(Q231,-Q231,0)>50),SUM(OFFSET(G231,-Q231+1,0):G231),SUM(OFFSET(G231,-Q231,0):G231)),\"\")","v":""},null,null,{"$error":"#NAME?"},{"$error":"#NAME?"}]
["1992-01-22",null,null,null,0,{"$f":"IF(SUM($B$7:$B232)=0,\"\",IF(A232<>\"\",IF(A232<$B$3,\"N\",\"Y\"),\"\"))","v":""},0,14.25,0,null,1369,{"$f":"IF(AND(ISNUMBER(A232),NOT(ISNUMBER(A233))),IF((OFFSET(Q232,-Q232,0)>50),SUM(OFFSET(E232,-Q232+1,0):E232),SUM(OFFSET(E232,-Q232,0):E232)),IF(AND(ISNUMBER(P232),ISNUMBER(P233),P232  <P233),IF((OFFSET(Q232,-Q232,0)>50),SUM(OFFSET(E232,-Q232+1,0):E232),SUM(OFFSET(E232,-Q232,0):E232)),\"\"))","v":{"$error":"#NAME?"}},{"$f":"IF(ISNUMBER(L232),IF((OFFSET(Q232,-Q232,0)>50),SUM(OFFSET(G232,-Q232+1,0):G232),SUM(OFFSET(G232,-Q232,0):G232)),\"\")","v":""},null,null,{"$error":"#NAME?"},{"$error":"#NAME?"}]
["1992-01-29",null,null,null,0,{"$f":"IF(SUM($B$7:$B233)=0,\"\",IF(A233<>\"\",IF(A233<$B$3,\"N\",\"Y\"),\"\"))","v":""},0,14.25,0,null,1368,{"$f":"IF(AND(ISNUMBER(A233),NOT(ISNUMBER(A234))),IF((OFFSET(Q233,-Q233,0)>50),SUM(OFFSET(E233,-Q233+1,0):E233),SUM(OFFSET(E233,-Q233,0):E233)),IF(AND(ISNUMBER(P233),ISNUMBER(P234),P233  <P234),IF((OFFSET(Q233,-Q233,0)>50),SUM(OFFSET(E233,-Q233+1,0):E233),SUM(OFFSET(E233,-Q233,0):E233)),\"\"))","v":{"$error":"#NAME?"}},{"$f":"IF(ISNUMBER(L233),IF((OFFSET(Q233,-Q233,0)>50),SUM(OFFSET(G233,-Q233+1,0):G233),SUM(OFFSET(G233,-Q233,0):G233)),\"\")","v":""},null,null,{"$error":"#NAME?"},{"$error":"#NAME?"}]
["1992-02-05",null,null,null,0,{"$f":"IF(SUM($B$7:$B234)=0,\"\",IF(A234<>\"\",IF(A234<$B$3,\"N\",\"Y\"),\"\"))","v":""},0,14.25,0,null,1367,{"$f":"IF(AND(ISNUMBER(A234),NOT(ISNUMBER(A235))),IF((OFFSET(Q234,-Q234,0)>50),SUM(OFFSET(E234,-Q234+1,0):E234),SUM(OFFSET(E234,-Q234,0):E234)),IF(AND(ISNUMBER(P234),ISNUMBER(P235),P234  <P235),IF((OFFSET(Q234,-Q234,0)>50),SUM(OFFSET(E234,-Q234+1,0):E234),SUM(OFFSET(E234,-Q234,0):E234)),\"\"))","v":{"$error":"#NAME?"}},{"$f":"IF(ISNUMBER(L234),IF((OFFSET(Q234,-Q234,0)>50),SUM(OFFSET(G234,-Q234+1,0):G234),SUM(OFFSET(G234,-Q234,0):G234)),\"\")","v":""},null,null,{"$error":"#NAME?"},{"$error":"#NAME?"}]
["1992-02-12",null,null,null,0,{"$f":"IF(SUM($B$7:$B235)=0,\"\",IF(A235<>\"\",IF(A235<$B$3,\"N\",\"Y\"),\"\"))","v":""},0,14.25,0,null,1366,{"$f":"IF(AND(ISNUMBER(A235),NOT(ISNUMBER(A236))),IF((OFFSET(Q235,-Q235,0)>50),SUM(OFFSET(E235,-Q235+1,0):E235),SUM(OFFSET(E235,-Q235,0):E235)),IF(AND(ISNUMBER(P235),ISNUMBER(P236),P235  <P236),IF((OFFSET(Q235,-Q235,0)>50),SUM(OFFSET(E235,-Q235+1,0):E235),SUM(OFFSET(E235,-Q235,0):E235)),\"\"))","v":{"$error":"#NAME?"}},{"$f":"IF(ISNUMBER(L235),IF((OFFSET(Q235,-Q235,0)>50),SUM(OFFSET(G235,-Q235+1,0):G235),SUM(OFFSET(G235,-Q235,0):G235)),\"\")","v":""},null,null,{"$error":"#NAME?"},{"$error":"#NAME?"}]
["1992-02-19",null,null,null,0,{"$f":"IF(SUM($B$7:$B236)=0,\"\",IF(A236<>\"\",IF(A236<$B$3,\"N\",\"Y\"),\"\"))","v":""},0,14.25,0,null,1365,{"$f":"IF(AND(ISNUMBER(A236),NOT(ISNUMBER(A237))),IF((OFFSET(Q236,-Q236,0)>50),SUM(OFFSET(E236,-Q236+1,0):E236),SUM(OFFSET(E236,-Q236,0):E236)),IF(AND(ISNUMBER(P236),ISNUMBER(P237),P236  <P237),IF((OFFSET(Q236,-Q236,0)>50),SUM(OFFSET(E236,-Q236+1,0):E236),SUM(OFFSET(E236,-Q236,0):E236)),\"\"))","v":{"$error":"#NAME?"}},{"$f":"IF(ISNUMBER(L236),IF((OFFSET(Q236,-Q236,0)>50),SUM(OFFSET(G236,-Q236+1,0):G236),SUM(OFFSET(G236,-Q236,0):G236)),\"\")","v":""},null,null,{"$error":"#NAME?"},{"$error":"#NAME?"}]
["1992-02-26",null,null,null,0,{"$f":"IF(SUM($B$7:$B237)=0,\"\",IF(A237<>\"\",IF(A237<$B$3,\"N\",\"Y\"),\"\"))","v":""},0,14.25,0,null,1364,{"$f":"IF(AND(ISNUMBER(A237),NOT(ISNUMBER(A238))),IF((OFFSET(Q237,-Q237,0)>50),SUM(OFFSET(E237,-Q237+1,0):E237),SUM(OFFSET(E237,-Q237,0):E237)),IF(AND(ISNUMBER(P237),ISNUMBER(P238),P237  <P238),IF((OFFSET(Q237,-Q237,0)>50),SUM(OFFSET(E237,-Q237+1,0):E237),SUM(OFFSET(E237,-Q237,0):E237)),\"\"))","v":{"$error":"#NAME?"}},{"$f":"IF(ISNUMBER(L237),IF((OFFSET(Q237,-Q237,0)>50),SUM(OFFSET(G237,-Q237+1,0):G237),SUM(OFFSET(G237,-Q237,0):G237)),\"\")","v":""},null,null,{"$error":"#NAME?"},{"$error":"#NAME?"}]
["1992-03-04",null,null,null,0,{"$f":"IF(SUM($B$7:$B238)=0,\"\",IF(A238<>\"\",IF(A238<$B$3,\"N\",\"Y\"),\"\"))","v":""},0,14.25,0,null,1363,{"$f":"IF(AND(ISNUMBER(A238),NOT(ISNUMBER(A239))),IF((OFFSET(Q238,-Q238,0)>50),SUM(OFFSET(E238,-Q238+1,0):E238),SUM(OFFSET(E238,-Q238,0):E238)),IF(AND(ISNUMBER(P238),ISNUMBER(P239),P238  <P239),IF((OFFSET(Q238,-Q238,0)>50),SUM(OFFSET(E238,-Q238+1,0):E238),SUM(OFFSET(E238,-Q238,0):E238)),\"\"))","v":{"$error":"#NAME?"}},{"$f":"IF(ISNUMBER(L238),IF((OFFSET(Q238,-Q238,0)>50),SUM(OFFSET(G238,-Q238+1,0):G238),SUM(OFFSET(G238,-Q238,0):G238)),\"\")","v":""},null,null,{"$error":"#NAME?"},{"$error":"#NAME?"}]
["1992-03-11",null,null,null,0,{"$f":"IF(SUM($B$7:$B239)=0,\"\",IF(A239<>\"\",IF(A239<$B$3,\"N\",\"Y\"),\"\"))","v":""},0,14.25,0,null,1362,{"$f":"IF(AND(ISNUMBER(A239),NOT(ISNUMBER(A240))),IF((OFFSET(Q239,-Q239,0)>50),SUM(OFFSET(E239,-Q239+1,0):E239),SUM(OFFSET(E239,-Q239,0):E239)),IF(AND(ISNUMBER(P239),ISNUMBER(P240),P239  <P240),IF((OFFSET(Q239,-Q239,0)>50),SUM(OFFSET(E239,-Q239+1,0):E239),SUM(OFFSET(E239,-Q239,0):E239)),\"\"))","v":{"$error":"#NAME?"}},{"$f":"IF(ISNUMBER(L239),IF((OFFSET(Q239,-Q239,0)>50),SUM(OFFSET(G239,-Q239+1,0):G239),SUM(OFFSET(G239,-Q239,0):G239)),\"\")","v":""},null,null,{"$error":"#NAME?"},{"$error":"#NAME?"}]
["1992-03-18",null,null,null,0,{"$f":"IF(SUM($B$7:$B240)=0,\"\",IF(A240<>\"\",IF(A240<$B$3,\"N\",\"Y\"),\"\"))","v":""},0,14.25,0,null,1361,{"$f":"IF(AND(ISNUMBER(A240),NOT(ISNUMBER(A241))),IF((OFFSET(Q240,-Q240,0)>50),SUM(OFFSET(E240,-Q240+1,0):E240),SUM(OFFSET(E240,-Q240,0):E240)),IF(AND(ISNUMBER(P240),ISNUMBER(P241),P240  <P241),IF((OFFSET(Q240,-Q240,0)>50),SUM(OFFSET(E240,-Q240+1,0):E240),SUM(OFFSET(E240,-Q240,0):E240)),\"\"))","v":{"$error":"#NAME?"}},{"$f":"IF(ISNUMBER(L240),IF((OFFSET(Q240,-Q240,0)>50),SUM(OFFSET(G240,-Q240+1,0):G240),SUM(OFFSET(G240,-Q240,0):G240)),\"\")","v":""},null,null,{"$error":"#NAME?"},{"$error":"#NAME?"}]
["1992-03-25",null,null,null,0,{"$f":"IF(SUM($B$7:$B241)=0,\"\",IF(A241<>\"\",IF(A241<$B$3,\"N\",\"Y\"),\"\"))","v":""},0,14.25,0,null,1360,{"$f":"IF(AND(ISNUMBER(A241),NOT(ISNUMBER(A242))),IF((OFFSET(Q241,-Q241,0)>50),SUM(OFFSET(E241,-Q241+1,0):E241),SUM(OFFSET(E241,-Q241,0):E241)),IF(AND(ISNUMBER(P241),ISNUMBER(P242),P241  <P242),IF((OFFSET(Q241,-Q241,0)>50),SUM(OFFSET(E241,-Q241+1,0):E241),SUM(OFFSET(E241,-Q241,0):E241)),\"\"))","v":{"$error":"#NAME?"}},{"$f":"IF(ISNUMBER(L241),IF((OFFSET(Q241,-Q241,0)>50),SUM(OFFSET(G241,-Q241+1,0):G241),SUM(OFFSET(G241,-Q241,0):G241)),\"\")","v":""},null,null,{"$error":"#NAME?"},{"$error":"#NAME?"}]
["1992-04-01",null,null,null,0,{"$f":"IF(SUM($B$7:$B242)=0,\"\",IF(A242<>\"\",IF(A242<$B$3,\"N\",\"Y\"),\"\"))","v":""},0,14.25,0,null,1359,{"$f":"IF(AND(ISNUMBER(A242),NOT(ISNUMBER(A243))),IF((OFFSET(Q242,-Q242,0)>50),SUM(OFFSET(E242,-Q242+1,0):E242),SUM(OFFSET(E242,-Q242,0):E242)),IF(AND(ISNUMBER(P242),ISNUMBER(P243),P242  <P243),IF((OFFSET(Q242,-Q242,0)>50),SUM(OFFSET(E242,-Q242+1,0):E242),SUM(OFFSET(E242,-Q242,0):E242)),\"\"))","v":{"$error":"#NAME?"}},{"$f":"IF(ISNUMBER(L242),IF((OFFSET(Q242,-Q242,0)>50),SUM(OFFSET(G242,-Q242+1,0):G242),SUM(OFFSET(G242,-Q242,0):G242)),\"\")","v":""},null,null,{"$error":"#NAME?"},{"$error":"#NAME?"}]
["1992-04-08",null,null,null,0,{"$f":"IF(SUM($B$7:$B243)=0,\"\",IF(A243<>\"\",IF(A243<$B$3,\"N\",\"Y\"),\"\"))","v":""},0,14.25,0,null,1358,{"$f":"IF(AND(ISNUMBER(A243),NOT(ISNUMBER(A244))),IF((OFFSET(Q243,-Q243,0)>50),SUM(OFFSET(E243,-Q243+1,0):E243),SUM(OFFSET(E243,-Q243,0):E243)),IF(AND(ISNUMBER(P243),ISNUMBER(P244),P243  <P244),IF((OFFSET(Q243,-Q243,0)>50),SUM(OFFSET(E243,-Q243+1,0):E243),SUM(OFFSET(E243,-Q243,0):E243)),\"\"))","v":{"$error":"#NAME?"}},{"$f":"IF(ISNUMBER(L243),IF((OFFSET(Q243,-Q243,0)>50),SUM(OFFSET(G243,-Q243+1,0):G243),SUM(OFFSET(G243,-Q243,0):G243)),\"\")","v":""},null,null,{"$error":"#NAME?"},{"$error":"#NAME?"}]
["1992-04-15",null,null,null,0,{"$f":"IF(SUM($B$7:$B244)=0,\"\",IF(A244<>\"\",IF(A244<$B$3,\"N\",\"Y\"),\"\"))","v":""},0,14.25,0,null,1357,{"$f":"IF(AND(ISNUMBER(A244),NOT(ISNUMBER(A245))),IF((OFFSET(Q244,-Q244,0)>50),SUM(OFFSET(E244,-Q244+1,0):E244),SUM(OFFSET(E244,-Q244,0):E244)),IF(AND(ISNUMBER(P244),ISNUMBER(P245),P244  <P245),IF((OFFSET(Q244,-Q244,0)>50),SUM(OFFSET(E244,-Q244+1,0):E244),SUM(OFFSET(E244,-Q244,0):E244)),\"\"))","v":{"$error":"#NAME?"}},{"$f":"IF(ISNUMBER(L244),IF((OFFSET(Q244,-Q244,0)>50),SUM(OFFSET(G244,-Q244+1,0):G244),SUM(OFFSET(G244,-Q244,0):G244)),\"\")","v":""},null,null,{"$error":"#NAME?"},{"$error":"#NAME?"}]
["1992-04-22",null,null,null,0,{"$f":"IF(SUM($B$7:$B245)=0,\"\",IF(A245<>\"\",IF(A245<$B$3,\"N\",\"Y\"),\"\"))","v":""},0,14.25,0,null,1356,{"$f":"IF(AND(ISNUMBER(A245),NOT(ISNUMBER(A246))),IF((OFFSET(Q245,-Q245,0)>50),SUM(OFFSET(E245,-Q245+1,0):E245),SUM(OFFSET(E245,-Q245,0):E245)),IF(AND(ISNUMBER(P245),ISNUMBER(P246),P245  <P246),IF((OFFSET(Q245,-Q245,0)>50),SUM(OFFSET(E245,-Q245+1,0):E245),SUM(OFFSET(E245,-Q245,0):E245)),\"\"))","v":{"$error":"#NAME?"}},{"$f":"IF(ISNUMBER(L245),IF((OFFSET(Q245,-Q245,0)>50),SUM(OFFSET(G245,-Q245+1,0):G245),SUM(OFFSET(G245,-Q245,0):G245)),\"\")","v":""},null,null,{"$error":"#NAME?"},{"$error":"#NAME?"}]
["1992-04-29",null,null,null,0,{"$f":"IF(SUM($B$7:$B246)=0,\"\",IF(A246<>\"\",IF(A246<$B$3,\"N\",\"Y\"),\"\"))","v":""},0,14.25,0,null,1355,{"$f":"IF(AND(ISNUMBER(A246),NOT(ISNUMBER(A247))),IF((OFFSET(Q246,-Q246,0)>50),SUM(OFFSET(E246,-Q246+1,0):E246),SUM(OFFSET(E246,-Q246,0):E246)),IF(AND(ISNUMBER(P246),ISNUMBER(P247),P246  <P247),IF((OFFSET(Q246,-Q246,0)>50),SUM(OFFSET(E246,-Q246+1,0):E246),SUM(OFFSET(E246,-Q246,0):E246)),\"\"))","v":{"$error":"#NAME?"}},{"$f":"IF(ISNUMBER(L246),IF((OFFSET(Q246,-Q246,0)>50),SUM(OFFSET(G246,-Q246+1,0):G246),SUM(OFFSET(G246,-Q246,0):G246)),\"\")","v":""},null,null,{"$error":"#NAME?"},{"$error":"#NAME?"}]
["1992-05-06",null,null,null,0,{"$f":"IF(SUM($B$7:$B247)=0,\"\",IF(A247<>\"\",IF(A247<$B$3,\"N\",\"Y\"),\"\"))","v":""},0,14.25,0,null,1354,{"$f":"IF(AND(ISNUMBER(A247),NOT(ISNUMBER(A248))),IF((OFFSET(Q247,-Q247,0)>50),SUM(OFFSET(E247,-Q247+1,0):E247),SUM(OFFSET(E247,-Q247,0):E247)),IF(AND(ISNUMBER(P247),ISNUMBER(P248),P247  <P248),IF((OFFSET(Q247,-Q247,0)>50),SUM(OFFSET(E247,-Q247+1,0):E247),SUM(OFFSET(E247,-Q247,0):E247)),\"\"))","v":{"$error":"#NAME?"}},{"$f":"IF(ISNUMBER(L247),IF((OFFSET(Q247,-Q247,0)>50),SUM(OFFSET(G247,-Q247+1,0):G247),SUM(OFFSET(G247,-Q247,0):G247)),\"\")","v":""},null,null,{"$error":"#NAME?"},{"$error":"#NAME?"}]
["1992-05-13",null,null,null,0,{"$f":"IF(SUM($B$7:$B248)=0,\"\",IF(A248<>\"\",IF(A248<$B$3,\"N\",\"Y\"),\"\"))","v":""},0,14.25,0,null,1353,{"$f":"IF(AND(ISNUMBER(A248),NOT(ISNUMBER(A249))),IF((OFFSET(Q248,-Q248,0)>50),SUM(OFFSET(E248,-Q248+1,0):E248),SUM(OFFSET(E248,-Q248,0):E248)),IF(AND(ISNUMBER(P248),ISNUMBER(P249),P248  <P249),IF((OFFSET(Q248,-Q248,0)>50),SUM(OFFSET(E248,-Q248+1,0):E248),SUM(OFFSET(E248,-Q248,0):E248)),\"\"))","v":{"$error":"#NAME?"}},{"$f":"IF(ISNUMBER(L248),IF((OFFSET(Q248,-Q248,0)>50),SUM(OFFSET(G248,-Q248+1,0):G248),SUM(OFFSET(G248,-Q248,0):G248)),\"\")","v":""},null,null,{"$error":"#NAME?"},{"$error":"#NAME?"}]
["1992-05-20",null,null,null,0,{"$f":"IF(SUM($B$7:$B249)=0,\"\",IF(A249<>\"\",IF(A249<$B$3,\"N\",\"Y\"),\"\"))","v":""},0,14.25,0,null,1352,{"$f":"IF(AND(ISNUMBER(A249),NOT(ISNUMBER(A250))),IF((OFFSET(Q249,-Q249,0)>50),SUM(OFFSET(E249,-Q249+1,0):E249),SUM(OFFSET(E249,-Q249,0):E249)),IF(AND(ISNUMBER(P249),ISNUMBER(P250),P249  <P250),IF((OFFSET(Q249,-Q249,0)>50),SUM(OFFSET(E249,-Q249+1,0):E249),SUM(OFFSET(E249,-Q249,0):E249)),\"\"))","v":{"$error":"#NAME?"}},{"$f":"IF(ISNUMBER(L249),IF((OFFSET(Q249,-Q249,0)>50),SUM(OFFSET(G249,-Q249+1,0):G249),SUM(OFFSET(G249,-Q249,0):G249)),\"\")","v":""},null,null,{"$error":"#NAME?"},{"$error":"#NAME?"}]
["1992-05-27",null,null,null,0,{"$f":"IF(SUM($B$7:$B250)=0,\"\",IF(A250<>\"\",IF(A250<$B$3,\"N\",\"Y\"),\"\"))","v":""},0,14.25,0,null,1351,{"$f":"IF(AND(ISNUMBER(A250),NOT(ISNUMBER(A251))),IF((OFFSET(Q250,-Q250,0)>50),SUM(OFFSET(E250,-Q250+1,0):E250),SUM(OFFSET(E250,-Q250,0):E250)),IF(AND(ISNUMBER(P250),ISNUMBER(P251),P250  <P251),IF((OFFSET(Q250,-Q250,0)>50),SUM(OFFSET(E250,-Q250+1,0):E250),SUM(OFFSET(E250,-Q250,0):E250)),\"\"))","v":{"$error":"#NAME?"}},{"$f":"IF(ISNUMBER(L250),IF((OFFSET(Q250,-Q250,0)>50),SUM(OFFSET(G250,-Q250+1,0):G250),SUM(OFFSET(G250,-Q250,0):G250)),\"\")","v":""},null,null,{"$error":"#NAME?"},{"$error":"#NAME?"}]
["1992-06-03",null,null,null,0,{"$f":"IF(SUM($B$7:$B251)=0,\"\",IF(A251<>\"\",IF(A251<$B$3,\"N\",\"Y\"),\"\"))","v":""},0,14.25,0,null,1350,{"$f":"IF(AND(ISNUMBER(A251),NOT(ISNUMBER(A252))),IF((OFFSET(Q251,-Q251,0)>50),SUM(OFFSET(E251,-Q251+1,0):E251),SUM(OFFSET(E251,-Q251,0):E251)),IF(AND(ISNUMBER(P251),ISNUMBER(P252),P251  <P252),IF((OFFSET(Q251,-Q251,0)>50),SUM(OFFSET(E251,-Q251+1,0):E251),SUM(OFFSET(E251,-Q251,0):E251)),\"\"))","v":{"$error":"#NAME?"}},{"$f":"IF(ISNUMBER(L251),IF((OFFSET(Q251,-Q251,0)>50),SUM(OFFSET(G251,-Q251+1,0):G251),SUM(OFFSET(G251,-Q251,0):G251)),\"\")","v":""},null,null,{"$error":"#NAME?"},{"$error":"#NAME?"}]
["1992-06-10",null,null,null,0,{"$f":"IF(SUM($B$7:$B252)=0,\"\",IF(A252<>\"\",IF(A252<$B$3,\"N\",\"Y\"),\"\"))","v":""},0,14.25,0,null,1349,{"$f":"IF(AND(ISNUMBER(A252),NOT(ISNUMBER(A253))),IF((OFFSET(Q252,-Q252,0)>50),SUM(OFFSET(E252,-Q252+1,0):E252),SUM(OFFSET(E252,-Q252,0):E252)),IF(AND(ISNUMBER(P252),ISNUMBER(P253),P252  <P253),IF((OFFSET(Q252,-Q252,0)>50),SUM(OFFSET(E252,-Q252+1,0):E252),SUM(OFFSET(E252,-Q252,0):E252)),\"\"))","v":{"$error":"#NAME?"}},{"$f":"IF(ISNUMBER(L252),IF((OFFSET(Q252,-Q252,0)>50),SUM(OFFSET(G252,-Q252+1,0):G252),SUM(OFFSET(G252,-Q252,0):G252)),\"\")","v":""},null,null,{"$error":"#NAME?"},{"$error":"#NAME?"}]
["1992-06-17",null,null,null,0,{"$f":"IF(SUM($B$7:$B253)=0,\"\",IF(A253<>\"\",IF(A253<$B$3,\"N\",\"Y\"),\"\"))","v":""},0,14.25,0,null,1348,{"$f":"IF(AND(ISNUMBER(A253),NOT(ISNUMBER(A254))),IF((OFFSET(Q253,-Q253,0)>50),SUM(OFFSET(E253,-Q253+1,0):E253),SUM(OFFSET(E253,-Q253,0):E253)),IF(AND(ISNUMBER(P253),ISNUMBER(P254),P253  <P254),IF((OFFSET(Q253,-Q253,0)>50),SUM(OFFSET(E253,-Q253+1,0):E253),SUM(OFFSET(E253,-Q253,0):E253)),\"\"))","v":{"$error":"#NAME?"}},{"$f":"IF(ISNUMBER(L253),IF((OFFSET(Q253,-Q253,0)>50),SUM(OFFSET(G253,-Q253+1,0):G253),SUM(OFFSET(G253,-Q253,0):G253)),\"\")","v":""},null,null,{"$error":"#NAME?"},{"$error":"#NAME?"}]
["1992-06-24",null,null,null,0,{"$f":"IF(SUM($B$7:$B254)=0,\"\",IF(A254<>\"\",IF(A254<$B$3,\"N\",\"Y\"),\"\"))","v":""},0,14.25,0,null,1347,{"$f":"IF(AND(ISNUMBER(A254),NOT(ISNUMBER(A255))),IF((OFFSET(Q254,-Q254,0)>50),SUM(OFFSET(E254,-Q254+1,0):E254),SUM(OFFSET(E254,-Q254,0):E254)),IF(AND(ISNUMBER(P254),ISNUMBER(P255),P254  <P255),IF((OFFSET(Q254,-Q254,0)>50),SUM(OFFSET(E254,-Q254+1,0):E254),SUM(OFFSET(E254,-Q254,0):E254)),\"\"))","v":{"$error":"#NAME?"}},{"$f":"IF(ISNUMBER(L254),IF((OFFSET(Q254,-Q254,0)>50),SUM(OFFSET(G254,-Q254+1,0):G254),SUM(OFFSET(G254,-Q254,0):G254)),\"\")","v":""},null,null,{"$error":"#NAME?"},{"$error":"#NAME?"}]
["1992-07-01",null,null,null,0,{"$f":"IF(SUM($B$7:$B255)=0,\"\",IF(A255<>\"\",IF(A255<$B$3,\"N\",\"Y\"),\"\"))","v":""},0,10.5,0,null,1346,{"$f":"IF(AND(ISNUMBER(A255),NOT(ISNUMBER(A256))),IF((OFFSET(Q255,-Q255,0)>50),SUM(OFFSET(E255,-Q255+1,0):E255),SUM(OFFSET(E255,-Q255,0):E255)),IF(AND(ISNUMBER(P255),ISNUMBER(P256),P255  <P256),IF((OFFSET(Q255,-Q255,0)>50),SUM(OFFSET(E255,-Q255+1,0):E255),SUM(OFFSET(E255,-Q255,0):E255)),\"\"))","v":{"$error":"#NAME?"}},{"$f":"IF(ISNUMBER(L255),IF((OFFSET(Q255,-Q255,0)>50),SUM(OFFSET(G255,-Q255+1,0):G255),SUM(OFFSET(G255,-Q255,0):G255)),\"\")","v":""},null,null,{"$error":"#NAME?"},{"$error":"#NAME?"}]
["1992-07-08",null,null,null,0,{"$f":"IF(SUM($B$7:$B256)=0,\"\",IF(A256<>\"\",IF(A256<$B$3,\"N\",\"Y\"),\"\"))","v":""},0,10.5,0,null,1345,{"$f":"IF(AND(ISNUMBER(A256),NOT(ISNUMBER(A257))),IF((OFFSET(Q256,-Q256,0)>50),SUM(OFFSET(E256,-Q256+1,0):E256),SUM(OFFSET(E256,-Q256,0):E256)),IF(AND(ISNUMBER(P256),ISNUMBER(P257),P256  <P257),IF((OFFSET(Q256,-Q256,0)>50),SUM(OFFSET(E256,-Q256+1,0):E256),SUM(OFFSET(E256,-Q256,0):E256)),\"\"))","v":{"$error":"#NAME?"}},{"$f":"IF(ISNUMBER(L256),IF((OFFSET(Q256,-Q256,0)>50),SUM(OFFSET(G256,-Q256+1,0):G256),SUM(OFFSET(G256,-Q256,0):G256)),\"\")","v":""},null,null,{"$error":"#NAME?"},{"$error":"#NAME?"}]
["1992-07-15",null,null,null,0,{"$f":"IF(SUM($B$7:$B257)=0,\"\",IF(A257<>\"\",IF(A257<$B$3,\"N\",\"Y\"),\"\"))","v":""},0,10.5,0,null,1344,{"$f":"IF(AND(ISNUMBER(A257),NOT(ISNUMBER(A258))),IF((OFFSET(Q257,-Q257,0)>50),SUM(OFFSET(E257,-Q257+1,0):E257),SUM(OFFSET(E257,-Q257,0):E257)),IF(AND(ISNUMBER(P257),ISNUMBER(P258),P257  <P258),IF((OFFSET(Q257,-Q257,0)>50),SUM(OFFSET(E257,-Q257+1,0):E257),SUM(OFFSET(E257,-Q257,0):E257)),\"\"))","v":{"$error":"#NAME?"}},{"$f":"IF(ISNUMBER(L257),IF((OFFSET(Q257,-Q257,0)>50),SUM(OFFSET(G257,-Q257+1,0):G257),SUM(OFFSET(G257,-Q257,0):G257)),\"\")","v":""},null,null,{"$error":"#NAME?"},{"$error":"#NAME?"}]
["1992-07-22",null,null,null,0,{"$f":"IF(SUM($B$7:$B258)=0,\"\",IF(A258<>\"\",IF(A258<$B$3,\"N\",\"Y\"),\"\"))","v":""},0,10.5,0,null,1343,{"$f":"IF(AND(ISNUMBER(A258),NOT(ISNUMBER(A259))),IF((OFFSET(Q258,-Q258,0)>50),SUM(OFFSET(E258,-Q258+1,0):E258),SUM(OFFSET(E258,-Q258,0):E258)),IF(AND(ISNUMBER(P258),ISNUMBER(P259),P258  <P259),IF((OFFSET(Q258,-Q258,0)>50),SUM(OFFSET(E258,-Q258+1,0):E258),SUM(OFFSET(E258,-Q258,0):E258)),\"\"))","v":{"$error":"#NAME?"}},{"$f":"IF(ISNUMBER(L258),IF((OFFSET(Q258,-Q258,0)>50),SUM(OFFSET(G258,-Q258+1,0):G258),SUM(OFFSET(G258,-Q258,0):G258)),\"\")","v":""},null,null,{"$error":"#NAME?"},{"$error":"#NAME?"}]
["1992-07-29",null,null,null,0,{"$f":"IF(SUM($B$7:$B259)=0,\"\",IF(A259<>\"\",IF(A259<$B$3,\"N\",\"Y\"),\"\"))","v":""},0,10.5,0,null,1342,{"$f":"IF(AND(ISNUMBER(A259),NOT(ISNUMBER(A260))),IF((OFFSET(Q259,-Q259,0)>50),SUM(OFFSET(E259,-Q259+1,0):E259),SUM(OFFSET(E259,-Q259,0):E259)),IF(AND(ISNUMBER(P259),ISNUMBER(P260),P259  <P260),IF((OFFSET(Q259,-Q259,0)>50),SUM(OFFSET(E259,-Q259+1,0):E259),SUM(OFFSET(E259,-Q259,0):E259)),\"\"))","v":{"$error":"#NAME?"}},{"$f":"IF(ISNUMBER(L259),IF((OFFSET(Q259,-Q259,0)>50),SUM(OFFSET(G259,-Q259+1,0):G259),SUM(OFFSET(G259,-Q259,0):G259)),\"\")","v":""},null,null,{"$error":"#NAME?"},{"$error":"#NAME?"}]
["1992-08-05",null,null,null,0,{"$f":"IF(SUM($B$7:$B260)=0,\"\",IF(A260<>\"\",IF(A260<$B$3,\"N\",\"Y\"),\"\"))","v":""},0,10.5,0,null,1341,{"$f":"IF(AND(ISNUMBER(A260),NOT(ISNUMBER(A261))),IF((OFFSET(Q260,-Q260,0)>50),SUM(OFFSET(E260,-Q260+1,0):E260),SUM(OFFSET(E260,-Q260,0):E260)),IF(AND(ISNUMBER(P260),ISNUMBER(P261),P260  <P261),IF((OFFSET(Q260,-Q260,0)>50),SUM(OFFSET(E260,-Q260+1,0):E260),SUM(OFFSET(E260,-Q260,0):E260)),\"\"))","v":{"$error":"#NAME?"}},{"$f":"IF(ISNUMBER(L260),IF((OFFSET(Q260,-Q260,0)>50),SUM(OFFSET(G260,-Q260+1,0):G260),SUM(OFFSET(G260,-Q260,0):G260)),\"\")","v":""},null,null,{"$error":"#NAME?"},{"$error":"#NAME?"}]
["1992-08-12",null,null,null,0,{"$f":"IF(SUM($B$7:$B261)=0,\"\",IF(A261<>\"\",IF(A261<$B$3,\"N\",\"Y\"),\"\"))","v":""},0,10.5,0,null,1340,{"$f":"IF(AND(ISNUMBER(A261),NOT(ISNUMBER(A262))),IF((OFFSET(Q261,-Q261,0)>50),SUM(OFFSET(E261,-Q261+1,0):E261),SUM(OFFSET(E261,-Q261,0):E261)),IF(AND(ISNUMBER(P261),ISNUMBER(P262),P261  <P262),IF((OFFSET(Q261,-Q261,0)>50),SUM(OFFSET(E261,-Q261+1,0):E261),SUM(OFFSET(E261,-Q261,0):E261)),\"\"))","v":{"$error":"#NAME?"}},{"$f":"IF(ISNUMBER(L261),IF((OFFSET(Q261,-Q261,0)>50),SUM(OFFSET(G261,-Q261+1,0):G261),SUM(OFFSET(G261,-Q261,0):G261)),\"\")","v":""},null,null,{"$error":"#NAME?"},{"$error":"#NAME?"}]
["1992-08-19",null,null,null,0,{"$f":"IF(SUM($B$7:$B262)=0,\"\",IF(A262<>\"\",IF(A262<$B$3,\"N\",\"Y\"),\"\"))","v":""},0,10.5,0,null,1339,{"$f":"IF(AND(ISNUMBER(A262),NOT(ISNUMBER(A263))),IF((OFFSET(Q262,-Q262,0)>50),SUM(OFFSET(E262,-Q262+1,0):E262),SUM(OFFSET(E262,-Q262,0):E262)),IF(AND(ISNUMBER(P262),ISNUMBER(P263),P262  <P263),IF((OFFSET(Q262,-Q262,0)>50),SUM(OFFSET(E262,-Q262+1,0):E262),SUM(OFFSET(E262,-Q262,0):E262)),\"\"))","v":{"$error":"#NAME?"}},{"$f":"IF(ISNUMBER(L262),IF((OFFSET(Q262,-Q262,0)>50),SUM(OFFSET(G262,-Q262+1,0):G262),SUM(OFFSET(G262,-Q262,0):G262)),\"\")","v":""},null,null,{"$error":"#NAME?"},{"$error":"#NAME?"}]
["1992-08-26",null,null,null,0,{"$f":"IF(SUM($B$7:$B263)=0,\"\",IF(A263<>\"\",IF(A263<$B$3,\"N\",\"Y\"),\"\"))","v":""},0,10.5,0,null,{"$f":"IF(A263<>\"\",IF((TODAY()-A263)/7>=0,INT((TODAY()-A263)/7),0),\"\")","v":1338},{"$f":"IF(AND(ISNUMBER(A263),NOT(ISNUMBER(A264))),IF((OFFSET(Q263,-Q263,0)>50),SUM(OFFSET(E263,-Q263+1,0):E263),SUM(OFFSET(E263,-Q263,0):E263)),IF(AND(ISNUMBER(P263),ISNUMBER(P264),P263  <P264),IF((OFFSET(Q263,-Q263,0)>50),SUM(OFFSET(E263,-Q263+1,0):E263),SUM(OFFSET(E263,-Q263,0):E263)),\"\"))","v":{"$error":"#NAME?"}},{"$f":"IF(ISNUMBER(L263),IF((OFFSET(Q263,-Q263,0)>50),SUM(OFFSET(G263,-Q263+1,0):G263),SUM(OFFSET(G263,-Q263,0):G263)),\"\")","v":""},null,null,{"$f":"FinYear(A263)","v":{"$error":"#NAME?"}},{"$error":"#NAME?"}]
["1992-09-02",null,null,null,{"$f":"IF(A264<>\"\",IF(B264-C264>=0,B264-C264,0),\"\")","v":0},{"$f":"IF(SUM($B$7:$B264)=0,\"\",IF(A264<>\"\",IF(A264<$B$3,\"N\",\"Y\"),\"\"))","v":""},0,10.5,0,null,1337,{"$f":"IF(AND(ISNUMBER(A264),NOT(ISNUMBER(A265))),IF((OFFSET(Q264,-Q264,0)>50),SUM(OFFSET(E264,-Q264+1,0):E264),SUM(OFFSET(E264,-Q264,0):E264)),IF(AND(ISNUMBER(P264),ISNUMBER(P265),P264  <P265),IF((OFFSET(Q264,-Q264,0)>50),SUM(OFFSET(E264,-Q264+1,0):E264),SUM(OFFSET(E264,-Q264,0):E264)),\"\"))","v":{"$error":"#NAME?"}},{"$f":"IF(ISNUMBER(L264),IF((OFFSET(Q264,-Q264,0)>50),SUM(OFFSET(G264,-Q264+1,0):G264),SUM(OFFSET(G264,-Q264,0):G264)),\"\")","v":""},null,null,{"$error":"#NAME?"},{"$f":"ROUND((A264-StartOfFinYear(P264))/7,0)","v":{"$error":"#NAME?"}}]
["1992-09-09",null,null,null,0,{"$f":"IF(SUM($B$7:$B265)=0,\"\",IF(A265<>\"\",IF(A265<$B$3,\"N\",\"Y\"),\"\"))","v":""},{"$f":"IF(F265=\"N\",0,IF(A265<>\"\",IF(K265>=0,((E265+I264)*(1+(H265/52)/100)-E265-I264),0),\"\"))","v":0},10.5,{"$f":"IF(A265<>\"\",I264+E265+G265,\"\")","v":0},null,1336,{"$f":"IF(AND(ISNUMBER(A265),NOT(ISNUMBER(A266))),IF((OFFSET(Q265,-Q265,0)>50),SUM(OFFSET(E265,-Q265+1,0):E265),SUM(OFFSET(E265,-Q265,0):E265)),IF(AND(ISNUMBER(P265),ISNUMBER(P266),P265  <P266),IF((OFFSET(Q265,-Q265,0)>50),SUM(OFFSET(E265,-Q265+1,0):E265),SUM(OFFSET(E265,-Q265,0):E265)),\"\"))","v":{"$error":"#NAME?"}},{"$f":"IF(ISNUMBER(L265),IF((OFFSET(Q265,-Q265,0)>50),SUM(OFFSET(G265,-Q265+1,0):G265),SUM(OFFSET(G265,-Q265,0):G265)),\"\")","v":""},null,null,{"$error":"#NAME?"},{"$error":"#NAME?"}]
[{"$f":"IF(A265<>\"\",IF(A265+12<=TODAY(),+A265+7,\"\"),\"\")","v":"1992-09-16"},null,null,null,0,{"$f":"IF(SUM($B$7:$B266)=0,\"\",IF(A266<>\"\",IF(A266<$B$3,\"N\",\"Y\"),\"\"))","v":""},0,10.5,0,null,1335,{"$f":"IF(AND(ISNUMBER(A266),NOT(ISNUMBER(A267))),IF((OFFSET(Q266,-Q266,0)>50),SUM(OFFSET(E266,-Q266+1,0):E266),SUM(OFFSET(E266,-Q266,0):E266)),IF(AND(ISNUMBER(P266),ISNUMBER(P267),P266  <P267),IF((OFFSET(Q266,-Q266,0)>50),SUM(OFFSET(E266,-Q266+1,0):E266),SUM(OFFSET(E266,-Q266,0):E266)),\"\"))","v":{"$error":"#NAME?"}},{"$f":"IF(ISNUMBER(L266),IF((OFFSET(Q266,-Q266,0)>50),SUM(OFFSET(G266,-Q266+1,0):G266),SUM(OFFSET(G266,-Q266,0):G266)),\"\")","v":""},null,null,{"$error":"#NAME?"},{"$error":"#NAME?"}]
["1992-09-23",null,null,null,0,{"$f":"IF(SUM($B$7:$B267)=0,\"\",IF(A267<>\"\",IF(A267<$B$3,\"N\",\"Y\"),\"\"))","v":""},0,10.5,0,null,1334,{"$f":"IF(AND(ISNUMBER(A267),NOT(ISNUMBER(A268))),IF((OFFSET(Q267,-Q267,0)>50),SUM(OFFSET(E267,-Q267+1,0):E267),SUM(OFFSET(E267,-Q267,0):E267)),IF(AND(ISNUMBER(P267),ISNUMBER(P268),P267  <P268),IF((OFFSET(Q267,-Q267,0)>50),SUM(OFFSET(E267,-Q267+1,0):E267),SUM(OFFSET(E267,-Q267,0):E267)),\"\"))","v":{"$error":"#NAME?"}},{"$f":"IF(ISNUMBER(L267),IF((OFFSET(Q267,-Q267,0)>50),SUM(OFFSET(G267,-Q267+1,0):G267),SUM(OFFSET(G267,-Q267,0):G267)),\"\")","v":""},null,null,{"$error":"#NAME?"},{"$error":"#NAME?"}]
["1992-09-30",null,null,null,0,{"$f":"IF(SUM($B$7:$B268)=0,\"\",IF(A268<>\"\",IF(A268<$B$3,\"N\",\"Y\"),\"\"))","v":""},0,10.5,0,null,1333,{"$f":"IF(AND(ISNUMBER(A268),NOT(ISNUMBER(A269))),IF((OFFSET(Q268,-Q268,0)>50),SUM(OFFSET(E268,-Q268+1,0):E268),SUM(OFFSET(E268,-Q268,0):E268)),IF(AND(ISNUMBER(P268),ISNUMBER(P269),P268  <P269),IF((OFFSET(Q268,-Q268,0)>50),SUM(OFFSET(E268,-Q268+1,0):E268),SUM(OFFSET(E268,-Q268,0):E268)),\"\"))","v":{"$error":"#NAME?"}},{"$f":"IF(ISNUMBER(L268),IF((OFFSET(Q268,-Q268,0)>50),SUM(OFFSET(G268,-Q268+1,0):G268),SUM(OFFSET(G268,-Q268,0):G268)),\"\")","v":""},null,null,{"$error":"#NAME?"},{"$error":"#NAME?"}]
["1992-10-07",null,null,null,0,{"$f":"IF(SUM($B$7:$B269)=0,\"\",IF(A269<>\"\",IF(A269<$B$3,\"N\",\"Y\"),\"\"))","v":""},0,10.5,0,null,1332,{"$f":"IF(AND(ISNUMBER(A269),NOT(ISNUMBER(A270))),IF((OFFSET(Q269,-Q269,0)>50),SUM(OFFSET(E269,-Q269+1,0):E269),SUM(OFFSET(E269,-Q269,0):E269)),IF(AND(ISNUMBER(P269),ISNUMBER(P270),P269  <P270),IF((OFFSET(Q269,-Q269,0)>50),SUM(OFFSET(E269,-Q269+1,0):E269),SUM(OFFSET(E269,-Q269,0):E269)),\"\"))","v":{"$error":"#NAME?"}},{"$f":"IF(ISNUMBER(L269),IF((OFFSET(Q269,-Q269,0)>50),SUM(OFFSET(G269,-Q269+1,0):G269),SUM(OFFSET(G269,-Q269,0):G269)),\"\")","v":""},null,null,{"$error":"#NAME?"},{"$error":"#NAME?"}]
["1992-10-14",null,null,null,0,{"$f":"IF(SUM($B$7:$B270)=0,\"\",IF(A270<>\"\",IF(A270<$B$3,\"N\",\"Y\"),\"\"))","v":""},0,10.5,0,null,1331,{"$f":"IF(AND(ISNUMBER(A270),NOT(ISNUMBER(A271))),IF((OFFSET(Q270,-Q270,0)>50),SUM(OFFSET(E270,-Q270+1,0):E270),SUM(OFFSET(E270,-Q270,0):E270)),IF(AND(ISNUMBER(P270),ISNUMBER(P271),P270  <P271),IF((OFFSET(Q270,-Q270,0)>50),SUM(OFFSET(E270,-Q270+1,0):E270),SUM(OFFSET(E270,-Q270,0):E270)),\"\"))","v":{"$error":"#NAME?"}},{"$f":"IF(ISNUMBER(L270),IF((OFFSET(Q270,-Q270,0)>50),SUM(OFFSET(G270,-Q270+1,0):G270),SUM(OFFSET(G270,-Q270,0):G270)),\"\")","v":""},null,null,{"$error":"#NAME?"},{"$error":"#NAME?"}]
["1992-10-21",null,null,null,0,{"$f":"IF(SUM($B$7:$B271)=0,\"\",IF(A271<>\"\",IF(A271<$B$3,\"N\",\"Y\"),\"\"))","v":""},0,10.5,0,null,1330,{"$f":"IF(AND(ISNUMBER(A271),NOT(ISNUMBER(A272))),IF((OFFSET(Q271,-Q271,0)>50),SUM(OFFSET(E271,-Q271+1,0):E271),SUM(OFFSET(E271,-Q271,0):E271)),IF(AND(ISNUMBER(P271),ISNUMBER(P272),P271  <P272),IF((OFFSET(Q271,-Q271,0)>50),SUM(OFFSET(E271,-Q271+1,0):E271),SUM(OFFSET(E271,-Q271,0):E271)),\"\"))","v":{"$error":"#NAME?"}},{"$f":"IF(ISNUMBER(L271),IF((OFFSET(Q271,-Q271,0)>50),SUM(OFFSET(G271,-Q271+1,0):G271),SUM(OFFSET(G271,-Q271,0):G271)),\"\")","v":""},null,null,{"$error":"#NAME?"},{"$error":"#NAME?"}]
["1992-10-28",null,null,null,0,{"$f":"IF(SUM($B$7:$B272)=0,\"\",IF(A272<>\"\",IF(A272<$B$3,\"N\",\"Y\"),\"\"))","v":""},0,10.5,0,null,1329,{"$f":"IF(AND(ISNUMBER(A272),NOT(ISNUMBER(A273))),IF((OFFSET(Q272,-Q272,0)>50),SUM(OFFSET(E272,-Q272+1,0):E272),SUM(OFFSET(E272,-Q272,0):E272)),IF(AND(ISNUMBER(P272),ISNUMBER(P273),P272  <P273),IF((OFFSET(Q272,-Q272,0)>50),SUM(OFFSET(E272,-Q272+1,0):E272),SUM(OFFSET(E272,-Q272,0):E272)),\"\"))","v":{"$error":"#NAME?"}},{"$f":"IF(ISNUMBER(L272),IF((OFFSET(Q272,-Q272,0)>50),SUM(OFFSET(G272,-Q272+1,0):G272),SUM(OFFSET(G272,-Q272,0):G272)),\"\")","v":""},null,null,{"$error":"#NAME?"},{"$error":"#NAME?"}]
["1992-11-04",null,null,null,0,{"$f":"IF(SUM($B$7:$B273)=0,\"\",IF(A273<>\"\",IF(A273<$B$3,\"N\",\"Y\"),\"\"))","v":""},0,10.5,0,null,1328,{"$f":"IF(AND(ISNUMBER(A273),NOT(ISNUMBER(A274))),IF((OFFSET(Q273,-Q273,0)>50),SUM(OFFSET(E273,-Q273+1,0):E273),SUM(OFFSET(E273,-Q273,0):E273)),IF(AND(ISNUMBER(P273),ISNUMBER(P274),P273  <P274),IF((OFFSET(Q273,-Q273,0)>50),SUM(OFFSET(E273,-Q273+1,0):E273),SUM(OFFSET(E273,-Q273,0):E273)),\"\"))","v":{"$error":"#NAME?"}},{"$f":"IF(ISNUMBER(L273),IF((OFFSET(Q273,-Q273,0)>50),SUM(OFFSET(G273,-Q273+1,0):G273),SUM(OFFSET(G273,-Q273,0):G273)),\"\")","v":""},null,null,{"$error":"#NAME?"},{"$error":"#NAME?"}]
["1992-11-11",null,null,null,0,{"$f":"IF(SUM($B$7:$B274)=0,\"\",IF(A274<>\"\",IF(A274<$B$3,\"N\",\"Y\"),\"\"))","v":""},0,10.5,0,null,1327,{"$f":"IF(AND(ISNUMBER(A274),NOT(ISNUMBER(A275))),IF((OFFSET(Q274,-Q274,0)>50),SUM(OFFSET(E274,-Q274+1,0):E274),SUM(OFFSET(E274,-Q274,0):E274)),IF(AND(ISNUMBER(P274),ISNUMBER(P275),P274  <P275),IF((OFFSET(Q274,-Q274,0)>50),SUM(OFFSET(E274,-Q274+1,0):E274),SUM(OFFSET(E274,-Q274,0):E274)),\"\"))","v":{"$error":"#NAME?"}},{"$f":"IF(ISNUMBER(L274),IF((OFFSET(Q274,-Q274,0)>50),SUM(OFFSET(G274,-Q274+1,0):G274),SUM(OFFSET(G274,-Q274,0):G274)),\"\")","v":""},null,null,{"$error":"#NAME?"},{"$error":"#NAME?"}]
["1992-11-18",null,null,null,0,{"$f":"IF(SUM($B$7:$B275)=0,\"\",IF(A275<>\"\",IF(A275<$B$3,\"N\",\"Y\"),\"\"))","v":""},0,10.5,0,null,1326,{"$f":"IF(AND(ISNUMBER(A275),NOT(ISNUMBER(A276))),IF((OFFSET(Q275,-Q275,0)>50),SUM(OFFSET(E275,-Q275+1,0):E275),SUM(OFFSET(E275,-Q275,0):E275)),IF(AND(ISNUMBER(P275),ISNUMBER(P276),P275  <P276),IF((OFFSET(Q275,-Q275,0)>50),SUM(OFFSET(E275,-Q275+1,0):E275),SUM(OFFSET(E275,-Q275,0):E275)),\"\"))","v":{"$error":"#NAME?"}},{"$f":"IF(ISNUMBER(L275),IF((OFFSET(Q275,-Q275,0)>50),SUM(OFFSET(G275,-Q275+1,0):G275),SUM(OFFSET(G275,-Q275,0):G275)),\"\")","v":""},null,null,{"$error":"#NAME?"},{"$error":"#NAME?"}]
["1992-11-25",null,null,null,0,{"$f":"IF(SUM($B$7:$B276)=0,\"\",IF(A276<>\"\",IF(A276<$B$3,\"N\",\"Y\"),\"\"))","v":""},0,10.5,0,null,1325,{"$f":"IF(AND(ISNUMBER(A276),NOT(ISNUMBER(A277))),IF((OFFSET(Q276,-Q276,0)>50),SUM(OFFSET(E276,-Q276+1,0):E276),SUM(OFFSET(E276,-Q276,0):E276)),IF(AND(ISNUMBER(P276),ISNUMBER(P277),P276  <P277),IF((OFFSET(Q276,-Q276,0)>50),SUM(OFFSET(E276,-Q276+1,0):E276),SUM(OFFSET(E276,-Q276,0):E276)),\"\"))","v":{"$error":"#NAME?"}},{"$f":"IF(ISNUMBER(L276),IF((OFFSET(Q276,-Q276,0)>50),SUM(OFFSET(G276,-Q276+1,0):G276),SUM(OFFSET(G276,-Q276,0):G276)),\"\")","v":""},null,null,{"$error":"#NAME?"},{"$error":"#NAME?"}]
["1992-12-02",null,null,null,0,{"$f":"IF(SUM($B$7:$B277)=0,\"\",IF(A277<>\"\",IF(A277<$B$3,\"N\",\"Y\"),\"\"))","v":""},0,10.5,0,null,1324,{"$f":"IF(AND(ISNUMBER(A277),NOT(ISNUMBER(A278))),IF((OFFSET(Q277,-Q277,0)>50),SUM(OFFSET(E277,-Q277+1,0):E277),SUM(OFFSET(E277,-Q277,0):E277)),IF(AND(ISNUMBER(P277),ISNUMBER(P278),P277  <P278),IF((OFFSET(Q277,-Q277,0)>50),SUM(OFFSET(E277,-Q277+1,0):E277),SUM(OFFSET(E277,-Q277,0):E277)),\"\"))","v":{"$error":"#NAME?"}},{"$f":"IF(ISNUMBER(L277),IF((OFFSET(Q277,-Q277,0)>50),SUM(OFFSET(G277,-Q277+1,0):G277),SUM(OFFSET(G277,-Q277,0):G277)),\"\")","v":""},null,null,{"$error":"#NAME?"},{"$error":"#NAME?"}]
["1992-12-09",null,null,null,0,{"$f":"IF(SUM($B$7:$B278)=0,\"\",IF(A278<>\"\",IF(A278<$B$3,\"N\",\"Y\"),\"\"))","v":""},0,10.5,0,null,1323,{"$f":"IF(AND(ISNUMBER(A278),NOT(ISNUMBER(A279))),IF((OFFSET(Q278,-Q278,0)>50),SUM(OFFSET(E278,-Q278+1,0):E278),SUM(OFFSET(E278,-Q278,0):E278)),IF(AND(ISNUMBER(P278),ISNUMBER(P279),P278  <P279),IF((OFFSET(Q278,-Q278,0)>50),SUM(OFFSET(E278,-Q278+1,0):E278),SUM(OFFSET(E278,-Q278,0):E278)),\"\"))","v":{"$error":"#NAME?"}},{"$f":"IF(ISNUMBER(L278),IF((OFFSET(Q278,-Q278,0)>50),SUM(OFFSET(G278,-Q278+1,0):G278),SUM(OFFSET(G278,-Q278,0):G278)),\"\")","v":""},null,null,{"$error":"#NAME?"},{"$error":"#NAME?"}]
["1992-12-16",null,null,null,0,{"$f":"IF(SUM($B$7:$B279)=0,\"\",IF(A279<>\"\",IF(A279<$B$3,\"N\",\"Y\"),\"\"))","v":""},0,10.5,0,null,1322,{"$f":"IF(AND(ISNUMBER(A279),NOT(ISNUMBER(A280))),IF((OFFSET(Q279,-Q279,0)>50),SUM(OFFSET(E279,-Q279+1,0):E279),SUM(OFFSET(E279,-Q279,0):E279)),IF(AND(ISNUMBER(P279),ISNUMBER(P280),P279  <P280),IF((OFFSET(Q279,-Q279,0)>50),SUM(OFFSET(E279,-Q279+1,0):E279),SUM(OFFSET(E279,-Q279,0):E279)),\"\"))","v":{"$error":"#NAME?"}},{"$f":"IF(ISNUMBER(L279),IF((OFFSET(Q279,-Q279,0)>50),SUM(OFFSET(G279,-Q279+1,0):G279),SUM(OFFSET(G279,-Q279,0):G279)),\"\")","v":""},null,null,{"$error":"#NAME?"},{"$error":"#NAME?"}]
["1992-12-23",null,null,null,0,{"$f":"IF(SUM($B$7:$B280)=0,\"\",IF(A280<>\"\",IF(A280<$B$3,\"N\",\"Y\"),\"\"))","v":""},0,10.5,0,null,1321,{"$f":"IF(AND(ISNUMBER(A280),NOT(ISNUMBER(A281))),IF((OFFSET(Q280,-Q280,0)>50),SUM(OFFSET(E280,-Q280+1,0):E280),SUM(OFFSET(E280,-Q280,0):E280)),IF(AND(ISNUMBER(P280),ISNUMBER(P281),P280  <P281),IF((OFFSET(Q280,-Q280,0)>50),SUM(OFFSET(E280,-Q280+1,0):E280),SUM(OFFSET(E280,-Q280,0):E280)),\"\"))","v":{"$error":"#NAME?"}},{"$f":"IF(ISNUMBER(L280),IF((OFFSET(Q280,-Q280,0)>50),SUM(OFFSET(G280,-Q280+1,0):G280),SUM(OFFSET(G280,-Q280,0):G280)),\"\")","v":""},null,null,{"$error":"#NAME?"},{"$error":"#NAME?"}]
["1992-12-30",null,null,null,0,{"$f":"IF(SUM($B$7:$B281)=0,\"\",IF(A281<>\"\",IF(A281<$B$3,\"N\",\"Y\"),\"\"))","v":""},0,10.5,0,null,1320,{"$f":"IF(AND(ISNUMBER(A281),NOT(ISNUMBER(A282))),IF((OFFSET(Q281,-Q281,0)>50),SUM(OFFSET(E281,-Q281+1,0):E281),SUM(OFFSET(E281,-Q281,0):E281)),IF(AND(ISNUMBER(P281),ISNUMBER(P282),P281  <P282),IF((OFFSET(Q281,-Q281,0)>50),SUM(OFFSET(E281,-Q281+1,0):E281),SUM(OFFSET(E281,-Q281,0):E281)),\"\"))","v":{"$error":"#NAME?"}},{"$f":"IF(ISNUMBER(L281),IF((OFFSET(Q281,-Q281,0)>50),SUM(OFFSET(G281,-Q281+1,0):G281),SUM(OFFSET(G281,-Q281,0):G281)),\"\")","v":""},null,null,{"$error":"#NAME?"},{"$error":"#NAME?"}]
["1993-01-06",null,null,null,0,{"$f":"IF(SUM($B$7:$B282)=0,\"\",IF(A282<>\"\",IF(A282<$B$3,\"N\",\"Y\"),\"\"))","v":""},0,10.5,0,null,1319,{"$f":"IF(AND(ISNUMBER(A282),NOT(ISNUMBER(A283))),IF((OFFSET(Q282,-Q282,0)>50),SUM(OFFSET(E282,-Q282+1,0):E282),SUM(OFFSET(E282,-Q282,0):E282)),IF(AND(ISNUMBER(P282),ISNUMBER(P283),P282  <P283),IF((OFFSET(Q282,-Q282,0)>50),SUM(OFFSET(E282,-Q282+1,0):E282),SUM(OFFSET(E282,-Q282,0):E282)),\"\"))","v":{"$error":"#NAME?"}},{"$f":"IF(ISNUMBER(L282),IF((OFFSET(Q282,-Q282,0)>50),SUM(OFFSET(G282,-Q282+1,0):G282),SUM(OFFSET(G282,-Q282,0):G282)),\"\")","v":""},null,null,{"$error":"#NAME?"},{"$error":"#NAME?"}]
["1993-01-13",null,null,null,0,{"$f":"IF(SUM($B$7:$B283)=0,\"\",IF(A283<>\"\",IF(A283<$B$3,\"N\",\"Y\"),\"\"))","v":""},0,10.5,0,null,1318,{"$f":"IF(AND(ISNUMBER(A283),NOT(ISNUMBER(A284))),IF((OFFSET(Q283,-Q283,0)>50),SUM(OFFSET(E283,-Q283+1,0):E283),SUM(OFFSET(E283,-Q283,0):E283)),IF(AND(ISNUMBER(P283),ISNUMBER(P284),P283  <P284),IF((OFFSET(Q283,-Q283,0)>50),SUM(OFFSET(E283,-Q283+1,0):E283),SUM(OFFSET(E283,-Q283,0):E283)),\"\"))","v":{"$error":"#NAME?"}},{"$f":"IF(ISNUMBER(L283),IF((OFFSET(Q283,-Q283,0)>50),SUM(OFFSET(G283,-Q283+1,0):G283),SUM(OFFSET(G283,-Q283,0):G283)),\"\")","v":""},null,null,{"$error":"#NAME?"},{"$error":"#NAME?"}]
["1993-01-20",null,null,null,0,{"$f":"IF(SUM($B$7:$B284)=0,\"\",IF(A284<>\"\",IF(A284<$B$3,\"N\",\"Y\"),\"\"))","v":""},0,10.5,0,null,1317,{"$f":"IF(AND(ISNUMBER(A284),NOT(ISNUMBER(A285))),IF((OFFSET(Q284,-Q284,0)>50),SUM(OFFSET(E284,-Q284+1,0):E284),SUM(OFFSET(E284,-Q284,0):E284)),IF(AND(ISNUMBER(P284),ISNUMBER(P285),P284  <P285),IF((OFFSET(Q284,-Q284,0)>50),SUM(OFFSET(E284,-Q284+1,0):E284),SUM(OFFSET(E284,-Q284,0):E284)),\"\"))","v":{"$error":"#NAME?"}},{"$f":"IF(ISNUMBER(L284),IF((OFFSET(Q284,-Q284,0)>50),SUM(OFFSET(G284,-Q284+1,0):G284),SUM(OFFSET(G284,-Q284,0):G284)),\"\")","v":""},null,null,{"$error":"#NAME?"},{"$error":"#NAME?"}]
["1993-01-27",null,null,null,0,{"$f":"IF(SUM($B$7:$B285)=0,\"\",IF(A285<>\"\",IF(A285<$B$3,\"N\",\"Y\"),\"\"))","v":""},0,10.5,0,null,1316,{"$f":"IF(AND(ISNUMBER(A285),NOT(ISNUMBER(A286))),IF((OFFSET(Q285,-Q285,0)>50),SUM(OFFSET(E285,-Q285+1,0):E285),SUM(OFFSET(E285,-Q285,0):E285)),IF(AND(ISNUMBER(P285),ISNUMBER(P286),P285  <P286),IF((OFFSET(Q285,-Q285,0)>50),SUM(OFFSET(E285,-Q285+1,0):E285),SUM(OFFSET(E285,-Q285,0):E285)),\"\"))","v":{"$error":"#NAME?"}},{"$f":"IF(ISNUMBER(L285),IF((OFFSET(Q285,-Q285,0)>50),SUM(OFFSET(G285,-Q285+1,0):G285),SUM(OFFSET(G285,-Q285,0):G285)),\"\")","v":""},null,null,{"$error":"#NAME?"},{"$error":"#NAME?"}]
["1993-02-03",null,null,null,0,{"$f":"IF(SUM($B$7:$B286)=0,\"\",IF(A286<>\"\",IF(A286<$B$3,\"N\",\"Y\"),\"\"))","v":""},0,10.5,0,null,1315,{"$f":"IF(AND(ISNUMBER(A286),NOT(ISNUMBER(A287))),IF((OFFSET(Q286,-Q286,0)>50),SUM(OFFSET(E286,-Q286+1,0):E286),SUM(OFFSET(E286,-Q286,0):E286)),IF(AND(ISNUMBER(P286),ISNUMBER(P287),P286  <P287),IF((OFFSET(Q286,-Q286,0)>50),SUM(OFFSET(E286,-Q286+1,0):E286),SUM(OFFSET(E286,-Q286,0):E286)),\"\"))","v":{"$error":"#NAME?"}},{"$f":"IF(ISNUMBER(L286),IF((OFFSET(Q286,-Q286,0)>50),SUM(OFFSET(G286,-Q286+1,0):G286),SUM(OFFSET(G286,-Q286,0):G286)),\"\")","v":""},null,null,{"$error":"#NAME?"},{"$error":"#NAME?"}]
["1993-02-10",null,null,null,0,{"$f":"IF(SUM($B$7:$B287)=0,\"\",IF(A287<>\"\",IF(A287<$B$3,\"N\",\"Y\"),\"\"))","v":""},0,10.5,0,null,1314,{"$f":"IF(AND(ISNUMBER(A287),NOT(ISNUMBER(A288))),IF((OFFSET(Q287,-Q287,0)>50),SUM(OFFSET(E287,-Q287+1,0):E287),SUM(OFFSET(E287,-Q287,0):E287)),IF(AND(ISNUMBER(P287),ISNUMBER(P288),P287  <P288),IF((OFFSET(Q287,-Q287,0)>50),SUM(OFFSET(E287,-Q287+1,0):E287),SUM(OFFSET(E287,-Q287,0):E287)),\"\"))","v":{"$error":"#NAME?"}},{"$f":"IF(ISNUMBER(L287),IF((OFFSET(Q287,-Q287,0)>50),SUM(OFFSET(G287,-Q287+1,0):G287),SUM(OFFSET(G287,-Q287,0):G287)),\"\")","v":""},null,null,{"$error":"#NAME?"},{"$error":"#NAME?"}]
["1993-02-17",null,null,null,0,{"$f":"IF(SUM($B$7:$B288)=0,\"\",IF(A288<>\"\",IF(A288<$B$3,\"N\",\"Y\"),\"\"))","v":""},0,10.5,0,null,1313,{"$f":"IF(AND(ISNUMBER(A288),NOT(ISNUMBER(A289))),IF((OFFSET(Q288,-Q288,0)>50),SUM(OFFSET(E288,-Q288+1,0):E288),SUM(OFFSET(E288,-Q288,0):E288)),IF(AND(ISNUMBER(P288),ISNUMBER(P289),P288  <P289),IF((OFFSET(Q288,-Q288,0)>50),SUM(OFFSET(E288,-Q288+1,0):E288),SUM(OFFSET(E288,-Q288,0):E288)),\"\"))","v":{"$error":"#NAME?"}},{"$f":"IF(ISNUMBER(L288),IF((OFFSET(Q288,-Q288,0)>50),SUM(OFFSET(G288,-Q288+1,0):G288),SUM(OFFSET(G288,-Q288,0):G288)),\"\")","v":""},null,null,{"$error":"#NAME?"},{"$error":"#NAME?"}]
["1993-02-24",null,null,null,0,{"$f":"IF(SUM($B$7:$B289)=0,\"\",IF(A289<>\"\",IF(A289<$B$3,\"N\",\"Y\"),\"\"))","v":""},0,10.5,0,null,1312,{"$f":"IF(AND(ISNUMBER(A289),NOT(ISNUMBER(A290))),IF((OFFSET(Q289,-Q289,0)>50),SUM(OFFSET(E289,-Q289+1,0):E289),SUM(OFFSET(E289,-Q289,0):E289)),IF(AND(ISNUMBER(P289),ISNUMBER(P290),P289  <P290),IF((OFFSET(Q289,-Q289,0)>50),SUM(OFFSET(E289,-Q289+1,0):E289),SUM(OFFSET(E289,-Q289,0):E289)),\"\"))","v":{"$error":"#NAME?"}},{"$f":"IF(ISNUMBER(L289),IF((OFFSET(Q289,-Q289,0)>50),SUM(OFFSET(G289,-Q289+1,0):G289),SUM(OFFSET(G289,-Q289,0):G289)),\"\")","v":""},null,null,{"$error":"#NAME?"},{"$error":"#NAME?"}]
["1993-03-03",null,null,null,0,{"$f":"IF(SUM($B$7:$B290)=0,\"\",IF(A290<>\"\",IF(A290<$B$3,\"N\",\"Y\"),\"\"))","v":""},0,10.5,0,null,1311,{"$f":"IF(AND(ISNUMBER(A290),NOT(ISNUMBER(A291))),IF((OFFSET(Q290,-Q290,0)>50),SUM(OFFSET(E290,-Q290+1,0):E290),SUM(OFFSET(E290,-Q290,0):E290)),IF(AND(ISNUMBER(P290),ISNUMBER(P291),P290  <P291),IF((OFFSET(Q290,-Q290,0)>50),SUM(OFFSET(E290,-Q290+1,0):E290),SUM(OFFSET(E290,-Q290,0):E290)),\"\"))","v":{"$error":"#NAME?"}},{"$f":"IF(ISNUMBER(L290),IF((OFFSET(Q290,-Q290,0)>50),SUM(OFFSET(G290,-Q290+1,0):G290),SUM(OFFSET(G290,-Q290,0):G290)),\"\")","v":""},null,null,{"$error":"#NAME?"},{"$error":"#NAME?"}]
["1993-03-10",null,null,null,0,{"$f":"IF(SUM($B$7:$B291)=0,\"\",IF(A291<>\"\",IF(A291<$B$3,\"N\",\"Y\"),\"\"))","v":""},0,10.5,0,null,1310,{"$f":"IF(AND(ISNUMBER(A291),NOT(ISNUMBER(A292))),IF((OFFSET(Q291,-Q291,0)>50),SUM(OFFSET(E291,-Q291+1,0):E291),SUM(OFFSET(E291,-Q291,0):E291)),IF(AND(ISNUMBER(P291),ISNUMBER(P292),P291  <P292),IF((OFFSET(Q291,-Q291,0)>50),SUM(OFFSET(E291,-Q291+1,0):E291),SUM(OFFSET(E291,-Q291,0):E291)),\"\"))","v":{"$error":"#NAME?"}},{"$f":"IF(ISNUMBER(L291),IF((OFFSET(Q291,-Q291,0)>50),SUM(OFFSET(G291,-Q291+1,0):G291),SUM(OFFSET(G291,-Q291,0):G291)),\"\")","v":""},null,null,{"$error":"#NAME?"},{"$error":"#NAME?"}]
["1993-03-17",null,null,null,0,{"$f":"IF(SUM($B$7:$B292)=0,\"\",IF(A292<>\"\",IF(A292<$B$3,\"N\",\"Y\"),\"\"))","v":""},0,10.5,0,null,1309,{"$f":"IF(AND(ISNUMBER(A292),NOT(ISNUMBER(A293))),IF((OFFSET(Q292,-Q292,0)>50),SUM(OFFSET(E292,-Q292+1,0):E292),SUM(OFFSET(E292,-Q292,0):E292)),IF(AND(ISNUMBER(P292),ISNUMBER(P293),P292  <P293),IF((OFFSET(Q292,-Q292,0)>50),SUM(OFFSET(E292,-Q292+1,0):E292),SUM(OFFSET(E292,-Q292,0):E292)),\"\"))","v":{"$error":"#NAME?"}},{"$f":"IF(ISNUMBER(L292),IF((OFFSET(Q292,-Q292,0)>50),SUM(OFFSET(G292,-Q292+1,0):G292),SUM(OFFSET(G292,-Q292,0):G292)),\"\")","v":""},null,null,{"$error":"#NAME?"},{"$error":"#NAME?"}]
["1993-03-24",null,null,null,0,{"$f":"IF(SUM($B$7:$B293)=0,\"\",IF(A293<>\"\",IF(A293<$B$3,\"N\",\"Y\"),\"\"))","v":""},0,10.5,0,null,1308,{"$f":"IF(AND(ISNUMBER(A293),NOT(ISNUMBER(A294))),IF((OFFSET(Q293,-Q293,0)>50),SUM(OFFSET(E293,-Q293+1,0):E293),SUM(OFFSET(E293,-Q293,0):E293)),IF(AND(ISNUMBER(P293),ISNUMBER(P294),P293  <P294),IF((OFFSET(Q293,-Q293,0)>50),SUM(OFFSET(E293,-Q293+1,0):E293),SUM(OFFSET(E293,-Q293,0):E293)),\"\"))","v":{"$error":"#NAME?"}},{"$f":"IF(ISNUMBER(L293),IF((OFFSET(Q293,-Q293,0)>50),SUM(OFFSET(G293,-Q293+1,0):G293),SUM(OFFSET(G293,-Q293,0):G293)),\"\")","v":""},null,null,{"$error":"#NAME?"},{"$error":"#NAME?"}]
["1993-03-31",null,null,null,0,{"$f":"IF(SUM($B$7:$B294)=0,\"\",IF(A294<>\"\",IF(A294<$B$3,\"N\",\"Y\"),\"\"))","v":""},0,10.5,0,null,1307,{"$f":"IF(AND(ISNUMBER(A294),NOT(ISNUMBER(A295))),IF((OFFSET(Q294,-Q294,0)>50),SUM(OFFSET(E294,-Q294+1,0):E294),SUM(OFFSET(E294,-Q294,0):E294)),IF(AND(ISNUMBER(P294),ISNUMBER(P295),P294  <P295),IF((OFFSET(Q294,-Q294,0)>50),SUM(OFFSET(E294,-Q294+1,0):E294),SUM(OFFSET(E294,-Q294,0):E294)),\"\"))","v":{"$error":"#NAME?"}},{"$f":"IF(ISNUMBER(L294),IF((OFFSET(Q294,-Q294,0)>50),SUM(OFFSET(G294,-Q294+1,0):G294),SUM(OFFSET(G294,-Q294,0):G294)),\"\")","v":""},null,null,{"$error":"#NAME?"},{"$error":"#NAME?"}]
["1993-04-07",null,null,null,0,{"$f":"IF(SUM($B$7:$B295)=0,\"\",IF(A295<>\"\",IF(A295<$B$3,\"N\",\"Y\"),\"\"))","v":""},0,10.5,0,null,1306,{"$f":"IF(AND(ISNUMBER(A295),NOT(ISNUMBER(A296))),IF((OFFSET(Q295,-Q295,0)>50),SUM(OFFSET(E295,-Q295+1,0):E295),SUM(OFFSET(E295,-Q295,0):E295)),IF(AND(ISNUMBER(P295),ISNUMBER(P296),P295  <P296),IF((OFFSET(Q295,-Q295,0)>50),SUM(OFFSET(E295,-Q295+1,0):E295),SUM(OFFSET(E295,-Q295,0):E295)),\"\"))","v":{"$error":"#NAME?"}},{"$f":"IF(ISNUMBER(L295),IF((OFFSET(Q295,-Q295,0)>50),SUM(OFFSET(G295,-Q295+1,0):G295),SUM(OFFSET(G295,-Q295,0):G295)),\"\")","v":""},null,null,{"$error":"#NAME?"},{"$error":"#NAME?"}]
["1993-04-14",null,null,null,0,{"$f":"IF(SUM($B$7:$B296)=0,\"\",IF(A296<>\"\",IF(A296<$B$3,\"N\",\"Y\"),\"\"))","v":""},0,10.5,0,null,1305,{"$f":"IF(AND(ISNUMBER(A296),NOT(ISNUMBER(A297))),IF((OFFSET(Q296,-Q296,0)>50),SUM(OFFSET(E296,-Q296+1,0):E296),SUM(OFFSET(E296,-Q296,0):E296)),IF(AND(ISNUMBER(P296),ISNUMBER(P297),P296  <P297),IF((OFFSET(Q296,-Q296,0)>50),SUM(OFFSET(E296,-Q296+1,0):E296),SUM(OFFSET(E296,-Q296,0):E296)),\"\"))","v":{"$error":"#NAME?"}},{"$f":"IF(ISNUMBER(L296),IF((OFFSET(Q296,-Q296,0)>50),SUM(OFFSET(G296,-Q296+1,0):G296),SUM(OFFSET(G296,-Q296,0):G296)),\"\")","v":""},null,null,{"$error":"#NAME?"},{"$error":"#NAME?"}]
["1993-04-21",null,null,null,0,{"$f":"IF(SUM($B$7:$B297)=0,\"\",IF(A297<>\"\",IF(A297<$B$3,\"N\",\"Y\"),\"\"))","v":""},0,10.5,0,null,1304,{"$f":"IF(AND(ISNUMBER(A297),NOT(ISNUMBER(A298))),IF((OFFSET(Q297,-Q297,0)>50),SUM(OFFSET(E297,-Q297+1,0):E297),SUM(OFFSET(E297,-Q297,0):E297)),IF(AND(ISNUMBER(P297),ISNUMBER(P298),P297  <P298),IF((OFFSET(Q297,-Q297,0)>50),SUM(OFFSET(E297,-Q297+1,0):E297),SUM(OFFSET(E297,-Q297,0):E297)),\"\"))","v":{"$error":"#NAME?"}},{"$f":"IF(ISNUMBER(L297),IF((OFFSET(Q297,-Q297,0)>50),SUM(OFFSET(G297,-Q297+1,0):G297),SUM(OFFSET(G297,-Q297,0):G297)),\"\")","v":""},null,null,{"$error":"#NAME?"},{"$error":"#NAME?"}]
["1993-04-28",null,null,null,0,{"$f":"IF(SUM($B$7:$B298)=0,\"\",IF(A298<>\"\",IF(A298<$B$3,\"N\",\"Y\"),\"\"))","v":""},0,10.5,0,null,1303,{"$f":"IF(AND(ISNUMBER(A298),NOT(ISNUMBER(A299))),IF((OFFSET(Q298,-Q298,0)>50),SUM(OFFSET(E298,-Q298+1,0):E298),SUM(OFFSET(E298,-Q298,0):E298)),IF(AND(ISNUMBER(P298),ISNUMBER(P299),P298  <P299),IF((OFFSET(Q298,-Q298,0)>50),SUM(OFFSET(E298,-Q298+1,0):E298),SUM(OFFSET(E298,-Q298,0):E298)),\"\"))","v":{"$error":"#NAME?"}},{"$f":"IF(ISNUMBER(L298),IF((OFFSET(Q298,-Q298,0)>50),SUM(OFFSET(G298,-Q298+1,0):G298),SUM(OFFSET(G298,-Q298,0):G298)),\"\")","v":""},null,null,{"$error":"#NAME?"},{"$error":"#NAME?"}]
["1993-05-05",null,null,null,0,{"$f":"IF(SUM($B$7:$B299)=0,\"\",IF(A299<>\"\",IF(A299<$B$3,\"N\",\"Y\"),\"\"))","v":""},0,10.5,0,null,1302,{"$f":"IF(AND(ISNUMBER(A299),NOT(ISNUMBER(A300))),IF((OFFSET(Q299,-Q299,0)>50),SUM(OFFSET(E299,-Q299+1,0):E299),SUM(OFFSET(E299,-Q299,0):E299)),IF(AND(ISNUMBER(P299),ISNUMBER(P300),P299  <P300),IF((OFFSET(Q299,-Q299,0)>50),SUM(OFFSET(E299,-Q299+1,0):E299),SUM(OFFSET(E299,-Q299,0):E299)),\"\"))","v":{"$error":"#NAME?"}},{"$f":"IF(ISNUMBER(L299),IF((OFFSET(Q299,-Q299,0)>50),SUM(OFFSET(G299,-Q299+1,0):G299),SUM(OFFSET(G299,-Q299,0):G299)),\"\")","v":""},null,null,{"$error":"#NAME?"},{"$error":"#NAME?"}]
["1993-05-12",null,null,null,0,{"$f":"IF(SUM($B$7:$B300)=0,\"\",IF(A300<>\"\",IF(A300<$B$3,\"N\",\"Y\"),\"\"))","v":""},0,10.5,0,null,1301,{"$f":"IF(AND(ISNUMBER(A300),NOT(ISNUMBER(A301))),IF((OFFSET(Q300,-Q300,0)>50),SUM(OFFSET(E300,-Q300+1,0):E300),SUM(OFFSET(E300,-Q300,0):E300)),IF(AND(ISNUMBER(P300),ISNUMBER(P301),P300  <P301),IF((OFFSET(Q300,-Q300,0)>50),SUM(OFFSET(E300,-Q300+1,0):E300),SUM(OFFSET(E300,-Q300,0):E300)),\"\"))","v":{"$error":"#NAME?"}},{"$f":"IF(ISNUMBER(L300),IF((OFFSET(Q300,-Q300,0)>50),SUM(OFFSET(G300,-Q300+1,0):G300),SUM(OFFSET(G300,-Q300,0):G300)),\"\")","v":""},null,null,{"$error":"#NAME?"},{"$error":"#NAME?"}]
["1993-05-19",null,null,null,0,{"$f":"IF(SUM($B$7:$B301)=0,\"\",IF(A301<>\"\",IF(A301<$B$3,\"N\",\"Y\"),\"\"))","v":""},0,10.5,0,null,1300,{"$f":"IF(AND(ISNUMBER(A301),NOT(ISNUMBER(A302))),IF((OFFSET(Q301,-Q301,0)>50),SUM(OFFSET(E301,-Q301+1,0):E301),SUM(OFFSET(E301,-Q301,0):E301)),IF(AND(ISNUMBER(P301),ISNUMBER(P302),P301  <P302),IF((OFFSET(Q301,-Q301,0)>50),SUM(OFFSET(E301,-Q301+1,0):E301),SUM(OFFSET(E301,-Q301,0):E301)),\"\"))","v":{"$error":"#NAME?"}},{"$f":"IF(ISNUMBER(L301),IF((OFFSET(Q301,-Q301,0)>50),SUM(OFFSET(G301,-Q301+1,0):G301),SUM(OFFSET(G301,-Q301,0):G301)),\"\")","v":""},null,null,{"$error":"#NAME?"},{"$error":"#NAME?"}]
["1993-05-26",null,null,null,0,{"$f":"IF(SUM($B$7:$B302)=0,\"\",IF(A302<>\"\",IF(A302<$B$3,\"N\",\"Y\"),\"\"))","v":""},0,10.5,0,null,1299,{"$f":"IF(AND(ISNUMBER(A302),NOT(ISNUMBER(A303))),IF((OFFSET(Q302,-Q302,0)>50),SUM(OFFSET(E302,-Q302+1,0):E302),SUM(OFFSET(E302,-Q302,0):E302)),IF(AND(ISNUMBER(P302),ISNUMBER(P303),P302  <P303),IF((OFFSET(Q302,-Q302,0)>50),SUM(OFFSET(E302,-Q302+1,0):E302),SUM(OFFSET(E302,-Q302,0):E302)),\"\"))","v":{"$error":"#NAME?"}},{"$f":"IF(ISNUMBER(L302),IF((OFFSET(Q302,-Q302,0)>50),SUM(OFFSET(G302,-Q302+1,0):G302),SUM(OFFSET(G302,-Q302,0):G302)),\"\")","v":""},null,null,{"$error":"#NAME?"},{"$error":"#NAME?"}]
["1993-06-02",null,null,null,0,{"$f":"IF(SUM($B$7:$B303)=0,\"\",IF(A303<>\"\",IF(A303<$B$3,\"N\",\"Y\"),\"\"))","v":""},0,10.5,0,null,1298,{"$f":"IF(AND(ISNUMBER(A303),NOT(ISNUMBER(A304))),IF((OFFSET(Q303,-Q303,0)>50),SUM(OFFSET(E303,-Q303+1,0):E303),SUM(OFFSET(E303,-Q303,0):E303)),IF(AND(ISNUMBER(P303),ISNUMBER(P304),P303  <P304),IF((OFFSET(Q303,-Q303,0)>50),SUM(OFFSET(E303,-Q303+1,0):E303),SUM(OFFSET(E303,-Q303,0):E303)),\"\"))","v":{"$error":"#NAME?"}},{"$f":"IF(ISNUMBER(L303),IF((OFFSET(Q303,-Q303,0)>50),SUM(OFFSET(G303,-Q303+1,0):G303),SUM(OFFSET(G303,-Q303,0):G303)),\"\")","v":""},null,null,{"$error":"#NAME?"},{"$error":"#NAME?"}]
["1993-06-09",null,null,null,0,{"$f":"IF(SUM($B$7:$B304)=0,\"\",IF(A304<>\"\",IF(A304<$B$3,\"N\",\"Y\"),\"\"))","v":""},0,10.5,0,null,1297,{"$f":"IF(AND(ISNUMBER(A304),NOT(ISNUMBER(A305))),IF((OFFSET(Q304,-Q304,0)>50),SUM(OFFSET(E304,-Q304+1,0):E304),SUM(OFFSET(E304,-Q304,0):E304)),IF(AND(ISNUMBER(P304),ISNUMBER(P305),P304  <P305),IF((OFFSET(Q304,-Q304,0)>50),SUM(OFFSET(E304,-Q304+1,0):E304),SUM(OFFSET(E304,-Q304,0):E304)),\"\"))","v":{"$error":"#NAME?"}},{"$f":"IF(ISNUMBER(L304),IF((OFFSET(Q304,-Q304,0)>50),SUM(OFFSET(G304,-Q304+1,0):G304),SUM(OFFSET(G304,-Q304,0):G304)),\"\")","v":""},null,null,{"$error":"#NAME?"},{"$error":"#NAME?"}]
["1993-06-16",null,null,null,0,{"$f":"IF(SUM($B$7:$B305)=0,\"\",IF(A305<>\"\",IF(A305<$B$3,\"N\",\"Y\"),\"\"))","v":""},0,10.5,0,null,1296,{"$f":"IF(AND(ISNUMBER(A305),NOT(ISNUMBER(A306))),IF((OFFSET(Q305,-Q305,0)>50),SUM(OFFSET(E305,-Q305+1,0):E305),SUM(OFFSET(E305,-Q305,0):E305)),IF(AND(ISNUMBER(P305),ISNUMBER(P306),P305  <P306),IF((OFFSET(Q305,-Q305,0)>50),SUM(OFFSET(E305,-Q305+1,0):E305),SUM(OFFSET(E305,-Q305,0):E305)),\"\"))","v":{"$error":"#NAME?"}},{"$f":"IF(ISNUMBER(L305),IF((OFFSET(Q305,-Q305,0)>50),SUM(OFFSET(G305,-Q305+1,0):G305),SUM(OFFSET(G305,-Q305,0):G305)),\"\")","v":""},null,null,{"$error":"#NAME?"},{"$error":"#NAME?"}]
["1993-06-23",null,null,null,0,{"$f":"IF(SUM($B$7:$B306)=0,\"\",IF(A306<>\"\",IF(A306<$B$3,\"N\",\"Y\"),\"\"))","v":""},0,10.5,0,null,1295,{"$f":"IF(AND(ISNUMBER(A306),NOT(ISNUMBER(A307))),IF((OFFSET(Q306,-Q306,0)>50),SUM(OFFSET(E306,-Q306+1,0):E306),SUM(OFFSET(E306,-Q306,0):E306)),IF(AND(ISNUMBER(P306),ISNUMBER(P307),P306  <P307),IF((OFFSET(Q306,-Q306,0)>50),SUM(OFFSET(E306,-Q306+1,0):E306),SUM(OFFSET(E306,-Q306,0):E306)),\"\"))","v":{"$error":"#NAME?"}},{"$f":"IF(ISNUMBER(L306),IF((OFFSET(Q306,-Q306,0)>50),SUM(OFFSET(G306,-Q306+1,0):G306),SUM(OFFSET(G306,-Q306,0):G306)),\"\")","v":""},null,null,{"$error":"#NAME?"},{"$error":"#NAME?"}]
["1993-06-30",null,null,null,0,{"$f":"IF(SUM($B$7:$B307)=0,\"\",IF(A307<>\"\",IF(A307<$B$3,\"N\",\"Y\"),\"\"))","v":""},0,10.5,0,null,1294,{"$f":"IF(AND(ISNUMBER(A307),NOT(ISNUMBER(A308))),IF((OFFSET(Q307,-Q307,0)>50),SUM(OFFSET(E307,-Q307+1,0):E307),SUM(OFFSET(E307,-Q307,0):E307)),IF(AND(ISNUMBER(P307),ISNUMBER(P308),P307  <P308),IF((OFFSET(Q307,-Q307,0)>50),SUM(OFFSET(E307,-Q307+1,0):E307),SUM(OFFSET(E307,-Q307,0):E307)),\"\"))","v":{"$error":"#NAME?"}},{"$f":"IF(ISNUMBER(L307),IF((OFFSET(Q307,-Q307,0)>50),SUM(OFFSET(G307,-Q307+1,0):G307),SUM(OFFSET(G307,-Q307,0):G307)),\"\")","v":""},null,null,{"$error":"#NAME?"},{"$error":"#NAME?"}]
["1993-07-07",null,null,null,0,{"$f":"IF(SUM($B$7:$B308)=0,\"\",IF(A308<>\"\",IF(A308<$B$3,\"N\",\"Y\"),\"\"))","v":""},0,9.25,0,null,1293,{"$f":"IF(AND(ISNUMBER(A308),NOT(ISNUMBER(A309))),IF((OFFSET(Q308,-Q308,0)>50),SUM(OFFSET(E308,-Q308+1,0):E308),SUM(OFFSET(E308,-Q308,0):E308)),IF(AND(ISNUMBER(P308),ISNUMBER(P309),P308  <P309),IF((OFFSET(Q308,-Q308,0)>50),SUM(OFFSET(E308,-Q308+1,0):E308),SUM(OFFSET(E308,-Q308,0):E308)),\"\"))","v":{"$error":"#NAME?"}},{"$f":"IF(ISNUMBER(L308),IF((OFFSET(Q308,-Q308,0)>50),SUM(OFFSET(G308,-Q308+1,0):G308),SUM(OFFSET(G308,-Q308,0):G308)),\"\")","v":""},null,null,{"$error":"#NAME?"},{"$error":"#NAME?"}]
["1993-07-14",null,null,null,0,{"$f":"IF(SUM($B$7:$B309)=0,\"\",IF(A309<>\"\",IF(A309<$B$3,\"N\",\"Y\"),\"\"))","v":""},0,9.25,0,null,1292,{"$f":"IF(AND(ISNUMBER(A309),NOT(ISNUMBER(A310))),IF((OFFSET(Q309,-Q309,0)>50),SUM(OFFSET(E309,-Q309+1,0):E309),SUM(OFFSET(E309,-Q309,0):E309)),IF(AND(ISNUMBER(P309),ISNUMBER(P310),P309  <P310),IF((OFFSET(Q309,-Q309,0)>50),SUM(OFFSET(E309,-Q309+1,0):E309),SUM(OFFSET(E309,-Q309,0):E309)),\"\"))","v":{"$error":"#NAME?"}},{"$f":"IF(ISNUMBER(L309),IF((OFFSET(Q309,-Q309,0)>50),SUM(OFFSET(G309,-Q309+1,0):G309),SUM(OFFSET(G309,-Q309,0):G309)),\"\")","v":""},null,null,{"$error":"#NAME?"},{"$error":"#NAME?"}]
["1993-07-21",null,null,null,0,{"$f":"IF(SUM($B$7:$B310)=0,\"\",IF(A310<>\"\",IF(A310<$B$3,\"N\",\"Y\"),\"\"))","v":""},0,9.25,0,null,1291,{"$f":"IF(AND(ISNUMBER(A310),NOT(ISNUMBER(A311))),IF((OFFSET(Q310,-Q310,0)>50),SUM(OFFSET(E310,-Q310+1,0):E310),SUM(OFFSET(E310,-Q310,0):E310)),IF(AND(ISNUMBER(P310),ISNUMBER(P311),P310  <P311),IF((OFFSET(Q310,-Q310,0)>50),SUM(OFFSET(E310,-Q310+1,0):E310),SUM(OFFSET(E310,-Q310,0):E310)),\"\"))","v":{"$error":"#NAME?"}},{"$f":"IF(ISNUMBER(L310),IF((OFFSET(Q310,-Q310,0)>50),SUM(OFFSET(G310,-Q310+1,0):G310),SUM(OFFSET(G310,-Q310,0):G310)),\"\")","v":""},null,null,{"$error":"#NAME?"},{"$error":"#NAME?"}]
["1993-07-28",null,null,null,0,{"$f":"IF(SUM($B$7:$B311)=0,\"\",IF(A311<>\"\",IF(A311<$B$3,\"N\",\"Y\"),\"\"))","v":""},0,9.25,0,null,1290,{"$f":"IF(AND(ISNUMBER(A311),NOT(ISNUMBER(A312))),IF((OFFSET(Q311,-Q311,0)>50),SUM(OFFSET(E311,-Q311+1,0):E311),SUM(OFFSET(E311,-Q311,0):E311)),IF(AND(ISNUMBER(P311),ISNUMBER(P312),P311  <P312),IF((OFFSET(Q311,-Q311,0)>50),SUM(OFFSET(E311,-Q311+1,0):E311),SUM(OFFSET(E311,-Q311,0):E311)),\"\"))","v":{"$error":"#NAME?"}},{"$f":"IF(ISNUMBER(L311),IF((OFFSET(Q311,-Q311,0)>50),SUM(OFFSET(G311,-Q311+1,0):G311),SUM(OFFSET(G311,-Q311,0):G311)),\"\")","v":""},null,null,{"$error":"#NAME?"},{"$error":"#NAME?"}]
["1993-08-04",null,null,null,0,{"$f":"IF(SUM($B$7:$B312)=0,\"\",IF(A312<>\"\",IF(A312<$B$3,\"N\",\"Y\"),\"\"))","v":""},0,9.25,0,null,1289,{"$f":"IF(AND(ISNUMBER(A312),NOT(ISNUMBER(A313))),IF((OFFSET(Q312,-Q312,0)>50),SUM(OFFSET(E312,-Q312+1,0):E312),SUM(OFFSET(E312,-Q312,0):E312)),IF(AND(ISNUMBER(P312),ISNUMBER(P313),P312  <P313),IF((OFFSET(Q312,-Q312,0)>50),SUM(OFFSET(E312,-Q312+1,0):E312),SUM(OFFSET(E312,-Q312,0):E312)),\"\"))","v":{"$error":"#NAME?"}},{"$f":"IF(ISNUMBER(L312),IF((OFFSET(Q312,-Q312,0)>50),SUM(OFFSET(G312,-Q312+1,0):G312),SUM(OFFSET(G312,-Q312,0):G312)),\"\")","v":""},null,null,{"$error":"#NAME?"},{"$error":"#NAME?"}]
["1993-08-11",null,null,null,0,{"$f":"IF(SUM($B$7:$B313)=0,\"\",IF(A313<>\"\",IF(A313<$B$3,\"N\",\"Y\"),\"\"))","v":""},0,9.25,0,null,1288,{"$f":"IF(AND(ISNUMBER(A313),NOT(ISNUMBER(A314))),IF((OFFSET(Q313,-Q313,0)>50),SUM(OFFSET(E313,-Q313+1,0):E313),SUM(OFFSET(E313,-Q313,0):E313)),IF(AND(ISNUMBER(P313),ISNUMBER(P314),P313  <P314),IF((OFFSET(Q313,-Q313,0)>50),SUM(OFFSET(E313,-Q313+1,0):E313),SUM(OFFSET(E313,-Q313,0):E313)),\"\"))","v":{"$error":"#NAME?"}},{"$f":"IF(ISNUMBER(L313),IF((OFFSET(Q313,-Q313,0)>50),SUM(OFFSET(G313,-Q313+1,0):G313),SUM(OFFSET(G313,-Q313,0):G313)),\"\")","v":""},null,null,{"$error":"#NAME?"},{"$error":"#NAME?"}]
["1993-08-18",null,null,null,0,{"$f":"IF(SUM($B$7:$B314)=0,\"\",IF(A314<>\"\",IF(A314<$B$3,\"N\",\"Y\"),\"\"))","v":""},0,9.25,0,null,1287,{"$f":"IF(AND(ISNUMBER(A314),NOT(ISNUMBER(A315))),IF((OFFSET(Q314,-Q314,0)>50),SUM(OFFSET(E314,-Q314+1,0):E314),SUM(OFFSET(E314,-Q314,0):E314)),IF(AND(ISNUMBER(P314),ISNUMBER(P315),P314  <P315),IF((OFFSET(Q314,-Q314,0)>50),SUM(OFFSET(E314,-Q314+1,0):E314),SUM(OFFSET(E314,-Q314,0):E314)),\"\"))","v":{"$error":"#NAME?"}},{"$f":"IF(ISNUMBER(L314),IF((OFFSET(Q314,-Q314,0)>50),SUM(OFFSET(G314,-Q314+1,0):G314),SUM(OFFSET(G314,-Q314,0):G314)),\"\")","v":""},null,null,{"$error":"#NAME?"},{"$error":"#NAME?"}]
["1993-08-25",null,null,null,0,{"$f":"IF(SUM($B$7:$B315)=0,\"\",IF(A315<>\"\",IF(A315<$B$3,\"N\",\"Y\"),\"\"))","v":""},0,9.25,0,null,1286,{"$f":"IF(AND(ISNUMBER(A315),NOT(ISNUMBER(A316))),IF((OFFSET(Q315,-Q315,0)>50),SUM(OFFSET(E315,-Q315+1,0):E315),SUM(OFFSET(E315,-Q315,0):E315)),IF(AND(ISNUMBER(P315),ISNUMBER(P316),P315  <P316),IF((OFFSET(Q315,-Q315,0)>50),SUM(OFFSET(E315,-Q315+1,0):E315),SUM(OFFSET(E315,-Q315,0):E315)),\"\"))","v":{"$error":"#NAME?"}},{"$f":"IF(ISNUMBER(L315),IF((OFFSET(Q315,-Q315,0)>50),SUM(OFFSET(G315,-Q315+1,0):G315),SUM(OFFSET(G315,-Q315,0):G315)),\"\")","v":""},null,null,{"$error":"#NAME?"},{"$error":"#NAME?"}]
["1993-09-01",null,null,null,0,{"$f":"IF(SUM($B$7:$B316)=0,\"\",IF(A316<>\"\",IF(A316<$B$3,\"N\",\"Y\"),\"\"))","v":""},0,9.25,0,null,1285,{"$f":"IF(AND(ISNUMBER(A316),NOT(ISNUMBER(A317))),IF((OFFSET(Q316,-Q316,0)>50),SUM(OFFSET(E316,-Q316+1,0):E316),SUM(OFFSET(E316,-Q316,0):E316)),IF(AND(ISNUMBER(P316),ISNUMBER(P317),P316  <P317),IF((OFFSET(Q316,-Q316,0)>50),SUM(OFFSET(E316,-Q316+1,0):E316),SUM(OFFSET(E316,-Q316,0):E316)),\"\"))","v":{"$error":"#NAME?"}},{"$f":"IF(ISNUMBER(L316),IF((OFFSET(Q316,-Q316,0)>50),SUM(OFFSET(G316,-Q316+1,0):G316),SUM(OFFSET(G316,-Q316,0):G316)),\"\")","v":""},null,null,{"$error":"#NAME?"},{"$error":"#NAME?"}]
["1993-09-08",null,null,null,0,{"$f":"IF(SUM($B$7:$B317)=0,\"\",IF(A317<>\"\",IF(A317<$B$3,\"N\",\"Y\"),\"\"))","v":""},0,9.25,0,null,1284,{"$f":"IF(AND(ISNUMBER(A317),NOT(ISNUMBER(A318))),IF((OFFSET(Q317,-Q317,0)>50),SUM(OFFSET(E317,-Q317+1,0):E317),SUM(OFFSET(E317,-Q317,0):E317)),IF(AND(ISNUMBER(P317),ISNUMBER(P318),P317  <P318),IF((OFFSET(Q317,-Q317,0)>50),SUM(OFFSET(E317,-Q317+1,0):E317),SUM(OFFSET(E317,-Q317,0):E317)),\"\"))","v":{"$error":"#NAME?"}},{"$f":"IF(ISNUMBER(L317),IF((OFFSET(Q317,-Q317,0)>50),SUM(OFFSET(G317,-Q317+1,0):G317),SUM(OFFSET(G317,-Q317,0):G317)),\"\")","v":""},null,null,{"$error":"#NAME?"},{"$error":"#NAME?"}]
["1993-09-15",null,null,null,0,{"$f":"IF(SUM($B$7:$B318)=0,\"\",IF(A318<>\"\",IF(A318<$B$3,\"N\",\"Y\"),\"\"))","v":""},0,9.25,0,null,1283,{"$f":"IF(AND(ISNUMBER(A318),NOT(ISNUMBER(A319))),IF((OFFSET(Q318,-Q318,0)>50),SUM(OFFSET(E318,-Q318+1,0):E318),SUM(OFFSET(E318,-Q318,0):E318)),IF(AND(ISNUMBER(P318),ISNUMBER(P319),P318  <P319),IF((OFFSET(Q318,-Q318,0)>50),SUM(OFFSET(E318,-Q318+1,0):E318),SUM(OFFSET(E318,-Q318,0):E318)),\"\"))","v":{"$error":"#NAME?"}},{"$f":"IF(ISNUMBER(L318),IF((OFFSET(Q318,-Q318,0)>50),SUM(OFFSET(G318,-Q318+1,0):G318),SUM(OFFSET(G318,-Q318,0):G318)),\"\")","v":""},null,null,{"$error":"#NAME?"},{"$error":"#NAME?"}]
["1993-09-22",null,null,null,0,{"$f":"IF(SUM($B$7:$B319)=0,\"\",IF(A319<>\"\",IF(A319<$B$3,\"N\",\"Y\"),\"\"))","v":""},0,9.25,0,null,1282,{"$f":"IF(AND(ISNUMBER(A319),NOT(ISNUMBER(A320))),IF((OFFSET(Q319,-Q319,0)>50),SUM(OFFSET(E319,-Q319+1,0):E319),SUM(OFFSET(E319,-Q319,0):E319)),IF(AND(ISNUMBER(P319),ISNUMBER(P320),P319  <P320),IF((OFFSET(Q319,-Q319,0)>50),SUM(OFFSET(E319,-Q319+1,0):E319),SUM(OFFSET(E319,-Q319,0):E319)),\"\"))","v":{"$error":"#NAME?"}},{"$f":"IF(ISNUMBER(L319),IF((OFFSET(Q319,-Q319,0)>50),SUM(OFFSET(G319,-Q319+1,0):G319),SUM(OFFSET(G319,-Q319,0):G319)),\"\")","v":""},null,null,{"$error":"#NAME?"},{"$error":"#NAME?"}]
["1993-09-29",null,null,null,0,{"$f":"IF(SUM($B$7:$B320)=0,\"\",IF(A320<>\"\",IF(A320<$B$3,\"N\",\"Y\"),\"\"))","v":""},0,9.25,0,null,1281,{"$f":"IF(AND(ISNUMBER(A320),NOT(ISNUMBER(A321))),IF((OFFSET(Q320,-Q320,0)>50),SUM(OFFSET(E320,-Q320+1,0):E320),SUM(OFFSET(E320,-Q320,0):E320)),IF(AND(ISNUMBER(P320),ISNUMBER(P321),P320  <P321),IF((OFFSET(Q320,-Q320,0)>50),SUM(OFFSET(E320,-Q320+1,0):E320),SUM(OFFSET(E320,-Q320,0):E320)),\"\"))","v":{"$error":"#NAME?"}},{"$f":"IF(ISNUMBER(L320),IF((OFFSET(Q320,-Q320,0)>50),SUM(OFFSET(G320,-Q320+1,0):G320),SUM(OFFSET(G320,-Q320,0):G320)),\"\")","v":""},null,null,{"$error":"#NAME?"},{"$error":"#NAME?"}]
["1993-10-06",null,null,null,0,{"$f":"IF(SUM($B$7:$B321)=0,\"\",IF(A321<>\"\",IF(A321<$B$3,\"N\",\"Y\"),\"\"))","v":""},0,9.25,0,null,1280,{"$f":"IF(AND(ISNUMBER(A321),NOT(ISNUMBER(A322))),IF((OFFSET(Q321,-Q321,0)>50),SUM(OFFSET(E321,-Q321+1,0):E321),SUM(OFFSET(E321,-Q321,0):E321)),IF(AND(ISNUMBER(P321),ISNUMBER(P322),P321  <P322),IF((OFFSET(Q321,-Q321,0)>50),SUM(OFFSET(E321,-Q321+1,0):E321),SUM(OFFSET(E321,-Q321,0):E321)),\"\"))","v":{"$error":"#NAME?"}},{"$f":"IF(ISNUMBER(L321),IF((OFFSET(Q321,-Q321,0)>50),SUM(OFFSET(G321,-Q321+1,0):G321),SUM(OFFSET(G321,-Q321,0):G321)),\"\")","v":""},null,null,{"$error":"#NAME?"},{"$error":"#NAME?"}]
["1993-10-13",null,null,null,0,{"$f":"IF(SUM($B$7:$B322)=0,\"\",IF(A322<>\"\",IF(A322<$B$3,\"N\",\"Y\"),\"\"))","v":""},0,9.25,0,null,1279,{"$f":"IF(AND(ISNUMBER(A322),NOT(ISNUMBER(A323))),IF((OFFSET(Q322,-Q322,0)>50),SUM(OFFSET(E322,-Q322+1,0):E322),SUM(OFFSET(E322,-Q322,0):E322)),IF(AND(ISNUMBER(P322),ISNUMBER(P323),P322  <P323),IF((OFFSET(Q322,-Q322,0)>50),SUM(OFFSET(E322,-Q322+1,0):E322),SUM(OFFSET(E322,-Q322,0):E322)),\"\"))","v":{"$error":"#NAME?"}},{"$f":"IF(ISNUMBER(L322),IF((OFFSET(Q322,-Q322,0)>50),SUM(OFFSET(G322,-Q322+1,0):G322),SUM(OFFSET(G322,-Q322,0):G322)),\"\")","v":""},null,null,{"$error":"#NAME?"},{"$error":"#NAME?"}]
["1993-10-20",null,null,null,0,{"$f":"IF(SUM($B$7:$B323)=0,\"\",IF(A323<>\"\",IF(A323<$B$3,\"N\",\"Y\"),\"\"))","v":""},0,9.25,0,null,1278,{"$f":"IF(AND(ISNUMBER(A323),NOT(ISNUMBER(A324))),IF((OFFSET(Q323,-Q323,0)>50),SUM(OFFSET(E323,-Q323+1,0):E323),SUM(OFFSET(E323,-Q323,0):E323)),IF(AND(ISNUMBER(P323),ISNUMBER(P324),P323  <P324),IF((OFFSET(Q323,-Q323,0)>50),SUM(OFFSET(E323,-Q323+1,0):E323),SUM(OFFSET(E323,-Q323,0):E323)),\"\"))","v":{"$error":"#NAME?"}},{"$f":"IF(ISNUMBER(L323),IF((OFFSET(Q323,-Q323,0)>50),SUM(OFFSET(G323,-Q323+1,0):G323),SUM(OFFSET(G323,-Q323,0):G323)),\"\")","v":""},null,null,{"$error":"#NAME?"},{"$error":"#NAME?"}]
["1993-10-27",null,null,null,0,{"$f":"IF(SUM($B$7:$B324)=0,\"\",IF(A324<>\"\",IF(A324<$B$3,\"N\",\"Y\"),\"\"))","v":""},0,9.25,0,null,1277,{"$f":"IF(AND(ISNUMBER(A324),NOT(ISNUMBER(A325))),IF((OFFSET(Q324,-Q324,0)>50),SUM(OFFSET(E324,-Q324+1,0):E324),SUM(OFFSET(E324,-Q324,0):E324)),IF(AND(ISNUMBER(P324),ISNUMBER(P325),P324  <P325),IF((OFFSET(Q324,-Q324,0)>50),SUM(OFFSET(E324,-Q324+1,0):E324),SUM(OFFSET(E324,-Q324,0):E324)),\"\"))","v":{"$error":"#NAME?"}},{"$f":"IF(ISNUMBER(L324),IF((OFFSET(Q324,-Q324,0)>50),SUM(OFFSET(G324,-Q324+1,0):G324),SUM(OFFSET(G324,-Q324,0):G324)),\"\")","v":""},null,null,{"$error":"#NAME?"},{"$error":"#NAME?"}]
["1993-11-03",null,null,null,0,{"$f":"IF(SUM($B$7:$B325)=0,\"\",IF(A325<>\"\",IF(A325<$B$3,\"N\",\"Y\"),\"\"))","v":""},0,9.25,0,null,1276,{"$f":"IF(AND(ISNUMBER(A325),NOT(ISNUMBER(A326))),IF((OFFSET(Q325,-Q325,0)>50),SUM(OFFSET(E325,-Q325+1,0):E325),SUM(OFFSET(E325,-Q325,0):E325)),IF(AND(ISNUMBER(P325),ISNUMBER(P326),P325  <P326),IF((OFFSET(Q325,-Q325,0)>50),SUM(OFFSET(E325,-Q325+1,0):E325),SUM(OFFSET(E325,-Q325,0):E325)),\"\"))","v":{"$error":"#NAME?"}},{"$f":"IF(ISNUMBER(L325),IF((OFFSET(Q325,-Q325,0)>50),SUM(OFFSET(G325,-Q325+1,0):G325),SUM(OFFSET(G325,-Q325,0):G325)),\"\")","v":""},null,null,{"$error":"#NAME?"},{"$error":"#NAME?"}]
["1993-11-10",null,null,null,0,{"$f":"IF(SUM($B$7:$B326)=0,\"\",IF(A326<>\"\",IF(A326<$B$3,\"N\",\"Y\"),\"\"))","v":""},0,9.25,0,null,1275,{"$f":"IF(AND(ISNUMBER(A326),NOT(ISNUMBER(A327))),IF((OFFSET(Q326,-Q326,0)>50),SUM(OFFSET(E326,-Q326+1,0):E326),SUM(OFFSET(E326,-Q326,0):E326)),IF(AND(ISNUMBER(P326),ISNUMBER(P327),P326  <P327),IF((OFFSET(Q326,-Q326,0)>50),SUM(OFFSET(E326,-Q326+1,0):E326),SUM(OFFSET(E326,-Q326,0):E326)),\"\"))","v":{"$error":"#NAME?"}},{"$f":"IF(ISNUMBER(L326),IF((OFFSET(Q326,-Q326,0)>50),SUM(OFFSET(G326,-Q326+1,0):G326),SUM(OFFSET(G326,-Q326,0):G326)),\"\")","v":""},null,null,{"$error":"#NAME?"},{"$error":"#NAME?"}]
["1993-11-17",null,null,null,0,{"$f":"IF(SUM($B$7:$B327)=0,\"\",IF(A327<>\"\",IF(A327<$B$3,\"N\",\"Y\"),\"\"))","v":""},0,9.25,0,null,{"$f":"IF(A327<>\"\",IF((TODAY()-A327)/7>=0,INT((TODAY()-A327)/7),0),\"\")","v":1274},{"$f":"IF(AND(ISNUMBER(A327),NOT(ISNUMBER(A328))),IF((OFFSET(Q327,-Q327,0)>50),SUM(OFFSET(E327,-Q327+1,0):E327),SUM(OFFSET(E327,-Q327,0):E327)),IF(AND(ISNUMBER(P327),ISNUMBER(P328),P327  <P328),IF((OFFSET(Q327,-Q327,0)>50),SUM(OFFSET(E327,-Q327+1,0):E327),SUM(OFFSET(E327,-Q327,0):E327)),\"\"))","v":{"$error":"#NAME?"}},{"$f":"IF(ISNUMBER(L327),IF((OFFSET(Q327,-Q327,0)>50),SUM(OFFSET(G327,-Q327+1,0):G327),SUM(OFFSET(G327,-Q327,0):G327)),\"\")","v":""},null,null,{"$f":"FinYear(A327)","v":{"$error":"#NAME?"}},{"$error":"#NAME?"}]
["1993-11-24",null,null,null,{"$f":"IF(A328<>\"\",IF(B328-C328>=0,B328-C328,0),\"\")","v":0},{"$f":"IF(SUM($B$7:$B328)=0,\"\",IF(A328<>\"\",IF(A328<$B$3,\"N\",\"Y\"),\"\"))","v":""},0,9.25,0,null,1273,{"$f":"IF(AND(ISNUMBER(A328),NOT(ISNUMBER(A329))),IF((OFFSET(Q328,-Q328,0)>50),SUM(OFFSET(E328,-Q328+1,0):E328),SUM(OFFSET(E328,-Q328,0):E328)),IF(AND(ISNUMBER(P328),ISNUMBER(P329),P328  <P329),IF((OFFSET(Q328,-Q328,0)>50),SUM(OFFSET(E328,-Q328+1,0):E328),SUM(OFFSET(E328,-Q328,0):E328)),\"\"))","v":{"$error":"#NAME?"}},{"$f":"IF(ISNUMBER(L328),IF((OFFSET(Q328,-Q328,0)>50),SUM(OFFSET(G328,-Q328+1,0):G328),SUM(OFFSET(G328,-Q328,0):G328)),\"\")","v":""},null,null,{"$error":"#NAME?"},{"$f":"ROUND((A328-StartOfFinYear(P328))/7,0)","v":{"$error":"#NAME?"}}]
["1993-12-01",null,null,null,0,{"$f":"IF(SUM($B$7:$B329)=0,\"\",IF(A329<>\"\",IF(A329<$B$3,\"N\",\"Y\"),\"\"))","v":""},{"$f":"IF(F329=\"N\",0,IF(A329<>\"\",IF(K329>=0,((E329+I328)*(1+(H329/52)/100)-E329-I328),0),\"\"))","v":0},9.25,{"$f":"IF(A329<>\"\",I328+E329+G329,\"\")","v":0},null,1272,{"$f":"IF(AND(ISNUMBER(A329),NOT(ISNUMBER(A330))),IF((OFFSET(Q329,-Q329,0)>50),SUM(OFFSET(E329,-Q329+1,0):E329),SUM(OFFSET(E329,-Q329,0):E329)),IF(AND(ISNUMBER(P329),ISNUMBER(P330),P329  <P330),IF((OFFSET(Q329,-Q329,0)>50),SUM(OFFSET(E329,-Q329+1,0):E329),SUM(OFFSET(E329,-Q329,0):E329)),\"\"))","v":{"$error":"#NAME?"}},{"$f":"IF(ISNUMBER(L329),IF((OFFSET(Q329,-Q329,0)>50),SUM(OFFSET(G329,-Q329+1,0):G329),SUM(OFFSET(G329,-Q329,0):G329)),\"\")","v":""},null,null,{"$error":"#NAME?"},{"$error":"#NAME?"}]
[{"$f":"IF(A329<>\"\",IF(A329+12<=TODAY(),+A329+7,\"\"),\"\")","v":"1993-12-08"},null,null,null,0,{"$f":"IF(SUM($B$7:$B330)=0,\"\",IF(A330<>\"\",IF(A330<$B$3,\"N\",\"Y\"),\"\"))","v":""},0,9.25,0,null,1271,{"$f":"IF(AND(ISNUMBER(A330),NOT(ISNUMBER(A331))),IF((OFFSET(Q330,-Q330,0)>50),SUM(OFFSET(E330,-Q330+1,0):E330),SUM(OFFSET(E330,-Q330,0):E330)),IF(AND(ISNUMBER(P330),ISNUMBER(P331),P330  <P331),IF((OFFSET(Q330,-Q330,0)>50),SUM(OFFSET(E330,-Q330+1,0):E330),SUM(OFFSET(E330,-Q330,0):E330)),\"\"))","v":{"$error":"#NAME?"}},{"$f":"IF(ISNUMBER(L330),IF((OFFSET(Q330,-Q330,0)>50),SUM(OFFSET(G330,-Q330+1,0):G330),SUM(OFFSET(G330,-Q330,0):G330)),\"\")","v":""},null,null,{"$error":"#NAME?"},{"$error":"#NAME?"}]
["1993-12-15",null,null,null,0,{"$f":"IF(SUM($B$7:$B331)=0,\"\",IF(A331<>\"\",IF(A331<$B$3,\"N\",\"Y\"),\"\"))","v":""},0,9.25,0,null,1270,{"$f":"IF(AND(ISNUMBER(A331),NOT(ISNUMBER(A332))),IF((OFFSET(Q331,-Q331,0)>50),SUM(OFFSET(E331,-Q331+1,0):E331),SUM(OFFSET(E331,-Q331,0):E331)),IF(AND(ISNUMBER(P331),ISNUMBER(P332),P331  <P332),IF((OFFSET(Q331,-Q331,0)>50),SUM(OFFSET(E331,-Q331+1,0):E331),SUM(OFFSET(E331,-Q331,0):E331)),\"\"))","v":{"$error":"#NAME?"}},{"$f":"IF(ISNUMBER(L331),IF((OFFSET(Q331,-Q331,0)>50),SUM(OFFSET(G331,-Q331+1,0):G331),SUM(OFFSET(G331,-Q331,0):G331)),\"\")","v":""},null,null,{"$error":"#NAME?"},{"$error":"#NAME?"}]
["1993-12-22",null,null,null,0,{"$f":"IF(SUM($B$7:$B332)=0,\"\",IF(A332<>\"\",IF(A332<$B$3,\"N\",\"Y\"),\"\"))","v":""},0,9.25,0,null,1269,{"$f":"IF(AND(ISNUMBER(A332),NOT(ISNUMBER(A333))),IF((OFFSET(Q332,-Q332,0)>50),SUM(OFFSET(E332,-Q332+1,0):E332),SUM(OFFSET(E332,-Q332,0):E332)),IF(AND(ISNUMBER(P332),ISNUMBER(P333),P332  <P333),IF((OFFSET(Q332,-Q332,0)>50),SUM(OFFSET(E332,-Q332+1,0):E332),SUM(OFFSET(E332,-Q332,0):E332)),\"\"))","v":{"$error":"#NAME?"}},{"$f":"IF(ISNUMBER(L332),IF((OFFSET(Q332,-Q332,0)>50),SUM(OFFSET(G332,-Q332+1,0):G332),SUM(OFFSET(G332,-Q332,0):G332)),\"\")","v":""},null,null,{"$error":"#NAME?"},{"$error":"#NAME?"}]
["1993-12-29",null,null,null,0,{"$f":"IF(SUM($B$7:$B333)=0,\"\",IF(A333<>\"\",IF(A333<$B$3,\"N\",\"Y\"),\"\"))","v":""},0,9.25,0,null,1268,{"$f":"IF(AND(ISNUMBER(A333),NOT(ISNUMBER(A334))),IF((OFFSET(Q333,-Q333,0)>50),SUM(OFFSET(E333,-Q333+1,0):E333),SUM(OFFSET(E333,-Q333,0):E333)),IF(AND(ISNUMBER(P333),ISNUMBER(P334),P333  <P334),IF((OFFSET(Q333,-Q333,0)>50),SUM(OFFSET(E333,-Q333+1,0):E333),SUM(OFFSET(E333,-Q333,0):E333)),\"\"))","v":{"$error":"#NAME?"}},{"$f":"IF(ISNUMBER(L333),IF((OFFSET(Q333,-Q333,0)>50),SUM(OFFSET(G333,-Q333+1,0):G333),SUM(OFFSET(G333,-Q333,0):G333)),\"\")","v":""},null,null,{"$error":"#NAME?"},{"$error":"#NAME?"}]
["1994-01-05",null,null,null,0,{"$f":"IF(SUM($B$7:$B334)=0,\"\",IF(A334<>\"\",IF(A334<$B$3,\"N\",\"Y\"),\"\"))","v":""},0,9.25,0,null,1267,{"$f":"IF(AND(ISNUMBER(A334),NOT(ISNUMBER(A335))),IF((OFFSET(Q334,-Q334,0)>50),SUM(OFFSET(E334,-Q334+1,0):E334),SUM(OFFSET(E334,-Q334,0):E334)),IF(AND(ISNUMBER(P334),ISNUMBER(P335),P334  <P335),IF((OFFSET(Q334,-Q334,0)>50),SUM(OFFSET(E334,-Q334+1,0):E334),SUM(OFFSET(E334,-Q334,0):E334)),\"\"))","v":{"$error":"#NAME?"}},{"$f":"IF(ISNUMBER(L334),IF((OFFSET(Q334,-Q334,0)>50),SUM(OFFSET(G334,-Q334+1,0):G334),SUM(OFFSET(G334,-Q334,0):G334)),\"\")","v":""},null,null,{"$error":"#NAME?"},{"$error":"#NAME?"}]
["1994-01-12",null,null,null,0,{"$f":"IF(SUM($B$7:$B335)=0,\"\",IF(A335<>\"\",IF(A335<$B$3,\"N\",\"Y\"),\"\"))","v":""},0,9.25,0,null,1266,{"$f":"IF(AND(ISNUMBER(A335),NOT(ISNUMBER(A336))),IF((OFFSET(Q335,-Q335,0)>50),SUM(OFFSET(E335,-Q335+1,0):E335),SUM(OFFSET(E335,-Q335,0):E335)),IF(AND(ISNUMBER(P335),ISNUMBER(P336),P335  <P336),IF((OFFSET(Q335,-Q335,0)>50),SUM(OFFSET(E335,-Q335+1,0):E335),SUM(OFFSET(E335,-Q335,0):E335)),\"\"))","v":{"$error":"#NAME?"}},{"$f":"IF(ISNUMBER(L335),IF((OFFSET(Q335,-Q335,0)>50),SUM(OFFSET(G335,-Q335+1,0):G335),SUM(OFFSET(G335,-Q335,0):G335)),\"\")","v":""},null,null,{"$error":"#NAME?"},{"$error":"#NAME?"}]
["1994-01-19",null,null,null,0,{"$f":"IF(SUM($B$7:$B336)=0,\"\",IF(A336<>\"\",IF(A336<$B$3,\"N\",\"Y\"),\"\"))","v":""},0,9.25,0,null,1265,{"$f":"IF(AND(ISNUMBER(A336),NOT(ISNUMBER(A337))),IF((OFFSET(Q336,-Q336,0)>50),SUM(OFFSET(E336,-Q336+1,0):E336),SUM(OFFSET(E336,-Q336,0):E336)),IF(AND(ISNUMBER(P336),ISNUMBER(P337),P336  <P337),IF((OFFSET(Q336,-Q336,0)>50),SUM(OFFSET(E336,-Q336+1,0):E336),SUM(OFFSET(E336,-Q336,0):E336)),\"\"))","v":{"$error":"#NAME?"}},{"$f":"IF(ISNUMBER(L336),IF((OFFSET(Q336,-Q336,0)>50),SUM(OFFSET(G336,-Q336+1,0):G336),SUM(OFFSET(G336,-Q336,0):G336)),\"\")","v":""},null,null,{"$error":"#NAME?"},{"$error":"#NAME?"}]
["1994-01-26",null,null,null,0,{"$f":"IF(SUM($B$7:$B337)=0,\"\",IF(A337<>\"\",IF(A337<$B$3,\"N\",\"Y\"),\"\"))","v":""},0,9.25,0,null,1264,{"$f":"IF(AND(ISNUMBER(A337),NOT(ISNUMBER(A338))),IF((OFFSET(Q337,-Q337,0)>50),SUM(OFFSET(E337,-Q337+1,0):E337),SUM(OFFSET(E337,-Q337,0):E337)),IF(AND(ISNUMBER(P337),ISNUMBER(P338),P337  <P338),IF((OFFSET(Q337,-Q337,0)>50),SUM(OFFSET(E337,-Q337+1,0):E337),SUM(OFFSET(E337,-Q337,0):E337)),\"\"))","v":{"$error":"#NAME?"}},{"$f":"IF(ISNUMBER(L337),IF((OFFSET(Q337,-Q337,0)>50),SUM(OFFSET(G337,-Q337+1,0):G337),SUM(OFFSET(G337,-Q337,0):G337)),\"\")","v":""},null,null,{"$error":"#NAME?"},{"$error":"#NAME?"}]
["1994-02-02",null,null,null,0,{"$f":"IF(SUM($B$7:$B338)=0,\"\",IF(A338<>\"\",IF(A338<$B$3,\"N\",\"Y\"),\"\"))","v":""},0,9.25,0,null,1263,{"$f":"IF(AND(ISNUMBER(A338),NOT(ISNUMBER(A339))),IF((OFFSET(Q338,-Q338,0)>50),SUM(OFFSET(E338,-Q338+1,0):E338),SUM(OFFSET(E338,-Q338,0):E338)),IF(AND(ISNUMBER(P338),ISNUMBER(P339),P338  <P339),IF((OFFSET(Q338,-Q338,0)>50),SUM(OFFSET(E338,-Q338+1,0):E338),SUM(OFFSET(E338,-Q338,0):E338)),\"\"))","v":{"$error":"#NAME?"}},{"$f":"IF(ISNUMBER(L338),IF((OFFSET(Q338,-Q338,0)>50),SUM(OFFSET(G338,-Q338+1,0):G338),SUM(OFFSET(G338,-Q338,0):G338)),\"\")","v":""},null,null,{"$error":"#NAME?"},{"$error":"#NAME?"}]
["1994-02-09",null,null,null,0,{"$f":"IF(SUM($B$7:$B339)=0,\"\",IF(A339<>\"\",IF(A339<$B$3,\"N\",\"Y\"),\"\"))","v":""},0,9.25,0,null,1262,{"$f":"IF(AND(ISNUMBER(A339),NOT(ISNUMBER(A340))),IF((OFFSET(Q339,-Q339,0)>50),SUM(OFFSET(E339,-Q339+1,0):E339),SUM(OFFSET(E339,-Q339,0):E339)),IF(AND(ISNUMBER(P339),ISNUMBER(P340),P339  <P340),IF((OFFSET(Q339,-Q339,0)>50),SUM(OFFSET(E339,-Q339+1,0):E339),SUM(OFFSET(E339,-Q339,0):E339)),\"\"))","v":{"$error":"#NAME?"}},{"$f":"IF(ISNUMBER(L339),IF((OFFSET(Q339,-Q339,0)>50),SUM(OFFSET(G339,-Q339+1,0):G339),SUM(OFFSET(G339,-Q339,0):G339)),\"\")","v":""},null,null,{"$error":"#NAME?"},{"$error":"#NAME?"}]
["1994-02-16",null,null,null,0,{"$f":"IF(SUM($B$7:$B340)=0,\"\",IF(A340<>\"\",IF(A340<$B$3,\"N\",\"Y\"),\"\"))","v":""},0,9.25,0,null,1261,{"$f":"IF(AND(ISNUMBER(A340),NOT(ISNUMBER(A341))),IF((OFFSET(Q340,-Q340,0)>50),SUM(OFFSET(E340,-Q340+1,0):E340),SUM(OFFSET(E340,-Q340,0):E340)),IF(AND(ISNUMBER(P340),ISNUMBER(P341),P340  <P341),IF((OFFSET(Q340,-Q340,0)>50),SUM(OFFSET(E340,-Q340+1,0):E340),SUM(OFFSET(E340,-Q340,0):E340)),\"\"))","v":{"$error":"#NAME?"}},{"$f":"IF(ISNUMBER(L340),IF((OFFSET(Q340,-Q340,0)>50),SUM(OFFSET(G340,-Q340+1,0):G340),SUM(OFFSET(G340,-Q340,0):G340)),\"\")","v":""},null,null,{"$error":"#NAME?"},{"$error":"#NAME?"}]
["1994-02-23",null,null,null,0,{"$f":"IF(SUM($B$7:$B341)=0,\"\",IF(A341<>\"\",IF(A341<$B$3,\"N\",\"Y\"),\"\"))","v":""},0,9.25,0,null,1260,{"$f":"IF(AND(ISNUMBER(A341),NOT(ISNUMBER(A342))),IF((OFFSET(Q341,-Q341,0)>50),SUM(OFFSET(E341,-Q341+1,0):E341),SUM(OFFSET(E341,-Q341,0):E341)),IF(AND(ISNUMBER(P341),ISNUMBER(P342),P341  <P342),IF((OFFSET(Q341,-Q341,0)>50),SUM(OFFSET(E341,-Q341+1,0):E341),SUM(OFFSET(E341,-Q341,0):E341)),\"\"))","v":{"$error":"#NAME?"}},{"$f":"IF(ISNUMBER(L341),IF((OFFSET(Q341,-Q341,0)>50),SUM(OFFSET(G341,-Q341+1,0):G341),SUM(OFFSET(G341,-Q341,0):G341)),\"\")","v":""},null,null,{"$error":"#NAME?"},{"$error":"#NAME?"}]
["1994-03-02",null,null,null,0,{"$f":"IF(SUM($B$7:$B342)=0,\"\",IF(A342<>\"\",IF(A342<$B$3,\"N\",\"Y\"),\"\"))","v":""},0,9.25,0,null,1259,{"$f":"IF(AND(ISNUMBER(A342),NOT(ISNUMBER(A343))),IF((OFFSET(Q342,-Q342,0)>50),SUM(OFFSET(E342,-Q342+1,0):E342),SUM(OFFSET(E342,-Q342,0):E342)),IF(AND(ISNUMBER(P342),ISNUMBER(P343),P342  <P343),IF((OFFSET(Q342,-Q342,0)>50),SUM(OFFSET(E342,-Q342+1,0):E342),SUM(OFFSET(E342,-Q342,0):E342)),\"\"))","v":{"$error":"#NAME?"}},{"$f":"IF(ISNUMBER(L342),IF((OFFSET(Q342,-Q342,0)>50),SUM(OFFSET(G342,-Q342+1,0):G342),SUM(OFFSET(G342,-Q342,0):G342)),\"\")","v":""},null,null,{"$error":"#NAME?"},{"$error":"#NAME?"}]
["1994-03-09",null,null,null,0,{"$f":"IF(SUM($B$7:$B343)=0,\"\",IF(A343<>\"\",IF(A343<$B$3,\"N\",\"Y\"),\"\"))","v":""},0,9.25,0,null,1258,{"$f":"IF(AND(ISNUMBER(A343),NOT(ISNUMBER(A344))),IF((OFFSET(Q343,-Q343,0)>50),SUM(OFFSET(E343,-Q343+1,0):E343),SUM(OFFSET(E343,-Q343,0):E343)),IF(AND(ISNUMBER(P343),ISNUMBER(P344),P343  <P344),IF((OFFSET(Q343,-Q343,0)>50),SUM(OFFSET(E343,-Q343+1,0):E343),SUM(OFFSET(E343,-Q343,0):E343)),\"\"))","v":{"$error":"#NAME?"}},{"$f":"IF(ISNUMBER(L343),IF((OFFSET(Q343,-Q343,0)>50),SUM(OFFSET(G343,-Q343+1,0):G343),SUM(OFFSET(G343,-Q343,0):G343)),\"\")","v":""},null,null,{"$error":"#NAME?"},{"$error":"#NAME?"}]
["1994-03-16",null,null,null,0,{"$f":"IF(SUM($B$7:$B344)=0,\"\",IF(A344<>\"\",IF(A344<$B$3,\"N\",\"Y\"),\"\"))","v":""},0,9.25,0,null,1257,{"$f":"IF(AND(ISNUMBER(A344),NOT(ISNUMBER(A345))),IF((OFFSET(Q344,-Q344,0)>50),SUM(OFFSET(E344,-Q344+1,0):E344),SUM(OFFSET(E344,-Q344,0):E344)),IF(AND(ISNUMBER(P344),ISNUMBER(P345),P344  <P345),IF((OFFSET(Q344,-Q344,0)>50),SUM(OFFSET(E344,-Q344+1,0):E344),SUM(OFFSET(E344,-Q344,0):E344)),\"\"))","v":{"$error":"#NAME?"}},{"$f":"IF(ISNUMBER(L344),IF((OFFSET(Q344,-Q344,0)>50),SUM(OFFSET(G344,-Q344+1,0):G344),SUM(OFFSET(G344,-Q344,0):G344)),\"\")","v":""},null,null,{"$error":"#NAME?"},{"$error":"#NAME?"}]
["1994-03-23",null,null,null,0,{"$f":"IF(SUM($B$7:$B345)=0,\"\",IF(A345<>\"\",IF(A345<$B$3,\"N\",\"Y\"),\"\"))","v":""},0,9.25,0,null,1256,{"$f":"IF(AND(ISNUMBER(A345),NOT(ISNUMBER(A346))),IF((OFFSET(Q345,-Q345,0)>50),SUM(OFFSET(E345,-Q345+1,0):E345),SUM(OFFSET(E345,-Q345,0):E345)),IF(AND(ISNUMBER(P345),ISNUMBER(P346),P345  <P346),IF((OFFSET(Q345,-Q345,0)>50),SUM(OFFSET(E345,-Q345+1,0):E345),SUM(OFFSET(E345,-Q345,0):E345)),\"\"))","v":{"$error":"#NAME?"}},{"$f":"IF(ISNUMBER(L345),IF((OFFSET(Q345,-Q345,0)>50),SUM(OFFSET(G345,-Q345+1,0):G345),SUM(OFFSET(G345,-Q345,0):G345)),\"\")","v":""},null,null,{"$error":"#NAME?"},{"$error":"#NAME?"}]
["1994-03-30",null,null,null,0,{"$f":"IF(SUM($B$7:$B346)=0,\"\",IF(A346<>\"\",IF(A346<$B$3,\"N\",\"Y\"),\"\"))","v":""},0,9.25,0,null,1255,{"$f":"IF(AND(ISNUMBER(A346),NOT(ISNUMBER(A347))),IF((OFFSET(Q346,-Q346,0)>50),SUM(OFFSET(E346,-Q346+1,0):E346),SUM(OFFSET(E346,-Q346,0):E346)),IF(AND(ISNUMBER(P346),ISNUMBER(P347),P346  <P347),IF((OFFSET(Q346,-Q346,0)>50),SUM(OFFSET(E346,-Q346+1,0):E346),SUM(OFFSET(E346,-Q346,0):E346)),\"\"))","v":{"$error":"#NAME?"}},{"$f":"IF(ISNUMBER(L346),IF((OFFSET(Q346,-Q346,0)>50),SUM(OFFSET(G346,-Q346+1,0):G346),SUM(OFFSET(G346,-Q346,0):G346)),\"\")","v":""},null,null,{"$error":"#NAME?"},{"$error":"#NAME?"}]
["1994-04-06",null,null,null,0,{"$f":"IF(SUM($B$7:$B347)=0,\"\",IF(A347<>\"\",IF(A347<$B$3,\"N\",\"Y\"),\"\"))","v":""},0,9.25,0,null,1254,{"$f":"IF(AND(ISNUMBER(A347),NOT(ISNUMBER(A348))),IF((OFFSET(Q347,-Q347,0)>50),SUM(OFFSET(E347,-Q347+1,0):E347),SUM(OFFSET(E347,-Q347,0):E347)),IF(AND(ISNUMBER(P347),ISNUMBER(P348),P347  <P348),IF((OFFSET(Q347,-Q347,0)>50),SUM(OFFSET(E347,-Q347+1,0):E347),SUM(OFFSET(E347,-Q347,0):E347)),\"\"))","v":{"$error":"#NAME?"}},{"$f":"IF(ISNUMBER(L347),IF((OFFSET(Q347,-Q347,0)>50),SUM(OFFSET(G347,-Q347+1,0):G347),SUM(OFFSET(G347,-Q347,0):G347)),\"\")","v":""},null,null,{"$error":"#NAME?"},{"$error":"#NAME?"}]
["1994-04-13",null,null,null,0,{"$f":"IF(SUM($B$7:$B348)=0,\"\",IF(A348<>\"\",IF(A348<$B$3,\"N\",\"Y\"),\"\"))","v":""},0,9.25,0,null,1253,{"$f":"IF(AND(ISNUMBER(A348),NOT(ISNUMBER(A349))),IF((OFFSET(Q348,-Q348,0)>50),SUM(OFFSET(E348,-Q348+1,0):E348),SUM(OFFSET(E348,-Q348,0):E348)),IF(AND(ISNUMBER(P348),ISNUMBER(P349),P348  <P349),IF((OFFSET(Q348,-Q348,0)>50),SUM(OFFSET(E348,-Q348+1,0):E348),SUM(OFFSET(E348,-Q348,0):E348)),\"\"))","v":{"$error":"#NAME?"}},{"$f":"IF(ISNUMBER(L348),IF((OFFSET(Q348,-Q348,0)>50),SUM(OFFSET(G348,-Q348+1,0):G348),SUM(OFFSET(G348,-Q348,0):G348)),\"\")","v":""},null,null,{"$error":"#NAME?"},{"$error":"#NAME?"}]
["1994-04-20",null,null,null,0,{"$f":"IF(SUM($B$7:$B349)=0,\"\",IF(A349<>\"\",IF(A349<$B$3,\"N\",\"Y\"),\"\"))","v":""},0,9.25,0,null,1252,{"$f":"IF(AND(ISNUMBER(A349),NOT(ISNUMBER(A350))),IF((OFFSET(Q349,-Q349,0)>50),SUM(OFFSET(E349,-Q349+1,0):E349),SUM(OFFSET(E349,-Q349,0):E349)),IF(AND(ISNUMBER(P349),ISNUMBER(P350),P349  <P350),IF((OFFSET(Q349,-Q349,0)>50),SUM(OFFSET(E349,-Q349+1,0):E349),SUM(OFFSET(E349,-Q349,0):E349)),\"\"))","v":{"$error":"#NAME?"}},{"$f":"IF(ISNUMBER(L349),IF((OFFSET(Q349,-Q349,0)>50),SUM(OFFSET(G349,-Q349+1,0):G349),SUM(OFFSET(G349,-Q349,0):G349)),\"\")","v":""},null,null,{"$error":"#NAME?"},{"$error":"#NAME?"}]
["1994-04-27",null,null,null,0,{"$f":"IF(SUM($B$7:$B350)=0,\"\",IF(A350<>\"\",IF(A350<$B$3,\"N\",\"Y\"),\"\"))","v":""},0,9.25,0,null,1251,{"$f":"IF(AND(ISNUMBER(A350),NOT(ISNUMBER(A351))),IF((OFFSET(Q350,-Q350,0)>50),SUM(OFFSET(E350,-Q350+1,0):E350),SUM(OFFSET(E350,-Q350,0):E350)),IF(AND(ISNUMBER(P350),ISNUMBER(P351),P350  <P351),IF((OFFSET(Q350,-Q350,0)>50),SUM(OFFSET(E350,-Q350+1,0):E350),SUM(OFFSET(E350,-Q350,0):E350)),\"\"))","v":{"$error":"#NAME?"}},{"$f":"IF(ISNUMBER(L350),IF((OFFSET(Q350,-Q350,0)>50),SUM(OFFSET(G350,-Q350+1,0):G350),SUM(OFFSET(G350,-Q350,0):G350)),\"\")","v":""},null,null,{"$error":"#NAME?"},{"$error":"#NAME?"}]
["1994-05-04",null,null,null,0,{"$f":"IF(SUM($B$7:$B351)=0,\"\",IF(A351<>\"\",IF(A351<$B$3,\"N\",\"Y\"),\"\"))","v":""},0,9.25,0,null,1250,{"$f":"IF(AND(ISNUMBER(A351),NOT(ISNUMBER(A352))),IF((OFFSET(Q351,-Q351,0)>50),SUM(OFFSET(E351,-Q351+1,0):E351),SUM(OFFSET(E351,-Q351,0):E351)),IF(AND(ISNUMBER(P351),ISNUMBER(P352),P351  <P352),IF((OFFSET(Q351,-Q351,0)>50),SUM(OFFSET(E351,-Q351+1,0):E351),SUM(OFFSET(E351,-Q351,0):E351)),\"\"))","v":{"$error":"#NAME?"}},{"$f":"IF(ISNUMBER(L351),IF((OFFSET(Q351,-Q351,0)>50),SUM(OFFSET(G351,-Q351+1,0):G351),SUM(OFFSET(G351,-Q351,0):G351)),\"\")","v":""},null,null,{"$error":"#NAME?"},{"$error":"#NAME?"}]
["1994-05-11",null,null,null,0,{"$f":"IF(SUM($B$7:$B352)=0,\"\",IF(A352<>\"\",IF(A352<$B$3,\"N\",\"Y\"),\"\"))","v":""},0,9.25,0,null,1249,{"$f":"IF(AND(ISNUMBER(A352),NOT(ISNUMBER(A353))),IF((OFFSET(Q352,-Q352,0)>50),SUM(OFFSET(E352,-Q352+1,0):E352),SUM(OFFSET(E352,-Q352,0):E352)),IF(AND(ISNUMBER(P352),ISNUMBER(P353),P352  <P353),IF((OFFSET(Q352,-Q352,0)>50),SUM(OFFSET(E352,-Q352+1,0):E352),SUM(OFFSET(E352,-Q352,0):E352)),\"\"))","v":{"$error":"#NAME?"}},{"$f":"IF(ISNUMBER(L352),IF((OFFSET(Q352,-Q352,0)>50),SUM(OFFSET(G352,-Q352+1,0):G352),SUM(OFFSET(G352,-Q352,0):G352)),\"\")","v":""},null,null,{"$error":"#NAME?"},{"$error":"#NAME?"}]
["1994-05-18",null,null,null,0,{"$f":"IF(SUM($B$7:$B353)=0,\"\",IF(A353<>\"\",IF(A353<$B$3,\"N\",\"Y\"),\"\"))","v":""},0,9.25,0,null,1248,{"$f":"IF(AND(ISNUMBER(A353),NOT(ISNUMBER(A354))),IF((OFFSET(Q353,-Q353,0)>50),SUM(OFFSET(E353,-Q353+1,0):E353),SUM(OFFSET(E353,-Q353,0):E353)),IF(AND(ISNUMBER(P353),ISNUMBER(P354),P353  <P354),IF((OFFSET(Q353,-Q353,0)>50),SUM(OFFSET(E353,-Q353+1,0):E353),SUM(OFFSET(E353,-Q353,0):E353)),\"\"))","v":{"$error":"#NAME?"}},{"$f":"IF(ISNUMBER(L353),IF((OFFSET(Q353,-Q353,0)>50),SUM(OFFSET(G353,-Q353+1,0):G353),SUM(OFFSET(G353,-Q353,0):G353)),\"\")","v":""},null,null,{"$error":"#NAME?"},{"$error":"#NAME?"}]
["1994-05-25",null,null,null,0,{"$f":"IF(SUM($B$7:$B354)=0,\"\",IF(A354<>\"\",IF(A354<$B$3,\"N\",\"Y\"),\"\"))","v":""},0,9.25,0,null,1247,{"$f":"IF(AND(ISNUMBER(A354),NOT(ISNUMBER(A355))),IF((OFFSET(Q354,-Q354,0)>50),SUM(OFFSET(E354,-Q354+1,0):E354),SUM(OFFSET(E354,-Q354,0):E354)),IF(AND(ISNUMBER(P354),ISNUMBER(P355),P354  <P355),IF((OFFSET(Q354,-Q354,0)>50),SUM(OFFSET(E354,-Q354+1,0):E354),SUM(OFFSET(E354,-Q354,0):E354)),\"\"))","v":{"$error":"#NAME?"}},{"$f":"IF(ISNUMBER(L354),IF((OFFSET(Q354,-Q354,0)>50),SUM(OFFSET(G354,-Q354+1,0):G354),SUM(OFFSET(G354,-Q354,0):G354)),\"\")","v":""},null,null,{"$error":"#NAME?"},{"$error":"#NAME?"}]
["1994-06-01",null,null,null,0,{"$f":"IF(SUM($B$7:$B355)=0,\"\",IF(A355<>\"\",IF(A355<$B$3,\"N\",\"Y\"),\"\"))","v":""},0,9.25,0,null,1246,{"$f":"IF(AND(ISNUMBER(A355),NOT(ISNUMBER(A356))),IF((OFFSET(Q355,-Q355,0)>50),SUM(OFFSET(E355,-Q355+1,0):E355),SUM(OFFSET(E355,-Q355,0):E355)),IF(AND(ISNUMBER(P355),ISNUMBER(P356),P355  <P356),IF((OFFSET(Q355,-Q355,0)>50),SUM(OFFSET(E355,-Q355+1,0):E355),SUM(OFFSET(E355,-Q355,0):E355)),\"\"))","v":{"$error":"#NAME?"}},{"$f":"IF(ISNUMBER(L355),IF((OFFSET(Q355,-Q355,0)>50),SUM(OFFSET(G355,-Q355+1,0):G355),SUM(OFFSET(G355,-Q355,0):G355)),\"\")","v":""},null,null,{"$error":"#NAME?"},{"$error":"#NAME?"}]
["1994-06-08",null,null,null,0,{"$f":"IF(SUM($B$7:$B356)=0,\"\",IF(A356<>\"\",IF(A356<$B$3,\"N\",\"Y\"),\"\"))","v":""},0,9.25,0,null,1245,{"$f":"IF(AND(ISNUMBER(A356),NOT(ISNUMBER(A357))),IF((OFFSET(Q356,-Q356,0)>50),SUM(OFFSET(E356,-Q356+1,0):E356),SUM(OFFSET(E356,-Q356,0):E356)),IF(AND(ISNUMBER(P356),ISNUMBER(P357),P356  <P357),IF((OFFSET(Q356,-Q356,0)>50),SUM(OFFSET(E356,-Q356+1,0):E356),SUM(OFFSET(E356,-Q356,0):E356)),\"\"))","v":{"$error":"#NAME?"}},{"$f":"IF(ISNUMBER(L356),IF((OFFSET(Q356,-Q356,0)>50),SUM(OFFSET(G356,-Q356+1,0):G356),SUM(OFFSET(G356,-Q356,0):G356)),\"\")","v":""},null,null,{"$error":"#NAME?"},{"$error":"#NAME?"}]
["1994-06-15",null,null,null,0,{"$f":"IF(SUM($B$7:$B357)=0,\"\",IF(A357<>\"\",IF(A357<$B$3,\"N\",\"Y\"),\"\"))","v":""},0,9.25,0,null,1244,{"$f":"IF(AND(ISNUMBER(A357),NOT(ISNUMBER(A358))),IF((OFFSET(Q357,-Q357,0)>50),SUM(OFFSET(E357,-Q357+1,0):E357),SUM(OFFSET(E357,-Q357,0):E357)),IF(AND(ISNUMBER(P357),ISNUMBER(P358),P357  <P358),IF((OFFSET(Q357,-Q357,0)>50),SUM(OFFSET(E357,-Q357+1,0):E357),SUM(OFFSET(E357,-Q357,0):E357)),\"\"))","v":{"$error":"#NAME?"}},{"$f":"IF(ISNUMBER(L357),IF((OFFSET(Q357,-Q357,0)>50),SUM(OFFSET(G357,-Q357+1,0):G357),SUM(OFFSET(G357,-Q357,0):G357)),\"\")","v":""},null,null,{"$error":"#NAME?"},{"$error":"#NAME?"}]
["1994-06-22",null,null,null,0,{"$f":"IF(SUM($B$7:$B358)=0,\"\",IF(A358<>\"\",IF(A358<$B$3,\"N\",\"Y\"),\"\"))","v":""},0,9.25,0,null,1243,{"$f":"IF(AND(ISNUMBER(A358),NOT(ISNUMBER(A359))),IF((OFFSET(Q358,-Q358,0)>50),SUM(OFFSET(E358,-Q358+1,0):E358),SUM(OFFSET(E358,-Q358,0):E358)),IF(AND(ISNUMBER(P358),ISNUMBER(P359),P358  <P359),IF((OFFSET(Q358,-Q358,0)>50),SUM(OFFSET(E358,-Q358+1,0):E358),SUM(OFFSET(E358,-Q358,0):E358)),\"\"))","v":{"$error":"#NAME?"}},{"$f":"IF(ISNUMBER(L358),IF((OFFSET(Q358,-Q358,0)>50),SUM(OFFSET(G358,-Q358+1,0):G358),SUM(OFFSET(G358,-Q358,0):G358)),\"\")","v":""},null,null,{"$error":"#NAME?"},{"$error":"#NAME?"}]
["1994-06-29",null,null,null,0,{"$f":"IF(SUM($B$7:$B359)=0,\"\",IF(A359<>\"\",IF(A359<$B$3,\"N\",\"Y\"),\"\"))","v":""},0,9.25,0,null,1242,{"$f":"IF(AND(ISNUMBER(A359),NOT(ISNUMBER(A360))),IF((OFFSET(Q359,-Q359,0)>50),SUM(OFFSET(E359,-Q359+1,0):E359),SUM(OFFSET(E359,-Q359,0):E359)),IF(AND(ISNUMBER(P359),ISNUMBER(P360),P359  <P360),IF((OFFSET(Q359,-Q359,0)>50),SUM(OFFSET(E359,-Q359+1,0):E359),SUM(OFFSET(E359,-Q359,0):E359)),\"\"))","v":{"$error":"#NAME?"}},{"$f":"IF(ISNUMBER(L359),IF((OFFSET(Q359,-Q359,0)>50),SUM(OFFSET(G359,-Q359+1,0):G359),SUM(OFFSET(G359,-Q359,0):G359)),\"\")","v":""},null,null,{"$error":"#NAME?"},{"$error":"#NAME?"}]
["1994-07-06",null,null,null,0,{"$f":"IF(SUM($B$7:$B360)=0,\"\",IF(A360<>\"\",IF(A360<$B$3,\"N\",\"Y\"),\"\"))","v":""},0,8.9,0,null,1241,{"$f":"IF(AND(ISNUMBER(A360),NOT(ISNUMBER(A361))),IF((OFFSET(Q360,-Q360,0)>50),SUM(OFFSET(E360,-Q360+1,0):E360),SUM(OFFSET(E360,-Q360,0):E360)),IF(AND(ISNUMBER(P360),ISNUMBER(P361),P360  <P361),IF((OFFSET(Q360,-Q360,0)>50),SUM(OFFSET(E360,-Q360+1,0):E360),SUM(OFFSET(E360,-Q360,0):E360)),\"\"))","v":{"$error":"#NAME?"}},{"$f":"IF(ISNUMBER(L360),IF((OFFSET(Q360,-Q360,0)>50),SUM(OFFSET(G360,-Q360+1,0):G360),SUM(OFFSET(G360,-Q360,0):G360)),\"\")","v":""},null,null,{"$error":"#NAME?"},{"$error":"#NAME?"}]
["1994-07-13",null,null,null,0,{"$f":"IF(SUM($B$7:$B361)=0,\"\",IF(A361<>\"\",IF(A361<$B$3,\"N\",\"Y\"),\"\"))","v":""},0,8.9,0,null,1240,{"$f":"IF(AND(ISNUMBER(A361),NOT(ISNUMBER(A362))),IF((OFFSET(Q361,-Q361,0)>50),SUM(OFFSET(E361,-Q361+1,0):E361),SUM(OFFSET(E361,-Q361,0):E361)),IF(AND(ISNUMBER(P361),ISNUMBER(P362),P361  <P362),IF((OFFSET(Q361,-Q361,0)>50),SUM(OFFSET(E361,-Q361+1,0):E361),SUM(OFFSET(E361,-Q361,0):E361)),\"\"))","v":{"$error":"#NAME?"}},{"$f":"IF(ISNUMBER(L361),IF((OFFSET(Q361,-Q361,0)>50),SUM(OFFSET(G361,-Q361+1,0):G361),SUM(OFFSET(G361,-Q361,0):G361)),\"\")","v":""},null,null,{"$error":"#NAME?"},{"$error":"#NAME?"}]
["1994-07-20",null,null,null,0,{"$f":"IF(SUM($B$7:$B362)=0,\"\",IF(A362<>\"\",IF(A362<$B$3,\"N\",\"Y\"),\"\"))","v":""},0,8.9,0,null,1239,{"$f":"IF(AND(ISNUMBER(A362),NOT(ISNUMBER(A363))),IF((OFFSET(Q362,-Q362,0)>50),SUM(OFFSET(E362,-Q362+1,0):E362),SUM(OFFSET(E362,-Q362,0):E362)),IF(AND(ISNUMBER(P362),ISNUMBER(P363),P362  <P363),IF((OFFSET(Q362,-Q362,0)>50),SUM(OFFSET(E362,-Q362+1,0):E362),SUM(OFFSET(E362,-Q362,0):E362)),\"\"))","v":{"$error":"#NAME?"}},{"$f":"IF(ISNUMBER(L362),IF((OFFSET(Q362,-Q362,0)>50),SUM(OFFSET(G362,-Q362+1,0):G362),SUM(OFFSET(G362,-Q362,0):G362)),\"\")","v":""},null,null,{"$error":"#NAME?"},{"$error":"#NAME?"}]
["1994-07-27",null,null,null,0,{"$f":"IF(SUM($B$7:$B363)=0,\"\",IF(A363<>\"\",IF(A363<$B$3,\"N\",\"Y\"),\"\"))","v":""},0,8.9,0,null,1238,{"$f":"IF(AND(ISNUMBER(A363),NOT(ISNUMBER(A364))),IF((OFFSET(Q363,-Q363,0)>50),SUM(OFFSET(E363,-Q363+1,0):E363),SUM(OFFSET(E363,-Q363,0):E363)),IF(AND(ISNUMBER(P363),ISNUMBER(P364),P363  <P364),IF((OFFSET(Q363,-Q363,0)>50),SUM(OFFSET(E363,-Q363+1,0):E363),SUM(OFFSET(E363,-Q363,0):E363)),\"\"))","v":{"$error":"#NAME?"}},{"$f":"IF(ISNUMBER(L363),IF((OFFSET(Q363,-Q363,0)>50),SUM(OFFSET(G363,-Q363+1,0):G363),SUM(OFFSET(G363,-Q363,0):G363)),\"\")","v":""},null,null,{"$error":"#NAME?"},{"$error":"#NAME?"}]
["1994-08-03",null,null,null,0,{"$f":"IF(SUM($B$7:$B364)=0,\"\",IF(A364<>\"\",IF(A364<$B$3,\"N\",\"Y\"),\"\"))","v":""},0,8.9,0,null,1237,{"$f":"IF(AND(ISNUMBER(A364),NOT(ISNUMBER(A365))),IF((OFFSET(Q364,-Q364,0)>50),SUM(OFFSET(E364,-Q364+1,0):E364),SUM(OFFSET(E364,-Q364,0):E364)),IF(AND(ISNUMBER(P364),ISNUMBER(P365),P364  <P365),IF((OFFSET(Q364,-Q364,0)>50),SUM(OFFSET(E364,-Q364+1,0):E364),SUM(OFFSET(E364,-Q364,0):E364)),\"\"))","v":{"$error":"#NAME?"}},{"$f":"IF(ISNUMBER(L364),IF((OFFSET(Q364,-Q364,0)>50),SUM(OFFSET(G364,-Q364+1,0):G364),SUM(OFFSET(G364,-Q364,0):G364)),\"\")","v":""},null,null,{"$error":"#NAME?"},{"$error":"#NAME?"}]
["1994-08-10",null,null,null,0,{"$f":"IF(SUM($B$7:$B365)=0,\"\",IF(A365<>\"\",IF(A365<$B$3,\"N\",\"Y\"),\"\"))","v":""},0,8.9,0,null,1236,{"$f":"IF(AND(ISNUMBER(A365),NOT(ISNUMBER(A366))),IF((OFFSET(Q365,-Q365,0)>50),SUM(OFFSET(E365,-Q365+1,0):E365),SUM(OFFSET(E365,-Q365,0):E365)),IF(AND(ISNUMBER(P365),ISNUMBER(P366),P365  <P366),IF((OFFSET(Q365,-Q365,0)>50),SUM(OFFSET(E365,-Q365+1,0):E365),SUM(OFFSET(E365,-Q365,0):E365)),\"\"))","v":{"$error":"#NAME?"}},{"$f":"IF(ISNUMBER(L365),IF((OFFSET(Q365,-Q365,0)>50),SUM(OFFSET(G365,-Q365+1,0):G365),SUM(OFFSET(G365,-Q365,0):G365)),\"\")","v":""},null,null,{"$error":"#NAME?"},{"$error":"#NAME?"}]
["1994-08-17",null,null,null,0,{"$f":"IF(SUM($B$7:$B366)=0,\"\",IF(A366<>\"\",IF(A366<$B$3,\"N\",\"Y\"),\"\"))","v":""},0,8.9,0,null,1235,{"$f":"IF(AND(ISNUMBER(A366),NOT(ISNUMBER(A367))),IF((OFFSET(Q366,-Q366,0)>50),SUM(OFFSET(E366,-Q366+1,0):E366),SUM(OFFSET(E366,-Q366,0):E366)),IF(AND(ISNUMBER(P366),ISNUMBER(P367),P366  <P367),IF((OFFSET(Q366,-Q366,0)>50),SUM(OFFSET(E366,-Q366+1,0):E366),SUM(OFFSET(E366,-Q366,0):E366)),\"\"))","v":{"$error":"#NAME?"}},{"$f":"IF(ISNUMBER(L366),IF((OFFSET(Q366,-Q366,0)>50),SUM(OFFSET(G366,-Q366+1,0):G366),SUM(OFFSET(G366,-Q366,0):G366)),\"\")","v":""},null,null,{"$error":"#NAME?"},{"$error":"#NAME?"}]
["1994-08-24",null,null,null,0,{"$f":"IF(SUM($B$7:$B367)=0,\"\",IF(A367<>\"\",IF(A367<$B$3,\"N\",\"Y\"),\"\"))","v":""},0,8.9,0,null,1234,{"$f":"IF(AND(ISNUMBER(A367),NOT(ISNUMBER(A368))),IF((OFFSET(Q367,-Q367,0)>50),SUM(OFFSET(E367,-Q367+1,0):E367),SUM(OFFSET(E367,-Q367,0):E367)),IF(AND(ISNUMBER(P367),ISNUMBER(P368),P367  <P368),IF((OFFSET(Q367,-Q367,0)>50),SUM(OFFSET(E367,-Q367+1,0):E367),SUM(OFFSET(E367,-Q367,0):E367)),\"\"))","v":{"$error":"#NAME?"}},{"$f":"IF(ISNUMBER(L367),IF((OFFSET(Q367,-Q367,0)>50),SUM(OFFSET(G367,-Q367+1,0):G367),SUM(OFFSET(G367,-Q367,0):G367)),\"\")","v":""},null,null,{"$error":"#NAME?"},{"$error":"#NAME?"}]
["1994-08-31",null,null,null,0,{"$f":"IF(SUM($B$7:$B368)=0,\"\",IF(A368<>\"\",IF(A368<$B$3,\"N\",\"Y\"),\"\"))","v":""},0,8.9,0,null,1233,{"$f":"IF(AND(ISNUMBER(A368),NOT(ISNUMBER(A369))),IF((OFFSET(Q368,-Q368,0)>50),SUM(OFFSET(E368,-Q368+1,0):E368),SUM(OFFSET(E368,-Q368,0):E368)),IF(AND(ISNUMBER(P368),ISNUMBER(P369),P368  <P369),IF((OFFSET(Q368,-Q368,0)>50),SUM(OFFSET(E368,-Q368+1,0):E368),SUM(OFFSET(E368,-Q368,0):E368)),\"\"))","v":{"$error":"#NAME?"}},{"$f":"IF(ISNUMBER(L368),IF((OFFSET(Q368,-Q368,0)>50),SUM(OFFSET(G368,-Q368+1,0):G368),SUM(OFFSET(G368,-Q368,0):G368)),\"\")","v":""},null,null,{"$error":"#NAME?"},{"$error":"#NAME?"}]
["1994-09-07",null,null,null,0,{"$f":"IF(SUM($B$7:$B369)=0,\"\",IF(A369<>\"\",IF(A369<$B$3,\"N\",\"Y\"),\"\"))","v":""},0,8.9,0,null,1232,{"$f":"IF(AND(ISNUMBER(A369),NOT(ISNUMBER(A370))),IF((OFFSET(Q369,-Q369,0)>50),SUM(OFFSET(E369,-Q369+1,0):E369),SUM(OFFSET(E369,-Q369,0):E369)),IF(AND(ISNUMBER(P369),ISNUMBER(P370),P369  <P370),IF((OFFSET(Q369,-Q369,0)>50),SUM(OFFSET(E369,-Q369+1,0):E369),SUM(OFFSET(E369,-Q369,0):E369)),\"\"))","v":{"$error":"#NAME?"}},{"$f":"IF(ISNUMBER(L369),IF((OFFSET(Q369,-Q369,0)>50),SUM(OFFSET(G369,-Q369+1,0):G369),SUM(OFFSET(G369,-Q369,0):G369)),\"\")","v":""},null,null,{"$error":"#NAME?"},{"$error":"#NAME?"}]
["1994-09-14",null,null,null,0,{"$f":"IF(SUM($B$7:$B370)=0,\"\",IF(A370<>\"\",IF(A370<$B$3,\"N\",\"Y\"),\"\"))","v":""},0,8.9,0,null,1231,{"$f":"IF(AND(ISNUMBER(A370),NOT(ISNUMBER(A371))),IF((OFFSET(Q370,-Q370,0)>50),SUM(OFFSET(E370,-Q370+1,0):E370),SUM(OFFSET(E370,-Q370,0):E370)),IF(AND(ISNUMBER(P370),ISNUMBER(P371),P370  <P371),IF((OFFSET(Q370,-Q370,0)>50),SUM(OFFSET(E370,-Q370+1,0):E370),SUM(OFFSET(E370,-Q370,0):E370)),\"\"))","v":{"$error":"#NAME?"}},{"$f":"IF(ISNUMBER(L370),IF((OFFSET(Q370,-Q370,0)>50),SUM(OFFSET(G370,-Q370+1,0):G370),SUM(OFFSET(G370,-Q370,0):G370)),\"\")","v":""},null,null,{"$error":"#NAME?"},{"$error":"#NAME?"}]
["1994-09-21",null,null,null,0,{"$f":"IF(SUM($B$7:$B371)=0,\"\",IF(A371<>\"\",IF(A371<$B$3,\"N\",\"Y\"),\"\"))","v":""},0,8.9,0,null,1230,{"$f":"IF(AND(ISNUMBER(A371),NOT(ISNUMBER(A372))),IF((OFFSET(Q371,-Q371,0)>50),SUM(OFFSET(E371,-Q371+1,0):E371),SUM(OFFSET(E371,-Q371,0):E371)),IF(AND(ISNUMBER(P371),ISNUMBER(P372),P371  <P372),IF((OFFSET(Q371,-Q371,0)>50),SUM(OFFSET(E371,-Q371+1,0):E371),SUM(OFFSET(E371,-Q371,0):E371)),\"\"))","v":{"$error":"#NAME?"}},{"$f":"IF(ISNUMBER(L371),IF((OFFSET(Q371,-Q371,0)>50),SUM(OFFSET(G371,-Q371+1,0):G371),SUM(OFFSET(G371,-Q371,0):G371)),\"\")","v":""},null,null,{"$error":"#NAME?"},{"$error":"#NAME?"}]
["1994-09-28",null,null,null,0,{"$f":"IF(SUM($B$7:$B372)=0,\"\",IF(A372<>\"\",IF(A372<$B$3,\"N\",\"Y\"),\"\"))","v":""},0,8.9,0,null,1229,{"$f":"IF(AND(ISNUMBER(A372),NOT(ISNUMBER(A373))),IF((OFFSET(Q372,-Q372,0)>50),SUM(OFFSET(E372,-Q372+1,0):E372),SUM(OFFSET(E372,-Q372,0):E372)),IF(AND(ISNUMBER(P372),ISNUMBER(P373),P372  <P373),IF((OFFSET(Q372,-Q372,0)>50),SUM(OFFSET(E372,-Q372+1,0):E372),SUM(OFFSET(E372,-Q372,0):E372)),\"\"))","v":{"$error":"#NAME?"}},{"$f":"IF(ISNUMBER(L372),IF((OFFSET(Q372,-Q372,0)>50),SUM(OFFSET(G372,-Q372+1,0):G372),SUM(OFFSET(G372,-Q372,0):G372)),\"\")","v":""},null,null,{"$error":"#NAME?"},{"$error":"#NAME?"}]
["1994-10-05",null,null,null,0,{"$f":"IF(SUM($B$7:$B373)=0,\"\",IF(A373<>\"\",IF(A373<$B$3,\"N\",\"Y\"),\"\"))","v":""},0,8.9,0,null,1228,{"$f":"IF(AND(ISNUMBER(A373),NOT(ISNUMBER(A374))),IF((OFFSET(Q373,-Q373,0)>50),SUM(OFFSET(E373,-Q373+1,0):E373),SUM(OFFSET(E373,-Q373,0):E373)),IF(AND(ISNUMBER(P373),ISNUMBER(P374),P373  <P374),IF((OFFSET(Q373,-Q373,0)>50),SUM(OFFSET(E373,-Q373+1,0):E373),SUM(OFFSET(E373,-Q373,0):E373)),\"\"))","v":{"$error":"#NAME?"}},{"$f":"IF(ISNUMBER(L373),IF((OFFSET(Q373,-Q373,0)>50),SUM(OFFSET(G373,-Q373+1,0):G373),SUM(OFFSET(G373,-Q373,0):G373)),\"\")","v":""},null,null,{"$error":"#NAME?"},{"$error":"#NAME?"}]
["1994-10-12",null,null,null,0,{"$f":"IF(SUM($B$7:$B374)=0,\"\",IF(A374<>\"\",IF(A374<$B$3,\"N\",\"Y\"),\"\"))","v":""},0,8.9,0,null,1227,{"$f":"IF(AND(ISNUMBER(A374),NOT(ISNUMBER(A375))),IF((OFFSET(Q374,-Q374,0)>50),SUM(OFFSET(E374,-Q374+1,0):E374),SUM(OFFSET(E374,-Q374,0):E374)),IF(AND(ISNUMBER(P374),ISNUMBER(P375),P374  <P375),IF((OFFSET(Q374,-Q374,0)>50),SUM(OFFSET(E374,-Q374+1,0):E374),SUM(OFFSET(E374,-Q374,0):E374)),\"\"))","v":{"$error":"#NAME?"}},{"$f":"IF(ISNUMBER(L374),IF((OFFSET(Q374,-Q374,0)>50),SUM(OFFSET(G374,-Q374+1,0):G374),SUM(OFFSET(G374,-Q374,0):G374)),\"\")","v":""},null,null,{"$error":"#NAME?"},{"$error":"#NAME?"}]
["1994-10-19",null,null,null,0,{"$f":"IF(SUM($B$7:$B375)=0,\"\",IF(A375<>\"\",IF(A375<$B$3,\"N\",\"Y\"),\"\"))","v":""},0,8.9,0,null,1226,{"$f":"IF(AND(ISNUMBER(A375),NOT(ISNUMBER(A376))),IF((OFFSET(Q375,-Q375,0)>50),SUM(OFFSET(E375,-Q375+1,0):E375),SUM(OFFSET(E375,-Q375,0):E375)),IF(AND(ISNUMBER(P375),ISNUMBER(P376),P375  <P376),IF((OFFSET(Q375,-Q375,0)>50),SUM(OFFSET(E375,-Q375+1,0):E375),SUM(OFFSET(E375,-Q375,0):E375)),\"\"))","v":{"$error":"#NAME?"}},{"$f":"IF(ISNUMBER(L375),IF((OFFSET(Q375,-Q375,0)>50),SUM(OFFSET(G375,-Q375+1,0):G375),SUM(OFFSET(G375,-Q375,0):G375)),\"\")","v":""},null,null,{"$error":"#NAME?"},{"$error":"#NAME?"}]
["1994-10-26",null,null,null,0,{"$f":"IF(SUM($B$7:$B376)=0,\"\",IF(A376<>\"\",IF(A376<$B$3,\"N\",\"Y\"),\"\"))","v":""},0,8.9,0,null,1225,{"$f":"IF(AND(ISNUMBER(A376),NOT(ISNUMBER(A377))),IF((OFFSET(Q376,-Q376,0)>50),SUM(OFFSET(E376,-Q376+1,0):E376),SUM(OFFSET(E376,-Q376,0):E376)),IF(AND(ISNUMBER(P376),ISNUMBER(P377),P376  <P377),IF((OFFSET(Q376,-Q376,0)>50),SUM(OFFSET(E376,-Q376+1,0):E376),SUM(OFFSET(E376,-Q376,0):E376)),\"\"))","v":{"$error":"#NAME?"}},{"$f":"IF(ISNUMBER(L376),IF((OFFSET(Q376,-Q376,0)>50),SUM(OFFSET(G376,-Q376+1,0):G376),SUM(OFFSET(G376,-Q376,0):G376)),\"\")","v":""},null,null,{"$error":"#NAME?"},{"$error":"#NAME?"}]
["1994-11-02",null,null,null,0,{"$f":"IF(SUM($B$7:$B377)=0,\"\",IF(A377<>\"\",IF(A377<$B$3,\"N\",\"Y\"),\"\"))","v":""},0,8.9,0,null,1224,{"$f":"IF(AND(ISNUMBER(A377),NOT(ISNUMBER(A378))),IF((OFFSET(Q377,-Q377,0)>50),SUM(OFFSET(E377,-Q377+1,0):E377),SUM(OFFSET(E377,-Q377,0):E377)),IF(AND(ISNUMBER(P377),ISNUMBER(P378),P377  <P378),IF((OFFSET(Q377,-Q377,0)>50),SUM(OFFSET(E377,-Q377+1,0):E377),SUM(OFFSET(E377,-Q377,0):E377)),\"\"))","v":{"$error":"#NAME?"}},{"$f":"IF(ISNUMBER(L377),IF((OFFSET(Q377,-Q377,0)>50),SUM(OFFSET(G377,-Q377+1,0):G377),SUM(OFFSET(G377,-Q377,0):G377)),\"\")","v":""},null,null,{"$error":"#NAME?"},{"$error":"#NAME?"}]
["1994-11-09",null,null,null,0,{"$f":"IF(SUM($B$7:$B378)=0,\"\",IF(A378<>\"\",IF(A378<$B$3,\"N\",\"Y\"),\"\"))","v":""},0,8.9,0,null,1223,{"$f":"IF(AND(ISNUMBER(A378),NOT(ISNUMBER(A379))),IF((OFFSET(Q378,-Q378,0)>50),SUM(OFFSET(E378,-Q378+1,0):E378),SUM(OFFSET(E378,-Q378,0):E378)),IF(AND(ISNUMBER(P378),ISNUMBER(P379),P378  <P379),IF((OFFSET(Q378,-Q378,0)>50),SUM(OFFSET(E378,-Q378+1,0):E378),SUM(OFFSET(E378,-Q378,0):E378)),\"\"))","v":{"$error":"#NAME?"}},{"$f":"IF(ISNUMBER(L378),IF((OFFSET(Q378,-Q378,0)>50),SUM(OFFSET(G378,-Q378+1,0):G378),SUM(OFFSET(G378,-Q378,0):G378)),\"\")","v":""},null,null,{"$error":"#NAME?"},{"$error":"#NAME?"}]
["1994-11-16",null,null,null,0,{"$f":"IF(SUM($B$7:$B379)=0,\"\",IF(A379<>\"\",IF(A379<$B$3,\"N\",\"Y\"),\"\"))","v":""},0,8.9,0,null,1222,{"$f":"IF(AND(ISNUMBER(A379),NOT(ISNUMBER(A380))),IF((OFFSET(Q379,-Q379,0)>50),SUM(OFFSET(E379,-Q379+1,0):E379),SUM(OFFSET(E379,-Q379,0):E379)),IF(AND(ISNUMBER(P379),ISNUMBER(P380),P379  <P380),IF((OFFSET(Q379,-Q379,0)>50),SUM(OFFSET(E379,-Q379+1,0):E379),SUM(OFFSET(E379,-Q379,0):E379)),\"\"))","v":{"$error":"#NAME?"}},{"$f":"IF(ISNUMBER(L379),IF((OFFSET(Q379,-Q379,0)>50),SUM(OFFSET(G379,-Q379+1,0):G379),SUM(OFFSET(G379,-Q379,0):G379)),\"\")","v":""},null,null,{"$error":"#NAME?"},{"$error":"#NAME?"}]
["1994-11-23",null,null,null,0,{"$f":"IF(SUM($B$7:$B380)=0,\"\",IF(A380<>\"\",IF(A380<$B$3,\"N\",\"Y\"),\"\"))","v":""},0,8.9,0,null,1221,{"$f":"IF(AND(ISNUMBER(A380),NOT(ISNUMBER(A381))),IF((OFFSET(Q380,-Q380,0)>50),SUM(OFFSET(E380,-Q380+1,0):E380),SUM(OFFSET(E380,-Q380,0):E380)),IF(AND(ISNUMBER(P380),ISNUMBER(P381),P380  <P381),IF((OFFSET(Q380,-Q380,0)>50),SUM(OFFSET(E380,-Q380+1,0):E380),SUM(OFFSET(E380,-Q380,0):E380)),\"\"))","v":{"$error":"#NAME?"}},{"$f":"IF(ISNUMBER(L380),IF((OFFSET(Q380,-Q380,0)>50),SUM(OFFSET(G380,-Q380+1,0):G380),SUM(OFFSET(G380,-Q380,0):G380)),\"\")","v":""},null,null,{"$error":"#NAME?"},{"$error":"#NAME?"}]
["1994-11-30",null,null,null,0,{"$f":"IF(SUM($B$7:$B381)=0,\"\",IF(A381<>\"\",IF(A381<$B$3,\"N\",\"Y\"),\"\"))","v":""},0,8.9,0,null,1220,{"$f":"IF(AND(ISNUMBER(A381),NOT(ISNUMBER(A382))),IF((OFFSET(Q381,-Q381,0)>50),SUM(OFFSET(E381,-Q381+1,0):E381),SUM(OFFSET(E381,-Q381,0):E381)),IF(AND(ISNUMBER(P381),ISNUMBER(P382),P381  <P382),IF((OFFSET(Q381,-Q381,0)>50),SUM(OFFSET(E381,-Q381+1,0):E381),SUM(OFFSET(E381,-Q381,0):E381)),\"\"))","v":{"$error":"#NAME?"}},{"$f":"IF(ISNUMBER(L381),IF((OFFSET(Q381,-Q381,0)>50),SUM(OFFSET(G381,-Q381+1,0):G381),SUM(OFFSET(G381,-Q381,0):G381)),\"\")","v":""},null,null,{"$error":"#NAME?"},{"$error":"#NAME?"}]
["1994-12-07",null,null,null,0,{"$f":"IF(SUM($B$7:$B382)=0,\"\",IF(A382<>\"\",IF(A382<$B$3,\"N\",\"Y\"),\"\"))","v":""},0,8.9,0,null,1219,{"$f":"IF(AND(ISNUMBER(A382),NOT(ISNUMBER(A383))),IF((OFFSET(Q382,-Q382,0)>50),SUM(OFFSET(E382,-Q382+1,0):E382),SUM(OFFSET(E382,-Q382,0):E382)),IF(AND(ISNUMBER(P382),ISNUMBER(P383),P382  <P383),IF((OFFSET(Q382,-Q382,0)>50),SUM(OFFSET(E382,-Q382+1,0):E382),SUM(OFFSET(E382,-Q382,0):E382)),\"\"))","v":{"$error":"#NAME?"}},{"$f":"IF(ISNUMBER(L382),IF((OFFSET(Q382,-Q382,0)>50),SUM(OFFSET(G382,-Q382+1,0):G382),SUM(OFFSET(G382,-Q382,0):G382)),\"\")","v":""},null,null,{"$error":"#NAME?"},{"$error":"#NAME?"}]
["1994-12-14",null,null,null,0,{"$f":"IF(SUM($B$7:$B383)=0,\"\",IF(A383<>\"\",IF(A383<$B$3,\"N\",\"Y\"),\"\"))","v":""},0,8.9,0,null,1218,{"$f":"IF(AND(ISNUMBER(A383),NOT(ISNUMBER(A384))),IF((OFFSET(Q383,-Q383,0)>50),SUM(OFFSET(E383,-Q383+1,0):E383),SUM(OFFSET(E383,-Q383,0):E383)),IF(AND(ISNUMBER(P383),ISNUMBER(P384),P383  <P384),IF((OFFSET(Q383,-Q383,0)>50),SUM(OFFSET(E383,-Q383+1,0):E383),SUM(OFFSET(E383,-Q383,0):E383)),\"\"))","v":{"$error":"#NAME?"}},{"$f":"IF(ISNUMBER(L383),IF((OFFSET(Q383,-Q383,0)>50),SUM(OFFSET(G383,-Q383+1,0):G383),SUM(OFFSET(G383,-Q383,0):G383)),\"\")","v":""},null,null,{"$error":"#NAME?"},{"$error":"#NAME?"}]
["1994-12-21",null,null,null,0,{"$f":"IF(SUM($B$7:$B384)=0,\"\",IF(A384<>\"\",IF(A384<$B$3,\"N\",\"Y\"),\"\"))","v":""},0,8.9,0,null,1217,{"$f":"IF(AND(ISNUMBER(A384),NOT(ISNUMBER(A385))),IF((OFFSET(Q384,-Q384,0)>50),SUM(OFFSET(E384,-Q384+1,0):E384),SUM(OFFSET(E384,-Q384,0):E384)),IF(AND(ISNUMBER(P384),ISNUMBER(P385),P384  <P385),IF((OFFSET(Q384,-Q384,0)>50),SUM(OFFSET(E384,-Q384+1,0):E384),SUM(OFFSET(E384,-Q384,0):E384)),\"\"))","v":{"$error":"#NAME?"}},{"$f":"IF(ISNUMBER(L384),IF((OFFSET(Q384,-Q384,0)>50),SUM(OFFSET(G384,-Q384+1,0):G384),SUM(OFFSET(G384,-Q384,0):G384)),\"\")","v":""},null,null,{"$error":"#NAME?"},{"$error":"#NAME?"}]
["1994-12-28",null,null,null,0,{"$f":"IF(SUM($B$7:$B385)=0,\"\",IF(A385<>\"\",IF(A385<$B$3,\"N\",\"Y\"),\"\"))","v":""},0,8.9,0,null,1216,{"$f":"IF(AND(ISNUMBER(A385),NOT(ISNUMBER(A386))),IF((OFFSET(Q385,-Q385,0)>50),SUM(OFFSET(E385,-Q385+1,0):E385),SUM(OFFSET(E385,-Q385,0):E385)),IF(AND(ISNUMBER(P385),ISNUMBER(P386),P385  <P386),IF((OFFSET(Q385,-Q385,0)>50),SUM(OFFSET(E385,-Q385+1,0):E385),SUM(OFFSET(E385,-Q385,0):E385)),\"\"))","v":{"$error":"#NAME?"}},{"$f":"IF(ISNUMBER(L385),IF((OFFSET(Q385,-Q385,0)>50),SUM(OFFSET(G385,-Q385+1,0):G385),SUM(OFFSET(G385,-Q385,0):G385)),\"\")","v":""},null,null,{"$error":"#NAME?"},{"$error":"#NAME?"}]
["1995-01-04",null,null,null,0,{"$f":"IF(SUM($B$7:$B386)=0,\"\",IF(A386<>\"\",IF(A386<$B$3,\"N\",\"Y\"),\"\"))","v":""},0,8.9,0,null,1215,{"$f":"IF(AND(ISNUMBER(A386),NOT(ISNUMBER(A387))),IF((OFFSET(Q386,-Q386,0)>50),SUM(OFFSET(E386,-Q386+1,0):E386),SUM(OFFSET(E386,-Q386,0):E386)),IF(AND(ISNUMBER(P386),ISNUMBER(P387),P386  <P387),IF((OFFSET(Q386,-Q386,0)>50),SUM(OFFSET(E386,-Q386+1,0):E386),SUM(OFFSET(E386,-Q386,0):E386)),\"\"))","v":{"$error":"#NAME?"}},{"$f":"IF(ISNUMBER(L386),IF((OFFSET(Q386,-Q386,0)>50),SUM(OFFSET(G386,-Q386+1,0):G386),SUM(OFFSET(G386,-Q386,0):G386)),\"\")","v":""},null,null,{"$error":"#NAME?"},{"$error":"#NAME?"}]
["1995-01-11",null,null,null,0,{"$f":"IF(SUM($B$7:$B387)=0,\"\",IF(A387<>\"\",IF(A387<$B$3,\"N\",\"Y\"),\"\"))","v":""},0,8.9,0,null,1214,{"$f":"IF(AND(ISNUMBER(A387),NOT(ISNUMBER(A388))),IF((OFFSET(Q387,-Q387,0)>50),SUM(OFFSET(E387,-Q387+1,0):E387),SUM(OFFSET(E387,-Q387,0):E387)),IF(AND(ISNUMBER(P387),ISNUMBER(P388),P387  <P388),IF((OFFSET(Q387,-Q387,0)>50),SUM(OFFSET(E387,-Q387+1,0):E387),SUM(OFFSET(E387,-Q387,0):E387)),\"\"))","v":{"$error":"#NAME?"}},{"$f":"IF(ISNUMBER(L387),IF((OFFSET(Q387,-Q387,0)>50),SUM(OFFSET(G387,-Q387+1,0):G387),SUM(OFFSET(G387,-Q387,0):G387)),\"\")","v":""},null,null,{"$error":"#NAME?"},{"$error":"#NAME?"}]
["1995-01-18",null,null,null,0,{"$f":"IF(SUM($B$7:$B388)=0,\"\",IF(A388<>\"\",IF(A388<$B$3,\"N\",\"Y\"),\"\"))","v":""},0,8.9,0,null,1213,{"$f":"IF(AND(ISNUMBER(A388),NOT(ISNUMBER(A389))),IF((OFFSET(Q388,-Q388,0)>50),SUM(OFFSET(E388,-Q388+1,0):E388),SUM(OFFSET(E388,-Q388,0):E388)),IF(AND(ISNUMBER(P388),ISNUMBER(P389),P388  <P389),IF((OFFSET(Q388,-Q388,0)>50),SUM(OFFSET(E388,-Q388+1,0):E388),SUM(OFFSET(E388,-Q388,0):E388)),\"\"))","v":{"$error":"#NAME?"}},{"$f":"IF(ISNUMBER(L388),IF((OFFSET(Q388,-Q388,0)>50),SUM(OFFSET(G388,-Q388+1,0):G388),SUM(OFFSET(G388,-Q388,0):G388)),\"\")","v":""},null,null,{"$error":"#NAME?"},{"$error":"#NAME?"}]
["1995-01-25",null,null,null,0,{"$f":"IF(SUM($B$7:$B389)=0,\"\",IF(A389<>\"\",IF(A389<$B$3,\"N\",\"Y\"),\"\"))","v":""},0,8.9,0,null,1212,{"$f":"IF(AND(ISNUMBER(A389),NOT(ISNUMBER(A390))),IF((OFFSET(Q389,-Q389,0)>50),SUM(OFFSET(E389,-Q389+1,0):E389),SUM(OFFSET(E389,-Q389,0):E389)),IF(AND(ISNUMBER(P389),ISNUMBER(P390),P389  <P390),IF((OFFSET(Q389,-Q389,0)>50),SUM(OFFSET(E389,-Q389+1,0):E389),SUM(OFFSET(E389,-Q389,0):E389)),\"\"))","v":{"$error":"#NAME?"}},{"$f":"IF(ISNUMBER(L389),IF((OFFSET(Q389,-Q389,0)>50),SUM(OFFSET(G389,-Q389+1,0):G389),SUM(OFFSET(G389,-Q389,0):G389)),\"\")","v":""},null,null,{"$error":"#NAME?"},{"$error":"#NAME?"}]
["1995-02-01",null,null,null,0,{"$f":"IF(SUM($B$7:$B390)=0,\"\",IF(A390<>\"\",IF(A390<$B$3,\"N\",\"Y\"),\"\"))","v":""},0,8.9,0,null,1211,{"$f":"IF(AND(ISNUMBER(A390),NOT(ISNUMBER(A391))),IF((OFFSET(Q390,-Q390,0)>50),SUM(OFFSET(E390,-Q390+1,0):E390),SUM(OFFSET(E390,-Q390,0):E390)),IF(AND(ISNUMBER(P390),ISNUMBER(P391),P390  <P391),IF((OFFSET(Q390,-Q390,0)>50),SUM(OFFSET(E390,-Q390+1,0):E390),SUM(OFFSET(E390,-Q390,0):E390)),\"\"))","v":{"$error":"#NAME?"}},{"$f":"IF(ISNUMBER(L390),IF((OFFSET(Q390,-Q390,0)>50),SUM(OFFSET(G390,-Q390+1,0):G390),SUM(OFFSET(G390,-Q390,0):G390)),\"\")","v":""},null,null,{"$error":"#NAME?"},{"$error":"#NAME?"}]
["1995-02-08",null,null,null,0,{"$f":"IF(SUM($B$7:$B391)=0,\"\",IF(A391<>\"\",IF(A391<$B$3,\"N\",\"Y\"),\"\"))","v":""},0,8.9,0,null,{"$f":"IF(A391<>\"\",IF((TODAY()-A391)/7>=0,INT((TODAY()-A391)/7),0),\"\")","v":1210},{"$f":"IF(AND(ISNUMBER(A391),NOT(ISNUMBER(A392))),IF((OFFSET(Q391,-Q391,0)>50),SUM(OFFSET(E391,-Q391+1,0):E391),SUM(OFFSET(E391,-Q391,0):E391)),IF(AND(ISNUMBER(P391),ISNUMBER(P392),P391  <P392),IF((OFFSET(Q391,-Q391,0)>50),SUM(OFFSET(E391,-Q391+1,0):E391),SUM(OFFSET(E391,-Q391,0):E391)),\"\"))","v":{"$error":"#NAME?"}},{"$f":"IF(ISNUMBER(L391),IF((OFFSET(Q391,-Q391,0)>50),SUM(OFFSET(G391,-Q391+1,0):G391),SUM(OFFSET(G391,-Q391,0):G391)),\"\")","v":""},null,null,{"$f":"FinYear(A391)","v":{"$error":"#NAME?"}},{"$error":"#NAME?"}]
["1995-02-15",null,null,null,{"$f":"IF(A392<>\"\",IF(B392-C392>=0,B392-C392,0),\"\")","v":0},{"$f":"IF(SUM($B$7:$B392)=0,\"\",IF(A392<>\"\",IF(A392<$B$3,\"N\",\"Y\"),\"\"))","v":""},0,8.9,0,null,1209,{"$f":"IF(AND(ISNUMBER(A392),NOT(ISNUMBER(A393))),IF((OFFSET(Q392,-Q392,0)>50),SUM(OFFSET(E392,-Q392+1,0):E392),SUM(OFFSET(E392,-Q392,0):E392)),IF(AND(ISNUMBER(P392),ISNUMBER(P393),P392  <P393),IF((OFFSET(Q392,-Q392,0)>50),SUM(OFFSET(E392,-Q392+1,0):E392),SUM(OFFSET(E392,-Q392,0):E392)),\"\"))","v":{"$error":"#NAME?"}},{"$f":"IF(ISNUMBER(L392),IF((OFFSET(Q392,-Q392,0)>50),SUM(OFFSET(G392,-Q392+1,0):G392),SUM(OFFSET(G392,-Q392,0):G392)),\"\")","v":""},null,null,{"$error":"#NAME?"},{"$f":"ROUND((A392-StartOfFinYear(P392))/7,0)","v":{"$error":"#NAME?"}}]
["1995-02-22",null,null,null,0,{"$f":"IF(SUM($B$7:$B393)=0,\"\",IF(A393<>\"\",IF(A393<$B$3,\"N\",\"Y\"),\"\"))","v":""},{"$f":"IF(F393=\"N\",0,IF(A393<>\"\",IF(K393>=0,((E393+I392)*(1+(H393/52)/100)-E393-I392),0),\"\"))","v":0},8.9,{"$f":"IF(A393<>\"\",I392+E393+G393,\"\")","v":0},null,1208,{"$f":"IF(AND(ISNUMBER(A393),NOT(ISNUMBER(A394))),IF((OFFSET(Q393,-Q393,0)>50),SUM(OFFSET(E393,-Q393+1,0):E393),SUM(OFFSET(E393,-Q393,0):E393)),IF(AND(ISNUMBER(P393),ISNUMBER(P394),P393  <P394),IF((OFFSET(Q393,-Q393,0)>50),SUM(OFFSET(E393,-Q393+1,0):E393),SUM(OFFSET(E393,-Q393,0):E393)),\"\"))","v":{"$error":"#NAME?"}},{"$f":"IF(ISNUMBER(L393),IF((OFFSET(Q393,-Q393,0)>50),SUM(OFFSET(G393,-Q393+1,0):G393),SUM(OFFSET(G393,-Q393,0):G393)),\"\")","v":""},null,null,{"$error":"#NAME?"},{"$error":"#NAME?"}]
[{"$f":"IF(A393<>\"\",IF(A393+12<=TODAY(),+A393+7,\"\"),\"\")","v":"1995-03-01"},null,null,null,0,{"$f":"IF(SUM($B$7:$B394)=0,\"\",IF(A394<>\"\",IF(A394<$B$3,\"N\",\"Y\"),\"\"))","v":""},0,8.9,0,null,1207,{"$f":"IF(AND(ISNUMBER(A394),NOT(ISNUMBER(A395))),IF((OFFSET(Q394,-Q394,0)>50),SUM(OFFSET(E394,-Q394+1,0):E394),SUM(OFFSET(E394,-Q394,0):E394)),IF(AND(ISNUMBER(P394),ISNUMBER(P395),P394  <P395),IF((OFFSET(Q394,-Q394,0)>50),SUM(OFFSET(E394,-Q394+1,0):E394),SUM(OFFSET(E394,-Q394,0):E394)),\"\"))","v":{"$error":"#NAME?"}},{"$f":"IF(ISNUMBER(L394),IF((OFFSET(Q394,-Q394,0)>50),SUM(OFFSET(G394,-Q394+1,0):G394),SUM(OFFSET(G394,-Q394,0):G394)),\"\")","v":""},null,null,{"$error":"#NAME?"},{"$error":"#NAME?"}]
["1995-03-08",null,null,null,0,{"$f":"IF(SUM($B$7:$B395)=0,\"\",IF(A395<>\"\",IF(A395<$B$3,\"N\",\"Y\"),\"\"))","v":""},0,8.9,0,null,1206,{"$f":"IF(AND(ISNUMBER(A395),NOT(ISNUMBER(A396))),IF((OFFSET(Q395,-Q395,0)>50),SUM(OFFSET(E395,-Q395+1,0):E395),SUM(OFFSET(E395,-Q395,0):E395)),IF(AND(ISNUMBER(P395),ISNUMBER(P396),P395  <P396),IF((OFFSET(Q395,-Q395,0)>50),SUM(OFFSET(E395,-Q395+1,0):E395),SUM(OFFSET(E395,-Q395,0):E395)),\"\"))","v":{"$error":"#NAME?"}},{"$f":"IF(ISNUMBER(L395),IF((OFFSET(Q395,-Q395,0)>50),SUM(OFFSET(G395,-Q395+1,0):G395),SUM(OFFSET(G395,-Q395,0):G395)),\"\")","v":""},null,null,{"$error":"#NAME?"},{"$error":"#NAME?"}]
["1995-03-15",null,null,null,0,{"$f":"IF(SUM($B$7:$B396)=0,\"\",IF(A396<>\"\",IF(A396<$B$3,\"N\",\"Y\"),\"\"))","v":""},0,8.9,0,null,1205,{"$f":"IF(AND(ISNUMBER(A396),NOT(ISNUMBER(A397))),IF((OFFSET(Q396,-Q396,0)>50),SUM(OFFSET(E396,-Q396+1,0):E396),SUM(OFFSET(E396,-Q396,0):E396)),IF(AND(ISNUMBER(P396),ISNUMBER(P397),P396  <P397),IF((OFFSET(Q396,-Q396,0)>50),SUM(OFFSET(E396,-Q396+1,0):E396),SUM(OFFSET(E396,-Q396,0):E396)),\"\"))","v":{"$error":"#NAME?"}},{"$f":"IF(ISNUMBER(L396),IF((OFFSET(Q396,-Q396,0)>50),SUM(OFFSET(G396,-Q396+1,0):G396),SUM(OFFSET(G396,-Q396,0):G396)),\"\")","v":""},null,null,{"$error":"#NAME?"},{"$error":"#NAME?"}]
["1995-03-22",null,null,null,0,{"$f":"IF(SUM($B$7:$B397)=0,\"\",IF(A397<>\"\",IF(A397<$B$3,\"N\",\"Y\"),\"\"))","v":""},0,8.9,0,null,1204,{"$f":"IF(AND(ISNUMBER(A397),NOT(ISNUMBER(A398))),IF((OFFSET(Q397,-Q397,0)>50),SUM(OFFSET(E397,-Q397+1,0):E397),SUM(OFFSET(E397,-Q397,0):E397)),IF(AND(ISNUMBER(P397),ISNUMBER(P398),P397  <P398),IF((OFFSET(Q397,-Q397,0)>50),SUM(OFFSET(E397,-Q397+1,0):E397),SUM(OFFSET(E397,-Q397,0):E397)),\"\"))","v":{"$error":"#NAME?"}},{"$f":"IF(ISNUMBER(L397),IF((OFFSET(Q397,-Q397,0)>50),SUM(OFFSET(G397,-Q397+1,0):G397),SUM(OFFSET(G397,-Q397,0):G397)),\"\")","v":""},null,null,{"$error":"#NAME?"},{"$error":"#NAME?"}]
["1995-03-29",null,null,null,0,{"$f":"IF(SUM($B$7:$B398)=0,\"\",IF(A398<>\"\",IF(A398<$B$3,\"N\",\"Y\"),\"\"))","v":""},0,8.9,0,null,1203,{"$f":"IF(AND(ISNUMBER(A398),NOT(ISNUMBER(A399))),IF((OFFSET(Q398,-Q398,0)>50),SUM(OFFSET(E398,-Q398+1,0):E398),SUM(OFFSET(E398,-Q398,0):E398)),IF(AND(ISNUMBER(P398),ISNUMBER(P399),P398  <P399),IF((OFFSET(Q398,-Q398,0)>50),SUM(OFFSET(E398,-Q398+1,0):E398),SUM(OFFSET(E398,-Q398,0):E398)),\"\"))","v":{"$error":"#NAME?"}},{"$f":"IF(ISNUMBER(L398),IF((OFFSET(Q398,-Q398,0)>50),SUM(OFFSET(G398,-Q398+1,0):G398),SUM(OFFSET(G398,-Q398,0):G398)),\"\")","v":""},null,null,{"$error":"#NAME?"},{"$error":"#NAME?"}]
["1995-04-05",null,null,null,0,{"$f":"IF(SUM($B$7:$B399)=0,\"\",IF(A399<>\"\",IF(A399<$B$3,\"N\",\"Y\"),\"\"))","v":""},0,8.9,0,null,1202,{"$f":"IF(AND(ISNUMBER(A399),NOT(ISNUMBER(A400))),IF((OFFSET(Q399,-Q399,0)>50),SUM(OFFSET(E399,-Q399+1,0):E399),SUM(OFFSET(E399,-Q399,0):E399)),IF(AND(ISNUMBER(P399),ISNUMBER(P400),P399  <P400),IF((OFFSET(Q399,-Q399,0)>50),SUM(OFFSET(E399,-Q399+1,0):E399),SUM(OFFSET(E399,-Q399,0):E399)),\"\"))","v":{"$error":"#NAME?"}},{"$f":"IF(ISNUMBER(L399),IF((OFFSET(Q399,-Q399,0)>50),SUM(OFFSET(G399,-Q399+1,0):G399),SUM(OFFSET(G399,-Q399,0):G399)),\"\")","v":""},null,null,{"$error":"#NAME?"},{"$error":"#NAME?"}]
["1995-04-12",null,null,null,0,{"$f":"IF(SUM($B$7:$B400)=0,\"\",IF(A400<>\"\",IF(A400<$B$3,\"N\",\"Y\"),\"\"))","v":""},0,8.9,0,null,1201,{"$f":"IF(AND(ISNUMBER(A400),NOT(ISNUMBER(A401))),IF((OFFSET(Q400,-Q400,0)>50),SUM(OFFSET(E400,-Q400+1,0):E400),SUM(OFFSET(E400,-Q400,0):E400)),IF(AND(ISNUMBER(P400),ISNUMBER(P401),P400  <P401),IF((OFFSET(Q400,-Q400,0)>50),SUM(OFFSET(E400,-Q400+1,0):E400),SUM(OFFSET(E400,-Q400,0):E400)),\"\"))","v":{"$error":"#NAME?"}},{"$f":"IF(ISNUMBER(L400),IF((OFFSET(Q400,-Q400,0)>50),SUM(OFFSET(G400,-Q400+1,0):G400),SUM(OFFSET(G400,-Q400,0):G400)),\"\")","v":""},null,null,{"$error":"#NAME?"},{"$error":"#NAME?"}]
["1995-04-19",null,null,null,0,{"$f":"IF(SUM($B$7:$B401)=0,\"\",IF(A401<>\"\",IF(A401<$B$3,\"N\",\"Y\"),\"\"))","v":""},0,8.9,0,null,1200,{"$f":"IF(AND(ISNUMBER(A401),NOT(ISNUMBER(A402))),IF((OFFSET(Q401,-Q401,0)>50),SUM(OFFSET(E401,-Q401+1,0):E401),SUM(OFFSET(E401,-Q401,0):E401)),IF(AND(ISNUMBER(P401),ISNUMBER(P402),P401  <P402),IF((OFFSET(Q401,-Q401,0)>50),SUM(OFFSET(E401,-Q401+1,0):E401),SUM(OFFSET(E401,-Q401,0):E401)),\"\"))","v":{"$error":"#NAME?"}},{"$f":"IF(ISNUMBER(L401),IF((OFFSET(Q401,-Q401,0)>50),SUM(OFFSET(G401,-Q401+1,0):G401),SUM(OFFSET(G401,-Q401,0):G401)),\"\")","v":""},null,null,{"$error":"#NAME?"},{"$error":"#NAME?"}]
["1995-04-26",null,null,null,0,{"$f":"IF(SUM($B$7:$B402)=0,\"\",IF(A402<>\"\",IF(A402<$B$3,\"N\",\"Y\"),\"\"))","v":""},0,8.9,0,null,1199,{"$f":"IF(AND(ISNUMBER(A402),NOT(ISNUMBER(A403))),IF((OFFSET(Q402,-Q402,0)>50),SUM(OFFSET(E402,-Q402+1,0):E402),SUM(OFFSET(E402,-Q402,0):E402)),IF(AND(ISNUMBER(P402),ISNUMBER(P403),P402  <P403),IF((OFFSET(Q402,-Q402,0)>50),SUM(OFFSET(E402,-Q402+1,0):E402),SUM(OFFSET(E402,-Q402,0):E402)),\"\"))","v":{"$error":"#NAME?"}},{"$f":"IF(ISNUMBER(L402),IF((OFFSET(Q402,-Q402,0)>50),SUM(OFFSET(G402,-Q402+1,0):G402),SUM(OFFSET(G402,-Q402,0):G402)),\"\")","v":""},null,null,{"$error":"#NAME?"},{"$error":"#NAME?"}]
["1995-05-03",null,null,null,0,{"$f":"IF(SUM($B$7:$B403)=0,\"\",IF(A403<>\"\",IF(A403<$B$3,\"N\",\"Y\"),\"\"))","v":""},0,8.9,0,null,1198,{"$f":"IF(AND(ISNUMBER(A403),NOT(ISNUMBER(A404))),IF((OFFSET(Q403,-Q403,0)>50),SUM(OFFSET(E403,-Q403+1,0):E403),SUM(OFFSET(E403,-Q403,0):E403)),IF(AND(ISNUMBER(P403),ISNUMBER(P404),P403  <P404),IF((OFFSET(Q403,-Q403,0)>50),SUM(OFFSET(E403,-Q403+1,0):E403),SUM(OFFSET(E403,-Q403,0):E403)),\"\"))","v":{"$error":"#NAME?"}},{"$f":"IF(ISNUMBER(L403),IF((OFFSET(Q403,-Q403,0)>50),SUM(OFFSET(G403,-Q403+1,0):G403),SUM(OFFSET(G403,-Q403,0):G403)),\"\")","v":""},null,null,{"$error":"#NAME?"},{"$error":"#NAME?"}]
["1995-05-10",null,null,null,0,{"$f":"IF(SUM($B$7:$B404)=0,\"\",IF(A404<>\"\",IF(A404<$B$3,\"N\",\"Y\"),\"\"))","v":""},0,8.9,0,null,1197,{"$f":"IF(AND(ISNUMBER(A404),NOT(ISNUMBER(A405))),IF((OFFSET(Q404,-Q404,0)>50),SUM(OFFSET(E404,-Q404+1,0):E404),SUM(OFFSET(E404,-Q404,0):E404)),IF(AND(ISNUMBER(P404),ISNUMBER(P405),P404  <P405),IF((OFFSET(Q404,-Q404,0)>50),SUM(OFFSET(E404,-Q404+1,0):E404),SUM(OFFSET(E404,-Q404,0):E404)),\"\"))","v":{"$error":"#NAME?"}},{"$f":"IF(ISNUMBER(L404),IF((OFFSET(Q404,-Q404,0)>50),SUM(OFFSET(G404,-Q404+1,0):G404),SUM(OFFSET(G404,-Q404,0):G404)),\"\")","v":""},null,null,{"$error":"#NAME?"},{"$error":"#NAME?"}]
["1995-05-17",null,null,null,0,{"$f":"IF(SUM($B$7:$B405)=0,\"\",IF(A405<>\"\",IF(A405<$B$3,\"N\",\"Y\"),\"\"))","v":""},0,8.9,0,null,1196,{"$f":"IF(AND(ISNUMBER(A405),NOT(ISNUMBER(A406))),IF((OFFSET(Q405,-Q405,0)>50),SUM(OFFSET(E405,-Q405+1,0):E405),SUM(OFFSET(E405,-Q405,0):E405)),IF(AND(ISNUMBER(P405),ISNUMBER(P406),P405  <P406),IF((OFFSET(Q405,-Q405,0)>50),SUM(OFFSET(E405,-Q405+1,0):E405),SUM(OFFSET(E405,-Q405,0):E405)),\"\"))","v":{"$error":"#NAME?"}},{"$f":"IF(ISNUMBER(L405),IF((OFFSET(Q405,-Q405,0)>50),SUM(OFFSET(G405,-Q405+1,0):G405),SUM(OFFSET(G405,-Q405,0):G405)),\"\")","v":""},null,null,{"$error":"#NAME?"},{"$error":"#NAME?"}]
["1995-05-24",null,null,null,0,{"$f":"IF(SUM($B$7:$B406)=0,\"\",IF(A406<>\"\",IF(A406<$B$3,\"N\",\"Y\"),\"\"))","v":""},0,8.9,0,null,1195,{"$f":"IF(AND(ISNUMBER(A406),NOT(ISNUMBER(A407))),IF((OFFSET(Q406,-Q406,0)>50),SUM(OFFSET(E406,-Q406+1,0):E406),SUM(OFFSET(E406,-Q406,0):E406)),IF(AND(ISNUMBER(P406),ISNUMBER(P407),P406  <P407),IF((OFFSET(Q406,-Q406,0)>50),SUM(OFFSET(E406,-Q406+1,0):E406),SUM(OFFSET(E406,-Q406,0):E406)),\"\"))","v":{"$error":"#NAME?"}},{"$f":"IF(ISNUMBER(L406),IF((OFFSET(Q406,-Q406,0)>50),SUM(OFFSET(G406,-Q406+1,0):G406),SUM(OFFSET(G406,-Q406,0):G406)),\"\")","v":""},null,null,{"$error":"#NAME?"},{"$error":"#NAME?"}]
["1995-05-31",null,null,null,0,{"$f":"IF(SUM($B$7:$B407)=0,\"\",IF(A407<>\"\",IF(A407<$B$3,\"N\",\"Y\"),\"\"))","v":""},0,8.9,0,null,1194,{"$f":"IF(AND(ISNUMBER(A407),NOT(ISNUMBER(A408))),IF((OFFSET(Q407,-Q407,0)>50),SUM(OFFSET(E407,-Q407+1,0):E407),SUM(OFFSET(E407,-Q407,0):E407)),IF(AND(ISNUMBER(P407),ISNUMBER(P408),P407  <P408),IF((OFFSET(Q407,-Q407,0)>50),SUM(OFFSET(E407,-Q407+1,0):E407),SUM(OFFSET(E407,-Q407,0):E407)),\"\"))","v":{"$error":"#NAME?"}},{"$f":"IF(ISNUMBER(L407),IF((OFFSET(Q407,-Q407,0)>50),SUM(OFFSET(G407,-Q407+1,0):G407),SUM(OFFSET(G407,-Q407,0):G407)),\"\")","v":""},null,null,{"$error":"#NAME?"},{"$error":"#NAME?"}]
["1995-06-07",null,null,null,0,{"$f":"IF(SUM($B$7:$B408)=0,\"\",IF(A408<>\"\",IF(A408<$B$3,\"N\",\"Y\"),\"\"))","v":""},0,8.9,0,null,1193,{"$f":"IF(AND(ISNUMBER(A408),NOT(ISNUMBER(A409))),IF((OFFSET(Q408,-Q408,0)>50),SUM(OFFSET(E408,-Q408+1,0):E408),SUM(OFFSET(E408,-Q408,0):E408)),IF(AND(ISNUMBER(P408),ISNUMBER(P409),P408  <P409),IF((OFFSET(Q408,-Q408,0)>50),SUM(OFFSET(E408,-Q408+1,0):E408),SUM(OFFSET(E408,-Q408,0):E408)),\"\"))","v":{"$error":"#NAME?"}},{"$f":"IF(ISNUMBER(L408),IF((OFFSET(Q408,-Q408,0)>50),SUM(OFFSET(G408,-Q408+1,0):G408),SUM(OFFSET(G408,-Q408,0):G408)),\"\")","v":""},null,null,{"$error":"#NAME?"},{"$error":"#NAME?"}]
["1995-06-14",null,null,null,0,{"$f":"IF(SUM($B$7:$B409)=0,\"\",IF(A409<>\"\",IF(A409<$B$3,\"N\",\"Y\"),\"\"))","v":""},0,8.9,0,null,1192,{"$f":"IF(AND(ISNUMBER(A409),NOT(ISNUMBER(A410))),IF((OFFSET(Q409,-Q409,0)>50),SUM(OFFSET(E409,-Q409+1,0):E409),SUM(OFFSET(E409,-Q409,0):E409)),IF(AND(ISNUMBER(P409),ISNUMBER(P410),P409  <P410),IF((OFFSET(Q409,-Q409,0)>50),SUM(OFFSET(E409,-Q409+1,0):E409),SUM(OFFSET(E409,-Q409,0):E409)),\"\"))","v":{"$error":"#NAME?"}},{"$f":"IF(ISNUMBER(L409),IF((OFFSET(Q409,-Q409,0)>50),SUM(OFFSET(G409,-Q409+1,0):G409),SUM(OFFSET(G409,-Q409,0):G409)),\"\")","v":""},null,null,{"$error":"#NAME?"},{"$error":"#NAME?"}]
["1995-06-21",null,null,null,0,{"$f":"IF(SUM($B$7:$B410)=0,\"\",IF(A410<>\"\",IF(A410<$B$3,\"N\",\"Y\"),\"\"))","v":""},0,8.9,0,null,1191,{"$f":"IF(AND(ISNUMBER(A410),NOT(ISNUMBER(A411))),IF((OFFSET(Q410,-Q410,0)>50),SUM(OFFSET(E410,-Q410+1,0):E410),SUM(OFFSET(E410,-Q410,0):E410)),IF(AND(ISNUMBER(P410),ISNUMBER(P411),P410  <P411),IF((OFFSET(Q410,-Q410,0)>50),SUM(OFFSET(E410,-Q410+1,0):E410),SUM(OFFSET(E410,-Q410,0):E410)),\"\"))","v":{"$error":"#NAME?"}},{"$f":"IF(ISNUMBER(L410),IF((OFFSET(Q410,-Q410,0)>50),SUM(OFFSET(G410,-Q410+1,0):G410),SUM(OFFSET(G410,-Q410,0):G410)),\"\")","v":""},null,null,{"$error":"#NAME?"},{"$error":"#NAME?"}]
["1995-06-28",null,null,null,0,{"$f":"IF(SUM($B$7:$B411)=0,\"\",IF(A411<>\"\",IF(A411<$B$3,\"N\",\"Y\"),\"\"))","v":""},0,8.9,0,null,1190,{"$f":"IF(AND(ISNUMBER(A411),NOT(ISNUMBER(A412))),IF((OFFSET(Q411,-Q411,0)>50),SUM(OFFSET(E411,-Q411+1,0):E411),SUM(OFFSET(E411,-Q411,0):E411)),IF(AND(ISNUMBER(P411),ISNUMBER(P412),P411  <P412),IF((OFFSET(Q411,-Q411,0)>50),SUM(OFFSET(E411,-Q411+1,0):E411),SUM(OFFSET(E411,-Q411,0):E411)),\"\"))","v":{"$error":"#NAME?"}},{"$f":"IF(ISNUMBER(L411),IF((OFFSET(Q411,-Q411,0)>50),SUM(OFFSET(G411,-Q411+1,0):G411),SUM(OFFSET(G411,-Q411,0):G411)),\"\")","v":""},null,null,{"$error":"#NAME?"},{"$error":"#NAME?"}]
["1995-07-05",null,null,null,0,{"$f":"IF(SUM($B$7:$B412)=0,\"\",IF(A412<>\"\",IF(A412<$B$3,\"N\",\"Y\"),\"\"))","v":""},0,10.9,0,null,1189,{"$f":"IF(AND(ISNUMBER(A412),NOT(ISNUMBER(A413))),IF((OFFSET(Q412,-Q412,0)>50),SUM(OFFSET(E412,-Q412+1,0):E412),SUM(OFFSET(E412,-Q412,0):E412)),IF(AND(ISNUMBER(P412),ISNUMBER(P413),P412  <P413),IF((OFFSET(Q412,-Q412,0)>50),SUM(OFFSET(E412,-Q412+1,0):E412),SUM(OFFSET(E412,-Q412,0):E412)),\"\"))","v":{"$error":"#NAME?"}},{"$f":"IF(ISNUMBER(L412),IF((OFFSET(Q412,-Q412,0)>50),SUM(OFFSET(G412,-Q412+1,0):G412),SUM(OFFSET(G412,-Q412,0):G412)),\"\")","v":""},null,null,{"$error":"#NAME?"},{"$error":"#NAME?"}]
["1995-07-12",null,null,null,0,{"$f":"IF(SUM($B$7:$B413)=0,\"\",IF(A413<>\"\",IF(A413<$B$3,\"N\",\"Y\"),\"\"))","v":""},0,10.9,0,null,1188,{"$f":"IF(AND(ISNUMBER(A413),NOT(ISNUMBER(A414))),IF((OFFSET(Q413,-Q413,0)>50),SUM(OFFSET(E413,-Q413+1,0):E413),SUM(OFFSET(E413,-Q413,0):E413)),IF(AND(ISNUMBER(P413),ISNUMBER(P414),P413  <P414),IF((OFFSET(Q413,-Q413,0)>50),SUM(OFFSET(E413,-Q413+1,0):E413),SUM(OFFSET(E413,-Q413,0):E413)),\"\"))","v":{"$error":"#NAME?"}},{"$f":"IF(ISNUMBER(L413),IF((OFFSET(Q413,-Q413,0)>50),SUM(OFFSET(G413,-Q413+1,0):G413),SUM(OFFSET(G413,-Q413,0):G413)),\"\")","v":""},null,null,{"$error":"#NAME?"},{"$error":"#NAME?"}]
["1995-07-19",null,null,null,0,{"$f":"IF(SUM($B$7:$B414)=0,\"\",IF(A414<>\"\",IF(A414<$B$3,\"N\",\"Y\"),\"\"))","v":""},0,10.9,0,null,1187,{"$f":"IF(AND(ISNUMBER(A414),NOT(ISNUMBER(A415))),IF((OFFSET(Q414,-Q414,0)>50),SUM(OFFSET(E414,-Q414+1,0):E414),SUM(OFFSET(E414,-Q414,0):E414)),IF(AND(ISNUMBER(P414),ISNUMBER(P415),P414  <P415),IF((OFFSET(Q414,-Q414,0)>50),SUM(OFFSET(E414,-Q414+1,0):E414),SUM(OFFSET(E414,-Q414,0):E414)),\"\"))","v":{"$error":"#NAME?"}},{"$f":"IF(ISNUMBER(L414),IF((OFFSET(Q414,-Q414,0)>50),SUM(OFFSET(G414,-Q414+1,0):G414),SUM(OFFSET(G414,-Q414,0):G414)),\"\")","v":""},null,null,{"$error":"#NAME?"},{"$error":"#NAME?"}]
["1995-07-26",null,null,null,0,{"$f":"IF(SUM($B$7:$B415)=0,\"\",IF(A415<>\"\",IF(A415<$B$3,\"N\",\"Y\"),\"\"))","v":""},0,10.9,0,null,1186,{"$f":"IF(AND(ISNUMBER(A415),NOT(ISNUMBER(A416))),IF((OFFSET(Q415,-Q415,0)>50),SUM(OFFSET(E415,-Q415+1,0):E415),SUM(OFFSET(E415,-Q415,0):E415)),IF(AND(ISNUMBER(P415),ISNUMBER(P416),P415  <P416),IF((OFFSET(Q415,-Q415,0)>50),SUM(OFFSET(E415,-Q415+1,0):E415),SUM(OFFSET(E415,-Q415,0):E415)),\"\"))","v":{"$error":"#NAME?"}},{"$f":"IF(ISNUMBER(L415),IF((OFFSET(Q415,-Q415,0)>50),SUM(OFFSET(G415,-Q415+1,0):G415),SUM(OFFSET(G415,-Q415,0):G415)),\"\")","v":""},null,null,{"$error":"#NAME?"},{"$error":"#NAME?"}]
["1995-08-02",null,null,null,0,{"$f":"IF(SUM($B$7:$B416)=0,\"\",IF(A416<>\"\",IF(A416<$B$3,\"N\",\"Y\"),\"\"))","v":""},0,10.9,0,null,1185,{"$f":"IF(AND(ISNUMBER(A416),NOT(ISNUMBER(A417))),IF((OFFSET(Q416,-Q416,0)>50),SUM(OFFSET(E416,-Q416+1,0):E416),SUM(OFFSET(E416,-Q416,0):E416)),IF(AND(ISNUMBER(P416),ISNUMBER(P417),P416  <P417),IF((OFFSET(Q416,-Q416,0)>50),SUM(OFFSET(E416,-Q416+1,0):E416),SUM(OFFSET(E416,-Q416,0):E416)),\"\"))","v":{"$error":"#NAME?"}},{"$f":"IF(ISNUMBER(L416),IF((OFFSET(Q416,-Q416,0)>50),SUM(OFFSET(G416,-Q416+1,0):G416),SUM(OFFSET(G416,-Q416,0):G416)),\"\")","v":""},null,null,{"$error":"#NAME?"},{"$error":"#NAME?"}]
["1995-08-09",null,null,null,0,{"$f":"IF(SUM($B$7:$B417)=0,\"\",IF(A417<>\"\",IF(A417<$B$3,\"N\",\"Y\"),\"\"))","v":""},0,10.9,0,null,1184,{"$f":"IF(AND(ISNUMBER(A417),NOT(ISNUMBER(A418))),IF((OFFSET(Q417,-Q417,0)>50),SUM(OFFSET(E417,-Q417+1,0):E417),SUM(OFFSET(E417,-Q417,0):E417)),IF(AND(ISNUMBER(P417),ISNUMBER(P418),P417  <P418),IF((OFFSET(Q417,-Q417,0)>50),SUM(OFFSET(E417,-Q417+1,0):E417),SUM(OFFSET(E417,-Q417,0):E417)),\"\"))","v":{"$error":"#NAME?"}},{"$f":"IF(ISNUMBER(L417),IF((OFFSET(Q417,-Q417,0)>50),SUM(OFFSET(G417,-Q417+1,0):G417),SUM(OFFSET(G417,-Q417,0):G417)),\"\")","v":""},null,null,{"$error":"#NAME?"},{"$error":"#NAME?"}]
["1995-08-16",null,null,null,0,{"$f":"IF(SUM($B$7:$B418)=0,\"\",IF(A418<>\"\",IF(A418<$B$3,\"N\",\"Y\"),\"\"))","v":""},0,10.9,0,null,1183,{"$f":"IF(AND(ISNUMBER(A418),NOT(ISNUMBER(A419))),IF((OFFSET(Q418,-Q418,0)>50),SUM(OFFSET(E418,-Q418+1,0):E418),SUM(OFFSET(E418,-Q418,0):E418)),IF(AND(ISNUMBER(P418),ISNUMBER(P419),P418  <P419),IF((OFFSET(Q418,-Q418,0)>50),SUM(OFFSET(E418,-Q418+1,0):E418),SUM(OFFSET(E418,-Q418,0):E418)),\"\"))","v":{"$error":"#NAME?"}},{"$f":"IF(ISNUMBER(L418),IF((OFFSET(Q418,-Q418,0)>50),SUM(OFFSET(G418,-Q418+1,0):G418),SUM(OFFSET(G418,-Q418,0):G418)),\"\")","v":""},null,null,{"$error":"#NAME?"},{"$error":"#NAME?"}]
["1995-08-23",null,null,null,0,{"$f":"IF(SUM($B$7:$B419)=0,\"\",IF(A419<>\"\",IF(A419<$B$3,\"N\",\"Y\"),\"\"))","v":""},0,10.9,0,null,1182,{"$f":"IF(AND(ISNUMBER(A419),NOT(ISNUMBER(A420))),IF((OFFSET(Q419,-Q419,0)>50),SUM(OFFSET(E419,-Q419+1,0):E419),SUM(OFFSET(E419,-Q419,0):E419)),IF(AND(ISNUMBER(P419),ISNUMBER(P420),P419  <P420),IF((OFFSET(Q419,-Q419,0)>50),SUM(OFFSET(E419,-Q419+1,0):E419),SUM(OFFSET(E419,-Q419,0):E419)),\"\"))","v":{"$error":"#NAME?"}},{"$f":"IF(ISNUMBER(L419),IF((OFFSET(Q419,-Q419,0)>50),SUM(OFFSET(G419,-Q419+1,0):G419),SUM(OFFSET(G419,-Q419,0):G419)),\"\")","v":""},null,null,{"$error":"#NAME?"},{"$error":"#NAME?"}]
["1995-08-30",null,null,null,0,{"$f":"IF(SUM($B$7:$B420)=0,\"\",IF(A420<>\"\",IF(A420<$B$3,\"N\",\"Y\"),\"\"))","v":""},0,10.9,0,null,1181,{"$f":"IF(AND(ISNUMBER(A420),NOT(ISNUMBER(A421))),IF((OFFSET(Q420,-Q420,0)>50),SUM(OFFSET(E420,-Q420+1,0):E420),SUM(OFFSET(E420,-Q420,0):E420)),IF(AND(ISNUMBER(P420),ISNUMBER(P421),P420  <P421),IF((OFFSET(Q420,-Q420,0)>50),SUM(OFFSET(E420,-Q420+1,0):E420),SUM(OFFSET(E420,-Q420,0):E420)),\"\"))","v":{"$error":"#NAME?"}},{"$f":"IF(ISNUMBER(L420),IF((OFFSET(Q420,-Q420,0)>50),SUM(OFFSET(G420,-Q420+1,0):G420),SUM(OFFSET(G420,-Q420,0):G420)),\"\")","v":""},null,null,{"$error":"#NAME?"},{"$error":"#NAME?"}]
["1995-09-06",null,null,null,0,{"$f":"IF(SUM($B$7:$B421)=0,\"\",IF(A421<>\"\",IF(A421<$B$3,\"N\",\"Y\"),\"\"))","v":""},0,10.9,0,null,1180,{"$f":"IF(AND(ISNUMBER(A421),NOT(ISNUMBER(A422))),IF((OFFSET(Q421,-Q421,0)>50),SUM(OFFSET(E421,-Q421+1,0):E421),SUM(OFFSET(E421,-Q421,0):E421)),IF(AND(ISNUMBER(P421),ISNUMBER(P422),P421  <P422),IF((OFFSET(Q421,-Q421,0)>50),SUM(OFFSET(E421,-Q421+1,0):E421),SUM(OFFSET(E421,-Q421,0):E421)),\"\"))","v":{"$error":"#NAME?"}},{"$f":"IF(ISNUMBER(L421),IF((OFFSET(Q421,-Q421,0)>50),SUM(OFFSET(G421,-Q421+1,0):G421),SUM(OFFSET(G421,-Q421,0):G421)),\"\")","v":""},null,null,{"$error":"#NAME?"},{"$error":"#NAME?"}]
["1995-09-13",null,null,null,0,{"$f":"IF(SUM($B$7:$B422)=0,\"\",IF(A422<>\"\",IF(A422<$B$3,\"N\",\"Y\"),\"\"))","v":""},0,10.9,0,null,1179,{"$f":"IF(AND(ISNUMBER(A422),NOT(ISNUMBER(A423))),IF((OFFSET(Q422,-Q422,0)>50),SUM(OFFSET(E422,-Q422+1,0):E422),SUM(OFFSET(E422,-Q422,0):E422)),IF(AND(ISNUMBER(P422),ISNUMBER(P423),P422  <P423),IF((OFFSET(Q422,-Q422,0)>50),SUM(OFFSET(E422,-Q422+1,0):E422),SUM(OFFSET(E422,-Q422,0):E422)),\"\"))","v":{"$error":"#NAME?"}},{"$f":"IF(ISNUMBER(L422),IF((OFFSET(Q422,-Q422,0)>50),SUM(OFFSET(G422,-Q422+1,0):G422),SUM(OFFSET(G422,-Q422,0):G422)),\"\")","v":""},null,null,{"$error":"#NAME?"},{"$error":"#NAME?"}]
["1995-09-20",null,null,null,0,{"$f":"IF(SUM($B$7:$B423)=0,\"\",IF(A423<>\"\",IF(A423<$B$3,\"N\",\"Y\"),\"\"))","v":""},0,10.9,0,null,1178,{"$f":"IF(AND(ISNUMBER(A423),NOT(ISNUMBER(A424))),IF((OFFSET(Q423,-Q423,0)>50),SUM(OFFSET(E423,-Q423+1,0):E423),SUM(OFFSET(E423,-Q423,0):E423)),IF(AND(ISNUMBER(P423),ISNUMBER(P424),P423  <P424),IF((OFFSET(Q423,-Q423,0)>50),SUM(OFFSET(E423,-Q423+1,0):E423),SUM(OFFSET(E423,-Q423,0):E423)),\"\"))","v":{"$error":"#NAME?"}},{"$f":"IF(ISNUMBER(L423),IF((OFFSET(Q423,-Q423,0)>50),SUM(OFFSET(G423,-Q423+1,0):G423),SUM(OFFSET(G423,-Q423,0):G423)),\"\")","v":""},null,null,{"$error":"#NAME?"},{"$error":"#NAME?"}]
["1995-09-27",null,null,null,0,{"$f":"IF(SUM($B$7:$B424)=0,\"\",IF(A424<>\"\",IF(A424<$B$3,\"N\",\"Y\"),\"\"))","v":""},0,10.9,0,null,1177,{"$f":"IF(AND(ISNUMBER(A424),NOT(ISNUMBER(A425))),IF((OFFSET(Q424,-Q424,0)>50),SUM(OFFSET(E424,-Q424+1,0):E424),SUM(OFFSET(E424,-Q424,0):E424)),IF(AND(ISNUMBER(P424),ISNUMBER(P425),P424  <P425),IF((OFFSET(Q424,-Q424,0)>50),SUM(OFFSET(E424,-Q424+1,0):E424),SUM(OFFSET(E424,-Q424,0):E424)),\"\"))","v":{"$error":"#NAME?"}},{"$f":"IF(ISNUMBER(L424),IF((OFFSET(Q424,-Q424,0)>50),SUM(OFFSET(G424,-Q424+1,0):G424),SUM(OFFSET(G424,-Q424,0):G424)),\"\")","v":""},null,null,{"$error":"#NAME?"},{"$error":"#NAME?"}]
["1995-10-04",null,null,null,0,{"$f":"IF(SUM($B$7:$B425)=0,\"\",IF(A425<>\"\",IF(A425<$B$3,\"N\",\"Y\"),\"\"))","v":""},0,10.9,0,null,1176,{"$f":"IF(AND(ISNUMBER(A425),NOT(ISNUMBER(A426))),IF((OFFSET(Q425,-Q425,0)>50),SUM(OFFSET(E425,-Q425+1,0):E425),SUM(OFFSET(E425,-Q425,0):E425)),IF(AND(ISNUMBER(P425),ISNUMBER(P426),P425  <P426),IF((OFFSET(Q425,-Q425,0)>50),SUM(OFFSET(E425,-Q425+1,0):E425),SUM(OFFSET(E425,-Q425,0):E425)),\"\"))","v":{"$error":"#NAME?"}},{"$f":"IF(ISNUMBER(L425),IF((OFFSET(Q425,-Q425,0)>50),SUM(OFFSET(G425,-Q425+1,0):G425),SUM(OFFSET(G425,-Q425,0):G425)),\"\")","v":""},null,null,{"$error":"#NAME?"},{"$error":"#NAME?"}]
["1995-10-11",null,null,null,0,{"$f":"IF(SUM($B$7:$B426)=0,\"\",IF(A426<>\"\",IF(A426<$B$3,\"N\",\"Y\"),\"\"))","v":""},0,10.9,0,null,1175,{"$f":"IF(AND(ISNUMBER(A426),NOT(ISNUMBER(A427))),IF((OFFSET(Q426,-Q426,0)>50),SUM(OFFSET(E426,-Q426+1,0):E426),SUM(OFFSET(E426,-Q426,0):E426)),IF(AND(ISNUMBER(P426),ISNUMBER(P427),P426  <P427),IF((OFFSET(Q426,-Q426,0)>50),SUM(OFFSET(E426,-Q426+1,0):E426),SUM(OFFSET(E426,-Q426,0):E426)),\"\"))","v":{"$error":"#NAME?"}},{"$f":"IF(ISNUMBER(L426),IF((OFFSET(Q426,-Q426,0)>50),SUM(OFFSET(G426,-Q426+1,0):G426),SUM(OFFSET(G426,-Q426,0):G426)),\"\")","v":""},null,null,{"$error":"#NAME?"},{"$error":"#NAME?"}]
["1995-10-18",null,null,null,0,{"$f":"IF(SUM($B$7:$B427)=0,\"\",IF(A427<>\"\",IF(A427<$B$3,\"N\",\"Y\"),\"\"))","v":""},0,10.9,0,null,1174,{"$f":"IF(AND(ISNUMBER(A427),NOT(ISNUMBER(A428))),IF((OFFSET(Q427,-Q427,0)>50),SUM(OFFSET(E427,-Q427+1,0):E427),SUM(OFFSET(E427,-Q427,0):E427)),IF(AND(ISNUMBER(P427),ISNUMBER(P428),P427  <P428),IF((OFFSET(Q427,-Q427,0)>50),SUM(OFFSET(E427,-Q427+1,0):E427),SUM(OFFSET(E427,-Q427,0):E427)),\"\"))","v":{"$error":"#NAME?"}},{"$f":"IF(ISNUMBER(L427),IF((OFFSET(Q427,-Q427,0)>50),SUM(OFFSET(G427,-Q427+1,0):G427),SUM(OFFSET(G427,-Q427,0):G427)),\"\")","v":""},null,null,{"$error":"#NAME?"},{"$error":"#NAME?"}]
["1995-10-25",null,null,null,0,{"$f":"IF(SUM($B$7:$B428)=0,\"\",IF(A428<>\"\",IF(A428<$B$3,\"N\",\"Y\"),\"\"))","v":""},0,10.9,0,null,1173,{"$f":"IF(AND(ISNUMBER(A428),NOT(ISNUMBER(A429))),IF((OFFSET(Q428,-Q428,0)>50),SUM(OFFSET(E428,-Q428+1,0):E428),SUM(OFFSET(E428,-Q428,0):E428)),IF(AND(ISNUMBER(P428),ISNUMBER(P429),P428  <P429),IF((OFFSET(Q428,-Q428,0)>50),SUM(OFFSET(E428,-Q428+1,0):E428),SUM(OFFSET(E428,-Q428,0):E428)),\"\"))","v":{"$error":"#NAME?"}},{"$f":"IF(ISNUMBER(L428),IF((OFFSET(Q428,-Q428,0)>50),SUM(OFFSET(G428,-Q428+1,0):G428),SUM(OFFSET(G428,-Q428,0):G428)),\"\")","v":""},null,null,{"$error":"#NAME?"},{"$error":"#NAME?"}]
["1995-11-01",null,null,null,0,{"$f":"IF(SUM($B$7:$B429)=0,\"\",IF(A429<>\"\",IF(A429<$B$3,\"N\",\"Y\"),\"\"))","v":""},0,10.9,0,null,1172,{"$f":"IF(AND(ISNUMBER(A429),NOT(ISNUMBER(A430))),IF((OFFSET(Q429,-Q429,0)>50),SUM(OFFSET(E429,-Q429+1,0):E429),SUM(OFFSET(E429,-Q429,0):E429)),IF(AND(ISNUMBER(P429),ISNUMBER(P430),P429  <P430),IF((OFFSET(Q429,-Q429,0)>50),SUM(OFFSET(E429,-Q429+1,0):E429),SUM(OFFSET(E429,-Q429,0):E429)),\"\"))","v":{"$error":"#NAME?"}},{"$f":"IF(ISNUMBER(L429),IF((OFFSET(Q429,-Q429,0)>50),SUM(OFFSET(G429,-Q429+1,0):G429),SUM(OFFSET(G429,-Q429,0):G429)),\"\")","v":""},null,null,{"$error":"#NAME?"},{"$error":"#NAME?"}]
["1995-11-08",null,null,null,0,{"$f":"IF(SUM($B$7:$B430)=0,\"\",IF(A430<>\"\",IF(A430<$B$3,\"N\",\"Y\"),\"\"))","v":""},0,10.9,0,null,1171,{"$f":"IF(AND(ISNUMBER(A430),NOT(ISNUMBER(A431))),IF((OFFSET(Q430,-Q430,0)>50),SUM(OFFSET(E430,-Q430+1,0):E430),SUM(OFFSET(E430,-Q430,0):E430)),IF(AND(ISNUMBER(P430),ISNUMBER(P431),P430  <P431),IF((OFFSET(Q430,-Q430,0)>50),SUM(OFFSET(E430,-Q430+1,0):E430),SUM(OFFSET(E430,-Q430,0):E430)),\"\"))","v":{"$error":"#NAME?"}},{"$f":"IF(ISNUMBER(L430),IF((OFFSET(Q430,-Q430,0)>50),SUM(OFFSET(G430,-Q430+1,0):G430),SUM(OFFSET(G430,-Q430,0):G430)),\"\")","v":""},null,null,{"$error":"#NAME?"},{"$error":"#NAME?"}]
["1995-11-15",null,null,null,0,{"$f":"IF(SUM($B$7:$B431)=0,\"\",IF(A431<>\"\",IF(A431<$B$3,\"N\",\"Y\"),\"\"))","v":""},0,10.9,0,null,1170,{"$f":"IF(AND(ISNUMBER(A431),NOT(ISNUMBER(A432))),IF((OFFSET(Q431,-Q431,0)>50),SUM(OFFSET(E431,-Q431+1,0):E431),SUM(OFFSET(E431,-Q431,0):E431)),IF(AND(ISNUMBER(P431),ISNUMBER(P432),P431  <P432),IF((OFFSET(Q431,-Q431,0)>50),SUM(OFFSET(E431,-Q431+1,0):E431),SUM(OFFSET(E431,-Q431,0):E431)),\"\"))","v":{"$error":"#NAME?"}},{"$f":"IF(ISNUMBER(L431),IF((OFFSET(Q431,-Q431,0)>50),SUM(OFFSET(G431,-Q431+1,0):G431),SUM(OFFSET(G431,-Q431,0):G431)),\"\")","v":""},null,null,{"$error":"#NAME?"},{"$error":"#NAME?"}]
["1995-11-22",null,null,null,0,{"$f":"IF(SUM($B$7:$B432)=0,\"\",IF(A432<>\"\",IF(A432<$B$3,\"N\",\"Y\"),\"\"))","v":""},0,10.9,0,null,1169,{"$f":"IF(AND(ISNUMBER(A432),NOT(ISNUMBER(A433))),IF((OFFSET(Q432,-Q432,0)>50),SUM(OFFSET(E432,-Q432+1,0):E432),SUM(OFFSET(E432,-Q432,0):E432)),IF(AND(ISNUMBER(P432),ISNUMBER(P433),P432  <P433),IF((OFFSET(Q432,-Q432,0)>50),SUM(OFFSET(E432,-Q432+1,0):E432),SUM(OFFSET(E432,-Q432,0):E432)),\"\"))","v":{"$error":"#NAME?"}},{"$f":"IF(ISNUMBER(L432),IF((OFFSET(Q432,-Q432,0)>50),SUM(OFFSET(G432,-Q432+1,0):G432),SUM(OFFSET(G432,-Q432,0):G432)),\"\")","v":""},null,null,{"$error":"#NAME?"},{"$error":"#NAME?"}]
["1995-11-29",null,null,null,0,{"$f":"IF(SUM($B$7:$B433)=0,\"\",IF(A433<>\"\",IF(A433<$B$3,\"N\",\"Y\"),\"\"))","v":""},0,10.9,0,null,1168,{"$f":"IF(AND(ISNUMBER(A433),NOT(ISNUMBER(A434))),IF((OFFSET(Q433,-Q433,0)>50),SUM(OFFSET(E433,-Q433+1,0):E433),SUM(OFFSET(E433,-Q433,0):E433)),IF(AND(ISNUMBER(P433),ISNUMBER(P434),P433  <P434),IF((OFFSET(Q433,-Q433,0)>50),SUM(OFFSET(E433,-Q433+1,0):E433),SUM(OFFSET(E433,-Q433,0):E433)),\"\"))","v":{"$error":"#NAME?"}},{"$f":"IF(ISNUMBER(L433),IF((OFFSET(Q433,-Q433,0)>50),SUM(OFFSET(G433,-Q433+1,0):G433),SUM(OFFSET(G433,-Q433,0):G433)),\"\")","v":""},null,null,{"$error":"#NAME?"},{"$error":"#NAME?"}]
["1995-12-06",null,null,null,0,{"$f":"IF(SUM($B$7:$B434)=0,\"\",IF(A434<>\"\",IF(A434<$B$3,\"N\",\"Y\"),\"\"))","v":""},0,10.9,0,null,1167,{"$f":"IF(AND(ISNUMBER(A434),NOT(ISNUMBER(A435))),IF((OFFSET(Q434,-Q434,0)>50),SUM(OFFSET(E434,-Q434+1,0):E434),SUM(OFFSET(E434,-Q434,0):E434)),IF(AND(ISNUMBER(P434),ISNUMBER(P435),P434  <P435),IF((OFFSET(Q434,-Q434,0)>50),SUM(OFFSET(E434,-Q434+1,0):E434),SUM(OFFSET(E434,-Q434,0):E434)),\"\"))","v":{"$error":"#NAME?"}},{"$f":"IF(ISNUMBER(L434),IF((OFFSET(Q434,-Q434,0)>50),SUM(OFFSET(G434,-Q434+1,0):G434),SUM(OFFSET(G434,-Q434,0):G434)),\"\")","v":""},null,null,{"$error":"#NAME?"},{"$error":"#NAME?"}]
["1995-12-13",null,null,null,0,{"$f":"IF(SUM($B$7:$B435)=0,\"\",IF(A435<>\"\",IF(A435<$B$3,\"N\",\"Y\"),\"\"))","v":""},0,10.9,0,null,1166,{"$f":"IF(AND(ISNUMBER(A435),NOT(ISNUMBER(A436))),IF((OFFSET(Q435,-Q435,0)>50),SUM(OFFSET(E435,-Q435+1,0):E435),SUM(OFFSET(E435,-Q435,0):E435)),IF(AND(ISNUMBER(P435),ISNUMBER(P436),P435  <P436),IF((OFFSET(Q435,-Q435,0)>50),SUM(OFFSET(E435,-Q435+1,0):E435),SUM(OFFSET(E435,-Q435,0):E435)),\"\"))","v":{"$error":"#NAME?"}},{"$f":"IF(ISNUMBER(L435),IF((OFFSET(Q435,-Q435,0)>50),SUM(OFFSET(G435,-Q435+1,0):G435),SUM(OFFSET(G435,-Q435,0):G435)),\"\")","v":""},null,null,{"$error":"#NAME?"},{"$error":"#NAME?"}]
["1995-12-20",null,null,null,0,{"$f":"IF(SUM($B$7:$B436)=0,\"\",IF(A436<>\"\",IF(A436<$B$3,\"N\",\"Y\"),\"\"))","v":""},0,10.9,0,null,1165,{"$f":"IF(AND(ISNUMBER(A436),NOT(ISNUMBER(A437))),IF((OFFSET(Q436,-Q436,0)>50),SUM(OFFSET(E436,-Q436+1,0):E436),SUM(OFFSET(E436,-Q436,0):E436)),IF(AND(ISNUMBER(P436),ISNUMBER(P437),P436  <P437),IF((OFFSET(Q436,-Q436,0)>50),SUM(OFFSET(E436,-Q436+1,0):E436),SUM(OFFSET(E436,-Q436,0):E436)),\"\"))","v":{"$error":"#NAME?"}},{"$f":"IF(ISNUMBER(L436),IF((OFFSET(Q436,-Q436,0)>50),SUM(OFFSET(G436,-Q436+1,0):G436),SUM(OFFSET(G436,-Q436,0):G436)),\"\")","v":""},null,null,{"$error":"#NAME?"},{"$error":"#NAME?"}]
["1995-12-27",null,null,null,0,{"$f":"IF(SUM($B$7:$B437)=0,\"\",IF(A437<>\"\",IF(A437<$B$3,\"N\",\"Y\"),\"\"))","v":""},0,10.9,0,null,1164,{"$f":"IF(AND(ISNUMBER(A437),NOT(ISNUMBER(A438))),IF((OFFSET(Q437,-Q437,0)>50),SUM(OFFSET(E437,-Q437+1,0):E437),SUM(OFFSET(E437,-Q437,0):E437)),IF(AND(ISNUMBER(P437),ISNUMBER(P438),P437  <P438),IF((OFFSET(Q437,-Q437,0)>50),SUM(OFFSET(E437,-Q437+1,0):E437),SUM(OFFSET(E437,-Q437,0):E437)),\"\"))","v":{"$error":"#NAME?"}},{"$f":"IF(ISNUMBER(L437),IF((OFFSET(Q437,-Q437,0)>50),SUM(OFFSET(G437,-Q437+1,0):G437),SUM(OFFSET(G437,-Q437,0):G437)),\"\")","v":""},null,null,{"$error":"#NAME?"},{"$error":"#NAME?"}]
["1996-01-03",null,null,null,0,{"$f":"IF(SUM($B$7:$B438)=0,\"\",IF(A438<>\"\",IF(A438<$B$3,\"N\",\"Y\"),\"\"))","v":""},0,10.9,0,null,1163,{"$f":"IF(AND(ISNUMBER(A438),NOT(ISNUMBER(A439))),IF((OFFSET(Q438,-Q438,0)>50),SUM(OFFSET(E438,-Q438+1,0):E438),SUM(OFFSET(E438,-Q438,0):E438)),IF(AND(ISNUMBER(P438),ISNUMBER(P439),P438  <P439),IF((OFFSET(Q438,-Q438,0)>50),SUM(OFFSET(E438,-Q438+1,0):E438),SUM(OFFSET(E438,-Q438,0):E438)),\"\"))","v":{"$error":"#NAME?"}},{"$f":"IF(ISNUMBER(L438),IF((OFFSET(Q438,-Q438,0)>50),SUM(OFFSET(G438,-Q438+1,0):G438),SUM(OFFSET(G438,-Q438,0):G438)),\"\")","v":""},null,null,{"$error":"#NAME?"},{"$error":"#NAME?"}]
["1996-01-10",null,null,null,0,{"$f":"IF(SUM($B$7:$B439)=0,\"\",IF(A439<>\"\",IF(A439<$B$3,\"N\",\"Y\"),\"\"))","v":""},0,10.9,0,null,1162,{"$f":"IF(AND(ISNUMBER(A439),NOT(ISNUMBER(A440))),IF((OFFSET(Q439,-Q439,0)>50),SUM(OFFSET(E439,-Q439+1,0):E439),SUM(OFFSET(E439,-Q439,0):E439)),IF(AND(ISNUMBER(P439),ISNUMBER(P440),P439  <P440),IF((OFFSET(Q439,-Q439,0)>50),SUM(OFFSET(E439,-Q439+1,0):E439),SUM(OFFSET(E439,-Q439,0):E439)),\"\"))","v":{"$error":"#NAME?"}},{"$f":"IF(ISNUMBER(L439),IF((OFFSET(Q439,-Q439,0)>50),SUM(OFFSET(G439,-Q439+1,0):G439),SUM(OFFSET(G439,-Q439,0):G439)),\"\")","v":""},null,null,{"$error":"#NAME?"},{"$error":"#NAME?"}]
["1996-01-17",null,null,null,0,{"$f":"IF(SUM($B$7:$B440)=0,\"\",IF(A440<>\"\",IF(A440<$B$3,\"N\",\"Y\"),\"\"))","v":""},0,10.9,0,null,1161,{"$f":"IF(AND(ISNUMBER(A440),NOT(ISNUMBER(A441))),IF((OFFSET(Q440,-Q440,0)>50),SUM(OFFSET(E440,-Q440+1,0):E440),SUM(OFFSET(E440,-Q440,0):E440)),IF(AND(ISNUMBER(P440),ISNUMBER(P441),P440  <P441),IF((OFFSET(Q440,-Q440,0)>50),SUM(OFFSET(E440,-Q440+1,0):E440),SUM(OFFSET(E440,-Q440,0):E440)),\"\"))","v":{"$error":"#NAME?"}},{"$f":"IF(ISNUMBER(L440),IF((OFFSET(Q440,-Q440,0)>50),SUM(OFFSET(G440,-Q440+1,0):G440),SUM(OFFSET(G440,-Q440,0):G440)),\"\")","v":""},null,null,{"$error":"#NAME?"},{"$error":"#NAME?"}]
["1996-01-24",null,null,null,0,{"$f":"IF(SUM($B$7:$B441)=0,\"\",IF(A441<>\"\",IF(A441<$B$3,\"N\",\"Y\"),\"\"))","v":""},0,10.9,0,null,1160,{"$f":"IF(AND(ISNUMBER(A441),NOT(ISNUMBER(A442))),IF((OFFSET(Q441,-Q441,0)>50),SUM(OFFSET(E441,-Q441+1,0):E441),SUM(OFFSET(E441,-Q441,0):E441)),IF(AND(ISNUMBER(P441),ISNUMBER(P442),P441  <P442),IF((OFFSET(Q441,-Q441,0)>50),SUM(OFFSET(E441,-Q441+1,0):E441),SUM(OFFSET(E441,-Q441,0):E441)),\"\"))","v":{"$error":"#NAME?"}},{"$f":"IF(ISNUMBER(L441),IF((OFFSET(Q441,-Q441,0)>50),SUM(OFFSET(G441,-Q441+1,0):G441),SUM(OFFSET(G441,-Q441,0):G441)),\"\")","v":""},null,null,{"$error":"#NAME?"},{"$error":"#NAME?"}]
["1996-01-31",null,null,null,0,{"$f":"IF(SUM($B$7:$B442)=0,\"\",IF(A442<>\"\",IF(A442<$B$3,\"N\",\"Y\"),\"\"))","v":""},0,10.9,0,null,1159,{"$f":"IF(AND(ISNUMBER(A442),NOT(ISNUMBER(A443))),IF((OFFSET(Q442,-Q442,0)>50),SUM(OFFSET(E442,-Q442+1,0):E442),SUM(OFFSET(E442,-Q442,0):E442)),IF(AND(ISNUMBER(P442),ISNUMBER(P443),P442  <P443),IF((OFFSET(Q442,-Q442,0)>50),SUM(OFFSET(E442,-Q442+1,0):E442),SUM(OFFSET(E442,-Q442,0):E442)),\"\"))","v":{"$error":"#NAME?"}},{"$f":"IF(ISNUMBER(L442),IF((OFFSET(Q442,-Q442,0)>50),SUM(OFFSET(G442,-Q442+1,0):G442),SUM(OFFSET(G442,-Q442,0):G442)),\"\")","v":""},null,null,{"$error":"#NAME?"},{"$error":"#NAME?"}]
["1996-02-07",null,null,null,0,{"$f":"IF(SUM($B$7:$B443)=0,\"\",IF(A443<>\"\",IF(A443<$B$3,\"N\",\"Y\"),\"\"))","v":""},0,10.9,0,null,1158,{"$f":"IF(AND(ISNUMBER(A443),NOT(ISNUMBER(A444))),IF((OFFSET(Q443,-Q443,0)>50),SUM(OFFSET(E443,-Q443+1,0):E443),SUM(OFFSET(E443,-Q443,0):E443)),IF(AND(ISNUMBER(P443),ISNUMBER(P444),P443  <P444),IF((OFFSET(Q443,-Q443,0)>50),SUM(OFFSET(E443,-Q443+1,0):E443),SUM(OFFSET(E443,-Q443,0):E443)),\"\"))","v":{"$error":"#NAME?"}},{"$f":"IF(ISNUMBER(L443),IF((OFFSET(Q443,-Q443,0)>50),SUM(OFFSET(G443,-Q443+1,0):G443),SUM(OFFSET(G443,-Q443,0):G443)),\"\")","v":""},null,null,{"$error":"#NAME?"},{"$error":"#NAME?"}]
["1996-02-14",null,null,null,0,{"$f":"IF(SUM($B$7:$B444)=0,\"\",IF(A444<>\"\",IF(A444<$B$3,\"N\",\"Y\"),\"\"))","v":""},0,10.9,0,null,1157,{"$f":"IF(AND(ISNUMBER(A444),NOT(ISNUMBER(A445))),IF((OFFSET(Q444,-Q444,0)>50),SUM(OFFSET(E444,-Q444+1,0):E444),SUM(OFFSET(E444,-Q444,0):E444)),IF(AND(ISNUMBER(P444),ISNUMBER(P445),P444  <P445),IF((OFFSET(Q444,-Q444,0)>50),SUM(OFFSET(E444,-Q444+1,0):E444),SUM(OFFSET(E444,-Q444,0):E444)),\"\"))","v":{"$error":"#NAME?"}},{"$f":"IF(ISNUMBER(L444),IF((OFFSET(Q444,-Q444,0)>50),SUM(OFFSET(G444,-Q444+1,0):G444),SUM(OFFSET(G444,-Q444,0):G444)),\"\")","v":""},null,null,{"$error":"#NAME?"},{"$error":"#NAME?"}]
["1996-02-21",null,null,null,0,{"$f":"IF(SUM($B$7:$B445)=0,\"\",IF(A445<>\"\",IF(A445<$B$3,\"N\",\"Y\"),\"\"))","v":""},0,10.9,0,null,1156,{"$f":"IF(AND(ISNUMBER(A445),NOT(ISNUMBER(A446))),IF((OFFSET(Q445,-Q445,0)>50),SUM(OFFSET(E445,-Q445+1,0):E445),SUM(OFFSET(E445,-Q445,0):E445)),IF(AND(ISNUMBER(P445),ISNUMBER(P446),P445  <P446),IF((OFFSET(Q445,-Q445,0)>50),SUM(OFFSET(E445,-Q445+1,0):E445),SUM(OFFSET(E445,-Q445,0):E445)),\"\"))","v":{"$error":"#NAME?"}},{"$f":"IF(ISNUMBER(L445),IF((OFFSET(Q445,-Q445,0)>50),SUM(OFFSET(G445,-Q445+1,0):G445),SUM(OFFSET(G445,-Q445,0):G445)),\"\")","v":""},null,null,{"$error":"#NAME?"},{"$error":"#NAME?"}]
["1996-02-28",null,null,null,0,{"$f":"IF(SUM($B$7:$B446)=0,\"\",IF(A446<>\"\",IF(A446<$B$3,\"N\",\"Y\"),\"\"))","v":""},0,10.9,0,null,1155,{"$f":"IF(AND(ISNUMBER(A446),NOT(ISNUMBER(A447))),IF((OFFSET(Q446,-Q446,0)>50),SUM(OFFSET(E446,-Q446+1,0):E446),SUM(OFFSET(E446,-Q446,0):E446)),IF(AND(ISNUMBER(P446),ISNUMBER(P447),P446  <P447),IF((OFFSET(Q446,-Q446,0)>50),SUM(OFFSET(E446,-Q446+1,0):E446),SUM(OFFSET(E446,-Q446,0):E446)),\"\"))","v":{"$error":"#NAME?"}},{"$f":"IF(ISNUMBER(L446),IF((OFFSET(Q446,-Q446,0)>50),SUM(OFFSET(G446,-Q446+1,0):G446),SUM(OFFSET(G446,-Q446,0):G446)),\"\")","v":""},null,null,{"$error":"#NAME?"},{"$error":"#NAME?"}]
["1996-03-06",null,null,null,0,{"$f":"IF(SUM($B$7:$B447)=0,\"\",IF(A447<>\"\",IF(A447<$B$3,\"N\",\"Y\"),\"\"))","v":""},0,10.9,0,null,1154,{"$f":"IF(AND(ISNUMBER(A447),NOT(ISNUMBER(A448))),IF((OFFSET(Q447,-Q447,0)>50),SUM(OFFSET(E447,-Q447+1,0):E447),SUM(OFFSET(E447,-Q447,0):E447)),IF(AND(ISNUMBER(P447),ISNUMBER(P448),P447  <P448),IF((OFFSET(Q447,-Q447,0)>50),SUM(OFFSET(E447,-Q447+1,0):E447),SUM(OFFSET(E447,-Q447,0):E447)),\"\"))","v":{"$error":"#NAME?"}},{"$f":"IF(ISNUMBER(L447),IF((OFFSET(Q447,-Q447,0)>50),SUM(OFFSET(G447,-Q447+1,0):G447),SUM(OFFSET(G447,-Q447,0):G447)),\"\")","v":""},null,null,{"$error":"#NAME?"},{"$error":"#NAME?"}]
["1996-03-13",null,null,null,0,{"$f":"IF(SUM($B$7:$B448)=0,\"\",IF(A448<>\"\",IF(A448<$B$3,\"N\",\"Y\"),\"\"))","v":""},0,10.9,0,null,1153,{"$f":"IF(AND(ISNUMBER(A448),NOT(ISNUMBER(A449))),IF((OFFSET(Q448,-Q448,0)>50),SUM(OFFSET(E448,-Q448+1,0):E448),SUM(OFFSET(E448,-Q448,0):E448)),IF(AND(ISNUMBER(P448),ISNUMBER(P449),P448  <P449),IF((OFFSET(Q448,-Q448,0)>50),SUM(OFFSET(E448,-Q448+1,0):E448),SUM(OFFSET(E448,-Q448,0):E448)),\"\"))","v":{"$error":"#NAME?"}},{"$f":"IF(ISNUMBER(L448),IF((OFFSET(Q448,-Q448,0)>50),SUM(OFFSET(G448,-Q448+1,0):G448),SUM(OFFSET(G448,-Q448,0):G448)),\"\")","v":""},null,null,{"$error":"#NAME?"},{"$error":"#NAME?"}]
["1996-03-20",null,null,null,0,{"$f":"IF(SUM($B$7:$B449)=0,\"\",IF(A449<>\"\",IF(A449<$B$3,\"N\",\"Y\"),\"\"))","v":""},0,10.9,0,null,1152,{"$f":"IF(AND(ISNUMBER(A449),NOT(ISNUMBER(A450))),IF((OFFSET(Q449,-Q449,0)>50),SUM(OFFSET(E449,-Q449+1,0):E449),SUM(OFFSET(E449,-Q449,0):E449)),IF(AND(ISNUMBER(P449),ISNUMBER(P450),P449  <P450),IF((OFFSET(Q449,-Q449,0)>50),SUM(OFFSET(E449,-Q449+1,0):E449),SUM(OFFSET(E449,-Q449,0):E449)),\"\"))","v":{"$error":"#NAME?"}},{"$f":"IF(ISNUMBER(L449),IF((OFFSET(Q449,-Q449,0)>50),SUM(OFFSET(G449,-Q449+1,0):G449),SUM(OFFSET(G449,-Q449,0):G449)),\"\")","v":""},null,null,{"$error":"#NAME?"},{"$error":"#NAME?"}]
["1996-03-27",null,null,null,0,{"$f":"IF(SUM($B$7:$B450)=0,\"\",IF(A450<>\"\",IF(A450<$B$3,\"N\",\"Y\"),\"\"))","v":""},0,10.9,0,null,1151,{"$f":"IF(AND(ISNUMBER(A450),NOT(ISNUMBER(A451))),IF((OFFSET(Q450,-Q450,0)>50),SUM(OFFSET(E450,-Q450+1,0):E450),SUM(OFFSET(E450,-Q450,0):E450)),IF(AND(ISNUMBER(P450),ISNUMBER(P451),P450  <P451),IF((OFFSET(Q450,-Q450,0)>50),SUM(OFFSET(E450,-Q450+1,0):E450),SUM(OFFSET(E450,-Q450,0):E450)),\"\"))","v":{"$error":"#NAME?"}},{"$f":"IF(ISNUMBER(L450),IF((OFFSET(Q450,-Q450,0)>50),SUM(OFFSET(G450,-Q450+1,0):G450),SUM(OFFSET(G450,-Q450,0):G450)),\"\")","v":""},null,null,{"$error":"#NAME?"},{"$error":"#NAME?"}]
["1996-04-03",null,null,null,0,{"$f":"IF(SUM($B$7:$B451)=0,\"\",IF(A451<>\"\",IF(A451<$B$3,\"N\",\"Y\"),\"\"))","v":""},0,10.9,0,null,1150,{"$f":"IF(AND(ISNUMBER(A451),NOT(ISNUMBER(A452))),IF((OFFSET(Q451,-Q451,0)>50),SUM(OFFSET(E451,-Q451+1,0):E451),SUM(OFFSET(E451,-Q451,0):E451)),IF(AND(ISNUMBER(P451),ISNUMBER(P452),P451  <P452),IF((OFFSET(Q451,-Q451,0)>50),SUM(OFFSET(E451,-Q451+1,0):E451),SUM(OFFSET(E451,-Q451,0):E451)),\"\"))","v":{"$error":"#NAME?"}},{"$f":"IF(ISNUMBER(L451),IF((OFFSET(Q451,-Q451,0)>50),SUM(OFFSET(G451,-Q451+1,0):G451),SUM(OFFSET(G451,-Q451,0):G451)),\"\")","v":""},null,null,{"$error":"#NAME?"},{"$error":"#NAME?"}]
["1996-04-10",null,null,null,0,{"$f":"IF(SUM($B$7:$B452)=0,\"\",IF(A452<>\"\",IF(A452<$B$3,\"N\",\"Y\"),\"\"))","v":""},0,10.9,0,null,1149,{"$f":"IF(AND(ISNUMBER(A452),NOT(ISNUMBER(A453))),IF((OFFSET(Q452,-Q452,0)>50),SUM(OFFSET(E452,-Q452+1,0):E452),SUM(OFFSET(E452,-Q452,0):E452)),IF(AND(ISNUMBER(P452),ISNUMBER(P453),P452  <P453),IF((OFFSET(Q452,-Q452,0)>50),SUM(OFFSET(E452,-Q452+1,0):E452),SUM(OFFSET(E452,-Q452,0):E452)),\"\"))","v":{"$error":"#NAME?"}},{"$f":"IF(ISNUMBER(L452),IF((OFFSET(Q452,-Q452,0)>50),SUM(OFFSET(G452,-Q452+1,0):G452),SUM(OFFSET(G452,-Q452,0):G452)),\"\")","v":""},null,null,{"$error":"#NAME?"},{"$error":"#NAME?"}]
["1996-04-17",null,null,null,0,{"$f":"IF(SUM($B$7:$B453)=0,\"\",IF(A453<>\"\",IF(A453<$B$3,\"N\",\"Y\"),\"\"))","v":""},0,10.9,0,null,1148,{"$f":"IF(AND(ISNUMBER(A453),NOT(ISNUMBER(A454))),IF((OFFSET(Q453,-Q453,0)>50),SUM(OFFSET(E453,-Q453+1,0):E453),SUM(OFFSET(E453,-Q453,0):E453)),IF(AND(ISNUMBER(P453),ISNUMBER(P454),P453  <P454),IF((OFFSET(Q453,-Q453,0)>50),SUM(OFFSET(E453,-Q453+1,0):E453),SUM(OFFSET(E453,-Q453,0):E453)),\"\"))","v":{"$error":"#NAME?"}},{"$f":"IF(ISNUMBER(L453),IF((OFFSET(Q453,-Q453,0)>50),SUM(OFFSET(G453,-Q453+1,0):G453),SUM(OFFSET(G453,-Q453,0):G453)),\"\")","v":""},null,null,{"$error":"#NAME?"},{"$error":"#NAME?"}]
["1996-04-24",null,null,null,0,{"$f":"IF(SUM($B$7:$B454)=0,\"\",IF(A454<>\"\",IF(A454<$B$3,\"N\",\"Y\"),\"\"))","v":""},0,10.9,0,null,1147,{"$f":"IF(AND(ISNUMBER(A454),NOT(ISNUMBER(A455))),IF((OFFSET(Q454,-Q454,0)>50),SUM(OFFSET(E454,-Q454+1,0):E454),SUM(OFFSET(E454,-Q454,0):E454)),IF(AND(ISNUMBER(P454),ISNUMBER(P455),P454  <P455),IF((OFFSET(Q454,-Q454,0)>50),SUM(OFFSET(E454,-Q454+1,0):E454),SUM(OFFSET(E454,-Q454,0):E454)),\"\"))","v":{"$error":"#NAME?"}},{"$f":"IF(ISNUMBER(L454),IF((OFFSET(Q454,-Q454,0)>50),SUM(OFFSET(G454,-Q454+1,0):G454),SUM(OFFSET(G454,-Q454,0):G454)),\"\")","v":""},null,null,{"$error":"#NAME?"},{"$error":"#NAME?"}]
["1996-05-01",null,null,null,0,{"$f":"IF(SUM($B$7:$B455)=0,\"\",IF(A455<>\"\",IF(A455<$B$3,\"N\",\"Y\"),\"\"))","v":""},0,10.9,0,null,{"$f":"IF(A455<>\"\",IF((TODAY()-A455)/7>=0,INT((TODAY()-A455)/7),0),\"\")","v":1146},{"$f":"IF(AND(ISNUMBER(A455),NOT(ISNUMBER(A456))),IF((OFFSET(Q455,-Q455,0)>50),SUM(OFFSET(E455,-Q455+1,0):E455),SUM(OFFSET(E455,-Q455,0):E455)),IF(AND(ISNUMBER(P455),ISNUMBER(P456),P455  <P456),IF((OFFSET(Q455,-Q455,0)>50),SUM(OFFSET(E455,-Q455+1,0):E455),SUM(OFFSET(E455,-Q455,0):E455)),\"\"))","v":{"$error":"#NAME?"}},{"$f":"IF(ISNUMBER(L455),IF((OFFSET(Q455,-Q455,0)>50),SUM(OFFSET(G455,-Q455+1,0):G455),SUM(OFFSET(G455,-Q455,0):G455)),\"\")","v":""},null,null,{"$f":"FinYear(A455)","v":{"$error":"#NAME?"}},{"$error":"#NAME?"}]
["1996-05-08",null,null,null,{"$f":"IF(A456<>\"\",IF(B456-C456>=0,B456-C456,0),\"\")","v":0},{"$f":"IF(SUM($B$7:$B456)=0,\"\",IF(A456<>\"\",IF(A456<$B$3,\"N\",\"Y\"),\"\"))","v":""},0,10.9,0,null,1145,{"$f":"IF(AND(ISNUMBER(A456),NOT(ISNUMBER(A457))),IF((OFFSET(Q456,-Q456,0)>50),SUM(OFFSET(E456,-Q456+1,0):E456),SUM(OFFSET(E456,-Q456,0):E456)),IF(AND(ISNUMBER(P456),ISNUMBER(P457),P456  <P457),IF((OFFSET(Q456,-Q456,0)>50),SUM(OFFSET(E456,-Q456+1,0):E456),SUM(OFFSET(E456,-Q456,0):E456)),\"\"))","v":{"$error":"#NAME?"}},{"$f":"IF(ISNUMBER(L456),IF((OFFSET(Q456,-Q456,0)>50),SUM(OFFSET(G456,-Q456+1,0):G456),SUM(OFFSET(G456,-Q456,0):G456)),\"\")","v":""},null,null,{"$error":"#NAME?"},{"$f":"ROUND((A456-StartOfFinYear(P456))/7,0)","v":{"$error":"#NAME?"}}]
["1996-05-15",null,null,null,0,{"$f":"IF(SUM($B$7:$B457)=0,\"\",IF(A457<>\"\",IF(A457<$B$3,\"N\",\"Y\"),\"\"))","v":""},{"$f":"IF(F457=\"N\",0,IF(A457<>\"\",IF(K457>=0,((E457+I456)*(1+(H457/52)/100)-E457-I456),0),\"\"))","v":0},10.9,{"$f":"IF(A457<>\"\",I456+E457+G457,\"\")","v":0},null,1144,{"$f":"IF(AND(ISNUMBER(A457),NOT(ISNUMBER(A458))),IF((OFFSET(Q457,-Q457,0)>50),SUM(OFFSET(E457,-Q457+1,0):E457),SUM(OFFSET(E457,-Q457,0):E457)),IF(AND(ISNUMBER(P457),ISNUMBER(P458),P457  <P458),IF((OFFSET(Q457,-Q457,0)>50),SUM(OFFSET(E457,-Q457+1,0):E457),SUM(OFFSET(E457,-Q457,0):E457)),\"\"))","v":{"$error":"#NAME?"}},{"$f":"IF(ISNUMBER(L457),IF((OFFSET(Q457,-Q457,0)>50),SUM(OFFSET(G457,-Q457+1,0):G457),SUM(OFFSET(G457,-Q457,0):G457)),\"\")","v":""},null,null,{"$error":"#NAME?"},{"$error":"#NAME?"}]
[{"$f":"IF(A457<>\"\",IF(A457+12<=TODAY(),+A457+7,\"\"),\"\")","v":"1996-05-22"},null,null,null,0,{"$f":"IF(SUM($B$7:$B458)=0,\"\",IF(A458<>\"\",IF(A458<$B$3,\"N\",\"Y\"),\"\"))","v":""},0,10.9,0,null,1143,{"$f":"IF(AND(ISNUMBER(A458),NOT(ISNUMBER(A459))),IF((OFFSET(Q458,-Q458,0)>50),SUM(OFFSET(E458,-Q458+1,0):E458),SUM(OFFSET(E458,-Q458,0):E458)),IF(AND(ISNUMBER(P458),ISNUMBER(P459),P458  <P459),IF((OFFSET(Q458,-Q458,0)>50),SUM(OFFSET(E458,-Q458+1,0):E458),SUM(OFFSET(E458,-Q458,0):E458)),\"\"))","v":{"$error":"#NAME?"}},{"$f":"IF(ISNUMBER(L458),IF((OFFSET(Q458,-Q458,0)>50),SUM(OFFSET(G458,-Q458+1,0):G458),SUM(OFFSET(G458,-Q458,0):G458)),\"\")","v":""},null,null,{"$error":"#NAME?"},{"$error":"#NAME?"}]
["1996-05-29",null,null,null,0,{"$f":"IF(SUM($B$7:$B459)=0,\"\",IF(A459<>\"\",IF(A459<$B$3,\"N\",\"Y\"),\"\"))","v":""},0,10.9,0,null,1142,{"$f":"IF(AND(ISNUMBER(A459),NOT(ISNUMBER(A460))),IF((OFFSET(Q459,-Q459,0)>50),SUM(OFFSET(E459,-Q459+1,0):E459),SUM(OFFSET(E459,-Q459,0):E459)),IF(AND(ISNUMBER(P459),ISNUMBER(P460),P459  <P460),IF((OFFSET(Q459,-Q459,0)>50),SUM(OFFSET(E459,-Q459+1,0):E459),SUM(OFFSET(E459,-Q459,0):E459)),\"\"))","v":{"$error":"#NAME?"}},{"$f":"IF(ISNUMBER(L459),IF((OFFSET(Q459,-Q459,0)>50),SUM(OFFSET(G459,-Q459+1,0):G459),SUM(OFFSET(G459,-Q459,0):G459)),\"\")","v":""},null,null,{"$error":"#NAME?"},{"$error":"#NAME?"}]
["1996-06-05",null,null,null,0,{"$f":"IF(SUM($B$7:$B460)=0,\"\",IF(A460<>\"\",IF(A460<$B$3,\"N\",\"Y\"),\"\"))","v":""},0,10.9,0,null,1141,{"$f":"IF(AND(ISNUMBER(A460),NOT(ISNUMBER(A461))),IF((OFFSET(Q460,-Q460,0)>50),SUM(OFFSET(E460,-Q460+1,0):E460),SUM(OFFSET(E460,-Q460,0):E460)),IF(AND(ISNUMBER(P460),ISNUMBER(P461),P460  <P461),IF((OFFSET(Q460,-Q460,0)>50),SUM(OFFSET(E460,-Q460+1,0):E460),SUM(OFFSET(E460,-Q460,0):E460)),\"\"))","v":{"$error":"#NAME?"}},{"$f":"IF(ISNUMBER(L460),IF((OFFSET(Q460,-Q460,0)>50),SUM(OFFSET(G460,-Q460+1,0):G460),SUM(OFFSET(G460,-Q460,0):G460)),\"\")","v":""},null,null,{"$error":"#NAME?"},{"$error":"#NAME?"}]
["1996-06-12",null,null,null,0,{"$f":"IF(SUM($B$7:$B461)=0,\"\",IF(A461<>\"\",IF(A461<$B$3,\"N\",\"Y\"),\"\"))","v":""},0,10.9,0,null,1140,{"$f":"IF(AND(ISNUMBER(A461),NOT(ISNUMBER(A462))),IF((OFFSET(Q461,-Q461,0)>50),SUM(OFFSET(E461,-Q461+1,0):E461),SUM(OFFSET(E461,-Q461,0):E461)),IF(AND(ISNUMBER(P461),ISNUMBER(P462),P461  <P462),IF((OFFSET(Q461,-Q461,0)>50),SUM(OFFSET(E461,-Q461+1,0):E461),SUM(OFFSET(E461,-Q461,0):E461)),\"\"))","v":{"$error":"#NAME?"}},{"$f":"IF(ISNUMBER(L461),IF((OFFSET(Q461,-Q461,0)>50),SUM(OFFSET(G461,-Q461+1,0):G461),SUM(OFFSET(G461,-Q461,0):G461)),\"\")","v":""},null,null,{"$error":"#NAME?"},{"$error":"#NAME?"}]
["1996-06-19",null,null,null,0,{"$f":"IF(SUM($B$7:$B462)=0,\"\",IF(A462<>\"\",IF(A462<$B$3,\"N\",\"Y\"),\"\"))","v":""},0,10.9,0,null,1139,{"$f":"IF(AND(ISNUMBER(A462),NOT(ISNUMBER(A463))),IF((OFFSET(Q462,-Q462,0)>50),SUM(OFFSET(E462,-Q462+1,0):E462),SUM(OFFSET(E462,-Q462,0):E462)),IF(AND(ISNUMBER(P462),ISNUMBER(P463),P462  <P463),IF((OFFSET(Q462,-Q462,0)>50),SUM(OFFSET(E462,-Q462+1,0):E462),SUM(OFFSET(E462,-Q462,0):E462)),\"\"))","v":{"$error":"#NAME?"}},{"$f":"IF(ISNUMBER(L462),IF((OFFSET(Q462,-Q462,0)>50),SUM(OFFSET(G462,-Q462+1,0):G462),SUM(OFFSET(G462,-Q462,0):G462)),\"\")","v":""},null,null,{"$error":"#NAME?"},{"$error":"#NAME?"}]
["1996-06-26",null,null,null,0,{"$f":"IF(SUM($B$7:$B463)=0,\"\",IF(A463<>\"\",IF(A463<$B$3,\"N\",\"Y\"),\"\"))","v":""},0,10.9,0,null,1138,{"$f":"IF(AND(ISNUMBER(A463),NOT(ISNUMBER(A464))),IF((OFFSET(Q463,-Q463,0)>50),SUM(OFFSET(E463,-Q463+1,0):E463),SUM(OFFSET(E463,-Q463,0):E463)),IF(AND(ISNUMBER(P463),ISNUMBER(P464),P463  <P464),IF((OFFSET(Q463,-Q463,0)>50),SUM(OFFSET(E463,-Q463+1,0):E463),SUM(OFFSET(E463,-Q463,0):E463)),\"\"))","v":{"$error":"#NAME?"}},{"$f":"IF(ISNUMBER(L463),IF((OFFSET(Q463,-Q463,0)>50),SUM(OFFSET(G463,-Q463+1,0):G463),SUM(OFFSET(G463,-Q463,0):G463)),\"\")","v":""},null,null,{"$error":"#NAME?"},{"$error":"#NAME?"}]
["1996-07-03",null,null,null,0,{"$f":"IF(SUM($B$7:$B464)=0,\"\",IF(A464<>\"\",IF(A464<$B$3,\"N\",\"Y\"),\"\"))","v":""},0,10.9,0,null,1137,{"$f":"IF(AND(ISNUMBER(A464),NOT(ISNUMBER(A465))),IF((OFFSET(Q464,-Q464,0)>50),SUM(OFFSET(E464,-Q464+1,0):E464),SUM(OFFSET(E464,-Q464,0):E464)),IF(AND(ISNUMBER(P464),ISNUMBER(P465),P464  <P465),IF((OFFSET(Q464,-Q464,0)>50),SUM(OFFSET(E464,-Q464+1,0):E464),SUM(OFFSET(E464,-Q464,0):E464)),\"\"))","v":{"$error":"#NAME?"}},{"$f":"IF(ISNUMBER(L464),IF((OFFSET(Q464,-Q464,0)>50),SUM(OFFSET(G464,-Q464+1,0):G464),SUM(OFFSET(G464,-Q464,0):G464)),\"\")","v":""},null,null,{"$error":"#NAME?"},{"$error":"#NAME?"}]
["1996-07-10",null,null,null,0,{"$f":"IF(SUM($B$7:$B465)=0,\"\",IF(A465<>\"\",IF(A465<$B$3,\"N\",\"Y\"),\"\"))","v":""},0,10.9,0,null,1136,{"$f":"IF(AND(ISNUMBER(A465),NOT(ISNUMBER(A466))),IF((OFFSET(Q465,-Q465,0)>50),SUM(OFFSET(E465,-Q465+1,0):E465),SUM(OFFSET(E465,-Q465,0):E465)),IF(AND(ISNUMBER(P465),ISNUMBER(P466),P465  <P466),IF((OFFSET(Q465,-Q465,0)>50),SUM(OFFSET(E465,-Q465+1,0):E465),SUM(OFFSET(E465,-Q465,0):E465)),\"\"))","v":{"$error":"#NAME?"}},{"$f":"IF(ISNUMBER(L465),IF((OFFSET(Q465,-Q465,0)>50),SUM(OFFSET(G465,-Q465+1,0):G465),SUM(OFFSET(G465,-Q465,0):G465)),\"\")","v":""},null,null,{"$error":"#NAME?"},{"$error":"#NAME?"}]
["1996-07-17",null,null,null,0,{"$f":"IF(SUM($B$7:$B466)=0,\"\",IF(A466<>\"\",IF(A466<$B$3,\"N\",\"Y\"),\"\"))","v":""},0,10.9,0,null,1135,{"$f":"IF(AND(ISNUMBER(A466),NOT(ISNUMBER(A467))),IF((OFFSET(Q466,-Q466,0)>50),SUM(OFFSET(E466,-Q466+1,0):E466),SUM(OFFSET(E466,-Q466,0):E466)),IF(AND(ISNUMBER(P466),ISNUMBER(P467),P466  <P467),IF((OFFSET(Q466,-Q466,0)>50),SUM(OFFSET(E466,-Q466+1,0):E466),SUM(OFFSET(E466,-Q466,0):E466)),\"\"))","v":{"$error":"#NAME?"}},{"$f":"IF(ISNUMBER(L466),IF((OFFSET(Q466,-Q466,0)>50),SUM(OFFSET(G466,-Q466+1,0):G466),SUM(OFFSET(G466,-Q466,0):G466)),\"\")","v":""},null,null,{"$error":"#NAME?"},{"$error":"#NAME?"}]
["1996-07-24",null,null,null,0,{"$f":"IF(SUM($B$7:$B467)=0,\"\",IF(A467<>\"\",IF(A467<$B$3,\"N\",\"Y\"),\"\"))","v":""},0,10.9,0,null,1134,{"$f":"IF(AND(ISNUMBER(A467),NOT(ISNUMBER(A468))),IF((OFFSET(Q467,-Q467,0)>50),SUM(OFFSET(E467,-Q467+1,0):E467),SUM(OFFSET(E467,-Q467,0):E467)),IF(AND(ISNUMBER(P467),ISNUMBER(P468),P467  <P468),IF((OFFSET(Q467,-Q467,0)>50),SUM(OFFSET(E467,-Q467+1,0):E467),SUM(OFFSET(E467,-Q467,0):E467)),\"\"))","v":{"$error":"#NAME?"}},{"$f":"IF(ISNUMBER(L467),IF((OFFSET(Q467,-Q467,0)>50),SUM(OFFSET(G467,-Q467+1,0):G467),SUM(OFFSET(G467,-Q467,0):G467)),\"\")","v":""},null,null,{"$error":"#NAME?"},{"$error":"#NAME?"}]
["1996-07-31",null,null,null,0,{"$f":"IF(SUM($B$7:$B468)=0,\"\",IF(A468<>\"\",IF(A468<$B$3,\"N\",\"Y\"),\"\"))","v":""},0,10.9,0,null,1133,{"$f":"IF(AND(ISNUMBER(A468),NOT(ISNUMBER(A469))),IF((OFFSET(Q468,-Q468,0)>50),SUM(OFFSET(E468,-Q468+1,0):E468),SUM(OFFSET(E468,-Q468,0):E468)),IF(AND(ISNUMBER(P468),ISNUMBER(P469),P468  <P469),IF((OFFSET(Q468,-Q468,0)>50),SUM(OFFSET(E468,-Q468+1,0):E468),SUM(OFFSET(E468,-Q468,0):E468)),\"\"))","v":{"$error":"#NAME?"}},{"$f":"IF(ISNUMBER(L468),IF((OFFSET(Q468,-Q468,0)>50),SUM(OFFSET(G468,-Q468+1,0):G468),SUM(OFFSET(G468,-Q468,0):G468)),\"\")","v":""},null,null,{"$error":"#NAME?"},{"$error":"#NAME?"}]
["1996-08-07",null,null,null,0,{"$f":"IF(SUM($B$7:$B469)=0,\"\",IF(A469<>\"\",IF(A469<$B$3,\"N\",\"Y\"),\"\"))","v":""},0,10.9,0,null,1132,{"$f":"IF(AND(ISNUMBER(A469),NOT(ISNUMBER(A470))),IF((OFFSET(Q469,-Q469,0)>50),SUM(OFFSET(E469,-Q469+1,0):E469),SUM(OFFSET(E469,-Q469,0):E469)),IF(AND(ISNUMBER(P469),ISNUMBER(P470),P469  <P470),IF((OFFSET(Q469,-Q469,0)>50),SUM(OFFSET(E469,-Q469+1,0):E469),SUM(OFFSET(E469,-Q469,0):E469)),\"\"))","v":{"$error":"#NAME?"}},{"$f":"IF(ISNUMBER(L469),IF((OFFSET(Q469,-Q469,0)>50),SUM(OFFSET(G469,-Q469+1,0):G469),SUM(OFFSET(G469,-Q469,0):G469)),\"\")","v":""},null,null,{"$error":"#NAME?"},{"$error":"#NAME?"}]
["1996-08-14",null,null,null,0,{"$f":"IF(SUM($B$7:$B470)=0,\"\",IF(A470<>\"\",IF(A470<$B$3,\"N\",\"Y\"),\"\"))","v":""},0,10.9,0,null,1131,{"$f":"IF(AND(ISNUMBER(A470),NOT(ISNUMBER(A471))),IF((OFFSET(Q470,-Q470,0)>50),SUM(OFFSET(E470,-Q470+1,0):E470),SUM(OFFSET(E470,-Q470,0):E470)),IF(AND(ISNUMBER(P470),ISNUMBER(P471),P470  <P471),IF((OFFSET(Q470,-Q470,0)>50),SUM(OFFSET(E470,-Q470+1,0):E470),SUM(OFFSET(E470,-Q470,0):E470)),\"\"))","v":{"$error":"#NAME?"}},{"$f":"IF(ISNUMBER(L470),IF((OFFSET(Q470,-Q470,0)>50),SUM(OFFSET(G470,-Q470+1,0):G470),SUM(OFFSET(G470,-Q470,0):G470)),\"\")","v":""},null,null,{"$error":"#NAME?"},{"$error":"#NAME?"}]
["1996-08-21",null,null,null,0,{"$f":"IF(SUM($B$7:$B471)=0,\"\",IF(A471<>\"\",IF(A471<$B$3,\"N\",\"Y\"),\"\"))","v":""},0,10.9,0,null,1130,{"$f":"IF(AND(ISNUMBER(A471),NOT(ISNUMBER(A472))),IF((OFFSET(Q471,-Q471,0)>50),SUM(OFFSET(E471,-Q471+1,0):E471),SUM(OFFSET(E471,-Q471,0):E471)),IF(AND(ISNUMBER(P471),ISNUMBER(P472),P471  <P472),IF((OFFSET(Q471,-Q471,0)>50),SUM(OFFSET(E471,-Q471+1,0):E471),SUM(OFFSET(E471,-Q471,0):E471)),\"\"))","v":{"$error":"#NAME?"}},{"$f":"IF(ISNUMBER(L471),IF((OFFSET(Q471,-Q471,0)>50),SUM(OFFSET(G471,-Q471+1,0):G471),SUM(OFFSET(G471,-Q471,0):G471)),\"\")","v":""},null,null,{"$error":"#NAME?"},{"$error":"#NAME?"}]
["1996-08-28",null,null,null,0,{"$f":"IF(SUM($B$7:$B472)=0,\"\",IF(A472<>\"\",IF(A472<$B$3,\"N\",\"Y\"),\"\"))","v":""},0,10.9,0,null,1129,{"$f":"IF(AND(ISNUMBER(A472),NOT(ISNUMBER(A473))),IF((OFFSET(Q472,-Q472,0)>50),SUM(OFFSET(E472,-Q472+1,0):E472),SUM(OFFSET(E472,-Q472,0):E472)),IF(AND(ISNUMBER(P472),ISNUMBER(P473),P472  <P473),IF((OFFSET(Q472,-Q472,0)>50),SUM(OFFSET(E472,-Q472+1,0):E472),SUM(OFFSET(E472,-Q472,0):E472)),\"\"))","v":{"$error":"#NAME?"}},{"$f":"IF(ISNUMBER(L472),IF((OFFSET(Q472,-Q472,0)>50),SUM(OFFSET(G472,-Q472+1,0):G472),SUM(OFFSET(G472,-Q472,0):G472)),\"\")","v":""},null,null,{"$error":"#NAME?"},{"$error":"#NAME?"}]
["1996-09-04",null,null,null,0,{"$f":"IF(SUM($B$7:$B473)=0,\"\",IF(A473<>\"\",IF(A473<$B$3,\"N\",\"Y\"),\"\"))","v":""},0,10.9,0,null,1128,{"$f":"IF(AND(ISNUMBER(A473),NOT(ISNUMBER(A474))),IF((OFFSET(Q473,-Q473,0)>50),SUM(OFFSET(E473,-Q473+1,0):E473),SUM(OFFSET(E473,-Q473,0):E473)),IF(AND(ISNUMBER(P473),ISNUMBER(P474),P473  <P474),IF((OFFSET(Q473,-Q473,0)>50),SUM(OFFSET(E473,-Q473+1,0):E473),SUM(OFFSET(E473,-Q473,0):E473)),\"\"))","v":{"$error":"#NAME?"}},{"$f":"IF(ISNUMBER(L473),IF((OFFSET(Q473,-Q473,0)>50),SUM(OFFSET(G473,-Q473+1,0):G473),SUM(OFFSET(G473,-Q473,0):G473)),\"\")","v":""},null,null,{"$error":"#NAME?"},{"$error":"#NAME?"}]
["1996-09-11",null,null,null,0,{"$f":"IF(SUM($B$7:$B474)=0,\"\",IF(A474<>\"\",IF(A474<$B$3,\"N\",\"Y\"),\"\"))","v":""},0,10.9,0,null,1127,{"$f":"IF(AND(ISNUMBER(A474),NOT(ISNUMBER(A475))),IF((OFFSET(Q474,-Q474,0)>50),SUM(OFFSET(E474,-Q474+1,0):E474),SUM(OFFSET(E474,-Q474,0):E474)),IF(AND(ISNUMBER(P474),ISNUMBER(P475),P474  <P475),IF((OFFSET(Q474,-Q474,0)>50),SUM(OFFSET(E474,-Q474+1,0):E474),SUM(OFFSET(E474,-Q474,0):E474)),\"\"))","v":{"$error":"#NAME?"}},{"$f":"IF(ISNUMBER(L474),IF((OFFSET(Q474,-Q474,0)>50),SUM(OFFSET(G474,-Q474+1,0):G474),SUM(OFFSET(G474,-Q474,0):G474)),\"\")","v":""},null,null,{"$error":"#NAME?"},{"$error":"#NAME?"}]
["1996-09-18",null,null,null,0,{"$f":"IF(SUM($B$7:$B475)=0,\"\",IF(A475<>\"\",IF(A475<$B$3,\"N\",\"Y\"),\"\"))","v":""},0,10.9,0,null,1126,{"$f":"IF(AND(ISNUMBER(A475),NOT(ISNUMBER(A476))),IF((OFFSET(Q475,-Q475,0)>50),SUM(OFFSET(E475,-Q475+1,0):E475),SUM(OFFSET(E475,-Q475,0):E475)),IF(AND(ISNUMBER(P475),ISNUMBER(P476),P475  <P476),IF((OFFSET(Q475,-Q475,0)>50),SUM(OFFSET(E475,-Q475+1,0):E475),SUM(OFFSET(E475,-Q475,0):E475)),\"\"))","v":{"$error":"#NAME?"}},{"$f":"IF(ISNUMBER(L475),IF((OFFSET(Q475,-Q475,0)>50),SUM(OFFSET(G475,-Q475+1,0):G475),SUM(OFFSET(G475,-Q475,0):G475)),\"\")","v":""},null,null,{"$error":"#NAME?"},{"$error":"#NAME?"}]
["1996-09-25",null,null,null,0,{"$f":"IF(SUM($B$7:$B476)=0,\"\",IF(A476<>\"\",IF(A476<$B$3,\"N\",\"Y\"),\"\"))","v":""},0,10.9,0,null,1125,{"$f":"IF(AND(ISNUMBER(A476),NOT(ISNUMBER(A477))),IF((OFFSET(Q476,-Q476,0)>50),SUM(OFFSET(E476,-Q476+1,0):E476),SUM(OFFSET(E476,-Q476,0):E476)),IF(AND(ISNUMBER(P476),ISNUMBER(P477),P476  <P477),IF((OFFSET(Q476,-Q476,0)>50),SUM(OFFSET(E476,-Q476+1,0):E476),SUM(OFFSET(E476,-Q476,0):E476)),\"\"))","v":{"$error":"#NAME?"}},{"$f":"IF(ISNUMBER(L476),IF((OFFSET(Q476,-Q476,0)>50),SUM(OFFSET(G476,-Q476+1,0):G476),SUM(OFFSET(G476,-Q476,0):G476)),\"\")","v":""},null,null,{"$error":"#NAME?"},{"$error":"#NAME?"}]
["1996-10-02",null,null,null,0,{"$f":"IF(SUM($B$7:$B477)=0,\"\",IF(A477<>\"\",IF(A477<$B$3,\"N\",\"Y\"),\"\"))","v":""},0,10.9,0,null,1124,{"$f":"IF(AND(ISNUMBER(A477),NOT(ISNUMBER(A478))),IF((OFFSET(Q477,-Q477,0)>50),SUM(OFFSET(E477,-Q477+1,0):E477),SUM(OFFSET(E477,-Q477,0):E477)),IF(AND(ISNUMBER(P477),ISNUMBER(P478),P477  <P478),IF((OFFSET(Q477,-Q477,0)>50),SUM(OFFSET(E477,-Q477+1,0):E477),SUM(OFFSET(E477,-Q477,0):E477)),\"\"))","v":{"$error":"#NAME?"}},{"$f":"IF(ISNUMBER(L477),IF((OFFSET(Q477,-Q477,0)>50),SUM(OFFSET(G477,-Q477+1,0):G477),SUM(OFFSET(G477,-Q477,0):G477)),\"\")","v":""},null,null,{"$error":"#NAME?"},{"$error":"#NAME?"}]
["1996-10-09",null,null,null,0,{"$f":"IF(SUM($B$7:$B478)=0,\"\",IF(A478<>\"\",IF(A478<$B$3,\"N\",\"Y\"),\"\"))","v":""},0,10.9,0,null,1123,{"$f":"IF(AND(ISNUMBER(A478),NOT(ISNUMBER(A479))),IF((OFFSET(Q478,-Q478,0)>50),SUM(OFFSET(E478,-Q478+1,0):E478),SUM(OFFSET(E478,-Q478,0):E478)),IF(AND(ISNUMBER(P478),ISNUMBER(P479),P478  <P479),IF((OFFSET(Q478,-Q478,0)>50),SUM(OFFSET(E478,-Q478+1,0):E478),SUM(OFFSET(E478,-Q478,0):E478)),\"\"))","v":{"$error":"#NAME?"}},{"$f":"IF(ISNUMBER(L478),IF((OFFSET(Q478,-Q478,0)>50),SUM(OFFSET(G478,-Q478+1,0):G478),SUM(OFFSET(G478,-Q478,0):G478)),\"\")","v":""},null,null,{"$error":"#NAME?"},{"$error":"#NAME?"}]
["1996-10-16",null,null,null,0,{"$f":"IF(SUM($B$7:$B479)=0,\"\",IF(A479<>\"\",IF(A479<$B$3,\"N\",\"Y\"),\"\"))","v":""},0,10.9,0,null,1122,{"$f":"IF(AND(ISNUMBER(A479),NOT(ISNUMBER(A480))),IF((OFFSET(Q479,-Q479,0)>50),SUM(OFFSET(E479,-Q479+1,0):E479),SUM(OFFSET(E479,-Q479,0):E479)),IF(AND(ISNUMBER(P479),ISNUMBER(P480),P479  <P480),IF((OFFSET(Q479,-Q479,0)>50),SUM(OFFSET(E479,-Q479+1,0):E479),SUM(OFFSET(E479,-Q479,0):E479)),\"\"))","v":{"$error":"#NAME?"}},{"$f":"IF(ISNUMBER(L479),IF((OFFSET(Q479,-Q479,0)>50),SUM(OFFSET(G479,-Q479+1,0):G479),SUM(OFFSET(G479,-Q479,0):G479)),\"\")","v":""},null,null,{"$error":"#NAME?"},{"$error":"#NAME?"}]
["1996-10-23",null,null,null,0,{"$f":"IF(SUM($B$7:$B480)=0,\"\",IF(A480<>\"\",IF(A480<$B$3,\"N\",\"Y\"),\"\"))","v":""},0,10.9,0,null,1121,{"$f":"IF(AND(ISNUMBER(A480),NOT(ISNUMBER(A481))),IF((OFFSET(Q480,-Q480,0)>50),SUM(OFFSET(E480,-Q480+1,0):E480),SUM(OFFSET(E480,-Q480,0):E480)),IF(AND(ISNUMBER(P480),ISNUMBER(P481),P480  <P481),IF((OFFSET(Q480,-Q480,0)>50),SUM(OFFSET(E480,-Q480+1,0):E480),SUM(OFFSET(E480,-Q480,0):E480)),\"\"))","v":{"$error":"#NAME?"}},{"$f":"IF(ISNUMBER(L480),IF((OFFSET(Q480,-Q480,0)>50),SUM(OFFSET(G480,-Q480+1,0):G480),SUM(OFFSET(G480,-Q480,0):G480)),\"\")","v":""},null,null,{"$error":"#NAME?"},{"$error":"#NAME?"}]
["1996-10-30",null,null,null,0,{"$f":"IF(SUM($B$7:$B481)=0,\"\",IF(A481<>\"\",IF(A481<$B$3,\"N\",\"Y\"),\"\"))","v":""},0,10.9,0,null,1120,{"$f":"IF(AND(ISNUMBER(A481),NOT(ISNUMBER(A482))),IF((OFFSET(Q481,-Q481,0)>50),SUM(OFFSET(E481,-Q481+1,0):E481),SUM(OFFSET(E481,-Q481,0):E481)),IF(AND(ISNUMBER(P481),ISNUMBER(P482),P481  <P482),IF((OFFSET(Q481,-Q481,0)>50),SUM(OFFSET(E481,-Q481+1,0):E481),SUM(OFFSET(E481,-Q481,0):E481)),\"\"))","v":{"$error":"#NAME?"}},{"$f":"IF(ISNUMBER(L481),IF((OFFSET(Q481,-Q481,0)>50),SUM(OFFSET(G481,-Q481+1,0):G481),SUM(OFFSET(G481,-Q481,0):G481)),\"\")","v":""},null,null,{"$error":"#NAME?"},{"$error":"#NAME?"}]
["1996-11-06",null,null,null,0,{"$f":"IF(SUM($B$7:$B482)=0,\"\",IF(A482<>\"\",IF(A482<$B$3,\"N\",\"Y\"),\"\"))","v":""},0,10.9,0,null,1119,{"$f":"IF(AND(ISNUMBER(A482),NOT(ISNUMBER(A483))),IF((OFFSET(Q482,-Q482,0)>50),SUM(OFFSET(E482,-Q482+1,0):E482),SUM(OFFSET(E482,-Q482,0):E482)),IF(AND(ISNUMBER(P482),ISNUMBER(P483),P482  <P483),IF((OFFSET(Q482,-Q482,0)>50),SUM(OFFSET(E482,-Q482+1,0):E482),SUM(OFFSET(E482,-Q482,0):E482)),\"\"))","v":{"$error":"#NAME?"}},{"$f":"IF(ISNUMBER(L482),IF((OFFSET(Q482,-Q482,0)>50),SUM(OFFSET(G482,-Q482+1,0):G482),SUM(OFFSET(G482,-Q482,0):G482)),\"\")","v":""},null,null,{"$error":"#NAME?"},{"$error":"#NAME?"}]
["1996-11-13",null,null,null,0,{"$f":"IF(SUM($B$7:$B483)=0,\"\",IF(A483<>\"\",IF(A483<$B$3,\"N\",\"Y\"),\"\"))","v":""},0,10.9,0,null,1118,{"$f":"IF(AND(ISNUMBER(A483),NOT(ISNUMBER(A484))),IF((OFFSET(Q483,-Q483,0)>50),SUM(OFFSET(E483,-Q483+1,0):E483),SUM(OFFSET(E483,-Q483,0):E483)),IF(AND(ISNUMBER(P483),ISNUMBER(P484),P483  <P484),IF((OFFSET(Q483,-Q483,0)>50),SUM(OFFSET(E483,-Q483+1,0):E483),SUM(OFFSET(E483,-Q483,0):E483)),\"\"))","v":{"$error":"#NAME?"}},{"$f":"IF(ISNUMBER(L483),IF((OFFSET(Q483,-Q483,0)>50),SUM(OFFSET(G483,-Q483+1,0):G483),SUM(OFFSET(G483,-Q483,0):G483)),\"\")","v":""},null,null,{"$error":"#NAME?"},{"$error":"#NAME?"}]
["1996-11-20",null,null,null,0,{"$f":"IF(SUM($B$7:$B484)=0,\"\",IF(A484<>\"\",IF(A484<$B$3,\"N\",\"Y\"),\"\"))","v":""},0,10.9,0,null,1117,{"$f":"IF(AND(ISNUMBER(A484),NOT(ISNUMBER(A485))),IF((OFFSET(Q484,-Q484,0)>50),SUM(OFFSET(E484,-Q484+1,0):E484),SUM(OFFSET(E484,-Q484,0):E484)),IF(AND(ISNUMBER(P484),ISNUMBER(P485),P484  <P485),IF((OFFSET(Q484,-Q484,0)>50),SUM(OFFSET(E484,-Q484+1,0):E484),SUM(OFFSET(E484,-Q484,0):E484)),\"\"))","v":{"$error":"#NAME?"}},{"$f":"IF(ISNUMBER(L484),IF((OFFSET(Q484,-Q484,0)>50),SUM(OFFSET(G484,-Q484+1,0):G484),SUM(OFFSET(G484,-Q484,0):G484)),\"\")","v":""},null,null,{"$error":"#NAME?"},{"$error":"#NAME?"}]
["1996-11-27",null,null,null,0,{"$f":"IF(SUM($B$7:$B485)=0,\"\",IF(A485<>\"\",IF(A485<$B$3,\"N\",\"Y\"),\"\"))","v":""},0,10.9,0,null,1116,{"$f":"IF(AND(ISNUMBER(A485),NOT(ISNUMBER(A486))),IF((OFFSET(Q485,-Q485,0)>50),SUM(OFFSET(E485,-Q485+1,0):E485),SUM(OFFSET(E485,-Q485,0):E485)),IF(AND(ISNUMBER(P485),ISNUMBER(P486),P485  <P486),IF((OFFSET(Q485,-Q485,0)>50),SUM(OFFSET(E485,-Q485+1,0):E485),SUM(OFFSET(E485,-Q485,0):E485)),\"\"))","v":{"$error":"#NAME?"}},{"$f":"IF(ISNUMBER(L485),IF((OFFSET(Q485,-Q485,0)>50),SUM(OFFSET(G485,-Q485+1,0):G485),SUM(OFFSET(G485,-Q485,0):G485)),\"\")","v":""},null,null,{"$error":"#NAME?"},{"$error":"#NAME?"}]
["1996-12-04",null,null,null,0,{"$f":"IF(SUM($B$7:$B486)=0,\"\",IF(A486<>\"\",IF(A486<$B$3,\"N\",\"Y\"),\"\"))","v":""},0,10.9,0,null,1115,{"$f":"IF(AND(ISNUMBER(A486),NOT(ISNUMBER(A487))),IF((OFFSET(Q486,-Q486,0)>50),SUM(OFFSET(E486,-Q486+1,0):E486),SUM(OFFSET(E486,-Q486,0):E486)),IF(AND(ISNUMBER(P486),ISNUMBER(P487),P486  <P487),IF((OFFSET(Q486,-Q486,0)>50),SUM(OFFSET(E486,-Q486+1,0):E486),SUM(OFFSET(E486,-Q486,0):E486)),\"\"))","v":{"$error":"#NAME?"}},{"$f":"IF(ISNUMBER(L486),IF((OFFSET(Q486,-Q486,0)>50),SUM(OFFSET(G486,-Q486+1,0):G486),SUM(OFFSET(G486,-Q486,0):G486)),\"\")","v":""},null,null,{"$error":"#NAME?"},{"$error":"#NAME?"}]
["1996-12-11",null,null,null,0,{"$f":"IF(SUM($B$7:$B487)=0,\"\",IF(A487<>\"\",IF(A487<$B$3,\"N\",\"Y\"),\"\"))","v":""},0,10.9,0,null,1114,{"$f":"IF(AND(ISNUMBER(A487),NOT(ISNUMBER(A488))),IF((OFFSET(Q487,-Q487,0)>50),SUM(OFFSET(E487,-Q487+1,0):E487),SUM(OFFSET(E487,-Q487,0):E487)),IF(AND(ISNUMBER(P487),ISNUMBER(P488),P487  <P488),IF((OFFSET(Q487,-Q487,0)>50),SUM(OFFSET(E487,-Q487+1,0):E487),SUM(OFFSET(E487,-Q487,0):E487)),\"\"))","v":{"$error":"#NAME?"}},{"$f":"IF(ISNUMBER(L487),IF((OFFSET(Q487,-Q487,0)>50),SUM(OFFSET(G487,-Q487+1,0):G487),SUM(OFFSET(G487,-Q487,0):G487)),\"\")","v":""},null,null,{"$error":"#NAME?"},{"$error":"#NAME?"}]
["1996-12-18",null,null,null,0,{"$f":"IF(SUM($B$7:$B488)=0,\"\",IF(A488<>\"\",IF(A488<$B$3,\"N\",\"Y\"),\"\"))","v":""},0,10.9,0,null,1113,{"$f":"IF(AND(ISNUMBER(A488),NOT(ISNUMBER(A489))),IF((OFFSET(Q488,-Q488,0)>50),SUM(OFFSET(E488,-Q488+1,0):E488),SUM(OFFSET(E488,-Q488,0):E488)),IF(AND(ISNUMBER(P488),ISNUMBER(P489),P488  <P489),IF((OFFSET(Q488,-Q488,0)>50),SUM(OFFSET(E488,-Q488+1,0):E488),SUM(OFFSET(E488,-Q488,0):E488)),\"\"))","v":{"$error":"#NAME?"}},{"$f":"IF(ISNUMBER(L488),IF((OFFSET(Q488,-Q488,0)>50),SUM(OFFSET(G488,-Q488+1,0):G488),SUM(OFFSET(G488,-Q488,0):G488)),\"\")","v":""},null,null,{"$error":"#NAME?"},{"$error":"#NAME?"}]
["1996-12-25",null,null,null,0,{"$f":"IF(SUM($B$7:$B489)=0,\"\",IF(A489<>\"\",IF(A489<$B$3,\"N\",\"Y\"),\"\"))","v":""},0,10.9,0,null,1112,{"$f":"IF(AND(ISNUMBER(A489),NOT(ISNUMBER(A490))),IF((OFFSET(Q489,-Q489,0)>50),SUM(OFFSET(E489,-Q489+1,0):E489),SUM(OFFSET(E489,-Q489,0):E489)),IF(AND(ISNUMBER(P489),ISNUMBER(P490),P489  <P490),IF((OFFSET(Q489,-Q489,0)>50),SUM(OFFSET(E489,-Q489+1,0):E489),SUM(OFFSET(E489,-Q489,0):E489)),\"\"))","v":{"$error":"#NAME?"}},{"$f":"IF(ISNUMBER(L489),IF((OFFSET(Q489,-Q489,0)>50),SUM(OFFSET(G489,-Q489+1,0):G489),SUM(OFFSET(G489,-Q489,0):G489)),\"\")","v":""},null,null,{"$error":"#NAME?"},{"$error":"#NAME?"}]
["1997-01-01",null,null,null,0,{"$f":"IF(SUM($B$7:$B490)=0,\"\",IF(A490<>\"\",IF(A490<$B$3,\"N\",\"Y\"),\"\"))","v":""},0,10.9,0,null,1111,{"$f":"IF(AND(ISNUMBER(A490),NOT(ISNUMBER(A491))),IF((OFFSET(Q490,-Q490,0)>50),SUM(OFFSET(E490,-Q490+1,0):E490),SUM(OFFSET(E490,-Q490,0):E490)),IF(AND(ISNUMBER(P490),ISNUMBER(P491),P490  <P491),IF((OFFSET(Q490,-Q490,0)>50),SUM(OFFSET(E490,-Q490+1,0):E490),SUM(OFFSET(E490,-Q490,0):E490)),\"\"))","v":{"$error":"#NAME?"}},{"$f":"IF(ISNUMBER(L490),IF((OFFSET(Q490,-Q490,0)>50),SUM(OFFSET(G490,-Q490+1,0):G490),SUM(OFFSET(G490,-Q490,0):G490)),\"\")","v":""},null,null,{"$error":"#NAME?"},{"$error":"#NAME?"}]
["1997-01-08",null,null,null,0,{"$f":"IF(SUM($B$7:$B491)=0,\"\",IF(A491<>\"\",IF(A491<$B$3,\"N\",\"Y\"),\"\"))","v":""},0,10.9,0,null,1110,{"$f":"IF(AND(ISNUMBER(A491),NOT(ISNUMBER(A492))),IF((OFFSET(Q491,-Q491,0)>50),SUM(OFFSET(E491,-Q491+1,0):E491),SUM(OFFSET(E491,-Q491,0):E491)),IF(AND(ISNUMBER(P491),ISNUMBER(P492),P491  <P492),IF((OFFSET(Q491,-Q491,0)>50),SUM(OFFSET(E491,-Q491+1,0):E491),SUM(OFFSET(E491,-Q491,0):E491)),\"\"))","v":{"$error":"#NAME?"}},{"$f":"IF(ISNUMBER(L491),IF((OFFSET(Q491,-Q491,0)>50),SUM(OFFSET(G491,-Q491+1,0):G491),SUM(OFFSET(G491,-Q491,0):G491)),\"\")","v":""},null,null,{"$error":"#NAME?"},{"$error":"#NAME?"}]
["1997-01-15",null,null,null,0,{"$f":"IF(SUM($B$7:$B492)=0,\"\",IF(A492<>\"\",IF(A492<$B$3,\"N\",\"Y\"),\"\"))","v":""},0,10.9,0,null,1109,{"$f":"IF(AND(ISNUMBER(A492),NOT(ISNUMBER(A493))),IF((OFFSET(Q492,-Q492,0)>50),SUM(OFFSET(E492,-Q492+1,0):E492),SUM(OFFSET(E492,-Q492,0):E492)),IF(AND(ISNUMBER(P492),ISNUMBER(P493),P492  <P493),IF((OFFSET(Q492,-Q492,0)>50),SUM(OFFSET(E492,-Q492+1,0):E492),SUM(OFFSET(E492,-Q492,0):E492)),\"\"))","v":{"$error":"#NAME?"}},{"$f":"IF(ISNUMBER(L492),IF((OFFSET(Q492,-Q492,0)>50),SUM(OFFSET(G492,-Q492+1,0):G492),SUM(OFFSET(G492,-Q492,0):G492)),\"\")","v":""},null,null,{"$error":"#NAME?"},{"$error":"#NAME?"}]
["1997-01-22",null,null,null,0,{"$f":"IF(SUM($B$7:$B493)=0,\"\",IF(A493<>\"\",IF(A493<$B$3,\"N\",\"Y\"),\"\"))","v":""},0,10.9,0,null,1108,{"$f":"IF(AND(ISNUMBER(A493),NOT(ISNUMBER(A494))),IF((OFFSET(Q493,-Q493,0)>50),SUM(OFFSET(E493,-Q493+1,0):E493),SUM(OFFSET(E493,-Q493,0):E493)),IF(AND(ISNUMBER(P493),ISNUMBER(P494),P493  <P494),IF((OFFSET(Q493,-Q493,0)>50),SUM(OFFSET(E493,-Q493+1,0):E493),SUM(OFFSET(E493,-Q493,0):E493)),\"\"))","v":{"$error":"#NAME?"}},{"$f":"IF(ISNUMBER(L493),IF((OFFSET(Q493,-Q493,0)>50),SUM(OFFSET(G493,-Q493+1,0):G493),SUM(OFFSET(G493,-Q493,0):G493)),\"\")","v":""},null,null,{"$error":"#NAME?"},{"$error":"#NAME?"}]
["1997-01-29",null,null,null,0,{"$f":"IF(SUM($B$7:$B494)=0,\"\",IF(A494<>\"\",IF(A494<$B$3,\"N\",\"Y\"),\"\"))","v":""},0,10.9,0,null,1107,{"$f":"IF(AND(ISNUMBER(A494),NOT(ISNUMBER(A495))),IF((OFFSET(Q494,-Q494,0)>50),SUM(OFFSET(E494,-Q494+1,0):E494),SUM(OFFSET(E494,-Q494,0):E494)),IF(AND(ISNUMBER(P494),ISNUMBER(P495),P494  <P495),IF((OFFSET(Q494,-Q494,0)>50),SUM(OFFSET(E494,-Q494+1,0):E494),SUM(OFFSET(E494,-Q494,0):E494)),\"\"))","v":{"$error":"#NAME?"}},{"$f":"IF(ISNUMBER(L494),IF((OFFSET(Q494,-Q494,0)>50),SUM(OFFSET(G494,-Q494+1,0):G494),SUM(OFFSET(G494,-Q494,0):G494)),\"\")","v":""},null,null,{"$error":"#NAME?"},{"$error":"#NAME?"}]
["1997-02-05",null,null,null,0,{"$f":"IF(SUM($B$7:$B495)=0,\"\",IF(A495<>\"\",IF(A495<$B$3,\"N\",\"Y\"),\"\"))","v":""},0,10.9,0,null,1106,{"$f":"IF(AND(ISNUMBER(A495),NOT(ISNUMBER(A496))),IF((OFFSET(Q495,-Q495,0)>50),SUM(OFFSET(E495,-Q495+1,0):E495),SUM(OFFSET(E495,-Q495,0):E495)),IF(AND(ISNUMBER(P495),ISNUMBER(P496),P495  <P496),IF((OFFSET(Q495,-Q495,0)>50),SUM(OFFSET(E495,-Q495+1,0):E495),SUM(OFFSET(E495,-Q495,0):E495)),\"\"))","v":{"$error":"#NAME?"}},{"$f":"IF(ISNUMBER(L495),IF((OFFSET(Q495,-Q495,0)>50),SUM(OFFSET(G495,-Q495+1,0):G495),SUM(OFFSET(G495,-Q495,0):G495)),\"\")","v":""},null,null,{"$error":"#NAME?"},{"$error":"#NAME?"}]
["1997-02-12",null,null,null,0,{"$f":"IF(SUM($B$7:$B496)=0,\"\",IF(A496<>\"\",IF(A496<$B$3,\"N\",\"Y\"),\"\"))","v":""},0,10.9,0,null,1105,{"$f":"IF(AND(ISNUMBER(A496),NOT(ISNUMBER(A497))),IF((OFFSET(Q496,-Q496,0)>50),SUM(OFFSET(E496,-Q496+1,0):E496),SUM(OFFSET(E496,-Q496,0):E496)),IF(AND(ISNUMBER(P496),ISNUMBER(P497),P496  <P497),IF((OFFSET(Q496,-Q496,0)>50),SUM(OFFSET(E496,-Q496+1,0):E496),SUM(OFFSET(E496,-Q496,0):E496)),\"\"))","v":{"$error":"#NAME?"}},{"$f":"IF(ISNUMBER(L496),IF((OFFSET(Q496,-Q496,0)>50),SUM(OFFSET(G496,-Q496+1,0):G496),SUM(OFFSET(G496,-Q496,0):G496)),\"\")","v":""},null,null,{"$error":"#NAME?"},{"$error":"#NAME?"}]
["1997-02-19",null,null,null,0,{"$f":"IF(SUM($B$7:$B497)=0,\"\",IF(A497<>\"\",IF(A497<$B$3,\"N\",\"Y\"),\"\"))","v":""},0,10.9,0,null,1104,{"$f":"IF(AND(ISNUMBER(A497),NOT(ISNUMBER(A498))),IF((OFFSET(Q497,-Q497,0)>50),SUM(OFFSET(E497,-Q497+1,0):E497),SUM(OFFSET(E497,-Q497,0):E497)),IF(AND(ISNUMBER(P497),ISNUMBER(P498),P497  <P498),IF((OFFSET(Q497,-Q497,0)>50),SUM(OFFSET(E497,-Q497+1,0):E497),SUM(OFFSET(E497,-Q497,0):E497)),\"\"))","v":{"$error":"#NAME?"}},{"$f":"IF(ISNUMBER(L497),IF((OFFSET(Q497,-Q497,0)>50),SUM(OFFSET(G497,-Q497+1,0):G497),SUM(OFFSET(G497,-Q497,0):G497)),\"\")","v":""},null,null,{"$error":"#NAME?"},{"$error":"#NAME?"}]
["1997-02-26",null,null,null,0,{"$f":"IF(SUM($B$7:$B498)=0,\"\",IF(A498<>\"\",IF(A498<$B$3,\"N\",\"Y\"),\"\"))","v":""},0,10.9,0,null,1103,{"$f":"IF(AND(ISNUMBER(A498),NOT(ISNUMBER(A499))),IF((OFFSET(Q498,-Q498,0)>50),SUM(OFFSET(E498,-Q498+1,0):E498),SUM(OFFSET(E498,-Q498,0):E498)),IF(AND(ISNUMBER(P498),ISNUMBER(P499),P498  <P499),IF((OFFSET(Q498,-Q498,0)>50),SUM(OFFSET(E498,-Q498+1,0):E498),SUM(OFFSET(E498,-Q498,0):E498)),\"\"))","v":{"$error":"#NAME?"}},{"$f":"IF(ISNUMBER(L498),IF((OFFSET(Q498,-Q498,0)>50),SUM(OFFSET(G498,-Q498+1,0):G498),SUM(OFFSET(G498,-Q498,0):G498)),\"\")","v":""},null,null,{"$error":"#NAME?"},{"$error":"#NAME?"}]
["1997-03-05",null,null,null,0,{"$f":"IF(SUM($B$7:$B499)=0,\"\",IF(A499<>\"\",IF(A499<$B$3,\"N\",\"Y\"),\"\"))","v":""},0,10.9,0,null,1102,{"$f":"IF(AND(ISNUMBER(A499),NOT(ISNUMBER(A500))),IF((OFFSET(Q499,-Q499,0)>50),SUM(OFFSET(E499,-Q499+1,0):E499),SUM(OFFSET(E499,-Q499,0):E499)),IF(AND(ISNUMBER(P499),ISNUMBER(P500),P499  <P500),IF((OFFSET(Q499,-Q499,0)>50),SUM(OFFSET(E499,-Q499+1,0):E499),SUM(OFFSET(E499,-Q499,0):E499)),\"\"))","v":{"$error":"#NAME?"}},{"$f":"IF(ISNUMBER(L499),IF((OFFSET(Q499,-Q499,0)>50),SUM(OFFSET(G499,-Q499+1,0):G499),SUM(OFFSET(G499,-Q499,0):G499)),\"\")","v":""},null,null,{"$error":"#NAME?"},{"$error":"#NAME?"}]
["1997-03-12",null,null,null,0,{"$f":"IF(SUM($B$7:$B500)=0,\"\",IF(A500<>\"\",IF(A500<$B$3,\"N\",\"Y\"),\"\"))","v":""},0,10.9,0,null,1101,{"$f":"IF(AND(ISNUMBER(A500),NOT(ISNUMBER(A501))),IF((OFFSET(Q500,-Q500,0)>50),SUM(OFFSET(E500,-Q500+1,0):E500),SUM(OFFSET(E500,-Q500,0):E500)),IF(AND(ISNUMBER(P500),ISNUMBER(P501),P500  <P501),IF((OFFSET(Q500,-Q500,0)>50),SUM(OFFSET(E500,-Q500+1,0):E500),SUM(OFFSET(E500,-Q500,0):E500)),\"\"))","v":{"$error":"#NAME?"}},{"$f":"IF(ISNUMBER(L500),IF((OFFSET(Q500,-Q500,0)>50),SUM(OFFSET(G500,-Q500+1,0):G500),SUM(OFFSET(G500,-Q500,0):G500)),\"\")","v":""},null,null,{"$error":"#NAME?"},{"$error":"#NAME?"}]
["1997-03-19",null,null,null,0,{"$f":"IF(SUM($B$7:$B501)=0,\"\",IF(A501<>\"\",IF(A501<$B$3,\"N\",\"Y\"),\"\"))","v":""},0,10.9,0,null,1100,{"$f":"IF(AND(ISNUMBER(A501),NOT(ISNUMBER(A502))),IF((OFFSET(Q501,-Q501,0)>50),SUM(OFFSET(E501,-Q501+1,0):E501),SUM(OFFSET(E501,-Q501,0):E501)),IF(AND(ISNUMBER(P501),ISNUMBER(P502),P501  <P502),IF((OFFSET(Q501,-Q501,0)>50),SUM(OFFSET(E501,-Q501+1,0):E501),SUM(OFFSET(E501,-Q501,0):E501)),\"\"))","v":{"$error":"#NAME?"}},{"$f":"IF(ISNUMBER(L501),IF((OFFSET(Q501,-Q501,0)>50),SUM(OFFSET(G501,-Q501+1,0):G501),SUM(OFFSET(G501,-Q501,0):G501)),\"\")","v":""},null,null,{"$error":"#NAME?"},{"$error":"#NAME?"}]
["1997-03-26",null,null,null,0,{"$f":"IF(SUM($B$7:$B502)=0,\"\",IF(A502<>\"\",IF(A502<$B$3,\"N\",\"Y\"),\"\"))","v":""},0,10.9,0,null,1099,{"$f":"IF(AND(ISNUMBER(A502),NOT(ISNUMBER(A503))),IF((OFFSET(Q502,-Q502,0)>50),SUM(OFFSET(E502,-Q502+1,0):E502),SUM(OFFSET(E502,-Q502,0):E502)),IF(AND(ISNUMBER(P502),ISNUMBER(P503),P502  <P503),IF((OFFSET(Q502,-Q502,0)>50),SUM(OFFSET(E502,-Q502+1,0):E502),SUM(OFFSET(E502,-Q502,0):E502)),\"\"))","v":{"$error":"#NAME?"}},{"$f":"IF(ISNUMBER(L502),IF((OFFSET(Q502,-Q502,0)>50),SUM(OFFSET(G502,-Q502+1,0):G502),SUM(OFFSET(G502,-Q502,0):G502)),\"\")","v":""},null,null,{"$error":"#NAME?"},{"$error":"#NAME?"}]
["1997-04-02",null,null,null,0,{"$f":"IF(SUM($B$7:$B503)=0,\"\",IF(A503<>\"\",IF(A503<$B$3,\"N\",\"Y\"),\"\"))","v":""},0,10.9,0,null,1098,{"$f":"IF(AND(ISNUMBER(A503),NOT(ISNUMBER(A504))),IF((OFFSET(Q503,-Q503,0)>50),SUM(OFFSET(E503,-Q503+1,0):E503),SUM(OFFSET(E503,-Q503,0):E503)),IF(AND(ISNUMBER(P503),ISNUMBER(P504),P503  <P504),IF((OFFSET(Q503,-Q503,0)>50),SUM(OFFSET(E503,-Q503+1,0):E503),SUM(OFFSET(E503,-Q503,0):E503)),\"\"))","v":{"$error":"#NAME?"}},{"$f":"IF(ISNUMBER(L503),IF((OFFSET(Q503,-Q503,0)>50),SUM(OFFSET(G503,-Q503+1,0):G503),SUM(OFFSET(G503,-Q503,0):G503)),\"\")","v":""},null,null,{"$error":"#NAME?"},{"$error":"#NAME?"}]
["1997-04-09",null,null,null,0,{"$f":"IF(SUM($B$7:$B504)=0,\"\",IF(A504<>\"\",IF(A504<$B$3,\"N\",\"Y\"),\"\"))","v":""},0,10.9,0,null,1097,{"$f":"IF(AND(ISNUMBER(A504),NOT(ISNUMBER(A505))),IF((OFFSET(Q504,-Q504,0)>50),SUM(OFFSET(E504,-Q504+1,0):E504),SUM(OFFSET(E504,-Q504,0):E504)),IF(AND(ISNUMBER(P504),ISNUMBER(P505),P504  <P505),IF((OFFSET(Q504,-Q504,0)>50),SUM(OFFSET(E504,-Q504+1,0):E504),SUM(OFFSET(E504,-Q504,0):E504)),\"\"))","v":{"$error":"#NAME?"}},{"$f":"IF(ISNUMBER(L504),IF((OFFSET(Q504,-Q504,0)>50),SUM(OFFSET(G504,-Q504+1,0):G504),SUM(OFFSET(G504,-Q504,0):G504)),\"\")","v":""},null,null,{"$error":"#NAME?"},{"$error":"#NAME?"}]
["1997-04-16",null,null,null,0,{"$f":"IF(SUM($B$7:$B505)=0,\"\",IF(A505<>\"\",IF(A505<$B$3,\"N\",\"Y\"),\"\"))","v":""},0,10.9,0,null,1096,{"$f":"IF(AND(ISNUMBER(A505),NOT(ISNUMBER(A506))),IF((OFFSET(Q505,-Q505,0)>50),SUM(OFFSET(E505,-Q505+1,0):E505),SUM(OFFSET(E505,-Q505,0):E505)),IF(AND(ISNUMBER(P505),ISNUMBER(P506),P505  <P506),IF((OFFSET(Q505,-Q505,0)>50),SUM(OFFSET(E505,-Q505+1,0):E505),SUM(OFFSET(E505,-Q505,0):E505)),\"\"))","v":{"$error":"#NAME?"}},{"$f":"IF(ISNUMBER(L505),IF((OFFSET(Q505,-Q505,0)>50),SUM(OFFSET(G505,-Q505+1,0):G505),SUM(OFFSET(G505,-Q505,0):G505)),\"\")","v":""},null,null,{"$error":"#NAME?"},{"$error":"#NAME?"}]
["1997-04-23",null,null,null,0,{"$f":"IF(SUM($B$7:$B506)=0,\"\",IF(A506<>\"\",IF(A506<$B$3,\"N\",\"Y\"),\"\"))","v":""},0,10.9,0,null,1095,{"$f":"IF(AND(ISNUMBER(A506),NOT(ISNUMBER(A507))),IF((OFFSET(Q506,-Q506,0)>50),SUM(OFFSET(E506,-Q506+1,0):E506),SUM(OFFSET(E506,-Q506,0):E506)),IF(AND(ISNUMBER(P506),ISNUMBER(P507),P506  <P507),IF((OFFSET(Q506,-Q506,0)>50),SUM(OFFSET(E506,-Q506+1,0):E506),SUM(OFFSET(E506,-Q506,0):E506)),\"\"))","v":{"$error":"#NAME?"}},{"$f":"IF(ISNUMBER(L506),IF((OFFSET(Q506,-Q506,0)>50),SUM(OFFSET(G506,-Q506+1,0):G506),SUM(OFFSET(G506,-Q506,0):G506)),\"\")","v":""},null,null,{"$error":"#NAME?"},{"$error":"#NAME?"}]
["1997-04-30",null,null,null,0,{"$f":"IF(SUM($B$7:$B507)=0,\"\",IF(A507<>\"\",IF(A507<$B$3,\"N\",\"Y\"),\"\"))","v":""},0,10.9,0,null,1094,{"$f":"IF(AND(ISNUMBER(A507),NOT(ISNUMBER(A508))),IF((OFFSET(Q507,-Q507,0)>50),SUM(OFFSET(E507,-Q507+1,0):E507),SUM(OFFSET(E507,-Q507,0):E507)),IF(AND(ISNUMBER(P507),ISNUMBER(P508),P507  <P508),IF((OFFSET(Q507,-Q507,0)>50),SUM(OFFSET(E507,-Q507+1,0):E507),SUM(OFFSET(E507,-Q507,0):E507)),\"\"))","v":{"$error":"#NAME?"}},{"$f":"IF(ISNUMBER(L507),IF((OFFSET(Q507,-Q507,0)>50),SUM(OFFSET(G507,-Q507+1,0):G507),SUM(OFFSET(G507,-Q507,0):G507)),\"\")","v":""},null,null,{"$error":"#NAME?"},{"$error":"#NAME?"}]
["1997-05-07",null,null,null,0,{"$f":"IF(SUM($B$7:$B508)=0,\"\",IF(A508<>\"\",IF(A508<$B$3,\"N\",\"Y\"),\"\"))","v":""},0,10.9,0,null,1093,{"$f":"IF(AND(ISNUMBER(A508),NOT(ISNUMBER(A509))),IF((OFFSET(Q508,-Q508,0)>50),SUM(OFFSET(E508,-Q508+1,0):E508),SUM(OFFSET(E508,-Q508,0):E508)),IF(AND(ISNUMBER(P508),ISNUMBER(P509),P508  <P509),IF((OFFSET(Q508,-Q508,0)>50),SUM(OFFSET(E508,-Q508+1,0):E508),SUM(OFFSET(E508,-Q508,0):E508)),\"\"))","v":{"$error":"#NAME?"}},{"$f":"IF(ISNUMBER(L508),IF((OFFSET(Q508,-Q508,0)>50),SUM(OFFSET(G508,-Q508+1,0):G508),SUM(OFFSET(G508,-Q508,0):G508)),\"\")","v":""},null,null,{"$error":"#NAME?"},{"$error":"#NAME?"}]
["1997-05-14",null,null,null,0,{"$f":"IF(SUM($B$7:$B509)=0,\"\",IF(A509<>\"\",IF(A509<$B$3,\"N\",\"Y\"),\"\"))","v":""},0,10.9,0,null,1092,{"$f":"IF(AND(ISNUMBER(A509),NOT(ISNUMBER(A510))),IF((OFFSET(Q509,-Q509,0)>50),SUM(OFFSET(E509,-Q509+1,0):E509),SUM(OFFSET(E509,-Q509,0):E509)),IF(AND(ISNUMBER(P509),ISNUMBER(P510),P509  <P510),IF((OFFSET(Q509,-Q509,0)>50),SUM(OFFSET(E509,-Q509+1,0):E509),SUM(OFFSET(E509,-Q509,0):E509)),\"\"))","v":{"$error":"#NAME?"}},{"$f":"IF(ISNUMBER(L509),IF((OFFSET(Q509,-Q509,0)>50),SUM(OFFSET(G509,-Q509+1,0):G509),SUM(OFFSET(G509,-Q509,0):G509)),\"\")","v":""},null,null,{"$error":"#NAME?"},{"$error":"#NAME?"}]
["1997-05-21",null,null,null,0,{"$f":"IF(SUM($B$7:$B510)=0,\"\",IF(A510<>\"\",IF(A510<$B$3,\"N\",\"Y\"),\"\"))","v":""},0,10.9,0,null,1091,{"$f":"IF(AND(ISNUMBER(A510),NOT(ISNUMBER(A511))),IF((OFFSET(Q510,-Q510,0)>50),SUM(OFFSET(E510,-Q510+1,0):E510),SUM(OFFSET(E510,-Q510,0):E510)),IF(AND(ISNUMBER(P510),ISNUMBER(P511),P510  <P511),IF((OFFSET(Q510,-Q510,0)>50),SUM(OFFSET(E510,-Q510+1,0):E510),SUM(OFFSET(E510,-Q510,0):E510)),\"\"))","v":{"$error":"#NAME?"}},{"$f":"IF(ISNUMBER(L510),IF((OFFSET(Q510,-Q510,0)>50),SUM(OFFSET(G510,-Q510+1,0):G510),SUM(OFFSET(G510,-Q510,0):G510)),\"\")","v":""},null,null,{"$error":"#NAME?"},{"$error":"#NAME?"}]
["1997-05-28",null,null,null,0,{"$f":"IF(SUM($B$7:$B511)=0,\"\",IF(A511<>\"\",IF(A511<$B$3,\"N\",\"Y\"),\"\"))","v":""},0,10.9,0,null,1090,{"$f":"IF(AND(ISNUMBER(A511),NOT(ISNUMBER(A512))),IF((OFFSET(Q511,-Q511,0)>50),SUM(OFFSET(E511,-Q511+1,0):E511),SUM(OFFSET(E511,-Q511,0):E511)),IF(AND(ISNUMBER(P511),ISNUMBER(P512),P511  <P512),IF((OFFSET(Q511,-Q511,0)>50),SUM(OFFSET(E511,-Q511+1,0):E511),SUM(OFFSET(E511,-Q511,0):E511)),\"\"))","v":{"$error":"#NAME?"}},{"$f":"IF(ISNUMBER(L511),IF((OFFSET(Q511,-Q511,0)>50),SUM(OFFSET(G511,-Q511+1,0):G511),SUM(OFFSET(G511,-Q511,0):G511)),\"\")","v":""},null,null,{"$error":"#NAME?"},{"$error":"#NAME?"}]
["1997-06-04",null,null,null,0,{"$f":"IF(SUM($B$7:$B512)=0,\"\",IF(A512<>\"\",IF(A512<$B$3,\"N\",\"Y\"),\"\"))","v":""},0,10.9,0,null,1089,{"$f":"IF(AND(ISNUMBER(A512),NOT(ISNUMBER(A513))),IF((OFFSET(Q512,-Q512,0)>50),SUM(OFFSET(E512,-Q512+1,0):E512),SUM(OFFSET(E512,-Q512,0):E512)),IF(AND(ISNUMBER(P512),ISNUMBER(P513),P512  <P513),IF((OFFSET(Q512,-Q512,0)>50),SUM(OFFSET(E512,-Q512+1,0):E512),SUM(OFFSET(E512,-Q512,0):E512)),\"\"))","v":{"$error":"#NAME?"}},{"$f":"IF(ISNUMBER(L512),IF((OFFSET(Q512,-Q512,0)>50),SUM(OFFSET(G512,-Q512+1,0):G512),SUM(OFFSET(G512,-Q512,0):G512)),\"\")","v":""},null,null,{"$error":"#NAME?"},{"$error":"#NAME?"}]
["1997-06-11",null,null,null,0,{"$f":"IF(SUM($B$7:$B513)=0,\"\",IF(A513<>\"\",IF(A513<$B$3,\"N\",\"Y\"),\"\"))","v":""},0,10.9,0,null,1088,{"$f":"IF(AND(ISNUMBER(A513),NOT(ISNUMBER(A514))),IF((OFFSET(Q513,-Q513,0)>50),SUM(OFFSET(E513,-Q513+1,0):E513),SUM(OFFSET(E513,-Q513,0):E513)),IF(AND(ISNUMBER(P513),ISNUMBER(P514),P513  <P514),IF((OFFSET(Q513,-Q513,0)>50),SUM(OFFSET(E513,-Q513+1,0):E513),SUM(OFFSET(E513,-Q513,0):E513)),\"\"))","v":{"$error":"#NAME?"}},{"$f":"IF(ISNUMBER(L513),IF((OFFSET(Q513,-Q513,0)>50),SUM(OFFSET(G513,-Q513+1,0):G513),SUM(OFFSET(G513,-Q513,0):G513)),\"\")","v":""},null,null,{"$error":"#NAME?"},{"$error":"#NAME?"}]
["1997-06-18",null,null,null,0,{"$f":"IF(SUM($B$7:$B514)=0,\"\",IF(A514<>\"\",IF(A514<$B$3,\"N\",\"Y\"),\"\"))","v":""},0,10.9,0,null,1087,{"$f":"IF(AND(ISNUMBER(A514),NOT(ISNUMBER(A515))),IF((OFFSET(Q514,-Q514,0)>50),SUM(OFFSET(E514,-Q514+1,0):E514),SUM(OFFSET(E514,-Q514,0):E514)),IF(AND(ISNUMBER(P514),ISNUMBER(P515),P514  <P515),IF((OFFSET(Q514,-Q514,0)>50),SUM(OFFSET(E514,-Q514+1,0):E514),SUM(OFFSET(E514,-Q514,0):E514)),\"\"))","v":{"$error":"#NAME?"}},{"$f":"IF(ISNUMBER(L514),IF((OFFSET(Q514,-Q514,0)>50),SUM(OFFSET(G514,-Q514+1,0):G514),SUM(OFFSET(G514,-Q514,0):G514)),\"\")","v":""},null,null,{"$error":"#NAME?"},{"$error":"#NAME?"}]
["1997-06-25",null,null,null,0,{"$f":"IF(SUM($B$7:$B515)=0,\"\",IF(A515<>\"\",IF(A515<$B$3,\"N\",\"Y\"),\"\"))","v":""},0,10.9,0,null,1086,{"$f":"IF(AND(ISNUMBER(A515),NOT(ISNUMBER(A516))),IF((OFFSET(Q515,-Q515,0)>50),SUM(OFFSET(E515,-Q515+1,0):E515),SUM(OFFSET(E515,-Q515,0):E515)),IF(AND(ISNUMBER(P515),ISNUMBER(P516),P515  <P516),IF((OFFSET(Q515,-Q515,0)>50),SUM(OFFSET(E515,-Q515+1,0):E515),SUM(OFFSET(E515,-Q515,0):E515)),\"\"))","v":{"$error":"#NAME?"}},{"$f":"IF(ISNUMBER(L515),IF((OFFSET(Q515,-Q515,0)>50),SUM(OFFSET(G515,-Q515+1,0):G515),SUM(OFFSET(G515,-Q515,0):G515)),\"\")","v":""},null,null,{"$error":"#NAME?"},{"$error":"#NAME?"}]
["1997-07-02",null,null,null,0,{"$f":"IF(SUM($B$7:$B516)=0,\"\",IF(A516<>\"\",IF(A516<$B$3,\"N\",\"Y\"),\"\"))","v":""},0,8.9,0,null,1085,{"$f":"IF(AND(ISNUMBER(A516),NOT(ISNUMBER(A517))),IF((OFFSET(Q516,-Q516,0)>50),SUM(OFFSET(E516,-Q516+1,0):E516),SUM(OFFSET(E516,-Q516,0):E516)),IF(AND(ISNUMBER(P516),ISNUMBER(P517),P516  <P517),IF((OFFSET(Q516,-Q516,0)>50),SUM(OFFSET(E516,-Q516+1,0):E516),SUM(OFFSET(E516,-Q516,0):E516)),\"\"))","v":{"$error":"#NAME?"}},{"$f":"IF(ISNUMBER(L516),IF((OFFSET(Q516,-Q516,0)>50),SUM(OFFSET(G516,-Q516+1,0):G516),SUM(OFFSET(G516,-Q516,0):G516)),\"\")","v":""},null,null,{"$error":"#NAME?"},{"$error":"#NAME?"}]
["1997-07-09",null,null,null,0,{"$f":"IF(SUM($B$7:$B517)=0,\"\",IF(A517<>\"\",IF(A517<$B$3,\"N\",\"Y\"),\"\"))","v":""},0,8.9,0,null,1084,{"$f":"IF(AND(ISNUMBER(A517),NOT(ISNUMBER(A518))),IF((OFFSET(Q517,-Q517,0)>50),SUM(OFFSET(E517,-Q517+1,0):E517),SUM(OFFSET(E517,-Q517,0):E517)),IF(AND(ISNUMBER(P517),ISNUMBER(P518),P517  <P518),IF((OFFSET(Q517,-Q517,0)>50),SUM(OFFSET(E517,-Q517+1,0):E517),SUM(OFFSET(E517,-Q517,0):E517)),\"\"))","v":{"$error":"#NAME?"}},{"$f":"IF(ISNUMBER(L517),IF((OFFSET(Q517,-Q517,0)>50),SUM(OFFSET(G517,-Q517+1,0):G517),SUM(OFFSET(G517,-Q517,0):G517)),\"\")","v":""},null,null,{"$error":"#NAME?"},{"$error":"#NAME?"}]
["1997-07-16",null,null,null,0,{"$f":"IF(SUM($B$7:$B518)=0,\"\",IF(A518<>\"\",IF(A518<$B$3,\"N\",\"Y\"),\"\"))","v":""},0,8.9,0,null,1083,{"$f":"IF(AND(ISNUMBER(A518),NOT(ISNUMBER(A519))),IF((OFFSET(Q518,-Q518,0)>50),SUM(OFFSET(E518,-Q518+1,0):E518),SUM(OFFSET(E518,-Q518,0):E518)),IF(AND(ISNUMBER(P518),ISNUMBER(P519),P518  <P519),IF((OFFSET(Q518,-Q518,0)>50),SUM(OFFSET(E518,-Q518+1,0):E518),SUM(OFFSET(E518,-Q518,0):E518)),\"\"))","v":{"$error":"#NAME?"}},{"$f":"IF(ISNUMBER(L518),IF((OFFSET(Q518,-Q518,0)>50),SUM(OFFSET(G518,-Q518+1,0):G518),SUM(OFFSET(G518,-Q518,0):G518)),\"\")","v":""},null,null,{"$error":"#NAME?"},{"$error":"#NAME?"}]
["1997-07-23",null,null,null,0,{"$f":"IF(SUM($B$7:$B519)=0,\"\",IF(A519<>\"\",IF(A519<$B$3,\"N\",\"Y\"),\"\"))","v":""},0,8.9,0,null,{"$f":"IF(A519<>\"\",IF((TODAY()-A519)/7>=0,INT((TODAY()-A519)/7),0),\"\")","v":1082},{"$f":"IF(AND(ISNUMBER(A519),NOT(ISNUMBER(A520))),IF((OFFSET(Q519,-Q519,0)>50),SUM(OFFSET(E519,-Q519+1,0):E519),SUM(OFFSET(E519,-Q519,0):E519)),IF(AND(ISNUMBER(P519),ISNUMBER(P520),P519  <P520),IF((OFFSET(Q519,-Q519,0)>50),SUM(OFFSET(E519,-Q519+1,0):E519),SUM(OFFSET(E519,-Q519,0):E519)),\"\"))","v":{"$error":"#NAME?"}},{"$f":"IF(ISNUMBER(L519),IF((OFFSET(Q519,-Q519,0)>50),SUM(OFFSET(G519,-Q519+1,0):G519),SUM(OFFSET(G519,-Q519,0):G519)),\"\")","v":""},null,null,{"$f":"FinYear(A519)","v":{"$error":"#NAME?"}},{"$error":"#NAME?"}]
["1997-07-30",null,null,null,{"$f":"IF(A520<>\"\",IF(B520-C520>=0,B520-C520,0),\"\")","v":0},{"$f":"IF(SUM($B$7:$B520)=0,\"\",IF(A520<>\"\",IF(A520<$B$3,\"N\",\"Y\"),\"\"))","v":""},0,8.9,0,null,1081,{"$f":"IF(AND(ISNUMBER(A520),NOT(ISNUMBER(A521))),IF((OFFSET(Q520,-Q520,0)>50),SUM(OFFSET(E520,-Q520+1,0):E520),SUM(OFFSET(E520,-Q520,0):E520)),IF(AND(ISNUMBER(P520),ISNUMBER(P521),P520  <P521),IF((OFFSET(Q520,-Q520,0)>50),SUM(OFFSET(E520,-Q520+1,0):E520),SUM(OFFSET(E520,-Q520,0):E520)),\"\"))","v":{"$error":"#NAME?"}},{"$f":"IF(ISNUMBER(L520),IF((OFFSET(Q520,-Q520,0)>50),SUM(OFFSET(G520,-Q520+1,0):G520),SUM(OFFSET(G520,-Q520,0):G520)),\"\")","v":""},null,null,{"$error":"#NAME?"},{"$f":"ROUND((A520-StartOfFinYear(P520))/7,0)","v":{"$error":"#NAME?"}}]
["1997-08-06",null,null,null,0,{"$f":"IF(SUM($B$7:$B521)=0,\"\",IF(A521<>\"\",IF(A521<$B$3,\"N\",\"Y\"),\"\"))","v":""},{"$f":"IF(F521=\"N\",0,IF(A521<>\"\",IF(K521>=0,((E521+I520)*(1+(H521/52)/100)-E521-I520),0),\"\"))","v":0},8.9,{"$f":"IF(A521<>\"\",I520+E521+G521,\"\")","v":0},null,1080,{"$f":"IF(AND(ISNUMBER(A521),NOT(ISNUMBER(A522))),IF((OFFSET(Q521,-Q521,0)>50),SUM(OFFSET(E521,-Q521+1,0):E521),SUM(OFFSET(E521,-Q521,0):E521)),IF(AND(ISNUMBER(P521),ISNUMBER(P522),P521  <P522),IF((OFFSET(Q521,-Q521,0)>50),SUM(OFFSET(E521,-Q521+1,0):E521),SUM(OFFSET(E521,-Q521,0):E521)),\"\"))","v":{"$error":"#NAME?"}},{"$f":"IF(ISNUMBER(L521),IF((OFFSET(Q521,-Q521,0)>50),SUM(OFFSET(G521,-Q521+1,0):G521),SUM(OFFSET(G521,-Q521,0):G521)),\"\")","v":""},null,null,{"$error":"#NAME?"},{"$error":"#NAME?"}]
[{"$f":"IF(A521<>\"\",IF(A521+12<=TODAY(),+A521+7,\"\"),\"\")","v":"1997-08-13"},null,null,null,0,{"$f":"IF(SUM($B$7:$B522)=0,\"\",IF(A522<>\"\",IF(A522<$B$3,\"N\",\"Y\"),\"\"))","v":""},0,8.9,0,null,1079,{"$f":"IF(AND(ISNUMBER(A522),NOT(ISNUMBER(A523))),IF((OFFSET(Q522,-Q522,0)>50),SUM(OFFSET(E522,-Q522+1,0):E522),SUM(OFFSET(E522,-Q522,0):E522)),IF(AND(ISNUMBER(P522),ISNUMBER(P523),P522  <P523),IF((OFFSET(Q522,-Q522,0)>50),SUM(OFFSET(E522,-Q522+1,0):E522),SUM(OFFSET(E522,-Q522,0):E522)),\"\"))","v":{"$error":"#NAME?"}},{"$f":"IF(ISNUMBER(L522),IF((OFFSET(Q522,-Q522,0)>50),SUM(OFFSET(G522,-Q522+1,0):G522),SUM(OFFSET(G522,-Q522,0):G522)),\"\")","v":""},null,null,{"$error":"#NAME?"},{"$error":"#NAME?"}]
["1997-08-20",null,null,null,0,{"$f":"IF(SUM($B$7:$B523)=0,\"\",IF(A523<>\"\",IF(A523<$B$3,\"N\",\"Y\"),\"\"))","v":""},0,8.9,0,null,1078,{"$f":"IF(AND(ISNUMBER(A523),NOT(ISNUMBER(A524))),IF((OFFSET(Q523,-Q523,0)>50),SUM(OFFSET(E523,-Q523+1,0):E523),SUM(OFFSET(E523,-Q523,0):E523)),IF(AND(ISNUMBER(P523),ISNUMBER(P524),P523  <P524),IF((OFFSET(Q523,-Q523,0)>50),SUM(OFFSET(E523,-Q523+1,0):E523),SUM(OFFSET(E523,-Q523,0):E523)),\"\"))","v":{"$error":"#NAME?"}},{"$f":"IF(ISNUMBER(L523),IF((OFFSET(Q523,-Q523,0)>50),SUM(OFFSET(G523,-Q523+1,0):G523),SUM(OFFSET(G523,-Q523,0):G523)),\"\")","v":""},null,null,{"$error":"#NAME?"},{"$error":"#NAME?"}]
["1997-08-27",null,null,null,0,{"$f":"IF(SUM($B$7:$B524)=0,\"\",IF(A524<>\"\",IF(A524<$B$3,\"N\",\"Y\"),\"\"))","v":""},0,8.9,0,null,1077,{"$f":"IF(AND(ISNUMBER(A524),NOT(ISNUMBER(A525))),IF((OFFSET(Q524,-Q524,0)>50),SUM(OFFSET(E524,-Q524+1,0):E524),SUM(OFFSET(E524,-Q524,0):E524)),IF(AND(ISNUMBER(P524),ISNUMBER(P525),P524  <P525),IF((OFFSET(Q524,-Q524,0)>50),SUM(OFFSET(E524,-Q524+1,0):E524),SUM(OFFSET(E524,-Q524,0):E524)),\"\"))","v":{"$error":"#NAME?"}},{"$f":"IF(ISNUMBER(L524),IF((OFFSET(Q524,-Q524,0)>50),SUM(OFFSET(G524,-Q524+1,0):G524),SUM(OFFSET(G524,-Q524,0):G524)),\"\")","v":""},null,null,{"$error":"#NAME?"},{"$error":"#NAME?"}]
["1997-09-03",null,null,null,0,{"$f":"IF(SUM($B$7:$B525)=0,\"\",IF(A525<>\"\",IF(A525<$B$3,\"N\",\"Y\"),\"\"))","v":""},0,8.9,0,null,1076,{"$f":"IF(AND(ISNUMBER(A525),NOT(ISNUMBER(A526))),IF((OFFSET(Q525,-Q525,0)>50),SUM(OFFSET(E525,-Q525+1,0):E525),SUM(OFFSET(E525,-Q525,0):E525)),IF(AND(ISNUMBER(P525),ISNUMBER(P526),P525  <P526),IF((OFFSET(Q525,-Q525,0)>50),SUM(OFFSET(E525,-Q525+1,0):E525),SUM(OFFSET(E525,-Q525,0):E525)),\"\"))","v":{"$error":"#NAME?"}},{"$f":"IF(ISNUMBER(L525),IF((OFFSET(Q525,-Q525,0)>50),SUM(OFFSET(G525,-Q525+1,0):G525),SUM(OFFSET(G525,-Q525,0):G525)),\"\")","v":""},null,null,{"$error":"#NAME?"},{"$error":"#NAME?"}]
["1997-09-10",null,null,null,0,{"$f":"IF(SUM($B$7:$B526)=0,\"\",IF(A526<>\"\",IF(A526<$B$3,\"N\",\"Y\"),\"\"))","v":""},0,8.9,0,null,1075,{"$f":"IF(AND(ISNUMBER(A526),NOT(ISNUMBER(A527))),IF((OFFSET(Q526,-Q526,0)>50),SUM(OFFSET(E526,-Q526+1,0):E526),SUM(OFFSET(E526,-Q526,0):E526)),IF(AND(ISNUMBER(P526),ISNUMBER(P527),P526  <P527),IF((OFFSET(Q526,-Q526,0)>50),SUM(OFFSET(E526,-Q526+1,0):E526),SUM(OFFSET(E526,-Q526,0):E526)),\"\"))","v":{"$error":"#NAME?"}},{"$f":"IF(ISNUMBER(L526),IF((OFFSET(Q526,-Q526,0)>50),SUM(OFFSET(G526,-Q526+1,0):G526),SUM(OFFSET(G526,-Q526,0):G526)),\"\")","v":""},null,null,{"$error":"#NAME?"},{"$error":"#NAME?"}]
["1997-09-17",null,null,null,0,{"$f":"IF(SUM($B$7:$B527)=0,\"\",IF(A527<>\"\",IF(A527<$B$3,\"N\",\"Y\"),\"\"))","v":""},0,8.9,0,null,1074,{"$f":"IF(AND(ISNUMBER(A527),NOT(ISNUMBER(A528))),IF((OFFSET(Q527,-Q527,0)>50),SUM(OFFSET(E527,-Q527+1,0):E527),SUM(OFFSET(E527,-Q527,0):E527)),IF(AND(ISNUMBER(P527),ISNUMBER(P528),P527  <P528),IF((OFFSET(Q527,-Q527,0)>50),SUM(OFFSET(E527,-Q527+1,0):E527),SUM(OFFSET(E527,-Q527,0):E527)),\"\"))","v":{"$error":"#NAME?"}},{"$f":"IF(ISNUMBER(L527),IF((OFFSET(Q527,-Q527,0)>50),SUM(OFFSET(G527,-Q527+1,0):G527),SUM(OFFSET(G527,-Q527,0):G527)),\"\")","v":""},null,null,{"$error":"#NAME?"},{"$error":"#NAME?"}]
["1997-09-24",null,null,null,0,{"$f":"IF(SUM($B$7:$B528)=0,\"\",IF(A528<>\"\",IF(A528<$B$3,\"N\",\"Y\"),\"\"))","v":""},0,8.9,0,null,1073,{"$f":"IF(AND(ISNUMBER(A528),NOT(ISNUMBER(A529))),IF((OFFSET(Q528,-Q528,0)>50),SUM(OFFSET(E528,-Q528+1,0):E528),SUM(OFFSET(E528,-Q528,0):E528)),IF(AND(ISNUMBER(P528),ISNUMBER(P529),P528  <P529),IF((OFFSET(Q528,-Q528,0)>50),SUM(OFFSET(E528,-Q528+1,0):E528),SUM(OFFSET(E528,-Q528,0):E528)),\"\"))","v":{"$error":"#NAME?"}},{"$f":"IF(ISNUMBER(L528),IF((OFFSET(Q528,-Q528,0)>50),SUM(OFFSET(G528,-Q528+1,0):G528),SUM(OFFSET(G528,-Q528,0):G528)),\"\")","v":""},null,null,{"$error":"#NAME?"},{"$error":"#NAME?"}]
["1997-10-01",null,null,null,0,{"$f":"IF(SUM($B$7:$B529)=0,\"\",IF(A529<>\"\",IF(A529<$B$3,\"N\",\"Y\"),\"\"))","v":""},0,8.9,0,null,1072,{"$f":"IF(AND(ISNUMBER(A529),NOT(ISNUMBER(A530))),IF((OFFSET(Q529,-Q529,0)>50),SUM(OFFSET(E529,-Q529+1,0):E529),SUM(OFFSET(E529,-Q529,0):E529)),IF(AND(ISNUMBER(P529),ISNUMBER(P530),P529  <P530),IF((OFFSET(Q529,-Q529,0)>50),SUM(OFFSET(E529,-Q529+1,0):E529),SUM(OFFSET(E529,-Q529,0):E529)),\"\"))","v":{"$error":"#NAME?"}},{"$f":"IF(ISNUMBER(L529),IF((OFFSET(Q529,-Q529,0)>50),SUM(OFFSET(G529,-Q529+1,0):G529),SUM(OFFSET(G529,-Q529,0):G529)),\"\")","v":""},null,null,{"$error":"#NAME?"},{"$error":"#NAME?"}]
["1997-10-08",null,null,null,0,{"$f":"IF(SUM($B$7:$B530)=0,\"\",IF(A530<>\"\",IF(A530<$B$3,\"N\",\"Y\"),\"\"))","v":""},0,8.9,0,null,1071,{"$f":"IF(AND(ISNUMBER(A530),NOT(ISNUMBER(A531))),IF((OFFSET(Q530,-Q530,0)>50),SUM(OFFSET(E530,-Q530+1,0):E530),SUM(OFFSET(E530,-Q530,0):E530)),IF(AND(ISNUMBER(P530),ISNUMBER(P531),P530  <P531),IF((OFFSET(Q530,-Q530,0)>50),SUM(OFFSET(E530,-Q530+1,0):E530),SUM(OFFSET(E530,-Q530,0):E530)),\"\"))","v":{"$error":"#NAME?"}},{"$f":"IF(ISNUMBER(L530),IF((OFFSET(Q530,-Q530,0)>50),SUM(OFFSET(G530,-Q530+1,0):G530),SUM(OFFSET(G530,-Q530,0):G530)),\"\")","v":""},null,null,{"$error":"#NAME?"},{"$error":"#NAME?"}]
["1997-10-15",null,null,null,0,{"$f":"IF(SUM($B$7:$B531)=0,\"\",IF(A531<>\"\",IF(A531<$B$3,\"N\",\"Y\"),\"\"))","v":""},0,8.9,0,null,1070,{"$f":"IF(AND(ISNUMBER(A531),NOT(ISNUMBER(A532))),IF((OFFSET(Q531,-Q531,0)>50),SUM(OFFSET(E531,-Q531+1,0):E531),SUM(OFFSET(E531,-Q531,0):E531)),IF(AND(ISNUMBER(P531),ISNUMBER(P532),P531  <P532),IF((OFFSET(Q531,-Q531,0)>50),SUM(OFFSET(E531,-Q531+1,0):E531),SUM(OFFSET(E531,-Q531,0):E531)),\"\"))","v":{"$error":"#NAME?"}},{"$f":"IF(ISNUMBER(L531),IF((OFFSET(Q531,-Q531,0)>50),SUM(OFFSET(G531,-Q531+1,0):G531),SUM(OFFSET(G531,-Q531,0):G531)),\"\")","v":""},null,null,{"$error":"#NAME?"},{"$error":"#NAME?"}]
["1997-10-22",null,null,null,0,{"$f":"IF(SUM($B$7:$B532)=0,\"\",IF(A532<>\"\",IF(A532<$B$3,\"N\",\"Y\"),\"\"))","v":""},0,8.9,0,null,1069,{"$f":"IF(AND(ISNUMBER(A532),NOT(ISNUMBER(A533))),IF((OFFSET(Q532,-Q532,0)>50),SUM(OFFSET(E532,-Q532+1,0):E532),SUM(OFFSET(E532,-Q532,0):E532)),IF(AND(ISNUMBER(P532),ISNUMBER(P533),P532  <P533),IF((OFFSET(Q532,-Q532,0)>50),SUM(OFFSET(E532,-Q532+1,0):E532),SUM(OFFSET(E532,-Q532,0):E532)),\"\"))","v":{"$error":"#NAME?"}},{"$f":"IF(ISNUMBER(L532),IF((OFFSET(Q532,-Q532,0)>50),SUM(OFFSET(G532,-Q532+1,0):G532),SUM(OFFSET(G532,-Q532,0):G532)),\"\")","v":""},null,null,{"$error":"#NAME?"},{"$error":"#NAME?"}]
["1997-10-29",null,null,null,0,{"$f":"IF(SUM($B$7:$B533)=0,\"\",IF(A533<>\"\",IF(A533<$B$3,\"N\",\"Y\"),\"\"))","v":""},0,8.9,0,null,1068,{"$f":"IF(AND(ISNUMBER(A533),NOT(ISNUMBER(A534))),IF((OFFSET(Q533,-Q533,0)>50),SUM(OFFSET(E533,-Q533+1,0):E533),SUM(OFFSET(E533,-Q533,0):E533)),IF(AND(ISNUMBER(P533),ISNUMBER(P534),P533  <P534),IF((OFFSET(Q533,-Q533,0)>50),SUM(OFFSET(E533,-Q533+1,0):E533),SUM(OFFSET(E533,-Q533,0):E533)),\"\"))","v":{"$error":"#NAME?"}},{"$f":"IF(ISNUMBER(L533),IF((OFFSET(Q533,-Q533,0)>50),SUM(OFFSET(G533,-Q533+1,0):G533),SUM(OFFSET(G533,-Q533,0):G533)),\"\")","v":""},null,null,{"$error":"#NAME?"},{"$error":"#NAME?"}]
["1997-11-05",null,null,null,0,{"$f":"IF(SUM($B$7:$B534)=0,\"\",IF(A534<>\"\",IF(A534<$B$3,\"N\",\"Y\"),\"\"))","v":""},0,8.9,0,null,1067,{"$f":"IF(AND(ISNUMBER(A534),NOT(ISNUMBER(A535))),IF((OFFSET(Q534,-Q534,0)>50),SUM(OFFSET(E534,-Q534+1,0):E534),SUM(OFFSET(E534,-Q534,0):E534)),IF(AND(ISNUMBER(P534),ISNUMBER(P535),P534  <P535),IF((OFFSET(Q534,-Q534,0)>50),SUM(OFFSET(E534,-Q534+1,0):E534),SUM(OFFSET(E534,-Q534,0):E534)),\"\"))","v":{"$error":"#NAME?"}},{"$f":"IF(ISNUMBER(L534),IF((OFFSET(Q534,-Q534,0)>50),SUM(OFFSET(G534,-Q534+1,0):G534),SUM(OFFSET(G534,-Q534,0):G534)),\"\")","v":""},null,null,{"$error":"#NAME?"},{"$error":"#NAME?"}]
["1997-11-12",null,null,null,0,{"$f":"IF(SUM($B$7:$B535)=0,\"\",IF(A535<>\"\",IF(A535<$B$3,\"N\",\"Y\"),\"\"))","v":""},0,8.9,0,null,1066,{"$f":"IF(AND(ISNUMBER(A535),NOT(ISNUMBER(A536))),IF((OFFSET(Q535,-Q535,0)>50),SUM(OFFSET(E535,-Q535+1,0):E535),SUM(OFFSET(E535,-Q535,0):E535)),IF(AND(ISNUMBER(P535),ISNUMBER(P536),P535  <P536),IF((OFFSET(Q535,-Q535,0)>50),SUM(OFFSET(E535,-Q535+1,0):E535),SUM(OFFSET(E535,-Q535,0):E535)),\"\"))","v":{"$error":"#NAME?"}},{"$f":"IF(ISNUMBER(L535),IF((OFFSET(Q535,-Q535,0)>50),SUM(OFFSET(G535,-Q535+1,0):G535),SUM(OFFSET(G535,-Q535,0):G535)),\"\")","v":""},null,null,{"$error":"#NAME?"},{"$error":"#NAME?"}]
["1997-11-19",null,null,null,0,{"$f":"IF(SUM($B$7:$B536)=0,\"\",IF(A536<>\"\",IF(A536<$B$3,\"N\",\"Y\"),\"\"))","v":""},0,8.9,0,null,1065,{"$f":"IF(AND(ISNUMBER(A536),NOT(ISNUMBER(A537))),IF((OFFSET(Q536,-Q536,0)>50),SUM(OFFSET(E536,-Q536+1,0):E536),SUM(OFFSET(E536,-Q536,0):E536)),IF(AND(ISNUMBER(P536),ISNUMBER(P537),P536  <P537),IF((OFFSET(Q536,-Q536,0)>50),SUM(OFFSET(E536,-Q536+1,0):E536),SUM(OFFSET(E536,-Q536,0):E536)),\"\"))","v":{"$error":"#NAME?"}},{"$f":"IF(ISNUMBER(L536),IF((OFFSET(Q536,-Q536,0)>50),SUM(OFFSET(G536,-Q536+1,0):G536),SUM(OFFSET(G536,-Q536,0):G536)),\"\")","v":""},null,null,{"$error":"#NAME?"},{"$error":"#NAME?"}]
["1997-11-26",null,null,null,0,{"$f":"IF(SUM($B$7:$B537)=0,\"\",IF(A537<>\"\",IF(A537<$B$3,\"N\",\"Y\"),\"\"))","v":""},0,8.9,0,null,1064,{"$f":"IF(AND(ISNUMBER(A537),NOT(ISNUMBER(A538))),IF((OFFSET(Q537,-Q537,0)>50),SUM(OFFSET(E537,-Q537+1,0):E537),SUM(OFFSET(E537,-Q537,0):E537)),IF(AND(ISNUMBER(P537),ISNUMBER(P538),P537  <P538),IF((OFFSET(Q537,-Q537,0)>50),SUM(OFFSET(E537,-Q537+1,0):E537),SUM(OFFSET(E537,-Q537,0):E537)),\"\"))","v":{"$error":"#NAME?"}},{"$f":"IF(ISNUMBER(L537),IF((OFFSET(Q537,-Q537,0)>50),SUM(OFFSET(G537,-Q537+1,0):G537),SUM(OFFSET(G537,-Q537,0):G537)),\"\")","v":""},null,null,{"$error":"#NAME?"},{"$error":"#NAME?"}]
["1997-12-03",null,null,null,0,{"$f":"IF(SUM($B$7:$B538)=0,\"\",IF(A538<>\"\",IF(A538<$B$3,\"N\",\"Y\"),\"\"))","v":""},0,8.9,0,null,1063,{"$f":"IF(AND(ISNUMBER(A538),NOT(ISNUMBER(A539))),IF((OFFSET(Q538,-Q538,0)>50),SUM(OFFSET(E538,-Q538+1,0):E538),SUM(OFFSET(E538,-Q538,0):E538)),IF(AND(ISNUMBER(P538),ISNUMBER(P539),P538  <P539),IF((OFFSET(Q538,-Q538,0)>50),SUM(OFFSET(E538,-Q538+1,0):E538),SUM(OFFSET(E538,-Q538,0):E538)),\"\"))","v":{"$error":"#NAME?"}},{"$f":"IF(ISNUMBER(L538),IF((OFFSET(Q538,-Q538,0)>50),SUM(OFFSET(G538,-Q538+1,0):G538),SUM(OFFSET(G538,-Q538,0):G538)),\"\")","v":""},null,null,{"$error":"#NAME?"},{"$error":"#NAME?"}]
["1997-12-10",null,null,null,0,{"$f":"IF(SUM($B$7:$B539)=0,\"\",IF(A539<>\"\",IF(A539<$B$3,\"N\",\"Y\"),\"\"))","v":""},0,8.9,0,null,1062,{"$f":"IF(AND(ISNUMBER(A539),NOT(ISNUMBER(A540))),IF((OFFSET(Q539,-Q539,0)>50),SUM(OFFSET(E539,-Q539+1,0):E539),SUM(OFFSET(E539,-Q539,0):E539)),IF(AND(ISNUMBER(P539),ISNUMBER(P540),P539  <P540),IF((OFFSET(Q539,-Q539,0)>50),SUM(OFFSET(E539,-Q539+1,0):E539),SUM(OFFSET(E539,-Q539,0):E539)),\"\"))","v":{"$error":"#NAME?"}},{"$f":"IF(ISNUMBER(L539),IF((OFFSET(Q539,-Q539,0)>50),SUM(OFFSET(G539,-Q539+1,0):G539),SUM(OFFSET(G539,-Q539,0):G539)),\"\")","v":""},null,null,{"$error":"#NAME?"},{"$error":"#NAME?"}]
["1997-12-17",null,null,null,0,{"$f":"IF(SUM($B$7:$B540)=0,\"\",IF(A540<>\"\",IF(A540<$B$3,\"N\",\"Y\"),\"\"))","v":""},0,8.9,0,null,1061,{"$f":"IF(AND(ISNUMBER(A540),NOT(ISNUMBER(A541))),IF((OFFSET(Q540,-Q540,0)>50),SUM(OFFSET(E540,-Q540+1,0):E540),SUM(OFFSET(E540,-Q540,0):E540)),IF(AND(ISNUMBER(P540),ISNUMBER(P541),P540  <P541),IF((OFFSET(Q540,-Q540,0)>50),SUM(OFFSET(E540,-Q540+1,0):E540),SUM(OFFSET(E540,-Q540,0):E540)),\"\"))","v":{"$error":"#NAME?"}},{"$f":"IF(ISNUMBER(L540),IF((OFFSET(Q540,-Q540,0)>50),SUM(OFFSET(G540,-Q540+1,0):G540),SUM(OFFSET(G540,-Q540,0):G540)),\"\")","v":""},null,null,{"$error":"#NAME?"},{"$error":"#NAME?"}]
["1997-12-24",null,null,null,0,{"$f":"IF(SUM($B$7:$B541)=0,\"\",IF(A541<>\"\",IF(A541<$B$3,\"N\",\"Y\"),\"\"))","v":""},0,8.9,0,null,1060,{"$f":"IF(AND(ISNUMBER(A541),NOT(ISNUMBER(A542))),IF((OFFSET(Q541,-Q541,0)>50),SUM(OFFSET(E541,-Q541+1,0):E541),SUM(OFFSET(E541,-Q541,0):E541)),IF(AND(ISNUMBER(P541),ISNUMBER(P542),P541  <P542),IF((OFFSET(Q541,-Q541,0)>50),SUM(OFFSET(E541,-Q541+1,0):E541),SUM(OFFSET(E541,-Q541,0):E541)),\"\"))","v":{"$error":"#NAME?"}},{"$f":"IF(ISNUMBER(L541),IF((OFFSET(Q541,-Q541,0)>50),SUM(OFFSET(G541,-Q541+1,0):G541),SUM(OFFSET(G541,-Q541,0):G541)),\"\")","v":""},null,null,{"$error":"#NAME?"},{"$error":"#NAME?"}]
["1997-12-31",null,null,null,0,{"$f":"IF(SUM($B$7:$B542)=0,\"\",IF(A542<>\"\",IF(A542<$B$3,\"N\",\"Y\"),\"\"))","v":""},0,8.9,0,null,1059,{"$f":"IF(AND(ISNUMBER(A542),NOT(ISNUMBER(A543))),IF((OFFSET(Q542,-Q542,0)>50),SUM(OFFSET(E542,-Q542+1,0):E542),SUM(OFFSET(E542,-Q542,0):E542)),IF(AND(ISNUMBER(P542),ISNUMBER(P543),P542  <P543),IF((OFFSET(Q542,-Q542,0)>50),SUM(OFFSET(E542,-Q542+1,0):E542),SUM(OFFSET(E542,-Q542,0):E542)),\"\"))","v":{"$error":"#NAME?"}},{"$f":"IF(ISNUMBER(L542),IF((OFFSET(Q542,-Q542,0)>50),SUM(OFFSET(G542,-Q542+1,0):G542),SUM(OFFSET(G542,-Q542,0):G542)),\"\")","v":""},null,null,{"$error":"#NAME?"},{"$error":"#NAME?"}]
["1998-01-07",null,null,null,0,{"$f":"IF(SUM($B$7:$B543)=0,\"\",IF(A543<>\"\",IF(A543<$B$3,\"N\",\"Y\"),\"\"))","v":""},0,8.9,0,null,1058,{"$f":"IF(AND(ISNUMBER(A543),NOT(ISNUMBER(A544))),IF((OFFSET(Q543,-Q543,0)>50),SUM(OFFSET(E543,-Q543+1,0):E543),SUM(OFFSET(E543,-Q543,0):E543)),IF(AND(ISNUMBER(P543),ISNUMBER(P544),P543  <P544),IF((OFFSET(Q543,-Q543,0)>50),SUM(OFFSET(E543,-Q543+1,0):E543),SUM(OFFSET(E543,-Q543,0):E543)),\"\"))","v":{"$error":"#NAME?"}},{"$f":"IF(ISNUMBER(L543),IF((OFFSET(Q543,-Q543,0)>50),SUM(OFFSET(G543,-Q543+1,0):G543),SUM(OFFSET(G543,-Q543,0):G543)),\"\")","v":""},null,null,{"$error":"#NAME?"},{"$error":"#NAME?"}]
["1998-01-14",null,null,null,0,{"$f":"IF(SUM($B$7:$B544)=0,\"\",IF(A544<>\"\",IF(A544<$B$3,\"N\",\"Y\"),\"\"))","v":""},0,8.9,0,null,1057,{"$f":"IF(AND(ISNUMBER(A544),NOT(ISNUMBER(A545))),IF((OFFSET(Q544,-Q544,0)>50),SUM(OFFSET(E544,-Q544+1,0):E544),SUM(OFFSET(E544,-Q544,0):E544)),IF(AND(ISNUMBER(P544),ISNUMBER(P545),P544  <P545),IF((OFFSET(Q544,-Q544,0)>50),SUM(OFFSET(E544,-Q544+1,0):E544),SUM(OFFSET(E544,-Q544,0):E544)),\"\"))","v":{"$error":"#NAME?"}},{"$f":"IF(ISNUMBER(L544),IF((OFFSET(Q544,-Q544,0)>50),SUM(OFFSET(G544,-Q544+1,0):G544),SUM(OFFSET(G544,-Q544,0):G544)),\"\")","v":""},null,null,{"$error":"#NAME?"},{"$error":"#NAME?"}]
["1998-01-21",null,null,null,0,{"$f":"IF(SUM($B$7:$B545)=0,\"\",IF(A545<>\"\",IF(A545<$B$3,\"N\",\"Y\"),\"\"))","v":""},0,8.9,0,null,1056,{"$f":"IF(AND(ISNUMBER(A545),NOT(ISNUMBER(A546))),IF((OFFSET(Q545,-Q545,0)>50),SUM(OFFSET(E545,-Q545+1,0):E545),SUM(OFFSET(E545,-Q545,0):E545)),IF(AND(ISNUMBER(P545),ISNUMBER(P546),P545  <P546),IF((OFFSET(Q545,-Q545,0)>50),SUM(OFFSET(E545,-Q545+1,0):E545),SUM(OFFSET(E545,-Q545,0):E545)),\"\"))","v":{"$error":"#NAME?"}},{"$f":"IF(ISNUMBER(L545),IF((OFFSET(Q545,-Q545,0)>50),SUM(OFFSET(G545,-Q545+1,0):G545),SUM(OFFSET(G545,-Q545,0):G545)),\"\")","v":""},null,null,{"$error":"#NAME?"},{"$error":"#NAME?"}]
["1998-01-28",null,null,null,0,{"$f":"IF(SUM($B$7:$B546)=0,\"\",IF(A546<>\"\",IF(A546<$B$3,\"N\",\"Y\"),\"\"))","v":""},0,8.9,0,null,1055,{"$f":"IF(AND(ISNUMBER(A546),NOT(ISNUMBER(A547))),IF((OFFSET(Q546,-Q546,0)>50),SUM(OFFSET(E546,-Q546+1,0):E546),SUM(OFFSET(E546,-Q546,0):E546)),IF(AND(ISNUMBER(P546),ISNUMBER(P547),P546  <P547),IF((OFFSET(Q546,-Q546,0)>50),SUM(OFFSET(E546,-Q546+1,0):E546),SUM(OFFSET(E546,-Q546,0):E546)),\"\"))","v":{"$error":"#NAME?"}},{"$f":"IF(ISNUMBER(L546),IF((OFFSET(Q546,-Q546,0)>50),SUM(OFFSET(G546,-Q546+1,0):G546),SUM(OFFSET(G546,-Q546,0):G546)),\"\")","v":""},null,null,{"$error":"#NAME?"},{"$error":"#NAME?"}]
["1998-02-04",null,null,null,0,{"$f":"IF(SUM($B$7:$B547)=0,\"\",IF(A547<>\"\",IF(A547<$B$3,\"N\",\"Y\"),\"\"))","v":""},0,8.9,0,null,1054,{"$f":"IF(AND(ISNUMBER(A547),NOT(ISNUMBER(A548))),IF((OFFSET(Q547,-Q547,0)>50),SUM(OFFSET(E547,-Q547+1,0):E547),SUM(OFFSET(E547,-Q547,0):E547)),IF(AND(ISNUMBER(P547),ISNUMBER(P548),P547  <P548),IF((OFFSET(Q547,-Q547,0)>50),SUM(OFFSET(E547,-Q547+1,0):E547),SUM(OFFSET(E547,-Q547,0):E547)),\"\"))","v":{"$error":"#NAME?"}},{"$f":"IF(ISNUMBER(L547),IF((OFFSET(Q547,-Q547,0)>50),SUM(OFFSET(G547,-Q547+1,0):G547),SUM(OFFSET(G547,-Q547,0):G547)),\"\")","v":""},null,null,{"$error":"#NAME?"},{"$error":"#NAME?"}]
["1998-02-11",null,null,null,0,{"$f":"IF(SUM($B$7:$B548)=0,\"\",IF(A548<>\"\",IF(A548<$B$3,\"N\",\"Y\"),\"\"))","v":""},0,8.9,0,null,1053,{"$f":"IF(AND(ISNUMBER(A548),NOT(ISNUMBER(A549))),IF((OFFSET(Q548,-Q548,0)>50),SUM(OFFSET(E548,-Q548+1,0):E548),SUM(OFFSET(E548,-Q548,0):E548)),IF(AND(ISNUMBER(P548),ISNUMBER(P549),P548  <P549),IF((OFFSET(Q548,-Q548,0)>50),SUM(OFFSET(E548,-Q548+1,0):E548),SUM(OFFSET(E548,-Q548,0):E548)),\"\"))","v":{"$error":"#NAME?"}},{"$f":"IF(ISNUMBER(L548),IF((OFFSET(Q548,-Q548,0)>50),SUM(OFFSET(G548,-Q548+1,0):G548),SUM(OFFSET(G548,-Q548,0):G548)),\"\")","v":""},null,null,{"$error":"#NAME?"},{"$error":"#NAME?"}]
["1998-02-18",null,null,null,0,{"$f":"IF(SUM($B$7:$B549)=0,\"\",IF(A549<>\"\",IF(A549<$B$3,\"N\",\"Y\"),\"\"))","v":""},0,8.9,0,null,1052,{"$f":"IF(AND(ISNUMBER(A549),NOT(ISNUMBER(A550))),IF((OFFSET(Q549,-Q549,0)>50),SUM(OFFSET(E549,-Q549+1,0):E549),SUM(OFFSET(E549,-Q549,0):E549)),IF(AND(ISNUMBER(P549),ISNUMBER(P550),P549  <P550),IF((OFFSET(Q549,-Q549,0)>50),SUM(OFFSET(E549,-Q549+1,0):E549),SUM(OFFSET(E549,-Q549,0):E549)),\"\"))","v":{"$error":"#NAME?"}},{"$f":"IF(ISNUMBER(L549),IF((OFFSET(Q549,-Q549,0)>50),SUM(OFFSET(G549,-Q549+1,0):G549),SUM(OFFSET(G549,-Q549,0):G549)),\"\")","v":""},null,null,{"$error":"#NAME?"},{"$error":"#NAME?"}]
["1998-02-25",null,null,null,0,{"$f":"IF(SUM($B$7:$B550)=0,\"\",IF(A550<>\"\",IF(A550<$B$3,\"N\",\"Y\"),\"\"))","v":""},0,8.9,0,null,1051,{"$f":"IF(AND(ISNUMBER(A550),NOT(ISNUMBER(A551))),IF((OFFSET(Q550,-Q550,0)>50),SUM(OFFSET(E550,-Q550+1,0):E550),SUM(OFFSET(E550,-Q550,0):E550)),IF(AND(ISNUMBER(P550),ISNUMBER(P551),P550  <P551),IF((OFFSET(Q550,-Q550,0)>50),SUM(OFFSET(E550,-Q550+1,0):E550),SUM(OFFSET(E550,-Q550,0):E550)),\"\"))","v":{"$error":"#NAME?"}},{"$f":"IF(ISNUMBER(L550),IF((OFFSET(Q550,-Q550,0)>50),SUM(OFFSET(G550,-Q550+1,0):G550),SUM(OFFSET(G550,-Q550,0):G550)),\"\")","v":""},null,null,{"$error":"#NAME?"},{"$error":"#NAME?"}]
["1998-03-04",null,null,null,0,{"$f":"IF(SUM($B$7:$B551)=0,\"\",IF(A551<>\"\",IF(A551<$B$3,\"N\",\"Y\"),\"\"))","v":""},0,8.9,0,null,1050,{"$f":"IF(AND(ISNUMBER(A551),NOT(ISNUMBER(A552))),IF((OFFSET(Q551,-Q551,0)>50),SUM(OFFSET(E551,-Q551+1,0):E551),SUM(OFFSET(E551,-Q551,0):E551)),IF(AND(ISNUMBER(P551),ISNUMBER(P552),P551  <P552),IF((OFFSET(Q551,-Q551,0)>50),SUM(OFFSET(E551,-Q551+1,0):E551),SUM(OFFSET(E551,-Q551,0):E551)),\"\"))","v":{"$error":"#NAME?"}},{"$f":"IF(ISNUMBER(L551),IF((OFFSET(Q551,-Q551,0)>50),SUM(OFFSET(G551,-Q551+1,0):G551),SUM(OFFSET(G551,-Q551,0):G551)),\"\")","v":""},null,null,{"$error":"#NAME?"},{"$error":"#NAME?"}]
["1998-03-11",null,null,null,0,{"$f":"IF(SUM($B$7:$B552)=0,\"\",IF(A552<>\"\",IF(A552<$B$3,\"N\",\"Y\"),\"\"))","v":""},0,8.9,0,null,1049,{"$f":"IF(AND(ISNUMBER(A552),NOT(ISNUMBER(A553))),IF((OFFSET(Q552,-Q552,0)>50),SUM(OFFSET(E552,-Q552+1,0):E552),SUM(OFFSET(E552,-Q552,0):E552)),IF(AND(ISNUMBER(P552),ISNUMBER(P553),P552  <P553),IF((OFFSET(Q552,-Q552,0)>50),SUM(OFFSET(E552,-Q552+1,0):E552),SUM(OFFSET(E552,-Q552,0):E552)),\"\"))","v":{"$error":"#NAME?"}},{"$f":"IF(ISNUMBER(L552),IF((OFFSET(Q552,-Q552,0)>50),SUM(OFFSET(G552,-Q552+1,0):G552),SUM(OFFSET(G552,-Q552,0):G552)),\"\")","v":""},null,null,{"$error":"#NAME?"},{"$error":"#NAME?"}]
["1998-03-18",null,null,null,0,{"$f":"IF(SUM($B$7:$B553)=0,\"\",IF(A553<>\"\",IF(A553<$B$3,\"N\",\"Y\"),\"\"))","v":""},0,8.9,0,null,1048,{"$f":"IF(AND(ISNUMBER(A553),NOT(ISNUMBER(A554))),IF((OFFSET(Q553,-Q553,0)>50),SUM(OFFSET(E553,-Q553+1,0):E553),SUM(OFFSET(E553,-Q553,0):E553)),IF(AND(ISNUMBER(P553),ISNUMBER(P554),P553  <P554),IF((OFFSET(Q553,-Q553,0)>50),SUM(OFFSET(E553,-Q553+1,0):E553),SUM(OFFSET(E553,-Q553,0):E553)),\"\"))","v":{"$error":"#NAME?"}},{"$f":"IF(ISNUMBER(L553),IF((OFFSET(Q553,-Q553,0)>50),SUM(OFFSET(G553,-Q553+1,0):G553),SUM(OFFSET(G553,-Q553,0):G553)),\"\")","v":""},null,null,{"$error":"#NAME?"},{"$error":"#NAME?"}]
["1998-03-25",null,null,null,0,{"$f":"IF(SUM($B$7:$B554)=0,\"\",IF(A554<>\"\",IF(A554<$B$3,\"N\",\"Y\"),\"\"))","v":""},0,8.9,0,null,1047,{"$f":"IF(AND(ISNUMBER(A554),NOT(ISNUMBER(A555))),IF((OFFSET(Q554,-Q554,0)>50),SUM(OFFSET(E554,-Q554+1,0):E554),SUM(OFFSET(E554,-Q554,0):E554)),IF(AND(ISNUMBER(P554),ISNUMBER(P555),P554  <P555),IF((OFFSET(Q554,-Q554,0)>50),SUM(OFFSET(E554,-Q554+1,0):E554),SUM(OFFSET(E554,-Q554,0):E554)),\"\"))","v":{"$error":"#NAME?"}},{"$f":"IF(ISNUMBER(L554),IF((OFFSET(Q554,-Q554,0)>50),SUM(OFFSET(G554,-Q554+1,0):G554),SUM(OFFSET(G554,-Q554,0):G554)),\"\")","v":""},null,null,{"$error":"#NAME?"},{"$error":"#NAME?"}]
["1998-04-01",null,null,null,0,{"$f":"IF(SUM($B$7:$B555)=0,\"\",IF(A555<>\"\",IF(A555<$B$3,\"N\",\"Y\"),\"\"))","v":""},0,8.9,0,null,1046,{"$f":"IF(AND(ISNUMBER(A555),NOT(ISNUMBER(A556))),IF((OFFSET(Q555,-Q555,0)>50),SUM(OFFSET(E555,-Q555+1,0):E555),SUM(OFFSET(E555,-Q555,0):E555)),IF(AND(ISNUMBER(P555),ISNUMBER(P556),P555  <P556),IF((OFFSET(Q555,-Q555,0)>50),SUM(OFFSET(E555,-Q555+1,0):E555),SUM(OFFSET(E555,-Q555,0):E555)),\"\"))","v":{"$error":"#NAME?"}},{"$f":"IF(ISNUMBER(L555),IF((OFFSET(Q555,-Q555,0)>50),SUM(OFFSET(G555,-Q555+1,0):G555),SUM(OFFSET(G555,-Q555,0):G555)),\"\")","v":""},null,null,{"$error":"#NAME?"},{"$error":"#NAME?"}]
["1998-04-08",null,null,null,0,{"$f":"IF(SUM($B$7:$B556)=0,\"\",IF(A556<>\"\",IF(A556<$B$3,\"N\",\"Y\"),\"\"))","v":""},0,8.9,0,null,1045,{"$f":"IF(AND(ISNUMBER(A556),NOT(ISNUMBER(A557))),IF((OFFSET(Q556,-Q556,0)>50),SUM(OFFSET(E556,-Q556+1,0):E556),SUM(OFFSET(E556,-Q556,0):E556)),IF(AND(ISNUMBER(P556),ISNUMBER(P557),P556  <P557),IF((OFFSET(Q556,-Q556,0)>50),SUM(OFFSET(E556,-Q556+1,0):E556),SUM(OFFSET(E556,-Q556,0):E556)),\"\"))","v":{"$error":"#NAME?"}},{"$f":"IF(ISNUMBER(L556),IF((OFFSET(Q556,-Q556,0)>50),SUM(OFFSET(G556,-Q556+1,0):G556),SUM(OFFSET(G556,-Q556,0):G556)),\"\")","v":""},null,null,{"$error":"#NAME?"},{"$error":"#NAME?"}]
["1998-04-15",null,null,null,0,{"$f":"IF(SUM($B$7:$B557)=0,\"\",IF(A557<>\"\",IF(A557<$B$3,\"N\",\"Y\"),\"\"))","v":""},0,8.9,0,null,1044,{"$f":"IF(AND(ISNUMBER(A557),NOT(ISNUMBER(A558))),IF((OFFSET(Q557,-Q557,0)>50),SUM(OFFSET(E557,-Q557+1,0):E557),SUM(OFFSET(E557,-Q557,0):E557)),IF(AND(ISNUMBER(P557),ISNUMBER(P558),P557  <P558),IF((OFFSET(Q557,-Q557,0)>50),SUM(OFFSET(E557,-Q557+1,0):E557),SUM(OFFSET(E557,-Q557,0):E557)),\"\"))","v":{"$error":"#NAME?"}},{"$f":"IF(ISNUMBER(L557),IF((OFFSET(Q557,-Q557,0)>50),SUM(OFFSET(G557,-Q557+1,0):G557),SUM(OFFSET(G557,-Q557,0):G557)),\"\")","v":""},null,null,{"$error":"#NAME?"},{"$error":"#NAME?"}]
["1998-04-22",null,null,null,0,{"$f":"IF(SUM($B$7:$B558)=0,\"\",IF(A558<>\"\",IF(A558<$B$3,\"N\",\"Y\"),\"\"))","v":""},0,8.9,0,null,1043,{"$f":"IF(AND(ISNUMBER(A558),NOT(ISNUMBER(A559))),IF((OFFSET(Q558,-Q558,0)>50),SUM(OFFSET(E558,-Q558+1,0):E558),SUM(OFFSET(E558,-Q558,0):E558)),IF(AND(ISNUMBER(P558),ISNUMBER(P559),P558  <P559),IF((OFFSET(Q558,-Q558,0)>50),SUM(OFFSET(E558,-Q558+1,0):E558),SUM(OFFSET(E558,-Q558,0):E558)),\"\"))","v":{"$error":"#NAME?"}},{"$f":"IF(ISNUMBER(L558),IF((OFFSET(Q558,-Q558,0)>50),SUM(OFFSET(G558,-Q558+1,0):G558),SUM(OFFSET(G558,-Q558,0):G558)),\"\")","v":""},null,null,{"$error":"#NAME?"},{"$error":"#NAME?"}]
["1998-04-29",null,null,null,0,{"$f":"IF(SUM($B$7:$B559)=0,\"\",IF(A559<>\"\",IF(A559<$B$3,\"N\",\"Y\"),\"\"))","v":""},0,8.9,0,null,1042,{"$f":"IF(AND(ISNUMBER(A559),NOT(ISNUMBER(A560))),IF((OFFSET(Q559,-Q559,0)>50),SUM(OFFSET(E559,-Q559+1,0):E559),SUM(OFFSET(E559,-Q559,0):E559)),IF(AND(ISNUMBER(P559),ISNUMBER(P560),P559  <P560),IF((OFFSET(Q559,-Q559,0)>50),SUM(OFFSET(E559,-Q559+1,0):E559),SUM(OFFSET(E559,-Q559,0):E559)),\"\"))","v":{"$error":"#NAME?"}},{"$f":"IF(ISNUMBER(L559),IF((OFFSET(Q559,-Q559,0)>50),SUM(OFFSET(G559,-Q559+1,0):G559),SUM(OFFSET(G559,-Q559,0):G559)),\"\")","v":""},null,null,{"$error":"#NAME?"},{"$error":"#NAME?"}]
["1998-05-06",null,null,null,0,{"$f":"IF(SUM($B$7:$B560)=0,\"\",IF(A560<>\"\",IF(A560<$B$3,\"N\",\"Y\"),\"\"))","v":""},0,8.9,0,null,1041,{"$f":"IF(AND(ISNUMBER(A560),NOT(ISNUMBER(A561))),IF((OFFSET(Q560,-Q560,0)>50),SUM(OFFSET(E560,-Q560+1,0):E560),SUM(OFFSET(E560,-Q560,0):E560)),IF(AND(ISNUMBER(P560),ISNUMBER(P561),P560  <P561),IF((OFFSET(Q560,-Q560,0)>50),SUM(OFFSET(E560,-Q560+1,0):E560),SUM(OFFSET(E560,-Q560,0):E560)),\"\"))","v":{"$error":"#NAME?"}},{"$f":"IF(ISNUMBER(L560),IF((OFFSET(Q560,-Q560,0)>50),SUM(OFFSET(G560,-Q560+1,0):G560),SUM(OFFSET(G560,-Q560,0):G560)),\"\")","v":""},null,null,{"$error":"#NAME?"},{"$error":"#NAME?"}]
["1998-05-13",null,null,null,0,{"$f":"IF(SUM($B$7:$B561)=0,\"\",IF(A561<>\"\",IF(A561<$B$3,\"N\",\"Y\"),\"\"))","v":""},0,8.9,0,null,1040,{"$f":"IF(AND(ISNUMBER(A561),NOT(ISNUMBER(A562))),IF((OFFSET(Q561,-Q561,0)>50),SUM(OFFSET(E561,-Q561+1,0):E561),SUM(OFFSET(E561,-Q561,0):E561)),IF(AND(ISNUMBER(P561),ISNUMBER(P562),P561  <P562),IF((OFFSET(Q561,-Q561,0)>50),SUM(OFFSET(E561,-Q561+1,0):E561),SUM(OFFSET(E561,-Q561,0):E561)),\"\"))","v":{"$error":"#NAME?"}},{"$f":"IF(ISNUMBER(L561),IF((OFFSET(Q561,-Q561,0)>50),SUM(OFFSET(G561,-Q561+1,0):G561),SUM(OFFSET(G561,-Q561,0):G561)),\"\")","v":""},null,null,{"$error":"#NAME?"},{"$error":"#NAME?"}]
["1998-05-20",null,null,null,0,{"$f":"IF(SUM($B$7:$B562)=0,\"\",IF(A562<>\"\",IF(A562<$B$3,\"N\",\"Y\"),\"\"))","v":""},0,8.9,0,null,1039,{"$f":"IF(AND(ISNUMBER(A562),NOT(ISNUMBER(A563))),IF((OFFSET(Q562,-Q562,0)>50),SUM(OFFSET(E562,-Q562+1,0):E562),SUM(OFFSET(E562,-Q562,0):E562)),IF(AND(ISNUMBER(P562),ISNUMBER(P563),P562  <P563),IF((OFFSET(Q562,-Q562,0)>50),SUM(OFFSET(E562,-Q562+1,0):E562),SUM(OFFSET(E562,-Q562,0):E562)),\"\"))","v":{"$error":"#NAME?"}},{"$f":"IF(ISNUMBER(L562),IF((OFFSET(Q562,-Q562,0)>50),SUM(OFFSET(G562,-Q562+1,0):G562),SUM(OFFSET(G562,-Q562,0):G562)),\"\")","v":""},null,null,{"$error":"#NAME?"},{"$error":"#NAME?"}]
["1998-05-27",null,null,null,0,{"$f":"IF(SUM($B$7:$B563)=0,\"\",IF(A563<>\"\",IF(A563<$B$3,\"N\",\"Y\"),\"\"))","v":""},0,8.9,0,null,1038,{"$f":"IF(AND(ISNUMBER(A563),NOT(ISNUMBER(A564))),IF((OFFSET(Q563,-Q563,0)>50),SUM(OFFSET(E563,-Q563+1,0):E563),SUM(OFFSET(E563,-Q563,0):E563)),IF(AND(ISNUMBER(P563),ISNUMBER(P564),P563  <P564),IF((OFFSET(Q563,-Q563,0)>50),SUM(OFFSET(E563,-Q563+1,0):E563),SUM(OFFSET(E563,-Q563,0):E563)),\"\"))","v":{"$error":"#NAME?"}},{"$f":"IF(ISNUMBER(L563),IF((OFFSET(Q563,-Q563,0)>50),SUM(OFFSET(G563,-Q563+1,0):G563),SUM(OFFSET(G563,-Q563,0):G563)),\"\")","v":""},null,null,{"$error":"#NAME?"},{"$error":"#NAME?"}]
["1998-06-03",null,null,null,0,{"$f":"IF(SUM($B$7:$B564)=0,\"\",IF(A564<>\"\",IF(A564<$B$3,\"N\",\"Y\"),\"\"))","v":""},0,8.9,0,null,1037,{"$f":"IF(AND(ISNUMBER(A564),NOT(ISNUMBER(A565))),IF((OFFSET(Q564,-Q564,0)>50),SUM(OFFSET(E564,-Q564+1,0):E564),SUM(OFFSET(E564,-Q564,0):E564)),IF(AND(ISNUMBER(P564),ISNUMBER(P565),P564  <P565),IF((OFFSET(Q564,-Q564,0)>50),SUM(OFFSET(E564,-Q564+1,0):E564),SUM(OFFSET(E564,-Q564,0):E564)),\"\"))","v":{"$error":"#NAME?"}},{"$f":"IF(ISNUMBER(L564),IF((OFFSET(Q564,-Q564,0)>50),SUM(OFFSET(G564,-Q564+1,0):G564),SUM(OFFSET(G564,-Q564,0):G564)),\"\")","v":""},null,null,{"$error":"#NAME?"},{"$error":"#NAME?"}]
["1998-06-10",null,null,null,0,{"$f":"IF(SUM($B$7:$B565)=0,\"\",IF(A565<>\"\",IF(A565<$B$3,\"N\",\"Y\"),\"\"))","v":""},0,8.9,0,null,1036,{"$f":"IF(AND(ISNUMBER(A565),NOT(ISNUMBER(A566))),IF((OFFSET(Q565,-Q565,0)>50),SUM(OFFSET(E565,-Q565+1,0):E565),SUM(OFFSET(E565,-Q565,0):E565)),IF(AND(ISNUMBER(P565),ISNUMBER(P566),P565  <P566),IF((OFFSET(Q565,-Q565,0)>50),SUM(OFFSET(E565,-Q565+1,0):E565),SUM(OFFSET(E565,-Q565,0):E565)),\"\"))","v":{"$error":"#NAME?"}},{"$f":"IF(ISNUMBER(L565),IF((OFFSET(Q565,-Q565,0)>50),SUM(OFFSET(G565,-Q565+1,0):G565),SUM(OFFSET(G565,-Q565,0):G565)),\"\")","v":""},null,null,{"$error":"#NAME?"},{"$error":"#NAME?"}]
["1998-06-17",null,null,null,0,{"$f":"IF(SUM($B$7:$B566)=0,\"\",IF(A566<>\"\",IF(A566<$B$3,\"N\",\"Y\"),\"\"))","v":""},0,8.9,0,null,1035,{"$f":"IF(AND(ISNUMBER(A566),NOT(ISNUMBER(A567))),IF((OFFSET(Q566,-Q566,0)>50),SUM(OFFSET(E566,-Q566+1,0):E566),SUM(OFFSET(E566,-Q566,0):E566)),IF(AND(ISNUMBER(P566),ISNUMBER(P567),P566  <P567),IF((OFFSET(Q566,-Q566,0)>50),SUM(OFFSET(E566,-Q566+1,0):E566),SUM(OFFSET(E566,-Q566,0):E566)),\"\"))","v":{"$error":"#NAME?"}},{"$f":"IF(ISNUMBER(L566),IF((OFFSET(Q566,-Q566,0)>50),SUM(OFFSET(G566,-Q566+1,0):G566),SUM(OFFSET(G566,-Q566,0):G566)),\"\")","v":""},null,null,{"$error":"#NAME?"},{"$error":"#NAME?"}]
["1998-06-24",null,null,null,0,{"$f":"IF(SUM($B$7:$B567)=0,\"\",IF(A567<>\"\",IF(A567<$B$3,\"N\",\"Y\"),\"\"))","v":""},0,8.9,0,null,1034,{"$f":"IF(AND(ISNUMBER(A567),NOT(ISNUMBER(A568))),IF((OFFSET(Q567,-Q567,0)>50),SUM(OFFSET(E567,-Q567+1,0):E567),SUM(OFFSET(E567,-Q567,0):E567)),IF(AND(ISNUMBER(P567),ISNUMBER(P568),P567  <P568),IF((OFFSET(Q567,-Q567,0)>50),SUM(OFFSET(E567,-Q567+1,0):E567),SUM(OFFSET(E567,-Q567,0):E567)),\"\"))","v":{"$error":"#NAME?"}},{"$f":"IF(ISNUMBER(L567),IF((OFFSET(Q567,-Q567,0)>50),SUM(OFFSET(G567,-Q567+1,0):G567),SUM(OFFSET(G567,-Q567,0):G567)),\"\")","v":""},null,null,{"$error":"#NAME?"},{"$error":"#NAME?"}]
["1998-07-01",null,null,null,0,{"$f":"IF(SUM($B$7:$B568)=0,\"\",IF(A568<>\"\",IF(A568<$B$3,\"N\",\"Y\"),\"\"))","v":""},0,8.4,0,null,1033,{"$f":"IF(AND(ISNUMBER(A568),NOT(ISNUMBER(A569))),IF((OFFSET(Q568,-Q568,0)>50),SUM(OFFSET(E568,-Q568+1,0):E568),SUM(OFFSET(E568,-Q568,0):E568)),IF(AND(ISNUMBER(P568),ISNUMBER(P569),P568  <P569),IF((OFFSET(Q568,-Q568,0)>50),SUM(OFFSET(E568,-Q568+1,0):E568),SUM(OFFSET(E568,-Q568,0):E568)),\"\"))","v":{"$error":"#NAME?"}},{"$f":"IF(ISNUMBER(L568),IF((OFFSET(Q568,-Q568,0)>50),SUM(OFFSET(G568,-Q568+1,0):G568),SUM(OFFSET(G568,-Q568,0):G568)),\"\")","v":""},null,null,{"$error":"#NAME?"},{"$error":"#NAME?"}]
["1998-07-08",null,null,null,0,{"$f":"IF(SUM($B$7:$B569)=0,\"\",IF(A569<>\"\",IF(A569<$B$3,\"N\",\"Y\"),\"\"))","v":""},0,8.4,0,null,1032,{"$f":"IF(AND(ISNUMBER(A569),NOT(ISNUMBER(A570))),IF((OFFSET(Q569,-Q569,0)>50),SUM(OFFSET(E569,-Q569+1,0):E569),SUM(OFFSET(E569,-Q569,0):E569)),IF(AND(ISNUMBER(P569),ISNUMBER(P570),P569  <P570),IF((OFFSET(Q569,-Q569,0)>50),SUM(OFFSET(E569,-Q569+1,0):E569),SUM(OFFSET(E569,-Q569,0):E569)),\"\"))","v":{"$error":"#NAME?"}},{"$f":"IF(ISNUMBER(L569),IF((OFFSET(Q569,-Q569,0)>50),SUM(OFFSET(G569,-Q569+1,0):G569),SUM(OFFSET(G569,-Q569,0):G569)),\"\")","v":""},null,null,{"$error":"#NAME?"},{"$error":"#NAME?"}]
["1998-07-15",null,null,null,0,{"$f":"IF(SUM($B$7:$B570)=0,\"\",IF(A570<>\"\",IF(A570<$B$3,\"N\",\"Y\"),\"\"))","v":""},0,8.4,0,null,1031,{"$f":"IF(AND(ISNUMBER(A570),NOT(ISNUMBER(A571))),IF((OFFSET(Q570,-Q570,0)>50),SUM(OFFSET(E570,-Q570+1,0):E570),SUM(OFFSET(E570,-Q570,0):E570)),IF(AND(ISNUMBER(P570),ISNUMBER(P571),P570  <P571),IF((OFFSET(Q570,-Q570,0)>50),SUM(OFFSET(E570,-Q570+1,0):E570),SUM(OFFSET(E570,-Q570,0):E570)),\"\"))","v":{"$error":"#NAME?"}},{"$f":"IF(ISNUMBER(L570),IF((OFFSET(Q570,-Q570,0)>50),SUM(OFFSET(G570,-Q570+1,0):G570),SUM(OFFSET(G570,-Q570,0):G570)),\"\")","v":""},null,null,{"$error":"#NAME?"},{"$error":"#NAME?"}]
["1998-07-22",null,null,null,0,{"$f":"IF(SUM($B$7:$B571)=0,\"\",IF(A571<>\"\",IF(A571<$B$3,\"N\",\"Y\"),\"\"))","v":""},0,8.4,0,null,1030,{"$f":"IF(AND(ISNUMBER(A571),NOT(ISNUMBER(A572))),IF((OFFSET(Q571,-Q571,0)>50),SUM(OFFSET(E571,-Q571+1,0):E571),SUM(OFFSET(E571,-Q571,0):E571)),IF(AND(ISNUMBER(P571),ISNUMBER(P572),P571  <P572),IF((OFFSET(Q571,-Q571,0)>50),SUM(OFFSET(E571,-Q571+1,0):E571),SUM(OFFSET(E571,-Q571,0):E571)),\"\"))","v":{"$error":"#NAME?"}},{"$f":"IF(ISNUMBER(L571),IF((OFFSET(Q571,-Q571,0)>50),SUM(OFFSET(G571,-Q571+1,0):G571),SUM(OFFSET(G571,-Q571,0):G571)),\"\")","v":""},null,null,{"$error":"#NAME?"},{"$error":"#NAME?"}]
["1998-07-29",null,null,null,0,{"$f":"IF(SUM($B$7:$B572)=0,\"\",IF(A572<>\"\",IF(A572<$B$3,\"N\",\"Y\"),\"\"))","v":""},0,8.4,0,null,1029,{"$f":"IF(AND(ISNUMBER(A572),NOT(ISNUMBER(A573))),IF((OFFSET(Q572,-Q572,0)>50),SUM(OFFSET(E572,-Q572+1,0):E572),SUM(OFFSET(E572,-Q572,0):E572)),IF(AND(ISNUMBER(P572),ISNUMBER(P573),P572  <P573),IF((OFFSET(Q572,-Q572,0)>50),SUM(OFFSET(E572,-Q572+1,0):E572),SUM(OFFSET(E572,-Q572,0):E572)),\"\"))","v":{"$error":"#NAME?"}},{"$f":"IF(ISNUMBER(L572),IF((OFFSET(Q572,-Q572,0)>50),SUM(OFFSET(G572,-Q572+1,0):G572),SUM(OFFSET(G572,-Q572,0):G572)),\"\")","v":""},null,null,{"$error":"#NAME?"},{"$error":"#NAME?"}]
["1998-08-05",null,null,null,0,{"$f":"IF(SUM($B$7:$B573)=0,\"\",IF(A573<>\"\",IF(A573<$B$3,\"N\",\"Y\"),\"\"))","v":""},0,8.4,0,null,1028,{"$f":"IF(AND(ISNUMBER(A573),NOT(ISNUMBER(A574))),IF((OFFSET(Q573,-Q573,0)>50),SUM(OFFSET(E573,-Q573+1,0):E573),SUM(OFFSET(E573,-Q573,0):E573)),IF(AND(ISNUMBER(P573),ISNUMBER(P574),P573  <P574),IF((OFFSET(Q573,-Q573,0)>50),SUM(OFFSET(E573,-Q573+1,0):E573),SUM(OFFSET(E573,-Q573,0):E573)),\"\"))","v":{"$error":"#NAME?"}},{"$f":"IF(ISNUMBER(L573),IF((OFFSET(Q573,-Q573,0)>50),SUM(OFFSET(G573,-Q573+1,0):G573),SUM(OFFSET(G573,-Q573,0):G573)),\"\")","v":""},null,null,{"$error":"#NAME?"},{"$error":"#NAME?"}]
["1998-08-12",null,null,null,0,{"$f":"IF(SUM($B$7:$B574)=0,\"\",IF(A574<>\"\",IF(A574<$B$3,\"N\",\"Y\"),\"\"))","v":""},0,8.4,0,null,1027,{"$f":"IF(AND(ISNUMBER(A574),NOT(ISNUMBER(A575))),IF((OFFSET(Q574,-Q574,0)>50),SUM(OFFSET(E574,-Q574+1,0):E574),SUM(OFFSET(E574,-Q574,0):E574)),IF(AND(ISNUMBER(P574),ISNUMBER(P575),P574  <P575),IF((OFFSET(Q574,-Q574,0)>50),SUM(OFFSET(E574,-Q574+1,0):E574),SUM(OFFSET(E574,-Q574,0):E574)),\"\"))","v":{"$error":"#NAME?"}},{"$f":"IF(ISNUMBER(L574),IF((OFFSET(Q574,-Q574,0)>50),SUM(OFFSET(G574,-Q574+1,0):G574),SUM(OFFSET(G574,-Q574,0):G574)),\"\")","v":""},null,null,{"$error":"#NAME?"},{"$error":"#NAME?"}]
["1998-08-19",null,null,null,0,{"$f":"IF(SUM($B$7:$B575)=0,\"\",IF(A575<>\"\",IF(A575<$B$3,\"N\",\"Y\"),\"\"))","v":""},0,8.4,0,null,1026,{"$f":"IF(AND(ISNUMBER(A575),NOT(ISNUMBER(A576))),IF((OFFSET(Q575,-Q575,0)>50),SUM(OFFSET(E575,-Q575+1,0):E575),SUM(OFFSET(E575,-Q575,0):E575)),IF(AND(ISNUMBER(P575),ISNUMBER(P576),P575  <P576),IF((OFFSET(Q575,-Q575,0)>50),SUM(OFFSET(E575,-Q575+1,0):E575),SUM(OFFSET(E575,-Q575,0):E575)),\"\"))","v":{"$error":"#NAME?"}},{"$f":"IF(ISNUMBER(L575),IF((OFFSET(Q575,-Q575,0)>50),SUM(OFFSET(G575,-Q575+1,0):G575),SUM(OFFSET(G575,-Q575,0):G575)),\"\")","v":""},null,null,{"$error":"#NAME?"},{"$error":"#NAME?"}]
["1998-08-26",null,null,null,0,{"$f":"IF(SUM($B$7:$B576)=0,\"\",IF(A576<>\"\",IF(A576<$B$3,\"N\",\"Y\"),\"\"))","v":""},0,8.4,0,null,1025,{"$f":"IF(AND(ISNUMBER(A576),NOT(ISNUMBER(A577))),IF((OFFSET(Q576,-Q576,0)>50),SUM(OFFSET(E576,-Q576+1,0):E576),SUM(OFFSET(E576,-Q576,0):E576)),IF(AND(ISNUMBER(P576),ISNUMBER(P577),P576  <P577),IF((OFFSET(Q576,-Q576,0)>50),SUM(OFFSET(E576,-Q576+1,0):E576),SUM(OFFSET(E576,-Q576,0):E576)),\"\"))","v":{"$error":"#NAME?"}},{"$f":"IF(ISNUMBER(L576),IF((OFFSET(Q576,-Q576,0)>50),SUM(OFFSET(G576,-Q576+1,0):G576),SUM(OFFSET(G576,-Q576,0):G576)),\"\")","v":""},null,null,{"$error":"#NAME?"},{"$error":"#NAME?"}]
["1998-09-02",null,null,null,0,{"$f":"IF(SUM($B$7:$B577)=0,\"\",IF(A577<>\"\",IF(A577<$B$3,\"N\",\"Y\"),\"\"))","v":""},0,8.4,0,null,1024,{"$f":"IF(AND(ISNUMBER(A577),NOT(ISNUMBER(A578))),IF((OFFSET(Q577,-Q577,0)>50),SUM(OFFSET(E577,-Q577+1,0):E577),SUM(OFFSET(E577,-Q577,0):E577)),IF(AND(ISNUMBER(P577),ISNUMBER(P578),P577  <P578),IF((OFFSET(Q577,-Q577,0)>50),SUM(OFFSET(E577,-Q577+1,0):E577),SUM(OFFSET(E577,-Q577,0):E577)),\"\"))","v":{"$error":"#NAME?"}},{"$f":"IF(ISNUMBER(L577),IF((OFFSET(Q577,-Q577,0)>50),SUM(OFFSET(G577,-Q577+1,0):G577),SUM(OFFSET(G577,-Q577,0):G577)),\"\")","v":""},null,null,{"$error":"#NAME?"},{"$error":"#NAME?"}]
["1998-09-09",null,null,null,0,{"$f":"IF(SUM($B$7:$B578)=0,\"\",IF(A578<>\"\",IF(A578<$B$3,\"N\",\"Y\"),\"\"))","v":""},0,8.4,0,null,1023,{"$f":"IF(AND(ISNUMBER(A578),NOT(ISNUMBER(A579))),IF((OFFSET(Q578,-Q578,0)>50),SUM(OFFSET(E578,-Q578+1,0):E578),SUM(OFFSET(E578,-Q578,0):E578)),IF(AND(ISNUMBER(P578),ISNUMBER(P579),P578  <P579),IF((OFFSET(Q578,-Q578,0)>50),SUM(OFFSET(E578,-Q578+1,0):E578),SUM(OFFSET(E578,-Q578,0):E578)),\"\"))","v":{"$error":"#NAME?"}},{"$f":"IF(ISNUMBER(L578),IF((OFFSET(Q578,-Q578,0)>50),SUM(OFFSET(G578,-Q578+1,0):G578),SUM(OFFSET(G578,-Q578,0):G578)),\"\")","v":""},null,null,{"$error":"#NAME?"},{"$error":"#NAME?"}]
["1998-09-16",null,null,null,0,{"$f":"IF(SUM($B$7:$B579)=0,\"\",IF(A579<>\"\",IF(A579<$B$3,\"N\",\"Y\"),\"\"))","v":""},0,8.4,0,null,1022,{"$f":"IF(AND(ISNUMBER(A579),NOT(ISNUMBER(A580))),IF((OFFSET(Q579,-Q579,0)>50),SUM(OFFSET(E579,-Q579+1,0):E579),SUM(OFFSET(E579,-Q579,0):E579)),IF(AND(ISNUMBER(P579),ISNUMBER(P580),P579  <P580),IF((OFFSET(Q579,-Q579,0)>50),SUM(OFFSET(E579,-Q579+1,0):E579),SUM(OFFSET(E579,-Q579,0):E579)),\"\"))","v":{"$error":"#NAME?"}},{"$f":"IF(ISNUMBER(L579),IF((OFFSET(Q579,-Q579,0)>50),SUM(OFFSET(G579,-Q579+1,0):G579),SUM(OFFSET(G579,-Q579,0):G579)),\"\")","v":""},null,null,{"$error":"#NAME?"},{"$error":"#NAME?"}]
["1998-09-23",null,null,null,0,{"$f":"IF(SUM($B$7:$B580)=0,\"\",IF(A580<>\"\",IF(A580<$B$3,\"N\",\"Y\"),\"\"))","v":""},0,8.4,0,null,1021,{"$f":"IF(AND(ISNUMBER(A580),NOT(ISNUMBER(A581))),IF((OFFSET(Q580,-Q580,0)>50),SUM(OFFSET(E580,-Q580+1,0):E580),SUM(OFFSET(E580,-Q580,0):E580)),IF(AND(ISNUMBER(P580),ISNUMBER(P581),P580  <P581),IF((OFFSET(Q580,-Q580,0)>50),SUM(OFFSET(E580,-Q580+1,0):E580),SUM(OFFSET(E580,-Q580,0):E580)),\"\"))","v":{"$error":"#NAME?"}},{"$f":"IF(ISNUMBER(L580),IF((OFFSET(Q580,-Q580,0)>50),SUM(OFFSET(G580,-Q580+1,0):G580),SUM(OFFSET(G580,-Q580,0):G580)),\"\")","v":""},null,null,{"$error":"#NAME?"},{"$error":"#NAME?"}]
["1998-09-30",null,null,null,0,{"$f":"IF(SUM($B$7:$B581)=0,\"\",IF(A581<>\"\",IF(A581<$B$3,\"N\",\"Y\"),\"\"))","v":""},0,8.4,0,null,1020,{"$f":"IF(AND(ISNUMBER(A581),NOT(ISNUMBER(A582))),IF((OFFSET(Q581,-Q581,0)>50),SUM(OFFSET(E581,-Q581+1,0):E581),SUM(OFFSET(E581,-Q581,0):E581)),IF(AND(ISNUMBER(P581),ISNUMBER(P582),P581  <P582),IF((OFFSET(Q581,-Q581,0)>50),SUM(OFFSET(E581,-Q581+1,0):E581),SUM(OFFSET(E581,-Q581,0):E581)),\"\"))","v":{"$error":"#NAME?"}},{"$f":"IF(ISNUMBER(L581),IF((OFFSET(Q581,-Q581,0)>50),SUM(OFFSET(G581,-Q581+1,0):G581),SUM(OFFSET(G581,-Q581,0):G581)),\"\")","v":""},null,null,{"$error":"#NAME?"},{"$error":"#NAME?"}]
["1998-10-07",null,null,null,0,{"$f":"IF(SUM($B$7:$B582)=0,\"\",IF(A582<>\"\",IF(A582<$B$3,\"N\",\"Y\"),\"\"))","v":""},0,8.4,0,null,1019,{"$f":"IF(AND(ISNUMBER(A582),NOT(ISNUMBER(A583))),IF((OFFSET(Q582,-Q582,0)>50),SUM(OFFSET(E582,-Q582+1,0):E582),SUM(OFFSET(E582,-Q582,0):E582)),IF(AND(ISNUMBER(P582),ISNUMBER(P583),P582  <P583),IF((OFFSET(Q582,-Q582,0)>50),SUM(OFFSET(E582,-Q582+1,0):E582),SUM(OFFSET(E582,-Q582,0):E582)),\"\"))","v":{"$error":"#NAME?"}},{"$f":"IF(ISNUMBER(L582),IF((OFFSET(Q582,-Q582,0)>50),SUM(OFFSET(G582,-Q582+1,0):G582),SUM(OFFSET(G582,-Q582,0):G582)),\"\")","v":""},null,null,{"$error":"#NAME?"},{"$error":"#NAME?"}]
["1998-10-14",null,null,null,0,{"$f":"IF(SUM($B$7:$B583)=0,\"\",IF(A583<>\"\",IF(A583<$B$3,\"N\",\"Y\"),\"\"))","v":""},0,8.4,0,null,{"$f":"IF(A583<>\"\",IF((TODAY()-A583)/7>=0,INT((TODAY()-A583)/7),0),\"\")","v":1018},{"$f":"IF(AND(ISNUMBER(A583),NOT(ISNUMBER(A584))),IF((OFFSET(Q583,-Q583,0)>50),SUM(OFFSET(E583,-Q583+1,0):E583),SUM(OFFSET(E583,-Q583,0):E583)),IF(AND(ISNUMBER(P583),ISNUMBER(P584),P583  <P584),IF((OFFSET(Q583,-Q583,0)>50),SUM(OFFSET(E583,-Q583+1,0):E583),SUM(OFFSET(E583,-Q583,0):E583)),\"\"))","v":{"$error":"#NAME?"}},{"$f":"IF(ISNUMBER(L583),IF((OFFSET(Q583,-Q583,0)>50),SUM(OFFSET(G583,-Q583+1,0):G583),SUM(OFFSET(G583,-Q583,0):G583)),\"\")","v":""},null,null,{"$f":"FinYear(A583)","v":{"$error":"#NAME?"}},{"$error":"#NAME?"}]
["1998-10-21",null,null,null,{"$f":"IF(A584<>\"\",IF(B584-C584>=0,B584-C584,0),\"\")","v":0},{"$f":"IF(SUM($B$7:$B584)=0,\"\",IF(A584<>\"\",IF(A584<$B$3,\"N\",\"Y\"),\"\"))","v":""},0,8.4,0,null,1017,{"$f":"IF(AND(ISNUMBER(A584),NOT(ISNUMBER(A585))),IF((OFFSET(Q584,-Q584,0)>50),SUM(OFFSET(E584,-Q584+1,0):E584),SUM(OFFSET(E584,-Q584,0):E584)),IF(AND(ISNUMBER(P584),ISNUMBER(P585),P584  <P585),IF((OFFSET(Q584,-Q584,0)>50),SUM(OFFSET(E584,-Q584+1,0):E584),SUM(OFFSET(E584,-Q584,0):E584)),\"\"))","v":{"$error":"#NAME?"}},{"$f":"IF(ISNUMBER(L584),IF((OFFSET(Q584,-Q584,0)>50),SUM(OFFSET(G584,-Q584+1,0):G584),SUM(OFFSET(G584,-Q584,0):G584)),\"\")","v":""},null,null,{"$error":"#NAME?"},{"$f":"ROUND((A584-StartOfFinYear(P584))/7,0)","v":{"$error":"#NAME?"}}]
["1998-10-28",null,null,null,0,{"$f":"IF(SUM($B$7:$B585)=0,\"\",IF(A585<>\"\",IF(A585<$B$3,\"N\",\"Y\"),\"\"))","v":""},{"$f":"IF(F585=\"N\",0,IF(A585<>\"\",IF(K585>=0,((E585+I584)*(1+(H585/52)/100)-E585-I584),0),\"\"))","v":0},8.4,{"$f":"IF(A585<>\"\",I584+E585+G585,\"\")","v":0},null,1016,{"$f":"IF(AND(ISNUMBER(A585),NOT(ISNUMBER(A586))),IF((OFFSET(Q585,-Q585,0)>50),SUM(OFFSET(E585,-Q585+1,0):E585),SUM(OFFSET(E585,-Q585,0):E585)),IF(AND(ISNUMBER(P585),ISNUMBER(P586),P585  <P586),IF((OFFSET(Q585,-Q585,0)>50),SUM(OFFSET(E585,-Q585+1,0):E585),SUM(OFFSET(E585,-Q585,0):E585)),\"\"))","v":{"$error":"#NAME?"}},{"$f":"IF(ISNUMBER(L585),IF((OFFSET(Q585,-Q585,0)>50),SUM(OFFSET(G585,-Q585+1,0):G585),SUM(OFFSET(G585,-Q585,0):G585)),\"\")","v":""},null,null,{"$error":"#NAME?"},{"$error":"#NAME?"}]
[{"$f":"IF(A585<>\"\",IF(A585+12<=TODAY(),+A585+7,\"\"),\"\")","v":"1998-11-04"},null,null,null,0,{"$f":"IF(SUM($B$7:$B586)=0,\"\",IF(A586<>\"\",IF(A586<$B$3,\"N\",\"Y\"),\"\"))","v":""},0,8.4,0,null,1015,{"$f":"IF(AND(ISNUMBER(A586),NOT(ISNUMBER(A587))),IF((OFFSET(Q586,-Q586,0)>50),SUM(OFFSET(E586,-Q586+1,0):E586),SUM(OFFSET(E586,-Q586,0):E586)),IF(AND(ISNUMBER(P586),ISNUMBER(P587),P586  <P587),IF((OFFSET(Q586,-Q586,0)>50),SUM(OFFSET(E586,-Q586+1,0):E586),SUM(OFFSET(E586,-Q586,0):E586)),\"\"))","v":{"$error":"#NAME?"}},{"$f":"IF(ISNUMBER(L586),IF((OFFSET(Q586,-Q586,0)>50),SUM(OFFSET(G586,-Q586+1,0):G586),SUM(OFFSET(G586,-Q586,0):G586)),\"\")","v":""},null,null,{"$error":"#NAME?"},{"$error":"#NAME?"}]
["1998-11-11",null,null,null,0,{"$f":"IF(SUM($B$7:$B587)=0,\"\",IF(A587<>\"\",IF(A587<$B$3,\"N\",\"Y\"),\"\"))","v":""},0,8.4,0,null,1014,{"$f":"IF(AND(ISNUMBER(A587),NOT(ISNUMBER(A588))),IF((OFFSET(Q587,-Q587,0)>50),SUM(OFFSET(E587,-Q587+1,0):E587),SUM(OFFSET(E587,-Q587,0):E587)),IF(AND(ISNUMBER(P587),ISNUMBER(P588),P587  <P588),IF((OFFSET(Q587,-Q587,0)>50),SUM(OFFSET(E587,-Q587+1,0):E587),SUM(OFFSET(E587,-Q587,0):E587)),\"\"))","v":{"$error":"#NAME?"}},{"$f":"IF(ISNUMBER(L587),IF((OFFSET(Q587,-Q587,0)>50),SUM(OFFSET(G587,-Q587+1,0):G587),SUM(OFFSET(G587,-Q587,0):G587)),\"\")","v":""},null,null,{"$error":"#NAME?"},{"$error":"#NAME?"}]
["1998-11-18",null,null,null,0,{"$f":"IF(SUM($B$7:$B588)=0,\"\",IF(A588<>\"\",IF(A588<$B$3,\"N\",\"Y\"),\"\"))","v":""},0,8.4,0,null,1013,{"$f":"IF(AND(ISNUMBER(A588),NOT(ISNUMBER(A589))),IF((OFFSET(Q588,-Q588,0)>50),SUM(OFFSET(E588,-Q588+1,0):E588),SUM(OFFSET(E588,-Q588,0):E588)),IF(AND(ISNUMBER(P588),ISNUMBER(P589),P588  <P589),IF((OFFSET(Q588,-Q588,0)>50),SUM(OFFSET(E588,-Q588+1,0):E588),SUM(OFFSET(E588,-Q588,0):E588)),\"\"))","v":{"$error":"#NAME?"}},{"$f":"IF(ISNUMBER(L588),IF((OFFSET(Q588,-Q588,0)>50),SUM(OFFSET(G588,-Q588+1,0):G588),SUM(OFFSET(G588,-Q588,0):G588)),\"\")","v":""},null,null,{"$error":"#NAME?"},{"$error":"#NAME?"}]
["1998-11-25",null,null,null,0,{"$f":"IF(SUM($B$7:$B589)=0,\"\",IF(A589<>\"\",IF(A589<$B$3,\"N\",\"Y\"),\"\"))","v":""},0,8.4,0,null,1012,{"$f":"IF(AND(ISNUMBER(A589),NOT(ISNUMBER(A590))),IF((OFFSET(Q589,-Q589,0)>50),SUM(OFFSET(E589,-Q589+1,0):E589),SUM(OFFSET(E589,-Q589,0):E589)),IF(AND(ISNUMBER(P589),ISNUMBER(P590),P589  <P590),IF((OFFSET(Q589,-Q589,0)>50),SUM(OFFSET(E589,-Q589+1,0):E589),SUM(OFFSET(E589,-Q589,0):E589)),\"\"))","v":{"$error":"#NAME?"}},{"$f":"IF(ISNUMBER(L589),IF((OFFSET(Q589,-Q589,0)>50),SUM(OFFSET(G589,-Q589+1,0):G589),SUM(OFFSET(G589,-Q589,0):G589)),\"\")","v":""},null,null,{"$error":"#NAME?"},{"$error":"#NAME?"}]
["1998-12-02",null,null,null,0,{"$f":"IF(SUM($B$7:$B590)=0,\"\",IF(A590<>\"\",IF(A590<$B$3,\"N\",\"Y\"),\"\"))","v":""},0,8.4,0,null,1011,{"$f":"IF(AND(ISNUMBER(A590),NOT(ISNUMBER(A591))),IF((OFFSET(Q590,-Q590,0)>50),SUM(OFFSET(E590,-Q590+1,0):E590),SUM(OFFSET(E590,-Q590,0):E590)),IF(AND(ISNUMBER(P590),ISNUMBER(P591),P590  <P591),IF((OFFSET(Q590,-Q590,0)>50),SUM(OFFSET(E590,-Q590+1,0):E590),SUM(OFFSET(E590,-Q590,0):E590)),\"\"))","v":{"$error":"#NAME?"}},{"$f":"IF(ISNUMBER(L590),IF((OFFSET(Q590,-Q590,0)>50),SUM(OFFSET(G590,-Q590+1,0):G590),SUM(OFFSET(G590,-Q590,0):G590)),\"\")","v":""},null,null,{"$error":"#NAME?"},{"$error":"#NAME?"}]
["1998-12-09",null,null,null,0,{"$f":"IF(SUM($B$7:$B591)=0,\"\",IF(A591<>\"\",IF(A591<$B$3,\"N\",\"Y\"),\"\"))","v":""},0,8.4,0,null,1010,{"$f":"IF(AND(ISNUMBER(A591),NOT(ISNUMBER(A592))),IF((OFFSET(Q591,-Q591,0)>50),SUM(OFFSET(E591,-Q591+1,0):E591),SUM(OFFSET(E591,-Q591,0):E591)),IF(AND(ISNUMBER(P591),ISNUMBER(P592),P591  <P592),IF((OFFSET(Q591,-Q591,0)>50),SUM(OFFSET(E591,-Q591+1,0):E591),SUM(OFFSET(E591,-Q591,0):E591)),\"\"))","v":{"$error":"#NAME?"}},{"$f":"IF(ISNUMBER(L591),IF((OFFSET(Q591,-Q591,0)>50),SUM(OFFSET(G591,-Q591+1,0):G591),SUM(OFFSET(G591,-Q591,0):G591)),\"\")","v":""},null,null,{"$error":"#NAME?"},{"$error":"#NAME?"}]
["1998-12-16",null,null,null,0,{"$f":"IF(SUM($B$7:$B592)=0,\"\",IF(A592<>\"\",IF(A592<$B$3,\"N\",\"Y\"),\"\"))","v":""},0,8.4,0,null,1009,{"$f":"IF(AND(ISNUMBER(A592),NOT(ISNUMBER(A593))),IF((OFFSET(Q592,-Q592,0)>50),SUM(OFFSET(E592,-Q592+1,0):E592),SUM(OFFSET(E592,-Q592,0):E592)),IF(AND(ISNUMBER(P592),ISNUMBER(P593),P592  <P593),IF((OFFSET(Q592,-Q592,0)>50),SUM(OFFSET(E592,-Q592+1,0):E592),SUM(OFFSET(E592,-Q592,0):E592)),\"\"))","v":{"$error":"#NAME?"}},{"$f":"IF(ISNUMBER(L592),IF((OFFSET(Q592,-Q592,0)>50),SUM(OFFSET(G592,-Q592+1,0):G592),SUM(OFFSET(G592,-Q592,0):G592)),\"\")","v":""},null,null,{"$error":"#NAME?"},{"$error":"#NAME?"}]
["1998-12-23",null,null,null,0,{"$f":"IF(SUM($B$7:$B593)=0,\"\",IF(A593<>\"\",IF(A593<$B$3,\"N\",\"Y\"),\"\"))","v":""},0,8.4,0,null,1008,{"$f":"IF(AND(ISNUMBER(A593),NOT(ISNUMBER(A594))),IF((OFFSET(Q593,-Q593,0)>50),SUM(OFFSET(E593,-Q593+1,0):E593),SUM(OFFSET(E593,-Q593,0):E593)),IF(AND(ISNUMBER(P593),ISNUMBER(P594),P593  <P594),IF((OFFSET(Q593,-Q593,0)>50),SUM(OFFSET(E593,-Q593+1,0):E593),SUM(OFFSET(E593,-Q593,0):E593)),\"\"))","v":{"$error":"#NAME?"}},{"$f":"IF(ISNUMBER(L593),IF((OFFSET(Q593,-Q593,0)>50),SUM(OFFSET(G593,-Q593+1,0):G593),SUM(OFFSET(G593,-Q593,0):G593)),\"\")","v":""},null,null,{"$error":"#NAME?"},{"$error":"#NAME?"}]
["1998-12-30",null,null,null,0,{"$f":"IF(SUM($B$7:$B594)=0,\"\",IF(A594<>\"\",IF(A594<$B$3,\"N\",\"Y\"),\"\"))","v":""},0,8.4,0,null,1007,{"$f":"IF(AND(ISNUMBER(A594),NOT(ISNUMBER(A595))),IF((OFFSET(Q594,-Q594,0)>50),SUM(OFFSET(E594,-Q594+1,0):E594),SUM(OFFSET(E594,-Q594,0):E594)),IF(AND(ISNUMBER(P594),ISNUMBER(P595),P594  <P595),IF((OFFSET(Q594,-Q594,0)>50),SUM(OFFSET(E594,-Q594+1,0):E594),SUM(OFFSET(E594,-Q594,0):E594)),\"\"))","v":{"$error":"#NAME?"}},{"$f":"IF(ISNUMBER(L594),IF((OFFSET(Q594,-Q594,0)>50),SUM(OFFSET(G594,-Q594+1,0):G594),SUM(OFFSET(G594,-Q594,0):G594)),\"\")","v":""},null,null,{"$error":"#NAME?"},{"$error":"#NAME?"}]
["1999-01-06",null,null,null,0,{"$f":"IF(SUM($B$7:$B595)=0,\"\",IF(A595<>\"\",IF(A595<$B$3,\"N\",\"Y\"),\"\"))","v":""},0,8.4,0,null,1006,{"$f":"IF(AND(ISNUMBER(A595),NOT(ISNUMBER(A596))),IF((OFFSET(Q595,-Q595,0)>50),SUM(OFFSET(E595,-Q595+1,0):E595),SUM(OFFSET(E595,-Q595,0):E595)),IF(AND(ISNUMBER(P595),ISNUMBER(P596),P595  <P596),IF((OFFSET(Q595,-Q595,0)>50),SUM(OFFSET(E595,-Q595+1,0):E595),SUM(OFFSET(E595,-Q595,0):E595)),\"\"))","v":{"$error":"#NAME?"}},{"$f":"IF(ISNUMBER(L595),IF((OFFSET(Q595,-Q595,0)>50),SUM(OFFSET(G595,-Q595+1,0):G595),SUM(OFFSET(G595,-Q595,0):G595)),\"\")","v":""},null,null,{"$error":"#NAME?"},{"$error":"#NAME?"}]
["1999-01-13",null,null,null,0,{"$f":"IF(SUM($B$7:$B596)=0,\"\",IF(A596<>\"\",IF(A596<$B$3,\"N\",\"Y\"),\"\"))","v":""},0,8.4,0,null,1005,{"$f":"IF(AND(ISNUMBER(A596),NOT(ISNUMBER(A597))),IF((OFFSET(Q596,-Q596,0)>50),SUM(OFFSET(E596,-Q596+1,0):E596),SUM(OFFSET(E596,-Q596,0):E596)),IF(AND(ISNUMBER(P596),ISNUMBER(P597),P596  <P597),IF((OFFSET(Q596,-Q596,0)>50),SUM(OFFSET(E596,-Q596+1,0):E596),SUM(OFFSET(E596,-Q596,0):E596)),\"\"))","v":{"$error":"#NAME?"}},{"$f":"IF(ISNUMBER(L596),IF((OFFSET(Q596,-Q596,0)>50),SUM(OFFSET(G596,-Q596+1,0):G596),SUM(OFFSET(G596,-Q596,0):G596)),\"\")","v":""},null,null,{"$error":"#NAME?"},{"$error":"#NAME?"}]
["1999-01-20",null,null,null,0,{"$f":"IF(SUM($B$7:$B597)=0,\"\",IF(A597<>\"\",IF(A597<$B$3,\"N\",\"Y\"),\"\"))","v":""},0,8.4,0,null,1004,{"$f":"IF(AND(ISNUMBER(A597),NOT(ISNUMBER(A598))),IF((OFFSET(Q597,-Q597,0)>50),SUM(OFFSET(E597,-Q597+1,0):E597),SUM(OFFSET(E597,-Q597,0):E597)),IF(AND(ISNUMBER(P597),ISNUMBER(P598),P597  <P598),IF((OFFSET(Q597,-Q597,0)>50),SUM(OFFSET(E597,-Q597+1,0):E597),SUM(OFFSET(E597,-Q597,0):E597)),\"\"))","v":{"$error":"#NAME?"}},{"$f":"IF(ISNUMBER(L597),IF((OFFSET(Q597,-Q597,0)>50),SUM(OFFSET(G597,-Q597+1,0):G597),SUM(OFFSET(G597,-Q597,0):G597)),\"\")","v":""},null,null,{"$error":"#NAME?"},{"$error":"#NAME?"}]
["1999-01-27",null,null,null,0,{"$f":"IF(SUM($B$7:$B598)=0,\"\",IF(A598<>\"\",IF(A598<$B$3,\"N\",\"Y\"),\"\"))","v":""},0,8.4,0,null,1003,{"$f":"IF(AND(ISNUMBER(A598),NOT(ISNUMBER(A599))),IF((OFFSET(Q598,-Q598,0)>50),SUM(OFFSET(E598,-Q598+1,0):E598),SUM(OFFSET(E598,-Q598,0):E598)),IF(AND(ISNUMBER(P598),ISNUMBER(P599),P598  <P599),IF((OFFSET(Q598,-Q598,0)>50),SUM(OFFSET(E598,-Q598+1,0):E598),SUM(OFFSET(E598,-Q598,0):E598)),\"\"))","v":{"$error":"#NAME?"}},{"$f":"IF(ISNUMBER(L598),IF((OFFSET(Q598,-Q598,0)>50),SUM(OFFSET(G598,-Q598+1,0):G598),SUM(OFFSET(G598,-Q598,0):G598)),\"\")","v":""},null,null,{"$error":"#NAME?"},{"$error":"#NAME?"}]
["1999-02-03",null,null,null,0,{"$f":"IF(SUM($B$7:$B599)=0,\"\",IF(A599<>\"\",IF(A599<$B$3,\"N\",\"Y\"),\"\"))","v":""},0,8.4,0,null,1002,{"$f":"IF(AND(ISNUMBER(A599),NOT(ISNUMBER(A600))),IF((OFFSET(Q599,-Q599,0)>50),SUM(OFFSET(E599,-Q599+1,0):E599),SUM(OFFSET(E599,-Q599,0):E599)),IF(AND(ISNUMBER(P599),ISNUMBER(P600),P599  <P600),IF((OFFSET(Q599,-Q599,0)>50),SUM(OFFSET(E599,-Q599+1,0):E599),SUM(OFFSET(E599,-Q599,0):E599)),\"\"))","v":{"$error":"#NAME?"}},{"$f":"IF(ISNUMBER(L599),IF((OFFSET(Q599,-Q599,0)>50),SUM(OFFSET(G599,-Q599+1,0):G599),SUM(OFFSET(G599,-Q599,0):G599)),\"\")","v":""},null,null,{"$error":"#NAME?"},{"$error":"#NAME?"}]
["1999-02-10",null,null,null,0,{"$f":"IF(SUM($B$7:$B600)=0,\"\",IF(A600<>\"\",IF(A600<$B$3,\"N\",\"Y\"),\"\"))","v":""},0,8.4,0,null,1001,{"$f":"IF(AND(ISNUMBER(A600),NOT(ISNUMBER(A601))),IF((OFFSET(Q600,-Q600,0)>50),SUM(OFFSET(E600,-Q600+1,0):E600),SUM(OFFSET(E600,-Q600,0):E600)),IF(AND(ISNUMBER(P600),ISNUMBER(P601),P600  <P601),IF((OFFSET(Q600,-Q600,0)>50),SUM(OFFSET(E600,-Q600+1,0):E600),SUM(OFFSET(E600,-Q600,0):E600)),\"\"))","v":{"$error":"#NAME?"}},{"$f":"IF(ISNUMBER(L600),IF((OFFSET(Q600,-Q600,0)>50),SUM(OFFSET(G600,-Q600+1,0):G600),SUM(OFFSET(G600,-Q600,0):G600)),\"\")","v":""},null,null,{"$error":"#NAME?"},{"$error":"#NAME?"}]
["1999-02-17",null,null,null,0,{"$f":"IF(SUM($B$7:$B601)=0,\"\",IF(A601<>\"\",IF(A601<$B$3,\"N\",\"Y\"),\"\"))","v":""},0,8.4,0,null,1000,{"$f":"IF(AND(ISNUMBER(A601),NOT(ISNUMBER(A602))),IF((OFFSET(Q601,-Q601,0)>50),SUM(OFFSET(E601,-Q601+1,0):E601),SUM(OFFSET(E601,-Q601,0):E601)),IF(AND(ISNUMBER(P601),ISNUMBER(P602),P601  <P602),IF((OFFSET(Q601,-Q601,0)>50),SUM(OFFSET(E601,-Q601+1,0):E601),SUM(OFFSET(E601,-Q601,0):E601)),\"\"))","v":{"$error":"#NAME?"}},{"$f":"IF(ISNUMBER(L601),IF((OFFSET(Q601,-Q601,0)>50),SUM(OFFSET(G601,-Q601+1,0):G601),SUM(OFFSET(G601,-Q601,0):G601)),\"\")","v":""},null,null,{"$error":"#NAME?"},{"$error":"#NAME?"}]
["1999-02-24",null,null,null,0,{"$f":"IF(SUM($B$7:$B602)=0,\"\",IF(A602<>\"\",IF(A602<$B$3,\"N\",\"Y\"),\"\"))","v":""},0,8.4,0,null,999,{"$f":"IF(AND(ISNUMBER(A602),NOT(ISNUMBER(A603))),IF((OFFSET(Q602,-Q602,0)>50),SUM(OFFSET(E602,-Q602+1,0):E602),SUM(OFFSET(E602,-Q602,0):E602)),IF(AND(ISNUMBER(P602),ISNUMBER(P603),P602  <P603),IF((OFFSET(Q602,-Q602,0)>50),SUM(OFFSET(E602,-Q602+1,0):E602),SUM(OFFSET(E602,-Q602,0):E602)),\"\"))","v":{"$error":"#NAME?"}},{"$f":"IF(ISNUMBER(L602),IF((OFFSET(Q602,-Q602,0)>50),SUM(OFFSET(G602,-Q602+1,0):G602),SUM(OFFSET(G602,-Q602,0):G602)),\"\")","v":""},null,null,{"$error":"#NAME?"},{"$error":"#NAME?"}]
["1999-03-03",null,null,null,0,{"$f":"IF(SUM($B$7:$B603)=0,\"\",IF(A603<>\"\",IF(A603<$B$3,\"N\",\"Y\"),\"\"))","v":""},0,8.4,0,null,998,{"$f":"IF(AND(ISNUMBER(A603),NOT(ISNUMBER(A604))),IF((OFFSET(Q603,-Q603,0)>50),SUM(OFFSET(E603,-Q603+1,0):E603),SUM(OFFSET(E603,-Q603,0):E603)),IF(AND(ISNUMBER(P603),ISNUMBER(P604),P603  <P604),IF((OFFSET(Q603,-Q603,0)>50),SUM(OFFSET(E603,-Q603+1,0):E603),SUM(OFFSET(E603,-Q603,0):E603)),\"\"))","v":{"$error":"#NAME?"}},{"$f":"IF(ISNUMBER(L603),IF((OFFSET(Q603,-Q603,0)>50),SUM(OFFSET(G603,-Q603+1,0):G603),SUM(OFFSET(G603,-Q603,0):G603)),\"\")","v":""},null,null,{"$error":"#NAME?"},{"$error":"#NAME?"}]
["1999-03-10",null,null,null,0,{"$f":"IF(SUM($B$7:$B604)=0,\"\",IF(A604<>\"\",IF(A604<$B$3,\"N\",\"Y\"),\"\"))","v":""},0,8.4,0,null,997,{"$f":"IF(AND(ISNUMBER(A604),NOT(ISNUMBER(A605))),IF((OFFSET(Q604,-Q604,0)>50),SUM(OFFSET(E604,-Q604+1,0):E604),SUM(OFFSET(E604,-Q604,0):E604)),IF(AND(ISNUMBER(P604),ISNUMBER(P605),P604  <P605),IF((OFFSET(Q604,-Q604,0)>50),SUM(OFFSET(E604,-Q604+1,0):E604),SUM(OFFSET(E604,-Q604,0):E604)),\"\"))","v":{"$error":"#NAME?"}},{"$f":"IF(ISNUMBER(L604),IF((OFFSET(Q604,-Q604,0)>50),SUM(OFFSET(G604,-Q604+1,0):G604),SUM(OFFSET(G604,-Q604,0):G604)),\"\")","v":""},null,null,{"$error":"#NAME?"},{"$error":"#NAME?"}]
["1999-03-17",null,null,null,0,{"$f":"IF(SUM($B$7:$B605)=0,\"\",IF(A605<>\"\",IF(A605<$B$3,\"N\",\"Y\"),\"\"))","v":""},0,8.4,0,null,996,{"$f":"IF(AND(ISNUMBER(A605),NOT(ISNUMBER(A606))),IF((OFFSET(Q605,-Q605,0)>50),SUM(OFFSET(E605,-Q605+1,0):E605),SUM(OFFSET(E605,-Q605,0):E605)),IF(AND(ISNUMBER(P605),ISNUMBER(P606),P605  <P606),IF((OFFSET(Q605,-Q605,0)>50),SUM(OFFSET(E605,-Q605+1,0):E605),SUM(OFFSET(E605,-Q605,0):E605)),\"\"))","v":{"$error":"#NAME?"}},{"$f":"IF(ISNUMBER(L605),IF((OFFSET(Q605,-Q605,0)>50),SUM(OFFSET(G605,-Q605+1,0):G605),SUM(OFFSET(G605,-Q605,0):G605)),\"\")","v":""},null,null,{"$error":"#NAME?"},{"$error":"#NAME?"}]
["1999-03-24",null,null,null,0,{"$f":"IF(SUM($B$7:$B606)=0,\"\",IF(A606<>\"\",IF(A606<$B$3,\"N\",\"Y\"),\"\"))","v":""},0,8.4,0,null,995,{"$f":"IF(AND(ISNUMBER(A606),NOT(ISNUMBER(A607))),IF((OFFSET(Q606,-Q606,0)>50),SUM(OFFSET(E606,-Q606+1,0):E606),SUM(OFFSET(E606,-Q606,0):E606)),IF(AND(ISNUMBER(P606),ISNUMBER(P607),P606  <P607),IF((OFFSET(Q606,-Q606,0)>50),SUM(OFFSET(E606,-Q606+1,0):E606),SUM(OFFSET(E606,-Q606,0):E606)),\"\"))","v":{"$error":"#NAME?"}},{"$f":"IF(ISNUMBER(L606),IF((OFFSET(Q606,-Q606,0)>50),SUM(OFFSET(G606,-Q606+1,0):G606),SUM(OFFSET(G606,-Q606,0):G606)),\"\")","v":""},null,null,{"$error":"#NAME?"},{"$error":"#NAME?"}]
["1999-03-31",null,null,null,0,{"$f":"IF(SUM($B$7:$B607)=0,\"\",IF(A607<>\"\",IF(A607<$B$3,\"N\",\"Y\"),\"\"))","v":""},0,8.4,0,null,994,{"$f":"IF(AND(ISNUMBER(A607),NOT(ISNUMBER(A608))),IF((OFFSET(Q607,-Q607,0)>50),SUM(OFFSET(E607,-Q607+1,0):E607),SUM(OFFSET(E607,-Q607,0):E607)),IF(AND(ISNUMBER(P607),ISNUMBER(P608),P607  <P608),IF((OFFSET(Q607,-Q607,0)>50),SUM(OFFSET(E607,-Q607+1,0):E607),SUM(OFFSET(E607,-Q607,0):E607)),\"\"))","v":{"$error":"#NAME?"}},{"$f":"IF(ISNUMBER(L607),IF((OFFSET(Q607,-Q607,0)>50),SUM(OFFSET(G607,-Q607+1,0):G607),SUM(OFFSET(G607,-Q607,0):G607)),\"\")","v":""},null,null,{"$error":"#NAME?"},{"$error":"#NAME?"}]
["1999-04-07",null,null,null,0,{"$f":"IF(SUM($B$7:$B608)=0,\"\",IF(A608<>\"\",IF(A608<$B$3,\"N\",\"Y\"),\"\"))","v":""},0,8.4,0,null,993,{"$f":"IF(AND(ISNUMBER(A608),NOT(ISNUMBER(A609))),IF((OFFSET(Q608,-Q608,0)>50),SUM(OFFSET(E608,-Q608+1,0):E608),SUM(OFFSET(E608,-Q608,0):E608)),IF(AND(ISNUMBER(P608),ISNUMBER(P609),P608  <P609),IF((OFFSET(Q608,-Q608,0)>50),SUM(OFFSET(E608,-Q608+1,0):E608),SUM(OFFSET(E608,-Q608,0):E608)),\"\"))","v":{"$error":"#NAME?"}},{"$f":"IF(ISNUMBER(L608),IF((OFFSET(Q608,-Q608,0)>50),SUM(OFFSET(G608,-Q608+1,0):G608),SUM(OFFSET(G608,-Q608,0):G608)),\"\")","v":""},null,null,{"$error":"#NAME?"},{"$error":"#NAME?"}]
["1999-04-14",null,null,null,0,{"$f":"IF(SUM($B$7:$B609)=0,\"\",IF(A609<>\"\",IF(A609<$B$3,\"N\",\"Y\"),\"\"))","v":""},0,8.4,0,null,992,{"$f":"IF(AND(ISNUMBER(A609),NOT(ISNUMBER(A610))),IF((OFFSET(Q609,-Q609,0)>50),SUM(OFFSET(E609,-Q609+1,0):E609),SUM(OFFSET(E609,-Q609,0):E609)),IF(AND(ISNUMBER(P609),ISNUMBER(P610),P609  <P610),IF((OFFSET(Q609,-Q609,0)>50),SUM(OFFSET(E609,-Q609+1,0):E609),SUM(OFFSET(E609,-Q609,0):E609)),\"\"))","v":{"$error":"#NAME?"}},{"$f":"IF(ISNUMBER(L609),IF((OFFSET(Q609,-Q609,0)>50),SUM(OFFSET(G609,-Q609+1,0):G609),SUM(OFFSET(G609,-Q609,0):G609)),\"\")","v":""},null,null,{"$error":"#NAME?"},{"$error":"#NAME?"}]
["1999-04-21",null,null,null,0,{"$f":"IF(SUM($B$7:$B610)=0,\"\",IF(A610<>\"\",IF(A610<$B$3,\"N\",\"Y\"),\"\"))","v":""},0,8.4,0,null,991,{"$f":"IF(AND(ISNUMBER(A610),NOT(ISNUMBER(A611))),IF((OFFSET(Q610,-Q610,0)>50),SUM(OFFSET(E610,-Q610+1,0):E610),SUM(OFFSET(E610,-Q610,0):E610)),IF(AND(ISNUMBER(P610),ISNUMBER(P611),P610  <P611),IF((OFFSET(Q610,-Q610,0)>50),SUM(OFFSET(E610,-Q610+1,0):E610),SUM(OFFSET(E610,-Q610,0):E610)),\"\"))","v":{"$error":"#NAME?"}},{"$f":"IF(ISNUMBER(L610),IF((OFFSET(Q610,-Q610,0)>50),SUM(OFFSET(G610,-Q610+1,0):G610),SUM(OFFSET(G610,-Q610,0):G610)),\"\")","v":""},null,null,{"$error":"#NAME?"},{"$error":"#NAME?"}]
["1999-04-28",null,null,null,0,{"$f":"IF(SUM($B$7:$B611)=0,\"\",IF(A611<>\"\",IF(A611<$B$3,\"N\",\"Y\"),\"\"))","v":""},0,8.4,0,null,990,{"$f":"IF(AND(ISNUMBER(A611),NOT(ISNUMBER(A612))),IF((OFFSET(Q611,-Q611,0)>50),SUM(OFFSET(E611,-Q611+1,0):E611),SUM(OFFSET(E611,-Q611,0):E611)),IF(AND(ISNUMBER(P611),ISNUMBER(P612),P611  <P612),IF((OFFSET(Q611,-Q611,0)>50),SUM(OFFSET(E611,-Q611+1,0):E611),SUM(OFFSET(E611,-Q611,0):E611)),\"\"))","v":{"$error":"#NAME?"}},{"$f":"IF(ISNUMBER(L611),IF((OFFSET(Q611,-Q611,0)>50),SUM(OFFSET(G611,-Q611+1,0):G611),SUM(OFFSET(G611,-Q611,0):G611)),\"\")","v":""},null,null,{"$error":"#NAME?"},{"$error":"#NAME?"}]
["1999-05-05",null,null,null,0,{"$f":"IF(SUM($B$7:$B612)=0,\"\",IF(A612<>\"\",IF(A612<$B$3,\"N\",\"Y\"),\"\"))","v":""},0,8.4,0,null,989,{"$f":"IF(AND(ISNUMBER(A612),NOT(ISNUMBER(A613))),IF((OFFSET(Q612,-Q612,0)>50),SUM(OFFSET(E612,-Q612+1,0):E612),SUM(OFFSET(E612,-Q612,0):E612)),IF(AND(ISNUMBER(P612),ISNUMBER(P613),P612  <P613),IF((OFFSET(Q612,-Q612,0)>50),SUM(OFFSET(E612,-Q612+1,0):E612),SUM(OFFSET(E612,-Q612,0):E612)),\"\"))","v":{"$error":"#NAME?"}},{"$f":"IF(ISNUMBER(L612),IF((OFFSET(Q612,-Q612,0)>50),SUM(OFFSET(G612,-Q612+1,0):G612),SUM(OFFSET(G612,-Q612,0):G612)),\"\")","v":""},null,null,{"$error":"#NAME?"},{"$error":"#NAME?"}]
["1999-05-12",null,null,null,0,{"$f":"IF(SUM($B$7:$B613)=0,\"\",IF(A613<>\"\",IF(A613<$B$3,\"N\",\"Y\"),\"\"))","v":""},0,8.4,0,null,988,{"$f":"IF(AND(ISNUMBER(A613),NOT(ISNUMBER(A614))),IF((OFFSET(Q613,-Q613,0)>50),SUM(OFFSET(E613,-Q613+1,0):E613),SUM(OFFSET(E613,-Q613,0):E613)),IF(AND(ISNUMBER(P613),ISNUMBER(P614),P613  <P614),IF((OFFSET(Q613,-Q613,0)>50),SUM(OFFSET(E613,-Q613+1,0):E613),SUM(OFFSET(E613,-Q613,0):E613)),\"\"))","v":{"$error":"#NAME?"}},{"$f":"IF(ISNUMBER(L613),IF((OFFSET(Q613,-Q613,0)>50),SUM(OFFSET(G613,-Q613+1,0):G613),SUM(OFFSET(G613,-Q613,0):G613)),\"\")","v":""},null,null,{"$error":"#NAME?"},{"$error":"#NAME?"}]
["1999-05-19",null,null,null,0,{"$f":"IF(SUM($B$7:$B614)=0,\"\",IF(A614<>\"\",IF(A614<$B$3,\"N\",\"Y\"),\"\"))","v":""},0,8.4,0,null,987,{"$f":"IF(AND(ISNUMBER(A614),NOT(ISNUMBER(A615))),IF((OFFSET(Q614,-Q614,0)>50),SUM(OFFSET(E614,-Q614+1,0):E614),SUM(OFFSET(E614,-Q614,0):E614)),IF(AND(ISNUMBER(P614),ISNUMBER(P615),P614  <P615),IF((OFFSET(Q614,-Q614,0)>50),SUM(OFFSET(E614,-Q614+1,0):E614),SUM(OFFSET(E614,-Q614,0):E614)),\"\"))","v":{"$error":"#NAME?"}},{"$f":"IF(ISNUMBER(L614),IF((OFFSET(Q614,-Q614,0)>50),SUM(OFFSET(G614,-Q614+1,0):G614),SUM(OFFSET(G614,-Q614,0):G614)),\"\")","v":""},null,null,{"$error":"#NAME?"},{"$error":"#NAME?"}]
["1999-05-26",null,null,null,0,{"$f":"IF(SUM($B$7:$B615)=0,\"\",IF(A615<>\"\",IF(A615<$B$3,\"N\",\"Y\"),\"\"))","v":""},0,8.4,0,null,986,{"$f":"IF(AND(ISNUMBER(A615),NOT(ISNUMBER(A616))),IF((OFFSET(Q615,-Q615,0)>50),SUM(OFFSET(E615,-Q615+1,0):E615),SUM(OFFSET(E615,-Q615,0):E615)),IF(AND(ISNUMBER(P615),ISNUMBER(P616),P615  <P616),IF((OFFSET(Q615,-Q615,0)>50),SUM(OFFSET(E615,-Q615+1,0):E615),SUM(OFFSET(E615,-Q615,0):E615)),\"\"))","v":{"$error":"#NAME?"}},{"$f":"IF(ISNUMBER(L615),IF((OFFSET(Q615,-Q615,0)>50),SUM(OFFSET(G615,-Q615+1,0):G615),SUM(OFFSET(G615,-Q615,0):G615)),\"\")","v":""},null,null,{"$error":"#NAME?"},{"$error":"#NAME?"}]
["1999-06-02",null,null,null,0,{"$f":"IF(SUM($B$7:$B616)=0,\"\",IF(A616<>\"\",IF(A616<$B$3,\"N\",\"Y\"),\"\"))","v":""},0,8.4,0,null,985,{"$f":"IF(AND(ISNUMBER(A616),NOT(ISNUMBER(A617))),IF((OFFSET(Q616,-Q616,0)>50),SUM(OFFSET(E616,-Q616+1,0):E616),SUM(OFFSET(E616,-Q616,0):E616)),IF(AND(ISNUMBER(P616),ISNUMBER(P617),P616  <P617),IF((OFFSET(Q616,-Q616,0)>50),SUM(OFFSET(E616,-Q616+1,0):E616),SUM(OFFSET(E616,-Q616,0):E616)),\"\"))","v":{"$error":"#NAME?"}},{"$f":"IF(ISNUMBER(L616),IF((OFFSET(Q616,-Q616,0)>50),SUM(OFFSET(G616,-Q616+1,0):G616),SUM(OFFSET(G616,-Q616,0):G616)),\"\")","v":""},null,null,{"$error":"#NAME?"},{"$error":"#NAME?"}]
["1999-06-09",null,null,null,0,{"$f":"IF(SUM($B$7:$B617)=0,\"\",IF(A617<>\"\",IF(A617<$B$3,\"N\",\"Y\"),\"\"))","v":""},0,8.4,0,null,984,{"$f":"IF(AND(ISNUMBER(A617),NOT(ISNUMBER(A618))),IF((OFFSET(Q617,-Q617,0)>50),SUM(OFFSET(E617,-Q617+1,0):E617),SUM(OFFSET(E617,-Q617,0):E617)),IF(AND(ISNUMBER(P617),ISNUMBER(P618),P617  <P618),IF((OFFSET(Q617,-Q617,0)>50),SUM(OFFSET(E617,-Q617+1,0):E617),SUM(OFFSET(E617,-Q617,0):E617)),\"\"))","v":{"$error":"#NAME?"}},{"$f":"IF(ISNUMBER(L617),IF((OFFSET(Q617,-Q617,0)>50),SUM(OFFSET(G617,-Q617+1,0):G617),SUM(OFFSET(G617,-Q617,0):G617)),\"\")","v":""},null,null,{"$error":"#NAME?"},{"$error":"#NAME?"}]
["1999-06-16",null,null,null,0,{"$f":"IF(SUM($B$7:$B618)=0,\"\",IF(A618<>\"\",IF(A618<$B$3,\"N\",\"Y\"),\"\"))","v":""},0,8.4,0,null,983,{"$f":"IF(AND(ISNUMBER(A618),NOT(ISNUMBER(A619))),IF((OFFSET(Q618,-Q618,0)>50),SUM(OFFSET(E618,-Q618+1,0):E618),SUM(OFFSET(E618,-Q618,0):E618)),IF(AND(ISNUMBER(P618),ISNUMBER(P619),P618  <P619),IF((OFFSET(Q618,-Q618,0)>50),SUM(OFFSET(E618,-Q618+1,0):E618),SUM(OFFSET(E618,-Q618,0):E618)),\"\"))","v":{"$error":"#NAME?"}},{"$f":"IF(ISNUMBER(L618),IF((OFFSET(Q618,-Q618,0)>50),SUM(OFFSET(G618,-Q618+1,0):G618),SUM(OFFSET(G618,-Q618,0):G618)),\"\")","v":""},null,null,{"$error":"#NAME?"},{"$error":"#NAME?"}]
["1999-06-23",null,null,null,0,{"$f":"IF(SUM($B$7:$B619)=0,\"\",IF(A619<>\"\",IF(A619<$B$3,\"N\",\"Y\"),\"\"))","v":""},0,8.4,0,null,982,{"$f":"IF(AND(ISNUMBER(A619),NOT(ISNUMBER(A620))),IF((OFFSET(Q619,-Q619,0)>50),SUM(OFFSET(E619,-Q619+1,0):E619),SUM(OFFSET(E619,-Q619,0):E619)),IF(AND(ISNUMBER(P619),ISNUMBER(P620),P619  <P620),IF((OFFSET(Q619,-Q619,0)>50),SUM(OFFSET(E619,-Q619+1,0):E619),SUM(OFFSET(E619,-Q619,0):E619)),\"\"))","v":{"$error":"#NAME?"}},{"$f":"IF(ISNUMBER(L619),IF((OFFSET(Q619,-Q619,0)>50),SUM(OFFSET(G619,-Q619+1,0):G619),SUM(OFFSET(G619,-Q619,0):G619)),\"\")","v":""},null,null,{"$error":"#NAME?"},{"$error":"#NAME?"}]
["1999-06-30",null,null,null,0,{"$f":"IF(SUM($B$7:$B620)=0,\"\",IF(A620<>\"\",IF(A620<$B$3,\"N\",\"Y\"),\"\"))","v":""},0,8.4,0,null,981,{"$f":"IF(AND(ISNUMBER(A620),NOT(ISNUMBER(A621))),IF((OFFSET(Q620,-Q620,0)>50),SUM(OFFSET(E620,-Q620+1,0):E620),SUM(OFFSET(E620,-Q620,0):E620)),IF(AND(ISNUMBER(P620),ISNUMBER(P621),P620  <P621),IF((OFFSET(Q620,-Q620,0)>50),SUM(OFFSET(E620,-Q620+1,0):E620),SUM(OFFSET(E620,-Q620,0):E620)),\"\"))","v":{"$error":"#NAME?"}},{"$f":"IF(ISNUMBER(L620),IF((OFFSET(Q620,-Q620,0)>50),SUM(OFFSET(G620,-Q620+1,0):G620),SUM(OFFSET(G620,-Q620,0):G620)),\"\")","v":""},null,null,{"$error":"#NAME?"},{"$error":"#NAME?"}]
["1999-07-07",null,null,null,0,{"$f":"IF(SUM($B$7:$B621)=0,\"\",IF(A621<>\"\",IF(A621<$B$3,\"N\",\"Y\"),\"\"))","v":""},0,8.4,0,null,980,{"$f":"IF(AND(ISNUMBER(A621),NOT(ISNUMBER(A622))),IF((OFFSET(Q621,-Q621,0)>50),SUM(OFFSET(E621,-Q621+1,0):E621),SUM(OFFSET(E621,-Q621,0):E621)),IF(AND(ISNUMBER(P621),ISNUMBER(P622),P621  <P622),IF((OFFSET(Q621,-Q621,0)>50),SUM(OFFSET(E621,-Q621+1,0):E621),SUM(OFFSET(E621,-Q621,0):E621)),\"\"))","v":{"$error":"#NAME?"}},{"$f":"IF(ISNUMBER(L621),IF((OFFSET(Q621,-Q621,0)>50),SUM(OFFSET(G621,-Q621+1,0):G621),SUM(OFFSET(G621,-Q621,0):G621)),\"\")","v":""},null,null,{"$error":"#NAME?"},{"$error":"#NAME?"}]
["1999-07-14",null,null,null,0,{"$f":"IF(SUM($B$7:$B622)=0,\"\",IF(A622<>\"\",IF(A622<$B$3,\"N\",\"Y\"),\"\"))","v":""},0,8.4,0,null,979,{"$f":"IF(AND(ISNUMBER(A622),NOT(ISNUMBER(A623))),IF((OFFSET(Q622,-Q622,0)>50),SUM(OFFSET(E622,-Q622+1,0):E622),SUM(OFFSET(E622,-Q622,0):E622)),IF(AND(ISNUMBER(P622),ISNUMBER(P623),P622  <P623),IF((OFFSET(Q622,-Q622,0)>50),SUM(OFFSET(E622,-Q622+1,0):E622),SUM(OFFSET(E622,-Q622,0):E622)),\"\"))","v":{"$error":"#NAME?"}},{"$f":"IF(ISNUMBER(L622),IF((OFFSET(Q622,-Q622,0)>50),SUM(OFFSET(G622,-Q622+1,0):G622),SUM(OFFSET(G622,-Q622,0):G622)),\"\")","v":""},null,null,{"$error":"#NAME?"},{"$error":"#NAME?"}]
["1999-07-21",null,null,null,0,{"$f":"IF(SUM($B$7:$B623)=0,\"\",IF(A623<>\"\",IF(A623<$B$3,\"N\",\"Y\"),\"\"))","v":""},0,8.4,0,null,978,{"$f":"IF(AND(ISNUMBER(A623),NOT(ISNUMBER(A624))),IF((OFFSET(Q623,-Q623,0)>50),SUM(OFFSET(E623,-Q623+1,0):E623),SUM(OFFSET(E623,-Q623,0):E623)),IF(AND(ISNUMBER(P623),ISNUMBER(P624),P623  <P624),IF((OFFSET(Q623,-Q623,0)>50),SUM(OFFSET(E623,-Q623+1,0):E623),SUM(OFFSET(E623,-Q623,0):E623)),\"\"))","v":{"$error":"#NAME?"}},{"$f":"IF(ISNUMBER(L623),IF((OFFSET(Q623,-Q623,0)>50),SUM(OFFSET(G623,-Q623+1,0):G623),SUM(OFFSET(G623,-Q623,0):G623)),\"\")","v":""},null,null,{"$error":"#NAME?"},{"$error":"#NAME?"}]
["1999-07-28",null,null,null,0,{"$f":"IF(SUM($B$7:$B624)=0,\"\",IF(A624<>\"\",IF(A624<$B$3,\"N\",\"Y\"),\"\"))","v":""},0,8.4,0,null,977,{"$f":"IF(AND(ISNUMBER(A624),NOT(ISNUMBER(A625))),IF((OFFSET(Q624,-Q624,0)>50),SUM(OFFSET(E624,-Q624+1,0):E624),SUM(OFFSET(E624,-Q624,0):E624)),IF(AND(ISNUMBER(P624),ISNUMBER(P625),P624  <P625),IF((OFFSET(Q624,-Q624,0)>50),SUM(OFFSET(E624,-Q624+1,0):E624),SUM(OFFSET(E624,-Q624,0):E624)),\"\"))","v":{"$error":"#NAME?"}},{"$f":"IF(ISNUMBER(L624),IF((OFFSET(Q624,-Q624,0)>50),SUM(OFFSET(G624,-Q624+1,0):G624),SUM(OFFSET(G624,-Q624,0):G624)),\"\")","v":""},null,null,{"$error":"#NAME?"},{"$error":"#NAME?"}]
["1999-08-04",null,null,null,0,{"$f":"IF(SUM($B$7:$B625)=0,\"\",IF(A625<>\"\",IF(A625<$B$3,\"N\",\"Y\"),\"\"))","v":""},0,8.4,0,null,976,{"$f":"IF(AND(ISNUMBER(A625),NOT(ISNUMBER(A626))),IF((OFFSET(Q625,-Q625,0)>50),SUM(OFFSET(E625,-Q625+1,0):E625),SUM(OFFSET(E625,-Q625,0):E625)),IF(AND(ISNUMBER(P625),ISNUMBER(P626),P625  <P626),IF((OFFSET(Q625,-Q625,0)>50),SUM(OFFSET(E625,-Q625+1,0):E625),SUM(OFFSET(E625,-Q625,0):E625)),\"\"))","v":{"$error":"#NAME?"}},{"$f":"IF(ISNUMBER(L625),IF((OFFSET(Q625,-Q625,0)>50),SUM(OFFSET(G625,-Q625+1,0):G625),SUM(OFFSET(G625,-Q625,0):G625)),\"\")","v":""},null,null,{"$error":"#NAME?"},{"$error":"#NAME?"}]
["1999-08-11",null,null,null,0,{"$f":"IF(SUM($B$7:$B626)=0,\"\",IF(A626<>\"\",IF(A626<$B$3,\"N\",\"Y\"),\"\"))","v":""},0,8.4,0,null,975,{"$f":"IF(AND(ISNUMBER(A626),NOT(ISNUMBER(A627))),IF((OFFSET(Q626,-Q626,0)>50),SUM(OFFSET(E626,-Q626+1,0):E626),SUM(OFFSET(E626,-Q626,0):E626)),IF(AND(ISNUMBER(P626),ISNUMBER(P627),P626  <P627),IF((OFFSET(Q626,-Q626,0)>50),SUM(OFFSET(E626,-Q626+1,0):E626),SUM(OFFSET(E626,-Q626,0):E626)),\"\"))","v":{"$error":"#NAME?"}},{"$f":"IF(ISNUMBER(L626),IF((OFFSET(Q626,-Q626,0)>50),SUM(OFFSET(G626,-Q626+1,0):G626),SUM(OFFSET(G626,-Q626,0):G626)),\"\")","v":""},null,null,{"$error":"#NAME?"},{"$error":"#NAME?"}]
["1999-08-18",null,null,null,0,{"$f":"IF(SUM($B$7:$B627)=0,\"\",IF(A627<>\"\",IF(A627<$B$3,\"N\",\"Y\"),\"\"))","v":""},0,8.4,0,null,974,{"$f":"IF(AND(ISNUMBER(A627),NOT(ISNUMBER(A628))),IF((OFFSET(Q627,-Q627,0)>50),SUM(OFFSET(E627,-Q627+1,0):E627),SUM(OFFSET(E627,-Q627,0):E627)),IF(AND(ISNUMBER(P627),ISNUMBER(P628),P627  <P628),IF((OFFSET(Q627,-Q627,0)>50),SUM(OFFSET(E627,-Q627+1,0):E627),SUM(OFFSET(E627,-Q627,0):E627)),\"\"))","v":{"$error":"#NAME?"}},{"$f":"IF(ISNUMBER(L627),IF((OFFSET(Q627,-Q627,0)>50),SUM(OFFSET(G627,-Q627+1,0):G627),SUM(OFFSET(G627,-Q627,0):G627)),\"\")","v":""},null,null,{"$error":"#NAME?"},{"$error":"#NAME?"}]
["1999-08-25",null,null,null,0,{"$f":"IF(SUM($B$7:$B628)=0,\"\",IF(A628<>\"\",IF(A628<$B$3,\"N\",\"Y\"),\"\"))","v":""},0,8.4,0,null,973,{"$f":"IF(AND(ISNUMBER(A628),NOT(ISNUMBER(A629))),IF((OFFSET(Q628,-Q628,0)>50),SUM(OFFSET(E628,-Q628+1,0):E628),SUM(OFFSET(E628,-Q628,0):E628)),IF(AND(ISNUMBER(P628),ISNUMBER(P629),P628  <P629),IF((OFFSET(Q628,-Q628,0)>50),SUM(OFFSET(E628,-Q628+1,0):E628),SUM(OFFSET(E628,-Q628,0):E628)),\"\"))","v":{"$error":"#NAME?"}},{"$f":"IF(ISNUMBER(L628),IF((OFFSET(Q628,-Q628,0)>50),SUM(OFFSET(G628,-Q628+1,0):G628),SUM(OFFSET(G628,-Q628,0):G628)),\"\")","v":""},null,null,{"$error":"#NAME?"},{"$error":"#NAME?"}]
["1999-09-01",null,null,null,0,{"$f":"IF(SUM($B$7:$B629)=0,\"\",IF(A629<>\"\",IF(A629<$B$3,\"N\",\"Y\"),\"\"))","v":""},0,8.4,0,null,972,{"$f":"IF(AND(ISNUMBER(A629),NOT(ISNUMBER(A630))),IF((OFFSET(Q629,-Q629,0)>50),SUM(OFFSET(E629,-Q629+1,0):E629),SUM(OFFSET(E629,-Q629,0):E629)),IF(AND(ISNUMBER(P629),ISNUMBER(P630),P629  <P630),IF((OFFSET(Q629,-Q629,0)>50),SUM(OFFSET(E629,-Q629+1,0):E629),SUM(OFFSET(E629,-Q629,0):E629)),\"\"))","v":{"$error":"#NAME?"}},{"$f":"IF(ISNUMBER(L629),IF((OFFSET(Q629,-Q629,0)>50),SUM(OFFSET(G629,-Q629+1,0):G629),SUM(OFFSET(G629,-Q629,0):G629)),\"\")","v":""},null,null,{"$error":"#NAME?"},{"$error":"#NAME?"}]
["1999-09-08",null,null,null,0,{"$f":"IF(SUM($B$7:$B630)=0,\"\",IF(A630<>\"\",IF(A630<$B$3,\"N\",\"Y\"),\"\"))","v":""},0,8.4,0,null,971,{"$f":"IF(AND(ISNUMBER(A630),NOT(ISNUMBER(A631))),IF((OFFSET(Q630,-Q630,0)>50),SUM(OFFSET(E630,-Q630+1,0):E630),SUM(OFFSET(E630,-Q630,0):E630)),IF(AND(ISNUMBER(P630),ISNUMBER(P631),P630  <P631),IF((OFFSET(Q630,-Q630,0)>50),SUM(OFFSET(E630,-Q630+1,0):E630),SUM(OFFSET(E630,-Q630,0):E630)),\"\"))","v":{"$error":"#NAME?"}},{"$f":"IF(ISNUMBER(L630),IF((OFFSET(Q630,-Q630,0)>50),SUM(OFFSET(G630,-Q630+1,0):G630),SUM(OFFSET(G630,-Q630,0):G630)),\"\")","v":""},null,null,{"$error":"#NAME?"},{"$error":"#NAME?"}]
["1999-09-15",null,null,null,0,{"$f":"IF(SUM($B$7:$B631)=0,\"\",IF(A631<>\"\",IF(A631<$B$3,\"N\",\"Y\"),\"\"))","v":""},0,8.4,0,null,970,{"$f":"IF(AND(ISNUMBER(A631),NOT(ISNUMBER(A632))),IF((OFFSET(Q631,-Q631,0)>50),SUM(OFFSET(E631,-Q631+1,0):E631),SUM(OFFSET(E631,-Q631,0):E631)),IF(AND(ISNUMBER(P631),ISNUMBER(P632),P631  <P632),IF((OFFSET(Q631,-Q631,0)>50),SUM(OFFSET(E631,-Q631+1,0):E631),SUM(OFFSET(E631,-Q631,0):E631)),\"\"))","v":{"$error":"#NAME?"}},{"$f":"IF(ISNUMBER(L631),IF((OFFSET(Q631,-Q631,0)>50),SUM(OFFSET(G631,-Q631+1,0):G631),SUM(OFFSET(G631,-Q631,0):G631)),\"\")","v":""},null,null,{"$error":"#NAME?"},{"$error":"#NAME?"}]
["1999-09-22",null,null,null,0,{"$f":"IF(SUM($B$7:$B632)=0,\"\",IF(A632<>\"\",IF(A632<$B$3,\"N\",\"Y\"),\"\"))","v":""},0,8.4,0,null,969,{"$f":"IF(AND(ISNUMBER(A632),NOT(ISNUMBER(A633))),IF((OFFSET(Q632,-Q632,0)>50),SUM(OFFSET(E632,-Q632+1,0):E632),SUM(OFFSET(E632,-Q632,0):E632)),IF(AND(ISNUMBER(P632),ISNUMBER(P633),P632  <P633),IF((OFFSET(Q632,-Q632,0)>50),SUM(OFFSET(E632,-Q632+1,0):E632),SUM(OFFSET(E632,-Q632,0):E632)),\"\"))","v":{"$error":"#NAME?"}},{"$f":"IF(ISNUMBER(L632),IF((OFFSET(Q632,-Q632,0)>50),SUM(OFFSET(G632,-Q632+1,0):G632),SUM(OFFSET(G632,-Q632,0):G632)),\"\")","v":""},null,null,{"$error":"#NAME?"},{"$error":"#NAME?"}]
["1999-09-29",null,null,null,0,{"$f":"IF(SUM($B$7:$B633)=0,\"\",IF(A633<>\"\",IF(A633<$B$3,\"N\",\"Y\"),\"\"))","v":""},0,8.4,0,null,968,{"$f":"IF(AND(ISNUMBER(A633),NOT(ISNUMBER(A634))),IF((OFFSET(Q633,-Q633,0)>50),SUM(OFFSET(E633,-Q633+1,0):E633),SUM(OFFSET(E633,-Q633,0):E633)),IF(AND(ISNUMBER(P633),ISNUMBER(P634),P633  <P634),IF((OFFSET(Q633,-Q633,0)>50),SUM(OFFSET(E633,-Q633+1,0):E633),SUM(OFFSET(E633,-Q633,0):E633)),\"\"))","v":{"$error":"#NAME?"}},{"$f":"IF(ISNUMBER(L633),IF((OFFSET(Q633,-Q633,0)>50),SUM(OFFSET(G633,-Q633+1,0):G633),SUM(OFFSET(G633,-Q633,0):G633)),\"\")","v":""},null,null,{"$error":"#NAME?"},{"$error":"#NAME?"}]
["1999-10-06",null,null,null,0,{"$f":"IF(SUM($B$7:$B634)=0,\"\",IF(A634<>\"\",IF(A634<$B$3,\"N\",\"Y\"),\"\"))","v":""},0,8.4,0,null,967,{"$f":"IF(AND(ISNUMBER(A634),NOT(ISNUMBER(A635))),IF((OFFSET(Q634,-Q634,0)>50),SUM(OFFSET(E634,-Q634+1,0):E634),SUM(OFFSET(E634,-Q634,0):E634)),IF(AND(ISNUMBER(P634),ISNUMBER(P635),P634  <P635),IF((OFFSET(Q634,-Q634,0)>50),SUM(OFFSET(E634,-Q634+1,0):E634),SUM(OFFSET(E634,-Q634,0):E634)),\"\"))","v":{"$error":"#NAME?"}},{"$f":"IF(ISNUMBER(L634),IF((OFFSET(Q634,-Q634,0)>50),SUM(OFFSET(G634,-Q634+1,0):G634),SUM(OFFSET(G634,-Q634,0):G634)),\"\")","v":""},null,null,{"$error":"#NAME?"},{"$error":"#NAME?"}]
["1999-10-13",null,null,null,0,{"$f":"IF(SUM($B$7:$B635)=0,\"\",IF(A635<>\"\",IF(A635<$B$3,\"N\",\"Y\"),\"\"))","v":""},0,8.4,0,null,966,{"$f":"IF(AND(ISNUMBER(A635),NOT(ISNUMBER(A636))),IF((OFFSET(Q635,-Q635,0)>50),SUM(OFFSET(E635,-Q635+1,0):E635),SUM(OFFSET(E635,-Q635,0):E635)),IF(AND(ISNUMBER(P635),ISNUMBER(P636),P635  <P636),IF((OFFSET(Q635,-Q635,0)>50),SUM(OFFSET(E635,-Q635+1,0):E635),SUM(OFFSET(E635,-Q635,0):E635)),\"\"))","v":{"$error":"#NAME?"}},{"$f":"IF(ISNUMBER(L635),IF((OFFSET(Q635,-Q635,0)>50),SUM(OFFSET(G635,-Q635+1,0):G635),SUM(OFFSET(G635,-Q635,0):G635)),\"\")","v":""},null,null,{"$error":"#NAME?"},{"$error":"#NAME?"}]
["1999-10-20",null,null,null,0,{"$f":"IF(SUM($B$7:$B636)=0,\"\",IF(A636<>\"\",IF(A636<$B$3,\"N\",\"Y\"),\"\"))","v":""},0,8.4,0,null,965,{"$f":"IF(AND(ISNUMBER(A636),NOT(ISNUMBER(A637))),IF((OFFSET(Q636,-Q636,0)>50),SUM(OFFSET(E636,-Q636+1,0):E636),SUM(OFFSET(E636,-Q636,0):E636)),IF(AND(ISNUMBER(P636),ISNUMBER(P637),P636  <P637),IF((OFFSET(Q636,-Q636,0)>50),SUM(OFFSET(E636,-Q636+1,0):E636),SUM(OFFSET(E636,-Q636,0):E636)),\"\"))","v":{"$error":"#NAME?"}},{"$f":"IF(ISNUMBER(L636),IF((OFFSET(Q636,-Q636,0)>50),SUM(OFFSET(G636,-Q636+1,0):G636),SUM(OFFSET(G636,-Q636,0):G636)),\"\")","v":""},null,null,{"$error":"#NAME?"},{"$error":"#NAME?"}]
["1999-10-27",null,null,null,0,{"$f":"IF(SUM($B$7:$B637)=0,\"\",IF(A637<>\"\",IF(A637<$B$3,\"N\",\"Y\"),\"\"))","v":""},0,8.4,0,null,964,{"$f":"IF(AND(ISNUMBER(A637),NOT(ISNUMBER(A638))),IF((OFFSET(Q637,-Q637,0)>50),SUM(OFFSET(E637,-Q637+1,0):E637),SUM(OFFSET(E637,-Q637,0):E637)),IF(AND(ISNUMBER(P637),ISNUMBER(P638),P637  <P638),IF((OFFSET(Q637,-Q637,0)>50),SUM(OFFSET(E637,-Q637+1,0):E637),SUM(OFFSET(E637,-Q637,0):E637)),\"\"))","v":{"$error":"#NAME?"}},{"$f":"IF(ISNUMBER(L637),IF((OFFSET(Q637,-Q637,0)>50),SUM(OFFSET(G637,-Q637+1,0):G637),SUM(OFFSET(G637,-Q637,0):G637)),\"\")","v":""},null,null,{"$error":"#NAME?"},{"$error":"#NAME?"}]
["1999-11-03",null,null,null,0,{"$f":"IF(SUM($B$7:$B638)=0,\"\",IF(A638<>\"\",IF(A638<$B$3,\"N\",\"Y\"),\"\"))","v":""},0,8.4,0,null,963,{"$f":"IF(AND(ISNUMBER(A638),NOT(ISNUMBER(A639))),IF((OFFSET(Q638,-Q638,0)>50),SUM(OFFSET(E638,-Q638+1,0):E638),SUM(OFFSET(E638,-Q638,0):E638)),IF(AND(ISNUMBER(P638),ISNUMBER(P639),P638  <P639),IF((OFFSET(Q638,-Q638,0)>50),SUM(OFFSET(E638,-Q638+1,0):E638),SUM(OFFSET(E638,-Q638,0):E638)),\"\"))","v":{"$error":"#NAME?"}},{"$f":"IF(ISNUMBER(L638),IF((OFFSET(Q638,-Q638,0)>50),SUM(OFFSET(G638,-Q638+1,0):G638),SUM(OFFSET(G638,-Q638,0):G638)),\"\")","v":""},null,null,{"$error":"#NAME?"},{"$error":"#NAME?"}]
["1999-11-10",null,null,null,0,{"$f":"IF(SUM($B$7:$B639)=0,\"\",IF(A639<>\"\",IF(A639<$B$3,\"N\",\"Y\"),\"\"))","v":""},0,8.4,0,null,962,{"$f":"IF(AND(ISNUMBER(A639),NOT(ISNUMBER(A640))),IF((OFFSET(Q639,-Q639,0)>50),SUM(OFFSET(E639,-Q639+1,0):E639),SUM(OFFSET(E639,-Q639,0):E639)),IF(AND(ISNUMBER(P639),ISNUMBER(P640),P639  <P640),IF((OFFSET(Q639,-Q639,0)>50),SUM(OFFSET(E639,-Q639+1,0):E639),SUM(OFFSET(E639,-Q639,0):E639)),\"\"))","v":{"$error":"#NAME?"}},{"$f":"IF(ISNUMBER(L639),IF((OFFSET(Q639,-Q639,0)>50),SUM(OFFSET(G639,-Q639+1,0):G639),SUM(OFFSET(G639,-Q639,0):G639)),\"\")","v":""},null,null,{"$error":"#NAME?"},{"$error":"#NAME?"}]
["1999-11-17",null,null,null,0,{"$f":"IF(SUM($B$7:$B640)=0,\"\",IF(A640<>\"\",IF(A640<$B$3,\"N\",\"Y\"),\"\"))","v":""},0,8.4,0,null,961,{"$f":"IF(AND(ISNUMBER(A640),NOT(ISNUMBER(A641))),IF((OFFSET(Q640,-Q640,0)>50),SUM(OFFSET(E640,-Q640+1,0):E640),SUM(OFFSET(E640,-Q640,0):E640)),IF(AND(ISNUMBER(P640),ISNUMBER(P641),P640  <P641),IF((OFFSET(Q640,-Q640,0)>50),SUM(OFFSET(E640,-Q640+1,0):E640),SUM(OFFSET(E640,-Q640,0):E640)),\"\"))","v":{"$error":"#NAME?"}},{"$f":"IF(ISNUMBER(L640),IF((OFFSET(Q640,-Q640,0)>50),SUM(OFFSET(G640,-Q640+1,0):G640),SUM(OFFSET(G640,-Q640,0):G640)),\"\")","v":""},null,null,{"$error":"#NAME?"},{"$error":"#NAME?"}]
["1999-11-24",null,null,null,0,{"$f":"IF(SUM($B$7:$B641)=0,\"\",IF(A641<>\"\",IF(A641<$B$3,\"N\",\"Y\"),\"\"))","v":""},0,8.4,0,null,960,{"$f":"IF(AND(ISNUMBER(A641),NOT(ISNUMBER(A642))),IF((OFFSET(Q641,-Q641,0)>50),SUM(OFFSET(E641,-Q641+1,0):E641),SUM(OFFSET(E641,-Q641,0):E641)),IF(AND(ISNUMBER(P641),ISNUMBER(P642),P641  <P642),IF((OFFSET(Q641,-Q641,0)>50),SUM(OFFSET(E641,-Q641+1,0):E641),SUM(OFFSET(E641,-Q641,0):E641)),\"\"))","v":{"$error":"#NAME?"}},{"$f":"IF(ISNUMBER(L641),IF((OFFSET(Q641,-Q641,0)>50),SUM(OFFSET(G641,-Q641+1,0):G641),SUM(OFFSET(G641,-Q641,0):G641)),\"\")","v":""},null,null,{"$error":"#NAME?"},{"$error":"#NAME?"}]
["1999-12-01",null,null,null,0,{"$f":"IF(SUM($B$7:$B642)=0,\"\",IF(A642<>\"\",IF(A642<$B$3,\"N\",\"Y\"),\"\"))","v":""},0,8.4,0,null,959,{"$f":"IF(AND(ISNUMBER(A642),NOT(ISNUMBER(A643))),IF((OFFSET(Q642,-Q642,0)>50),SUM(OFFSET(E642,-Q642+1,0):E642),SUM(OFFSET(E642,-Q642,0):E642)),IF(AND(ISNUMBER(P642),ISNUMBER(P643),P642  <P643),IF((OFFSET(Q642,-Q642,0)>50),SUM(OFFSET(E642,-Q642+1,0):E642),SUM(OFFSET(E642,-Q642,0):E642)),\"\"))","v":{"$error":"#NAME?"}},{"$f":"IF(ISNUMBER(L642),IF((OFFSET(Q642,-Q642,0)>50),SUM(OFFSET(G642,-Q642+1,0):G642),SUM(OFFSET(G642,-Q642,0):G642)),\"\")","v":""},null,null,{"$error":"#NAME?"},{"$error":"#NAME?"}]
["1999-12-08",null,null,null,0,{"$f":"IF(SUM($B$7:$B643)=0,\"\",IF(A643<>\"\",IF(A643<$B$3,\"N\",\"Y\"),\"\"))","v":""},0,8.4,0,null,958,{"$f":"IF(AND(ISNUMBER(A643),NOT(ISNUMBER(A644))),IF((OFFSET(Q643,-Q643,0)>50),SUM(OFFSET(E643,-Q643+1,0):E643),SUM(OFFSET(E643,-Q643,0):E643)),IF(AND(ISNUMBER(P643),ISNUMBER(P644),P643  <P644),IF((OFFSET(Q643,-Q643,0)>50),SUM(OFFSET(E643,-Q643+1,0):E643),SUM(OFFSET(E643,-Q643,0):E643)),\"\"))","v":{"$error":"#NAME?"}},{"$f":"IF(ISNUMBER(L643),IF((OFFSET(Q643,-Q643,0)>50),SUM(OFFSET(G643,-Q643+1,0):G643),SUM(OFFSET(G643,-Q643,0):G643)),\"\")","v":""},null,null,{"$error":"#NAME?"},{"$error":"#NAME?"}]
["1999-12-15",null,null,null,0,{"$f":"IF(SUM($B$7:$B644)=0,\"\",IF(A644<>\"\",IF(A644<$B$3,\"N\",\"Y\"),\"\"))","v":""},0,8.4,0,null,957,{"$f":"IF(AND(ISNUMBER(A644),NOT(ISNUMBER(A645))),IF((OFFSET(Q644,-Q644,0)>50),SUM(OFFSET(E644,-Q644+1,0):E644),SUM(OFFSET(E644,-Q644,0):E644)),IF(AND(ISNUMBER(P644),ISNUMBER(P645),P644  <P645),IF((OFFSET(Q644,-Q644,0)>50),SUM(OFFSET(E644,-Q644+1,0):E644),SUM(OFFSET(E644,-Q644,0):E644)),\"\"))","v":{"$error":"#NAME?"}},{"$f":"IF(ISNUMBER(L644),IF((OFFSET(Q644,-Q644,0)>50),SUM(OFFSET(G644,-Q644+1,0):G644),SUM(OFFSET(G644,-Q644,0):G644)),\"\")","v":""},null,null,{"$error":"#NAME?"},{"$error":"#NAME?"}]
["1999-12-22",null,null,null,0,{"$f":"IF(SUM($B$7:$B645)=0,\"\",IF(A645<>\"\",IF(A645<$B$3,\"N\",\"Y\"),\"\"))","v":""},0,8.4,0,null,956,{"$f":"IF(AND(ISNUMBER(A645),NOT(ISNUMBER(A646))),IF((OFFSET(Q645,-Q645,0)>50),SUM(OFFSET(E645,-Q645+1,0):E645),SUM(OFFSET(E645,-Q645,0):E645)),IF(AND(ISNUMBER(P645),ISNUMBER(P646),P645  <P646),IF((OFFSET(Q645,-Q645,0)>50),SUM(OFFSET(E645,-Q645+1,0):E645),SUM(OFFSET(E645,-Q645,0):E645)),\"\"))","v":{"$error":"#NAME?"}},{"$f":"IF(ISNUMBER(L645),IF((OFFSET(Q645,-Q645,0)>50),SUM(OFFSET(G645,-Q645+1,0):G645),SUM(OFFSET(G645,-Q645,0):G645)),\"\")","v":""},null,null,{"$error":"#NAME?"},{"$error":"#NAME?"}]
["1999-12-29",null,null,null,0,{"$f":"IF(SUM($B$7:$B646)=0,\"\",IF(A646<>\"\",IF(A646<$B$3,\"N\",\"Y\"),\"\"))","v":""},0,8.4,0,null,955,{"$f":"IF(AND(ISNUMBER(A646),NOT(ISNUMBER(A647))),IF((OFFSET(Q646,-Q646,0)>50),SUM(OFFSET(E646,-Q646+1,0):E646),SUM(OFFSET(E646,-Q646,0):E646)),IF(AND(ISNUMBER(P646),ISNUMBER(P647),P646  <P647),IF((OFFSET(Q646,-Q646,0)>50),SUM(OFFSET(E646,-Q646+1,0):E646),SUM(OFFSET(E646,-Q646,0):E646)),\"\"))","v":{"$error":"#NAME?"}},{"$f":"IF(ISNUMBER(L646),IF((OFFSET(Q646,-Q646,0)>50),SUM(OFFSET(G646,-Q646+1,0):G646),SUM(OFFSET(G646,-Q646,0):G646)),\"\")","v":""},null,null,{"$error":"#NAME?"},{"$error":"#NAME?"}]
["2000-01-05",null,null,null,0,{"$f":"IF(SUM($B$7:$B647)=0,\"\",IF(A647<>\"\",IF(A647<$B$3,\"N\",\"Y\"),\"\"))","v":""},0,8.4,0,null,{"$f":"IF(A647<>\"\",IF((TODAY()-A647)/7>=0,INT((TODAY()-A647)/7),0),\"\")","v":954},{"$f":"IF(AND(ISNUMBER(A647),NOT(ISNUMBER(A648))),IF((OFFSET(Q647,-Q647,0)>50),SUM(OFFSET(E647,-Q647+1,0):E647),SUM(OFFSET(E647,-Q647,0):E647)),IF(AND(ISNUMBER(P647),ISNUMBER(P648),P647  <P648),IF((OFFSET(Q647,-Q647,0)>50),SUM(OFFSET(E647,-Q647+1,0):E647),SUM(OFFSET(E647,-Q647,0):E647)),\"\"))","v":{"$error":"#NAME?"}},{"$f":"IF(ISNUMBER(L647),IF((OFFSET(Q647,-Q647,0)>50),SUM(OFFSET(G647,-Q647+1,0):G647),SUM(OFFSET(G647,-Q647,0):G647)),\"\")","v":""},null,null,{"$f":"FinYear(A647)","v":{"$error":"#NAME?"}},{"$error":"#NAME?"}]
["2000-01-12",null,null,null,{"$f":"IF(A648<>\"\",IF(B648-C648>=0,B648-C648,0),\"\")","v":0},{"$f":"IF(SUM($B$7:$B648)=0,\"\",IF(A648<>\"\",IF(A648<$B$3,\"N\",\"Y\"),\"\"))","v":""},0,8.4,0,null,953,{"$f":"IF(AND(ISNUMBER(A648),NOT(ISNUMBER(A649))),IF((OFFSET(Q648,-Q648,0)>50),SUM(OFFSET(E648,-Q648+1,0):E648),SUM(OFFSET(E648,-Q648,0):E648)),IF(AND(ISNUMBER(P648),ISNUMBER(P649),P648  <P649),IF((OFFSET(Q648,-Q648,0)>50),SUM(OFFSET(E648,-Q648+1,0):E648),SUM(OFFSET(E648,-Q648,0):E648)),\"\"))","v":{"$error":"#NAME?"}},{"$f":"IF(ISNUMBER(L648),IF((OFFSET(Q648,-Q648,0)>50),SUM(OFFSET(G648,-Q648+1,0):G648),SUM(OFFSET(G648,-Q648,0):G648)),\"\")","v":""},null,null,{"$error":"#NAME?"},{"$f":"ROUND((A648-StartOfFinYear(P648))/7,0)","v":{"$error":"#NAME?"}}]
["2000-01-19",null,null,null,0,{"$f":"IF(SUM($B$7:$B649)=0,\"\",IF(A649<>\"\",IF(A649<$B$3,\"N\",\"Y\"),\"\"))","v":""},{"$f":"IF(F649=\"N\",0,IF(A649<>\"\",IF(K649>=0,((E649+I648)*(1+(H649/52)/100)-E649-I648),0),\"\"))","v":0},8.4,{"$f":"IF(A649<>\"\",I648+E649+G649,\"\")","v":0},null,952,{"$f":"IF(AND(ISNUMBER(A649),NOT(ISNUMBER(A650))),IF((OFFSET(Q649,-Q649,0)>50),SUM(OFFSET(E649,-Q649+1,0):E649),SUM(OFFSET(E649,-Q649,0):E649)),IF(AND(ISNUMBER(P649),ISNUMBER(P650),P649  <P650),IF((OFFSET(Q649,-Q649,0)>50),SUM(OFFSET(E649,-Q649+1,0):E649),SUM(OFFSET(E649,-Q649,0):E649)),\"\"))","v":{"$error":"#NAME?"}},{"$f":"IF(ISNUMBER(L649),IF((OFFSET(Q649,-Q649,0)>50),SUM(OFFSET(G649,-Q649+1,0):G649),SUM(OFFSET(G649,-Q649,0):G649)),\"\")","v":""},null,null,{"$error":"#NAME?"},{"$error":"#NAME?"}]
[{"$f":"IF(A649<>\"\",IF(A649+12<=TODAY(),+A649+7,\"\"),\"\")","v":"2000-01-26"},null,null,null,0,{"$f":"IF(SUM($B$7:$B650)=0,\"\",IF(A650<>\"\",IF(A650<$B$3,\"N\",\"Y\"),\"\"))","v":""},0,8.4,0,null,951,{"$f":"IF(AND(ISNUMBER(A650),NOT(ISNUMBER(A651))),IF((OFFSET(Q650,-Q650,0)>50),SUM(OFFSET(E650,-Q650+1,0):E650),SUM(OFFSET(E650,-Q650,0):E650)),IF(AND(ISNUMBER(P650),ISNUMBER(P651),P650  <P651),IF((OFFSET(Q650,-Q650,0)>50),SUM(OFFSET(E650,-Q650+1,0):E650),SUM(OFFSET(E650,-Q650,0):E650)),\"\"))","v":{"$error":"#NAME?"}},{"$f":"IF(ISNUMBER(L650),IF((OFFSET(Q650,-Q650,0)>50),SUM(OFFSET(G650,-Q650+1,0):G650),SUM(OFFSET(G650,-Q650,0):G650)),\"\")","v":""},null,null,{"$error":"#NAME?"},{"$error":"#NAME?"}]
["2000-02-02",null,null,null,0,{"$f":"IF(SUM($B$7:$B651)=0,\"\",IF(A651<>\"\",IF(A651<$B$3,\"N\",\"Y\"),\"\"))","v":""},0,8.4,0,null,950,{"$f":"IF(AND(ISNUMBER(A651),NOT(ISNUMBER(A652))),IF((OFFSET(Q651,-Q651,0)>50),SUM(OFFSET(E651,-Q651+1,0):E651),SUM(OFFSET(E651,-Q651,0):E651)),IF(AND(ISNUMBER(P651),ISNUMBER(P652),P651  <P652),IF((OFFSET(Q651,-Q651,0)>50),SUM(OFFSET(E651,-Q651+1,0):E651),SUM(OFFSET(E651,-Q651,0):E651)),\"\"))","v":{"$error":"#NAME?"}},{"$f":"IF(ISNUMBER(L651),IF((OFFSET(Q651,-Q651,0)>50),SUM(OFFSET(G651,-Q651+1,0):G651),SUM(OFFSET(G651,-Q651,0):G651)),\"\")","v":""},null,null,{"$error":"#NAME?"},{"$error":"#NAME?"}]
["2000-02-09",null,null,null,0,{"$f":"IF(SUM($B$7:$B652)=0,\"\",IF(A652<>\"\",IF(A652<$B$3,\"N\",\"Y\"),\"\"))","v":""},0,8.4,0,null,949,{"$f":"IF(AND(ISNUMBER(A652),NOT(ISNUMBER(A653))),IF((OFFSET(Q652,-Q652,0)>50),SUM(OFFSET(E652,-Q652+1,0):E652),SUM(OFFSET(E652,-Q652,0):E652)),IF(AND(ISNUMBER(P652),ISNUMBER(P653),P652  <P653),IF((OFFSET(Q652,-Q652,0)>50),SUM(OFFSET(E652,-Q652+1,0):E652),SUM(OFFSET(E652,-Q652,0):E652)),\"\"))","v":{"$error":"#NAME?"}},{"$f":"IF(ISNUMBER(L652),IF((OFFSET(Q652,-Q652,0)>50),SUM(OFFSET(G652,-Q652+1,0):G652),SUM(OFFSET(G652,-Q652,0):G652)),\"\")","v":""},null,null,{"$error":"#NAME?"},{"$error":"#NAME?"}]
["2000-02-16",null,null,null,0,{"$f":"IF(SUM($B$7:$B653)=0,\"\",IF(A653<>\"\",IF(A653<$B$3,\"N\",\"Y\"),\"\"))","v":""},0,8.4,0,null,948,{"$f":"IF(AND(ISNUMBER(A653),NOT(ISNUMBER(A654))),IF((OFFSET(Q653,-Q653,0)>50),SUM(OFFSET(E653,-Q653+1,0):E653),SUM(OFFSET(E653,-Q653,0):E653)),IF(AND(ISNUMBER(P653),ISNUMBER(P654),P653  <P654),IF((OFFSET(Q653,-Q653,0)>50),SUM(OFFSET(E653,-Q653+1,0):E653),SUM(OFFSET(E653,-Q653,0):E653)),\"\"))","v":{"$error":"#NAME?"}},{"$f":"IF(ISNUMBER(L653),IF((OFFSET(Q653,-Q653,0)>50),SUM(OFFSET(G653,-Q653+1,0):G653),SUM(OFFSET(G653,-Q653,0):G653)),\"\")","v":""},null,null,{"$error":"#NAME?"},{"$error":"#NAME?"}]
["2000-02-23",null,null,null,0,{"$f":"IF(SUM($B$7:$B654)=0,\"\",IF(A654<>\"\",IF(A654<$B$3,\"N\",\"Y\"),\"\"))","v":""},0,8.4,0,null,947,{"$f":"IF(AND(ISNUMBER(A654),NOT(ISNUMBER(A655))),IF((OFFSET(Q654,-Q654,0)>50),SUM(OFFSET(E654,-Q654+1,0):E654),SUM(OFFSET(E654,-Q654,0):E654)),IF(AND(ISNUMBER(P654),ISNUMBER(P655),P654  <P655),IF((OFFSET(Q654,-Q654,0)>50),SUM(OFFSET(E654,-Q654+1,0):E654),SUM(OFFSET(E654,-Q654,0):E654)),\"\"))","v":{"$error":"#NAME?"}},{"$f":"IF(ISNUMBER(L654),IF((OFFSET(Q654,-Q654,0)>50),SUM(OFFSET(G654,-Q654+1,0):G654),SUM(OFFSET(G654,-Q654,0):G654)),\"\")","v":""},null,null,{"$error":"#NAME?"},{"$error":"#NAME?"}]
["2000-03-01",null,null,null,0,{"$f":"IF(SUM($B$7:$B655)=0,\"\",IF(A655<>\"\",IF(A655<$B$3,\"N\",\"Y\"),\"\"))","v":""},0,8.4,0,null,946,{"$f":"IF(AND(ISNUMBER(A655),NOT(ISNUMBER(A656))),IF((OFFSET(Q655,-Q655,0)>50),SUM(OFFSET(E655,-Q655+1,0):E655),SUM(OFFSET(E655,-Q655,0):E655)),IF(AND(ISNUMBER(P655),ISNUMBER(P656),P655  <P656),IF((OFFSET(Q655,-Q655,0)>50),SUM(OFFSET(E655,-Q655+1,0):E655),SUM(OFFSET(E655,-Q655,0):E655)),\"\"))","v":{"$error":"#NAME?"}},{"$f":"IF(ISNUMBER(L655),IF((OFFSET(Q655,-Q655,0)>50),SUM(OFFSET(G655,-Q655+1,0):G655),SUM(OFFSET(G655,-Q655,0):G655)),\"\")","v":""},null,null,{"$error":"#NAME?"},{"$error":"#NAME?"}]
["2000-03-08",null,null,null,0,{"$f":"IF(SUM($B$7:$B656)=0,\"\",IF(A656<>\"\",IF(A656<$B$3,\"N\",\"Y\"),\"\"))","v":""},0,8.4,0,null,945,{"$f":"IF(AND(ISNUMBER(A656),NOT(ISNUMBER(A657))),IF((OFFSET(Q656,-Q656,0)>50),SUM(OFFSET(E656,-Q656+1,0):E656),SUM(OFFSET(E656,-Q656,0):E656)),IF(AND(ISNUMBER(P656),ISNUMBER(P657),P656  <P657),IF((OFFSET(Q656,-Q656,0)>50),SUM(OFFSET(E656,-Q656+1,0):E656),SUM(OFFSET(E656,-Q656,0):E656)),\"\"))","v":{"$error":"#NAME?"}},{"$f":"IF(ISNUMBER(L656),IF((OFFSET(Q656,-Q656,0)>50),SUM(OFFSET(G656,-Q656+1,0):G656),SUM(OFFSET(G656,-Q656,0):G656)),\"\")","v":""},null,null,{"$error":"#NAME?"},{"$error":"#NAME?"}]
["2000-03-15",null,null,null,0,{"$f":"IF(SUM($B$7:$B657)=0,\"\",IF(A657<>\"\",IF(A657<$B$3,\"N\",\"Y\"),\"\"))","v":""},0,8.4,0,null,944,{"$f":"IF(AND(ISNUMBER(A657),NOT(ISNUMBER(A658))),IF((OFFSET(Q657,-Q657,0)>50),SUM(OFFSET(E657,-Q657+1,0):E657),SUM(OFFSET(E657,-Q657,0):E657)),IF(AND(ISNUMBER(P657),ISNUMBER(P658),P657  <P658),IF((OFFSET(Q657,-Q657,0)>50),SUM(OFFSET(E657,-Q657+1,0):E657),SUM(OFFSET(E657,-Q657,0):E657)),\"\"))","v":{"$error":"#NAME?"}},{"$f":"IF(ISNUMBER(L657),IF((OFFSET(Q657,-Q657,0)>50),SUM(OFFSET(G657,-Q657+1,0):G657),SUM(OFFSET(G657,-Q657,0):G657)),\"\")","v":""},null,null,{"$error":"#NAME?"},{"$error":"#NAME?"}]
["2000-03-22",null,null,null,0,{"$f":"IF(SUM($B$7:$B658)=0,\"\",IF(A658<>\"\",IF(A658<$B$3,\"N\",\"Y\"),\"\"))","v":""},0,8.4,0,null,943,{"$f":"IF(AND(ISNUMBER(A658),NOT(ISNUMBER(A659))),IF((OFFSET(Q658,-Q658,0)>50),SUM(OFFSET(E658,-Q658+1,0):E658),SUM(OFFSET(E658,-Q658,0):E658)),IF(AND(ISNUMBER(P658),ISNUMBER(P659),P658  <P659),IF((OFFSET(Q658,-Q658,0)>50),SUM(OFFSET(E658,-Q658+1,0):E658),SUM(OFFSET(E658,-Q658,0):E658)),\"\"))","v":{"$error":"#NAME?"}},{"$f":"IF(ISNUMBER(L658),IF((OFFSET(Q658,-Q658,0)>50),SUM(OFFSET(G658,-Q658+1,0):G658),SUM(OFFSET(G658,-Q658,0):G658)),\"\")","v":""},null,null,{"$error":"#NAME?"},{"$error":"#NAME?"}]
["2000-03-29",null,null,null,0,{"$f":"IF(SUM($B$7:$B659)=0,\"\",IF(A659<>\"\",IF(A659<$B$3,\"N\",\"Y\"),\"\"))","v":""},0,8.4,0,null,942,{"$f":"IF(AND(ISNUMBER(A659),NOT(ISNUMBER(A660))),IF((OFFSET(Q659,-Q659,0)>50),SUM(OFFSET(E659,-Q659+1,0):E659),SUM(OFFSET(E659,-Q659,0):E659)),IF(AND(ISNUMBER(P659),ISNUMBER(P660),P659  <P660),IF((OFFSET(Q659,-Q659,0)>50),SUM(OFFSET(E659,-Q659+1,0):E659),SUM(OFFSET(E659,-Q659,0):E659)),\"\"))","v":{"$error":"#NAME?"}},{"$f":"IF(ISNUMBER(L659),IF((OFFSET(Q659,-Q659,0)>50),SUM(OFFSET(G659,-Q659+1,0):G659),SUM(OFFSET(G659,-Q659,0):G659)),\"\")","v":""},null,null,{"$error":"#NAME?"},{"$error":"#NAME?"}]
["2000-04-05",null,null,null,0,{"$f":"IF(SUM($B$7:$B660)=0,\"\",IF(A660<>\"\",IF(A660<$B$3,\"N\",\"Y\"),\"\"))","v":""},0,8.4,0,null,941,{"$f":"IF(AND(ISNUMBER(A660),NOT(ISNUMBER(A661))),IF((OFFSET(Q660,-Q660,0)>50),SUM(OFFSET(E660,-Q660+1,0):E660),SUM(OFFSET(E660,-Q660,0):E660)),IF(AND(ISNUMBER(P660),ISNUMBER(P661),P660  <P661),IF((OFFSET(Q660,-Q660,0)>50),SUM(OFFSET(E660,-Q660+1,0):E660),SUM(OFFSET(E660,-Q660,0):E660)),\"\"))","v":{"$error":"#NAME?"}},{"$f":"IF(ISNUMBER(L660),IF((OFFSET(Q660,-Q660,0)>50),SUM(OFFSET(G660,-Q660+1,0):G660),SUM(OFFSET(G660,-Q660,0):G660)),\"\")","v":""},null,null,{"$error":"#NAME?"},{"$error":"#NAME?"}]
["2000-04-12",null,null,null,0,{"$f":"IF(SUM($B$7:$B661)=0,\"\",IF(A661<>\"\",IF(A661<$B$3,\"N\",\"Y\"),\"\"))","v":""},0,8.4,0,null,940,{"$f":"IF(AND(ISNUMBER(A661),NOT(ISNUMBER(A662))),IF((OFFSET(Q661,-Q661,0)>50),SUM(OFFSET(E661,-Q661+1,0):E661),SUM(OFFSET(E661,-Q661,0):E661)),IF(AND(ISNUMBER(P661),ISNUMBER(P662),P661  <P662),IF((OFFSET(Q661,-Q661,0)>50),SUM(OFFSET(E661,-Q661+1,0):E661),SUM(OFFSET(E661,-Q661,0):E661)),\"\"))","v":{"$error":"#NAME?"}},{"$f":"IF(ISNUMBER(L661),IF((OFFSET(Q661,-Q661,0)>50),SUM(OFFSET(G661,-Q661+1,0):G661),SUM(OFFSET(G661,-Q661,0):G661)),\"\")","v":""},null,null,{"$error":"#NAME?"},{"$error":"#NAME?"}]
["2000-04-19",null,null,null,0,{"$f":"IF(SUM($B$7:$B662)=0,\"\",IF(A662<>\"\",IF(A662<$B$3,\"N\",\"Y\"),\"\"))","v":""},0,8.4,0,null,939,{"$f":"IF(AND(ISNUMBER(A662),NOT(ISNUMBER(A663))),IF((OFFSET(Q662,-Q662,0)>50),SUM(OFFSET(E662,-Q662+1,0):E662),SUM(OFFSET(E662,-Q662,0):E662)),IF(AND(ISNUMBER(P662),ISNUMBER(P663),P662  <P663),IF((OFFSET(Q662,-Q662,0)>50),SUM(OFFSET(E662,-Q662+1,0):E662),SUM(OFFSET(E662,-Q662,0):E662)),\"\"))","v":{"$error":"#NAME?"}},{"$f":"IF(ISNUMBER(L662),IF((OFFSET(Q662,-Q662,0)>50),SUM(OFFSET(G662,-Q662+1,0):G662),SUM(OFFSET(G662,-Q662,0):G662)),\"\")","v":""},null,null,{"$error":"#NAME?"},{"$error":"#NAME?"}]
["2000-04-26",null,null,null,0,{"$f":"IF(SUM($B$7:$B663)=0,\"\",IF(A663<>\"\",IF(A663<$B$3,\"N\",\"Y\"),\"\"))","v":""},0,8.4,0,null,938,{"$f":"IF(AND(ISNUMBER(A663),NOT(ISNUMBER(A664))),IF((OFFSET(Q663,-Q663,0)>50),SUM(OFFSET(E663,-Q663+1,0):E663),SUM(OFFSET(E663,-Q663,0):E663)),IF(AND(ISNUMBER(P663),ISNUMBER(P664),P663  <P664),IF((OFFSET(Q663,-Q663,0)>50),SUM(OFFSET(E663,-Q663+1,0):E663),SUM(OFFSET(E663,-Q663,0):E663)),\"\"))","v":{"$error":"#NAME?"}},{"$f":"IF(ISNUMBER(L663),IF((OFFSET(Q663,-Q663,0)>50),SUM(OFFSET(G663,-Q663+1,0):G663),SUM(OFFSET(G663,-Q663,0):G663)),\"\")","v":""},null,null,{"$error":"#NAME?"},{"$error":"#NAME?"}]
["2000-05-03",null,null,null,0,{"$f":"IF(SUM($B$7:$B664)=0,\"\",IF(A664<>\"\",IF(A664<$B$3,\"N\",\"Y\"),\"\"))","v":""},0,8.4,0,null,937,{"$f":"IF(AND(ISNUMBER(A664),NOT(ISNUMBER(A665))),IF((OFFSET(Q664,-Q664,0)>50),SUM(OFFSET(E664,-Q664+1,0):E664),SUM(OFFSET(E664,-Q664,0):E664)),IF(AND(ISNUMBER(P664),ISNUMBER(P665),P664  <P665),IF((OFFSET(Q664,-Q664,0)>50),SUM(OFFSET(E664,-Q664+1,0):E664),SUM(OFFSET(E664,-Q664,0):E664)),\"\"))","v":{"$error":"#NAME?"}},{"$f":"IF(ISNUMBER(L664),IF((OFFSET(Q664,-Q664,0)>50),SUM(OFFSET(G664,-Q664+1,0):G664),SUM(OFFSET(G664,-Q664,0):G664)),\"\")","v":""},null,null,{"$error":"#NAME?"},{"$error":"#NAME?"}]
["2000-05-10",null,null,null,0,{"$f":"IF(SUM($B$7:$B665)=0,\"\",IF(A665<>\"\",IF(A665<$B$3,\"N\",\"Y\"),\"\"))","v":""},0,8.4,0,null,936,{"$f":"IF(AND(ISNUMBER(A665),NOT(ISNUMBER(A666))),IF((OFFSET(Q665,-Q665,0)>50),SUM(OFFSET(E665,-Q665+1,0):E665),SUM(OFFSET(E665,-Q665,0):E665)),IF(AND(ISNUMBER(P665),ISNUMBER(P666),P665  <P666),IF((OFFSET(Q665,-Q665,0)>50),SUM(OFFSET(E665,-Q665+1,0):E665),SUM(OFFSET(E665,-Q665,0):E665)),\"\"))","v":{"$error":"#NAME?"}},{"$f":"IF(ISNUMBER(L665),IF((OFFSET(Q665,-Q665,0)>50),SUM(OFFSET(G665,-Q665+1,0):G665),SUM(OFFSET(G665,-Q665,0):G665)),\"\")","v":""},null,null,{"$error":"#NAME?"},{"$error":"#NAME?"}]
["2000-05-17",null,null,null,0,{"$f":"IF(SUM($B$7:$B666)=0,\"\",IF(A666<>\"\",IF(A666<$B$3,\"N\",\"Y\"),\"\"))","v":""},0,8.4,0,null,935,{"$f":"IF(AND(ISNUMBER(A666),NOT(ISNUMBER(A667))),IF((OFFSET(Q666,-Q666,0)>50),SUM(OFFSET(E666,-Q666+1,0):E666),SUM(OFFSET(E666,-Q666,0):E666)),IF(AND(ISNUMBER(P666),ISNUMBER(P667),P666  <P667),IF((OFFSET(Q666,-Q666,0)>50),SUM(OFFSET(E666,-Q666+1,0):E666),SUM(OFFSET(E666,-Q666,0):E666)),\"\"))","v":{"$error":"#NAME?"}},{"$f":"IF(ISNUMBER(L666),IF((OFFSET(Q666,-Q666,0)>50),SUM(OFFSET(G666,-Q666+1,0):G666),SUM(OFFSET(G666,-Q666,0):G666)),\"\")","v":""},null,null,{"$error":"#NAME?"},{"$error":"#NAME?"}]
["2000-05-24",null,null,null,0,{"$f":"IF(SUM($B$7:$B667)=0,\"\",IF(A667<>\"\",IF(A667<$B$3,\"N\",\"Y\"),\"\"))","v":""},0,8.4,0,null,934,{"$f":"IF(AND(ISNUMBER(A667),NOT(ISNUMBER(A668))),IF((OFFSET(Q667,-Q667,0)>50),SUM(OFFSET(E667,-Q667+1,0):E667),SUM(OFFSET(E667,-Q667,0):E667)),IF(AND(ISNUMBER(P667),ISNUMBER(P668),P667  <P668),IF((OFFSET(Q667,-Q667,0)>50),SUM(OFFSET(E667,-Q667+1,0):E667),SUM(OFFSET(E667,-Q667,0):E667)),\"\"))","v":{"$error":"#NAME?"}},{"$f":"IF(ISNUMBER(L667),IF((OFFSET(Q667,-Q667,0)>50),SUM(OFFSET(G667,-Q667+1,0):G667),SUM(OFFSET(G667,-Q667,0):G667)),\"\")","v":""},null,null,{"$error":"#NAME?"},{"$error":"#NAME?"}]
["2000-05-31",null,null,null,0,{"$f":"IF(SUM($B$7:$B668)=0,\"\",IF(A668<>\"\",IF(A668<$B$3,\"N\",\"Y\"),\"\"))","v":""},0,8.4,0,null,933,{"$f":"IF(AND(ISNUMBER(A668),NOT(ISNUMBER(A669))),IF((OFFSET(Q668,-Q668,0)>50),SUM(OFFSET(E668,-Q668+1,0):E668),SUM(OFFSET(E668,-Q668,0):E668)),IF(AND(ISNUMBER(P668),ISNUMBER(P669),P668  <P669),IF((OFFSET(Q668,-Q668,0)>50),SUM(OFFSET(E668,-Q668+1,0):E668),SUM(OFFSET(E668,-Q668,0):E668)),\"\"))","v":{"$error":"#NAME?"}},{"$f":"IF(ISNUMBER(L668),IF((OFFSET(Q668,-Q668,0)>50),SUM(OFFSET(G668,-Q668+1,0):G668),SUM(OFFSET(G668,-Q668,0):G668)),\"\")","v":""},null,null,{"$error":"#NAME?"},{"$error":"#NAME?"}]
["2000-06-07",null,null,null,0,{"$f":"IF(SUM($B$7:$B669)=0,\"\",IF(A669<>\"\",IF(A669<$B$3,\"N\",\"Y\"),\"\"))","v":""},0,8.4,0,null,932,{"$f":"IF(AND(ISNUMBER(A669),NOT(ISNUMBER(A670))),IF((OFFSET(Q669,-Q669,0)>50),SUM(OFFSET(E669,-Q669+1,0):E669),SUM(OFFSET(E669,-Q669,0):E669)),IF(AND(ISNUMBER(P669),ISNUMBER(P670),P669  <P670),IF((OFFSET(Q669,-Q669,0)>50),SUM(OFFSET(E669,-Q669+1,0):E669),SUM(OFFSET(E669,-Q669,0):E669)),\"\"))","v":{"$error":"#NAME?"}},{"$f":"IF(ISNUMBER(L669),IF((OFFSET(Q669,-Q669,0)>50),SUM(OFFSET(G669,-Q669+1,0):G669),SUM(OFFSET(G669,-Q669,0):G669)),\"\")","v":""},null,null,{"$error":"#NAME?"},{"$error":"#NAME?"}]
["2000-06-14",null,null,null,0,{"$f":"IF(SUM($B$7:$B670)=0,\"\",IF(A670<>\"\",IF(A670<$B$3,\"N\",\"Y\"),\"\"))","v":""},0,8.4,0,null,931,{"$f":"IF(AND(ISNUMBER(A670),NOT(ISNUMBER(A671))),IF((OFFSET(Q670,-Q670,0)>50),SUM(OFFSET(E670,-Q670+1,0):E670),SUM(OFFSET(E670,-Q670,0):E670)),IF(AND(ISNUMBER(P670),ISNUMBER(P671),P670  <P671),IF((OFFSET(Q670,-Q670,0)>50),SUM(OFFSET(E670,-Q670+1,0):E670),SUM(OFFSET(E670,-Q670,0):E670)),\"\"))","v":{"$error":"#NAME?"}},{"$f":"IF(ISNUMBER(L670),IF((OFFSET(Q670,-Q670,0)>50),SUM(OFFSET(G670,-Q670+1,0):G670),SUM(OFFSET(G670,-Q670,0):G670)),\"\")","v":""},null,null,{"$error":"#NAME?"},{"$error":"#NAME?"}]
["2000-06-21",null,null,null,0,{"$f":"IF(SUM($B$7:$B671)=0,\"\",IF(A671<>\"\",IF(A671<$B$3,\"N\",\"Y\"),\"\"))","v":""},0,8.4,0,null,930,{"$f":"IF(AND(ISNUMBER(A671),NOT(ISNUMBER(A672))),IF((OFFSET(Q671,-Q671,0)>50),SUM(OFFSET(E671,-Q671+1,0):E671),SUM(OFFSET(E671,-Q671,0):E671)),IF(AND(ISNUMBER(P671),ISNUMBER(P672),P671  <P672),IF((OFFSET(Q671,-Q671,0)>50),SUM(OFFSET(E671,-Q671+1,0):E671),SUM(OFFSET(E671,-Q671,0):E671)),\"\"))","v":{"$error":"#NAME?"}},{"$f":"IF(ISNUMBER(L671),IF((OFFSET(Q671,-Q671,0)>50),SUM(OFFSET(G671,-Q671+1,0):G671),SUM(OFFSET(G671,-Q671,0):G671)),\"\")","v":""},null,null,{"$error":"#NAME?"},{"$error":"#NAME?"}]
["2000-06-28",null,null,null,0,{"$f":"IF(SUM($B$7:$B672)=0,\"\",IF(A672<>\"\",IF(A672<$B$3,\"N\",\"Y\"),\"\"))","v":""},0,8.4,0,null,929,{"$f":"IF(AND(ISNUMBER(A672),NOT(ISNUMBER(A673))),IF((OFFSET(Q672,-Q672,0)>50),SUM(OFFSET(E672,-Q672+1,0):E672),SUM(OFFSET(E672,-Q672,0):E672)),IF(AND(ISNUMBER(P672),ISNUMBER(P673),P672  <P673),IF((OFFSET(Q672,-Q672,0)>50),SUM(OFFSET(E672,-Q672+1,0):E672),SUM(OFFSET(E672,-Q672,0):E672)),\"\"))","v":{"$error":"#NAME?"}},{"$f":"IF(ISNUMBER(L672),IF((OFFSET(Q672,-Q672,0)>50),SUM(OFFSET(G672,-Q672+1,0):G672),SUM(OFFSET(G672,-Q672,0):G672)),\"\")","v":""},null,null,{"$error":"#NAME?"},{"$error":"#NAME?"}]
["2000-07-05",null,null,null,0,{"$f":"IF(SUM($B$7:$B673)=0,\"\",IF(A673<>\"\",IF(A673<$B$3,\"N\",\"Y\"),\"\"))","v":""},0,9.65,0,null,928,{"$f":"IF(AND(ISNUMBER(A673),NOT(ISNUMBER(A674))),IF((OFFSET(Q673,-Q673,0)>50),SUM(OFFSET(E673,-Q673+1,0):E673),SUM(OFFSET(E673,-Q673,0):E673)),IF(AND(ISNUMBER(P673),ISNUMBER(P674),P673  <P674),IF((OFFSET(Q673,-Q673,0)>50),SUM(OFFSET(E673,-Q673+1,0):E673),SUM(OFFSET(E673,-Q673,0):E673)),\"\"))","v":{"$error":"#NAME?"}},{"$f":"IF(ISNUMBER(L673),IF((OFFSET(Q673,-Q673,0)>50),SUM(OFFSET(G673,-Q673+1,0):G673),SUM(OFFSET(G673,-Q673,0):G673)),\"\")","v":""},null,null,{"$error":"#NAME?"},{"$error":"#NAME?"}]
["2000-07-12",null,null,null,0,{"$f":"IF(SUM($B$7:$B674)=0,\"\",IF(A674<>\"\",IF(A674<$B$3,\"N\",\"Y\"),\"\"))","v":""},0,9.65,0,null,927,{"$f":"IF(AND(ISNUMBER(A674),NOT(ISNUMBER(A675))),IF((OFFSET(Q674,-Q674,0)>50),SUM(OFFSET(E674,-Q674+1,0):E674),SUM(OFFSET(E674,-Q674,0):E674)),IF(AND(ISNUMBER(P674),ISNUMBER(P675),P674  <P675),IF((OFFSET(Q674,-Q674,0)>50),SUM(OFFSET(E674,-Q674+1,0):E674),SUM(OFFSET(E674,-Q674,0):E674)),\"\"))","v":{"$error":"#NAME?"}},{"$f":"IF(ISNUMBER(L674),IF((OFFSET(Q674,-Q674,0)>50),SUM(OFFSET(G674,-Q674+1,0):G674),SUM(OFFSET(G674,-Q674,0):G674)),\"\")","v":""},null,null,{"$error":"#NAME?"},{"$error":"#NAME?"}]
["2000-07-19",null,null,null,0,{"$f":"IF(SUM($B$7:$B675)=0,\"\",IF(A675<>\"\",IF(A675<$B$3,\"N\",\"Y\"),\"\"))","v":""},0,9.65,0,null,926,{"$f":"IF(AND(ISNUMBER(A675),NOT(ISNUMBER(A676))),IF((OFFSET(Q675,-Q675,0)>50),SUM(OFFSET(E675,-Q675+1,0):E675),SUM(OFFSET(E675,-Q675,0):E675)),IF(AND(ISNUMBER(P675),ISNUMBER(P676),P675  <P676),IF((OFFSET(Q675,-Q675,0)>50),SUM(OFFSET(E675,-Q675+1,0):E675),SUM(OFFSET(E675,-Q675,0):E675)),\"\"))","v":{"$error":"#NAME?"}},{"$f":"IF(ISNUMBER(L675),IF((OFFSET(Q675,-Q675,0)>50),SUM(OFFSET(G675,-Q675+1,0):G675),SUM(OFFSET(G675,-Q675,0):G675)),\"\")","v":""},null,null,{"$error":"#NAME?"},{"$error":"#NAME?"}]
["2000-07-26",null,null,null,0,{"$f":"IF(SUM($B$7:$B676)=0,\"\",IF(A676<>\"\",IF(A676<$B$3,\"N\",\"Y\"),\"\"))","v":""},0,9.65,0,null,925,{"$f":"IF(AND(ISNUMBER(A676),NOT(ISNUMBER(A677))),IF((OFFSET(Q676,-Q676,0)>50),SUM(OFFSET(E676,-Q676+1,0):E676),SUM(OFFSET(E676,-Q676,0):E676)),IF(AND(ISNUMBER(P676),ISNUMBER(P677),P676  <P677),IF((OFFSET(Q676,-Q676,0)>50),SUM(OFFSET(E676,-Q676+1,0):E676),SUM(OFFSET(E676,-Q676,0):E676)),\"\"))","v":{"$error":"#NAME?"}},{"$f":"IF(ISNUMBER(L676),IF((OFFSET(Q676,-Q676,0)>50),SUM(OFFSET(G676,-Q676+1,0):G676),SUM(OFFSET(G676,-Q676,0):G676)),\"\")","v":""},null,null,{"$error":"#NAME?"},{"$error":"#NAME?"}]
["2000-08-02",null,null,null,0,{"$f":"IF(SUM($B$7:$B677)=0,\"\",IF(A677<>\"\",IF(A677<$B$3,\"N\",\"Y\"),\"\"))","v":""},0,9.65,0,null,924,{"$f":"IF(AND(ISNUMBER(A677),NOT(ISNUMBER(A678))),IF((OFFSET(Q677,-Q677,0)>50),SUM(OFFSET(E677,-Q677+1,0):E677),SUM(OFFSET(E677,-Q677,0):E677)),IF(AND(ISNUMBER(P677),ISNUMBER(P678),P677  <P678),IF((OFFSET(Q677,-Q677,0)>50),SUM(OFFSET(E677,-Q677+1,0):E677),SUM(OFFSET(E677,-Q677,0):E677)),\"\"))","v":{"$error":"#NAME?"}},{"$f":"IF(ISNUMBER(L677),IF((OFFSET(Q677,-Q677,0)>50),SUM(OFFSET(G677,-Q677+1,0):G677),SUM(OFFSET(G677,-Q677,0):G677)),\"\")","v":""},null,null,{"$error":"#NAME?"},{"$error":"#NAME?"}]
["2000-08-09",null,null,null,0,{"$f":"IF(SUM($B$7:$B678)=0,\"\",IF(A678<>\"\",IF(A678<$B$3,\"N\",\"Y\"),\"\"))","v":""},0,9.65,0,null,923,{"$f":"IF(AND(ISNUMBER(A678),NOT(ISNUMBER(A679))),IF((OFFSET(Q678,-Q678,0)>50),SUM(OFFSET(E678,-Q678+1,0):E678),SUM(OFFSET(E678,-Q678,0):E678)),IF(AND(ISNUMBER(P678),ISNUMBER(P679),P678  <P679),IF((OFFSET(Q678,-Q678,0)>50),SUM(OFFSET(E678,-Q678+1,0):E678),SUM(OFFSET(E678,-Q678,0):E678)),\"\"))","v":{"$error":"#NAME?"}},{"$f":"IF(ISNUMBER(L678),IF((OFFSET(Q678,-Q678,0)>50),SUM(OFFSET(G678,-Q678+1,0):G678),SUM(OFFSET(G678,-Q678,0):G678)),\"\")","v":""},null,null,{"$error":"#NAME?"},{"$error":"#NAME?"}]
["2000-08-16",null,null,null,0,{"$f":"IF(SUM($B$7:$B679)=0,\"\",IF(A679<>\"\",IF(A679<$B$3,\"N\",\"Y\"),\"\"))","v":""},0,9.65,0,null,922,{"$f":"IF(AND(ISNUMBER(A679),NOT(ISNUMBER(A680))),IF((OFFSET(Q679,-Q679,0)>50),SUM(OFFSET(E679,-Q679+1,0):E679),SUM(OFFSET(E679,-Q679,0):E679)),IF(AND(ISNUMBER(P679),ISNUMBER(P680),P679  <P680),IF((OFFSET(Q679,-Q679,0)>50),SUM(OFFSET(E679,-Q679+1,0):E679),SUM(OFFSET(E679,-Q679,0):E679)),\"\"))","v":{"$error":"#NAME?"}},{"$f":"IF(ISNUMBER(L679),IF((OFFSET(Q679,-Q679,0)>50),SUM(OFFSET(G679,-Q679+1,0):G679),SUM(OFFSET(G679,-Q679,0):G679)),\"\")","v":""},null,null,{"$error":"#NAME?"},{"$error":"#NAME?"}]
["2000-08-23",null,null,null,0,{"$f":"IF(SUM($B$7:$B680)=0,\"\",IF(A680<>\"\",IF(A680<$B$3,\"N\",\"Y\"),\"\"))","v":""},0,9.65,0,null,921,{"$f":"IF(AND(ISNUMBER(A680),NOT(ISNUMBER(A681))),IF((OFFSET(Q680,-Q680,0)>50),SUM(OFFSET(E680,-Q680+1,0):E680),SUM(OFFSET(E680,-Q680,0):E680)),IF(AND(ISNUMBER(P680),ISNUMBER(P681),P680  <P681),IF((OFFSET(Q680,-Q680,0)>50),SUM(OFFSET(E680,-Q680+1,0):E680),SUM(OFFSET(E680,-Q680,0):E680)),\"\"))","v":{"$error":"#NAME?"}},{"$f":"IF(ISNUMBER(L680),IF((OFFSET(Q680,-Q680,0)>50),SUM(OFFSET(G680,-Q680+1,0):G680),SUM(OFFSET(G680,-Q680,0):G680)),\"\")","v":""},null,null,{"$error":"#NAME?"},{"$error":"#NAME?"}]
["2000-08-30",null,null,null,0,{"$f":"IF(SUM($B$7:$B681)=0,\"\",IF(A681<>\"\",IF(A681<$B$3,\"N\",\"Y\"),\"\"))","v":""},0,9.65,0,null,920,{"$f":"IF(AND(ISNUMBER(A681),NOT(ISNUMBER(A682))),IF((OFFSET(Q681,-Q681,0)>50),SUM(OFFSET(E681,-Q681+1,0):E681),SUM(OFFSET(E681,-Q681,0):E681)),IF(AND(ISNUMBER(P681),ISNUMBER(P682),P681  <P682),IF((OFFSET(Q681,-Q681,0)>50),SUM(OFFSET(E681,-Q681+1,0):E681),SUM(OFFSET(E681,-Q681,0):E681)),\"\"))","v":{"$error":"#NAME?"}},{"$f":"IF(ISNUMBER(L681),IF((OFFSET(Q681,-Q681,0)>50),SUM(OFFSET(G681,-Q681+1,0):G681),SUM(OFFSET(G681,-Q681,0):G681)),\"\")","v":""},null,null,{"$error":"#NAME?"},{"$error":"#NAME?"}]
["2000-09-06",null,null,null,0,{"$f":"IF(SUM($B$7:$B682)=0,\"\",IF(A682<>\"\",IF(A682<$B$3,\"N\",\"Y\"),\"\"))","v":""},0,9.65,0,null,919,{"$f":"IF(AND(ISNUMBER(A682),NOT(ISNUMBER(A683))),IF((OFFSET(Q682,-Q682,0)>50),SUM(OFFSET(E682,-Q682+1,0):E682),SUM(OFFSET(E682,-Q682,0):E682)),IF(AND(ISNUMBER(P682),ISNUMBER(P683),P682  <P683),IF((OFFSET(Q682,-Q682,0)>50),SUM(OFFSET(E682,-Q682+1,0):E682),SUM(OFFSET(E682,-Q682,0):E682)),\"\"))","v":{"$error":"#NAME?"}},{"$f":"IF(ISNUMBER(L682),IF((OFFSET(Q682,-Q682,0)>50),SUM(OFFSET(G682,-Q682+1,0):G682),SUM(OFFSET(G682,-Q682,0):G682)),\"\")","v":""},null,null,{"$error":"#NAME?"},{"$error":"#NAME?"}]
["2000-09-13",null,null,null,0,{"$f":"IF(SUM($B$7:$B683)=0,\"\",IF(A683<>\"\",IF(A683<$B$3,\"N\",\"Y\"),\"\"))","v":""},0,9.65,0,null,918,{"$f":"IF(AND(ISNUMBER(A683),NOT(ISNUMBER(A684))),IF((OFFSET(Q683,-Q683,0)>50),SUM(OFFSET(E683,-Q683+1,0):E683),SUM(OFFSET(E683,-Q683,0):E683)),IF(AND(ISNUMBER(P683),ISNUMBER(P684),P683  <P684),IF((OFFSET(Q683,-Q683,0)>50),SUM(OFFSET(E683,-Q683+1,0):E683),SUM(OFFSET(E683,-Q683,0):E683)),\"\"))","v":{"$error":"#NAME?"}},{"$f":"IF(ISNUMBER(L683),IF((OFFSET(Q683,-Q683,0)>50),SUM(OFFSET(G683,-Q683+1,0):G683),SUM(OFFSET(G683,-Q683,0):G683)),\"\")","v":""},null,null,{"$error":"#NAME?"},{"$error":"#NAME?"}]
["2000-09-20",null,null,null,0,{"$f":"IF(SUM($B$7:$B684)=0,\"\",IF(A684<>\"\",IF(A684<$B$3,\"N\",\"Y\"),\"\"))","v":""},0,9.65,0,null,917,{"$f":"IF(AND(ISNUMBER(A684),NOT(ISNUMBER(A685))),IF((OFFSET(Q684,-Q684,0)>50),SUM(OFFSET(E684,-Q684+1,0):E684),SUM(OFFSET(E684,-Q684,0):E684)),IF(AND(ISNUMBER(P684),ISNUMBER(P685),P684  <P685),IF((OFFSET(Q684,-Q684,0)>50),SUM(OFFSET(E684,-Q684+1,0):E684),SUM(OFFSET(E684,-Q684,0):E684)),\"\"))","v":{"$error":"#NAME?"}},{"$f":"IF(ISNUMBER(L684),IF((OFFSET(Q684,-Q684,0)>50),SUM(OFFSET(G684,-Q684+1,0):G684),SUM(OFFSET(G684,-Q684,0):G684)),\"\")","v":""},null,null,{"$error":"#NAME?"},{"$error":"#NAME?"}]
["2000-09-27",null,null,null,0,{"$f":"IF(SUM($B$7:$B685)=0,\"\",IF(A685<>\"\",IF(A685<$B$3,\"N\",\"Y\"),\"\"))","v":""},0,9.65,0,null,916,{"$f":"IF(AND(ISNUMBER(A685),NOT(ISNUMBER(A686))),IF((OFFSET(Q685,-Q685,0)>50),SUM(OFFSET(E685,-Q685+1,0):E685),SUM(OFFSET(E685,-Q685,0):E685)),IF(AND(ISNUMBER(P685),ISNUMBER(P686),P685  <P686),IF((OFFSET(Q685,-Q685,0)>50),SUM(OFFSET(E685,-Q685+1,0):E685),SUM(OFFSET(E685,-Q685,0):E685)),\"\"))","v":{"$error":"#NAME?"}},{"$f":"IF(ISNUMBER(L685),IF((OFFSET(Q685,-Q685,0)>50),SUM(OFFSET(G685,-Q685+1,0):G685),SUM(OFFSET(G685,-Q685,0):G685)),\"\")","v":""},null,null,{"$error":"#NAME?"},{"$error":"#NAME?"}]
["2000-10-04",null,null,null,0,{"$f":"IF(SUM($B$7:$B686)=0,\"\",IF(A686<>\"\",IF(A686<$B$3,\"N\",\"Y\"),\"\"))","v":""},0,9.65,0,null,915,{"$f":"IF(AND(ISNUMBER(A686),NOT(ISNUMBER(A687))),IF((OFFSET(Q686,-Q686,0)>50),SUM(OFFSET(E686,-Q686+1,0):E686),SUM(OFFSET(E686,-Q686,0):E686)),IF(AND(ISNUMBER(P686),ISNUMBER(P687),P686  <P687),IF((OFFSET(Q686,-Q686,0)>50),SUM(OFFSET(E686,-Q686+1,0):E686),SUM(OFFSET(E686,-Q686,0):E686)),\"\"))","v":{"$error":"#NAME?"}},{"$f":"IF(ISNUMBER(L686),IF((OFFSET(Q686,-Q686,0)>50),SUM(OFFSET(G686,-Q686+1,0):G686),SUM(OFFSET(G686,-Q686,0):G686)),\"\")","v":""},null,null,{"$error":"#NAME?"},{"$error":"#NAME?"}]
["2000-10-11",null,null,null,0,{"$f":"IF(SUM($B$7:$B687)=0,\"\",IF(A687<>\"\",IF(A687<$B$3,\"N\",\"Y\"),\"\"))","v":""},0,9.65,0,null,914,{"$f":"IF(AND(ISNUMBER(A687),NOT(ISNUMBER(A688))),IF((OFFSET(Q687,-Q687,0)>50),SUM(OFFSET(E687,-Q687+1,0):E687),SUM(OFFSET(E687,-Q687,0):E687)),IF(AND(ISNUMBER(P687),ISNUMBER(P688),P687  <P688),IF((OFFSET(Q687,-Q687,0)>50),SUM(OFFSET(E687,-Q687+1,0):E687),SUM(OFFSET(E687,-Q687,0):E687)),\"\"))","v":{"$error":"#NAME?"}},{"$f":"IF(ISNUMBER(L687),IF((OFFSET(Q687,-Q687,0)>50),SUM(OFFSET(G687,-Q687+1,0):G687),SUM(OFFSET(G687,-Q687,0):G687)),\"\")","v":""},null,null,{"$error":"#NAME?"},{"$error":"#NAME?"}]
["2000-10-18",null,null,null,0,{"$f":"IF(SUM($B$7:$B688)=0,\"\",IF(A688<>\"\",IF(A688<$B$3,\"N\",\"Y\"),\"\"))","v":""},0,9.65,0,null,913,{"$f":"IF(AND(ISNUMBER(A688),NOT(ISNUMBER(A689))),IF((OFFSET(Q688,-Q688,0)>50),SUM(OFFSET(E688,-Q688+1,0):E688),SUM(OFFSET(E688,-Q688,0):E688)),IF(AND(ISNUMBER(P688),ISNUMBER(P689),P688  <P689),IF((OFFSET(Q688,-Q688,0)>50),SUM(OFFSET(E688,-Q688+1,0):E688),SUM(OFFSET(E688,-Q688,0):E688)),\"\"))","v":{"$error":"#NAME?"}},{"$f":"IF(ISNUMBER(L688),IF((OFFSET(Q688,-Q688,0)>50),SUM(OFFSET(G688,-Q688+1,0):G688),SUM(OFFSET(G688,-Q688,0):G688)),\"\")","v":""},null,null,{"$error":"#NAME?"},{"$error":"#NAME?"}]
["2000-10-25",null,null,null,0,{"$f":"IF(SUM($B$7:$B689)=0,\"\",IF(A689<>\"\",IF(A689<$B$3,\"N\",\"Y\"),\"\"))","v":""},0,9.65,0,null,912,{"$f":"IF(AND(ISNUMBER(A689),NOT(ISNUMBER(A690))),IF((OFFSET(Q689,-Q689,0)>50),SUM(OFFSET(E689,-Q689+1,0):E689),SUM(OFFSET(E689,-Q689,0):E689)),IF(AND(ISNUMBER(P689),ISNUMBER(P690),P689  <P690),IF((OFFSET(Q689,-Q689,0)>50),SUM(OFFSET(E689,-Q689+1,0):E689),SUM(OFFSET(E689,-Q689,0):E689)),\"\"))","v":{"$error":"#NAME?"}},{"$f":"IF(ISNUMBER(L689),IF((OFFSET(Q689,-Q689,0)>50),SUM(OFFSET(G689,-Q689+1,0):G689),SUM(OFFSET(G689,-Q689,0):G689)),\"\")","v":""},null,null,{"$error":"#NAME?"},{"$error":"#NAME?"}]
["2000-11-01",null,null,null,0,{"$f":"IF(SUM($B$7:$B690)=0,\"\",IF(A690<>\"\",IF(A690<$B$3,\"N\",\"Y\"),\"\"))","v":""},0,9.65,0,null,911,{"$f":"IF(AND(ISNUMBER(A690),NOT(ISNUMBER(A691))),IF((OFFSET(Q690,-Q690,0)>50),SUM(OFFSET(E690,-Q690+1,0):E690),SUM(OFFSET(E690,-Q690,0):E690)),IF(AND(ISNUMBER(P690),ISNUMBER(P691),P690  <P691),IF((OFFSET(Q690,-Q690,0)>50),SUM(OFFSET(E690,-Q690+1,0):E690),SUM(OFFSET(E690,-Q690,0):E690)),\"\"))","v":{"$error":"#NAME?"}},{"$f":"IF(ISNUMBER(L690),IF((OFFSET(Q690,-Q690,0)>50),SUM(OFFSET(G690,-Q690+1,0):G690),SUM(OFFSET(G690,-Q690,0):G690)),\"\")","v":""},null,null,{"$error":"#NAME?"},{"$error":"#NAME?"}]
["2000-11-08",null,null,null,0,{"$f":"IF(SUM($B$7:$B691)=0,\"\",IF(A691<>\"\",IF(A691<$B$3,\"N\",\"Y\"),\"\"))","v":""},0,9.65,0,null,910,{"$f":"IF(AND(ISNUMBER(A691),NOT(ISNUMBER(A692))),IF((OFFSET(Q691,-Q691,0)>50),SUM(OFFSET(E691,-Q691+1,0):E691),SUM(OFFSET(E691,-Q691,0):E691)),IF(AND(ISNUMBER(P691),ISNUMBER(P692),P691  <P692),IF((OFFSET(Q691,-Q691,0)>50),SUM(OFFSET(E691,-Q691+1,0):E691),SUM(OFFSET(E691,-Q691,0):E691)),\"\"))","v":{"$error":"#NAME?"}},{"$f":"IF(ISNUMBER(L691),IF((OFFSET(Q691,-Q691,0)>50),SUM(OFFSET(G691,-Q691+1,0):G691),SUM(OFFSET(G691,-Q691,0):G691)),\"\")","v":""},null,null,{"$error":"#NAME?"},{"$error":"#NAME?"}]
["2000-11-15",null,null,null,0,{"$f":"IF(SUM($B$7:$B692)=0,\"\",IF(A692<>\"\",IF(A692<$B$3,\"N\",\"Y\"),\"\"))","v":""},0,9.65,0,null,909,{"$f":"IF(AND(ISNUMBER(A692),NOT(ISNUMBER(A693))),IF((OFFSET(Q692,-Q692,0)>50),SUM(OFFSET(E692,-Q692+1,0):E692),SUM(OFFSET(E692,-Q692,0):E692)),IF(AND(ISNUMBER(P692),ISNUMBER(P693),P692  <P693),IF((OFFSET(Q692,-Q692,0)>50),SUM(OFFSET(E692,-Q692+1,0):E692),SUM(OFFSET(E692,-Q692,0):E692)),\"\"))","v":{"$error":"#NAME?"}},{"$f":"IF(ISNUMBER(L692),IF((OFFSET(Q692,-Q692,0)>50),SUM(OFFSET(G692,-Q692+1,0):G692),SUM(OFFSET(G692,-Q692,0):G692)),\"\")","v":""},null,null,{"$error":"#NAME?"},{"$error":"#NAME?"}]
["2000-11-22",null,null,null,0,{"$f":"IF(SUM($B$7:$B693)=0,\"\",IF(A693<>\"\",IF(A693<$B$3,\"N\",\"Y\"),\"\"))","v":""},0,9.65,0,null,908,{"$f":"IF(AND(ISNUMBER(A693),NOT(ISNUMBER(A694))),IF((OFFSET(Q693,-Q693,0)>50),SUM(OFFSET(E693,-Q693+1,0):E693),SUM(OFFSET(E693,-Q693,0):E693)),IF(AND(ISNUMBER(P693),ISNUMBER(P694),P693  <P694),IF((OFFSET(Q693,-Q693,0)>50),SUM(OFFSET(E693,-Q693+1,0):E693),SUM(OFFSET(E693,-Q693,0):E693)),\"\"))","v":{"$error":"#NAME?"}},{"$f":"IF(ISNUMBER(L693),IF((OFFSET(Q693,-Q693,0)>50),SUM(OFFSET(G693,-Q693+1,0):G693),SUM(OFFSET(G693,-Q693,0):G693)),\"\")","v":""},null,null,{"$error":"#NAME?"},{"$error":"#NAME?"}]
["2000-11-29",null,null,null,0,{"$f":"IF(SUM($B$7:$B694)=0,\"\",IF(A694<>\"\",IF(A694<$B$3,\"N\",\"Y\"),\"\"))","v":""},0,9.65,0,null,907,{"$f":"IF(AND(ISNUMBER(A694),NOT(ISNUMBER(A695))),IF((OFFSET(Q694,-Q694,0)>50),SUM(OFFSET(E694,-Q694+1,0):E694),SUM(OFFSET(E694,-Q694,0):E694)),IF(AND(ISNUMBER(P694),ISNUMBER(P695),P694  <P695),IF((OFFSET(Q694,-Q694,0)>50),SUM(OFFSET(E694,-Q694+1,0):E694),SUM(OFFSET(E694,-Q694,0):E694)),\"\"))","v":{"$error":"#NAME?"}},{"$f":"IF(ISNUMBER(L694),IF((OFFSET(Q694,-Q694,0)>50),SUM(OFFSET(G694,-Q694+1,0):G694),SUM(OFFSET(G694,-Q694,0):G694)),\"\")","v":""},null,null,{"$error":"#NAME?"},{"$error":"#NAME?"}]
["2000-12-06",null,null,null,0,{"$f":"IF(SUM($B$7:$B695)=0,\"\",IF(A695<>\"\",IF(A695<$B$3,\"N\",\"Y\"),\"\"))","v":""},0,9.65,0,null,906,{"$f":"IF(AND(ISNUMBER(A695),NOT(ISNUMBER(A696))),IF((OFFSET(Q695,-Q695,0)>50),SUM(OFFSET(E695,-Q695+1,0):E695),SUM(OFFSET(E695,-Q695,0):E695)),IF(AND(ISNUMBER(P695),ISNUMBER(P696),P695  <P696),IF((OFFSET(Q695,-Q695,0)>50),SUM(OFFSET(E695,-Q695+1,0):E695),SUM(OFFSET(E695,-Q695,0):E695)),\"\"))","v":{"$error":"#NAME?"}},{"$f":"IF(ISNUMBER(L695),IF((OFFSET(Q695,-Q695,0)>50),SUM(OFFSET(G695,-Q695+1,0):G695),SUM(OFFSET(G695,-Q695,0):G695)),\"\")","v":""},null,null,{"$error":"#NAME?"},{"$error":"#NAME?"}]
["2000-12-13",null,null,null,0,{"$f":"IF(SUM($B$7:$B696)=0,\"\",IF(A696<>\"\",IF(A696<$B$3,\"N\",\"Y\"),\"\"))","v":""},0,9.65,0,null,905,{"$f":"IF(AND(ISNUMBER(A696),NOT(ISNUMBER(A697))),IF((OFFSET(Q696,-Q696,0)>50),SUM(OFFSET(E696,-Q696+1,0):E696),SUM(OFFSET(E696,-Q696,0):E696)),IF(AND(ISNUMBER(P696),ISNUMBER(P697),P696  <P697),IF((OFFSET(Q696,-Q696,0)>50),SUM(OFFSET(E696,-Q696+1,0):E696),SUM(OFFSET(E696,-Q696,0):E696)),\"\"))","v":{"$error":"#NAME?"}},{"$f":"IF(ISNUMBER(L696),IF((OFFSET(Q696,-Q696,0)>50),SUM(OFFSET(G696,-Q696+1,0):G696),SUM(OFFSET(G696,-Q696,0):G696)),\"\")","v":""},null,null,{"$error":"#NAME?"},{"$error":"#NAME?"}]
["2000-12-20",null,null,null,0,{"$f":"IF(SUM($B$7:$B697)=0,\"\",IF(A697<>\"\",IF(A697<$B$3,\"N\",\"Y\"),\"\"))","v":""},0,9.65,0,null,904,{"$f":"IF(AND(ISNUMBER(A697),NOT(ISNUMBER(A698))),IF((OFFSET(Q697,-Q697,0)>50),SUM(OFFSET(E697,-Q697+1,0):E697),SUM(OFFSET(E697,-Q697,0):E697)),IF(AND(ISNUMBER(P697),ISNUMBER(P698),P697  <P698),IF((OFFSET(Q697,-Q697,0)>50),SUM(OFFSET(E697,-Q697+1,0):E697),SUM(OFFSET(E697,-Q697,0):E697)),\"\"))","v":{"$error":"#NAME?"}},{"$f":"IF(ISNUMBER(L697),IF((OFFSET(Q697,-Q697,0)>50),SUM(OFFSET(G697,-Q697+1,0):G697),SUM(OFFSET(G697,-Q697,0):G697)),\"\")","v":""},null,null,{"$error":"#NAME?"},{"$error":"#NAME?"}]
["2000-12-27",null,null,null,0,{"$f":"IF(SUM($B$7:$B698)=0,\"\",IF(A698<>\"\",IF(A698<$B$3,\"N\",\"Y\"),\"\"))","v":""},0,9.65,0,null,903,{"$f":"IF(AND(ISNUMBER(A698),NOT(ISNUMBER(A699))),IF((OFFSET(Q698,-Q698,0)>50),SUM(OFFSET(E698,-Q698+1,0):E698),SUM(OFFSET(E698,-Q698,0):E698)),IF(AND(ISNUMBER(P698),ISNUMBER(P699),P698  <P699),IF((OFFSET(Q698,-Q698,0)>50),SUM(OFFSET(E698,-Q698+1,0):E698),SUM(OFFSET(E698,-Q698,0):E698)),\"\"))","v":{"$error":"#NAME?"}},{"$f":"IF(ISNUMBER(L698),IF((OFFSET(Q698,-Q698,0)>50),SUM(OFFSET(G698,-Q698+1,0):G698),SUM(OFFSET(G698,-Q698,0):G698)),\"\")","v":""},null,null,{"$error":"#NAME?"},{"$error":"#NAME?"}]
["2001-01-03",null,null,null,0,{"$f":"IF(SUM($B$7:$B699)=0,\"\",IF(A699<>\"\",IF(A699<$B$3,\"N\",\"Y\"),\"\"))","v":""},0,9.65,0,null,902,{"$f":"IF(AND(ISNUMBER(A699),NOT(ISNUMBER(A700))),IF((OFFSET(Q699,-Q699,0)>50),SUM(OFFSET(E699,-Q699+1,0):E699),SUM(OFFSET(E699,-Q699,0):E699)),IF(AND(ISNUMBER(P699),ISNUMBER(P700),P699  <P700),IF((OFFSET(Q699,-Q699,0)>50),SUM(OFFSET(E699,-Q699+1,0):E699),SUM(OFFSET(E699,-Q699,0):E699)),\"\"))","v":{"$error":"#NAME?"}},{"$f":"IF(ISNUMBER(L699),IF((OFFSET(Q699,-Q699,0)>50),SUM(OFFSET(G699,-Q699+1,0):G699),SUM(OFFSET(G699,-Q699,0):G699)),\"\")","v":""},null,null,{"$error":"#NAME?"},{"$error":"#NAME?"}]
["2001-01-10",null,null,null,0,{"$f":"IF(SUM($B$7:$B700)=0,\"\",IF(A700<>\"\",IF(A700<$B$3,\"N\",\"Y\"),\"\"))","v":""},0,9.65,0,null,901,{"$f":"IF(AND(ISNUMBER(A700),NOT(ISNUMBER(A701))),IF((OFFSET(Q700,-Q700,0)>50),SUM(OFFSET(E700,-Q700+1,0):E700),SUM(OFFSET(E700,-Q700,0):E700)),IF(AND(ISNUMBER(P700),ISNUMBER(P701),P700  <P701),IF((OFFSET(Q700,-Q700,0)>50),SUM(OFFSET(E700,-Q700+1,0):E700),SUM(OFFSET(E700,-Q700,0):E700)),\"\"))","v":{"$error":"#NAME?"}},{"$f":"IF(ISNUMBER(L700),IF((OFFSET(Q700,-Q700,0)>50),SUM(OFFSET(G700,-Q700+1,0):G700),SUM(OFFSET(G700,-Q700,0):G700)),\"\")","v":""},null,null,{"$error":"#NAME?"},{"$error":"#NAME?"}]
["2001-01-17",null,null,null,0,{"$f":"IF(SUM($B$7:$B701)=0,\"\",IF(A701<>\"\",IF(A701<$B$3,\"N\",\"Y\"),\"\"))","v":""},0,9.65,0,null,900,{"$f":"IF(AND(ISNUMBER(A701),NOT(ISNUMBER(A702))),IF((OFFSET(Q701,-Q701,0)>50),SUM(OFFSET(E701,-Q701+1,0):E701),SUM(OFFSET(E701,-Q701,0):E701)),IF(AND(ISNUMBER(P701),ISNUMBER(P702),P701  <P702),IF((OFFSET(Q701,-Q701,0)>50),SUM(OFFSET(E701,-Q701+1,0):E701),SUM(OFFSET(E701,-Q701,0):E701)),\"\"))","v":{"$error":"#NAME?"}},{"$f":"IF(ISNUMBER(L701),IF((OFFSET(Q701,-Q701,0)>50),SUM(OFFSET(G701,-Q701+1,0):G701),SUM(OFFSET(G701,-Q701,0):G701)),\"\")","v":""},null,null,{"$error":"#NAME?"},{"$error":"#NAME?"}]
["2001-01-24",null,null,null,0,{"$f":"IF(SUM($B$7:$B702)=0,\"\",IF(A702<>\"\",IF(A702<$B$3,\"N\",\"Y\"),\"\"))","v":""},0,9.65,0,null,899,{"$f":"IF(AND(ISNUMBER(A702),NOT(ISNUMBER(A703))),IF((OFFSET(Q702,-Q702,0)>50),SUM(OFFSET(E702,-Q702+1,0):E702),SUM(OFFSET(E702,-Q702,0):E702)),IF(AND(ISNUMBER(P702),ISNUMBER(P703),P702  <P703),IF((OFFSET(Q702,-Q702,0)>50),SUM(OFFSET(E702,-Q702+1,0):E702),SUM(OFFSET(E702,-Q702,0):E702)),\"\"))","v":{"$error":"#NAME?"}},{"$f":"IF(ISNUMBER(L702),IF((OFFSET(Q702,-Q702,0)>50),SUM(OFFSET(G702,-Q702+1,0):G702),SUM(OFFSET(G702,-Q702,0):G702)),\"\")","v":""},null,null,{"$error":"#NAME?"},{"$error":"#NAME?"}]
["2001-01-31",null,null,null,0,{"$f":"IF(SUM($B$7:$B703)=0,\"\",IF(A703<>\"\",IF(A703<$B$3,\"N\",\"Y\"),\"\"))","v":""},0,9.65,0,null,898,{"$f":"IF(AND(ISNUMBER(A703),NOT(ISNUMBER(A704))),IF((OFFSET(Q703,-Q703,0)>50),SUM(OFFSET(E703,-Q703+1,0):E703),SUM(OFFSET(E703,-Q703,0):E703)),IF(AND(ISNUMBER(P703),ISNUMBER(P704),P703  <P704),IF((OFFSET(Q703,-Q703,0)>50),SUM(OFFSET(E703,-Q703+1,0):E703),SUM(OFFSET(E703,-Q703,0):E703)),\"\"))","v":{"$error":"#NAME?"}},{"$f":"IF(ISNUMBER(L703),IF((OFFSET(Q703,-Q703,0)>50),SUM(OFFSET(G703,-Q703+1,0):G703),SUM(OFFSET(G703,-Q703,0):G703)),\"\")","v":""},null,null,{"$error":"#NAME?"},{"$error":"#NAME?"}]
["2001-02-07",null,null,null,0,{"$f":"IF(SUM($B$7:$B704)=0,\"\",IF(A704<>\"\",IF(A704<$B$3,\"N\",\"Y\"),\"\"))","v":""},0,9.65,0,null,897,{"$f":"IF(AND(ISNUMBER(A704),NOT(ISNUMBER(A705))),IF((OFFSET(Q704,-Q704,0)>50),SUM(OFFSET(E704,-Q704+1,0):E704),SUM(OFFSET(E704,-Q704,0):E704)),IF(AND(ISNUMBER(P704),ISNUMBER(P705),P704  <P705),IF((OFFSET(Q704,-Q704,0)>50),SUM(OFFSET(E704,-Q704+1,0):E704),SUM(OFFSET(E704,-Q704,0):E704)),\"\"))","v":{"$error":"#NAME?"}},{"$f":"IF(ISNUMBER(L704),IF((OFFSET(Q704,-Q704,0)>50),SUM(OFFSET(G704,-Q704+1,0):G704),SUM(OFFSET(G704,-Q704,0):G704)),\"\")","v":""},null,null,{"$error":"#NAME?"},{"$error":"#NAME?"}]
["2001-02-14",null,null,null,0,{"$f":"IF(SUM($B$7:$B705)=0,\"\",IF(A705<>\"\",IF(A705<$B$3,\"N\",\"Y\"),\"\"))","v":""},0,9.65,0,null,896,{"$f":"IF(AND(ISNUMBER(A705),NOT(ISNUMBER(A706))),IF((OFFSET(Q705,-Q705,0)>50),SUM(OFFSET(E705,-Q705+1,0):E705),SUM(OFFSET(E705,-Q705,0):E705)),IF(AND(ISNUMBER(P705),ISNUMBER(P706),P705  <P706),IF((OFFSET(Q705,-Q705,0)>50),SUM(OFFSET(E705,-Q705+1,0):E705),SUM(OFFSET(E705,-Q705,0):E705)),\"\"))","v":{"$error":"#NAME?"}},{"$f":"IF(ISNUMBER(L705),IF((OFFSET(Q705,-Q705,0)>50),SUM(OFFSET(G705,-Q705+1,0):G705),SUM(OFFSET(G705,-Q705,0):G705)),\"\")","v":""},null,null,{"$error":"#NAME?"},{"$error":"#NAME?"}]
["2001-02-21",null,null,null,0,{"$f":"IF(SUM($B$7:$B706)=0,\"\",IF(A706<>\"\",IF(A706<$B$3,\"N\",\"Y\"),\"\"))","v":""},0,9.65,0,null,895,{"$f":"IF(AND(ISNUMBER(A706),NOT(ISNUMBER(A707))),IF((OFFSET(Q706,-Q706,0)>50),SUM(OFFSET(E706,-Q706+1,0):E706),SUM(OFFSET(E706,-Q706,0):E706)),IF(AND(ISNUMBER(P706),ISNUMBER(P707),P706  <P707),IF((OFFSET(Q706,-Q706,0)>50),SUM(OFFSET(E706,-Q706+1,0):E706),SUM(OFFSET(E706,-Q706,0):E706)),\"\"))","v":{"$error":"#NAME?"}},{"$f":"IF(ISNUMBER(L706),IF((OFFSET(Q706,-Q706,0)>50),SUM(OFFSET(G706,-Q706+1,0):G706),SUM(OFFSET(G706,-Q706,0):G706)),\"\")","v":""},null,null,{"$error":"#NAME?"},{"$error":"#NAME?"}]
["2001-02-28",null,null,null,0,{"$f":"IF(SUM($B$7:$B707)=0,\"\",IF(A707<>\"\",IF(A707<$B$3,\"N\",\"Y\"),\"\"))","v":""},0,9.65,0,null,894,{"$f":"IF(AND(ISNUMBER(A707),NOT(ISNUMBER(A708))),IF((OFFSET(Q707,-Q707,0)>50),SUM(OFFSET(E707,-Q707+1,0):E707),SUM(OFFSET(E707,-Q707,0):E707)),IF(AND(ISNUMBER(P707),ISNUMBER(P708),P707  <P708),IF((OFFSET(Q707,-Q707,0)>50),SUM(OFFSET(E707,-Q707+1,0):E707),SUM(OFFSET(E707,-Q707,0):E707)),\"\"))","v":{"$error":"#NAME?"}},{"$f":"IF(ISNUMBER(L707),IF((OFFSET(Q707,-Q707,0)>50),SUM(OFFSET(G707,-Q707+1,0):G707),SUM(OFFSET(G707,-Q707,0):G707)),\"\")","v":""},null,null,{"$error":"#NAME?"},{"$error":"#NAME?"}]
["2001-03-07",null,null,null,0,{"$f":"IF(SUM($B$7:$B708)=0,\"\",IF(A708<>\"\",IF(A708<$B$3,\"N\",\"Y\"),\"\"))","v":""},0,9.65,0,null,893,{"$f":"IF(AND(ISNUMBER(A708),NOT(ISNUMBER(A709))),IF((OFFSET(Q708,-Q708,0)>50),SUM(OFFSET(E708,-Q708+1,0):E708),SUM(OFFSET(E708,-Q708,0):E708)),IF(AND(ISNUMBER(P708),ISNUMBER(P709),P708  <P709),IF((OFFSET(Q708,-Q708,0)>50),SUM(OFFSET(E708,-Q708+1,0):E708),SUM(OFFSET(E708,-Q708,0):E708)),\"\"))","v":{"$error":"#NAME?"}},{"$f":"IF(ISNUMBER(L708),IF((OFFSET(Q708,-Q708,0)>50),SUM(OFFSET(G708,-Q708+1,0):G708),SUM(OFFSET(G708,-Q708,0):G708)),\"\")","v":""},null,null,{"$error":"#NAME?"},{"$error":"#NAME?"}]
["2001-03-14",null,null,null,0,{"$f":"IF(SUM($B$7:$B709)=0,\"\",IF(A709<>\"\",IF(A709<$B$3,\"N\",\"Y\"),\"\"))","v":""},0,9.65,0,null,892,{"$f":"IF(AND(ISNUMBER(A709),NOT(ISNUMBER(A710))),IF((OFFSET(Q709,-Q709,0)>50),SUM(OFFSET(E709,-Q709+1,0):E709),SUM(OFFSET(E709,-Q709,0):E709)),IF(AND(ISNUMBER(P709),ISNUMBER(P710),P709  <P710),IF((OFFSET(Q709,-Q709,0)>50),SUM(OFFSET(E709,-Q709+1,0):E709),SUM(OFFSET(E709,-Q709,0):E709)),\"\"))","v":{"$error":"#NAME?"}},{"$f":"IF(ISNUMBER(L709),IF((OFFSET(Q709,-Q709,0)>50),SUM(OFFSET(G709,-Q709+1,0):G709),SUM(OFFSET(G709,-Q709,0):G709)),\"\")","v":""},null,null,{"$error":"#NAME?"},{"$error":"#NAME?"}]
["2001-03-21",null,null,null,0,{"$f":"IF(SUM($B$7:$B710)=0,\"\",IF(A710<>\"\",IF(A710<$B$3,\"N\",\"Y\"),\"\"))","v":""},0,9.65,0,null,891,{"$f":"IF(AND(ISNUMBER(A710),NOT(ISNUMBER(A711))),IF((OFFSET(Q710,-Q710,0)>50),SUM(OFFSET(E710,-Q710+1,0):E710),SUM(OFFSET(E710,-Q710,0):E710)),IF(AND(ISNUMBER(P710),ISNUMBER(P711),P710  <P711),IF((OFFSET(Q710,-Q710,0)>50),SUM(OFFSET(E710,-Q710+1,0):E710),SUM(OFFSET(E710,-Q710,0):E710)),\"\"))","v":{"$error":"#NAME?"}},{"$f":"IF(ISNUMBER(L710),IF((OFFSET(Q710,-Q710,0)>50),SUM(OFFSET(G710,-Q710+1,0):G710),SUM(OFFSET(G710,-Q710,0):G710)),\"\")","v":""},null,null,{"$error":"#NAME?"},{"$error":"#NAME?"}]
["2001-03-28",null,null,null,0,{"$f":"IF(SUM($B$7:$B711)=0,\"\",IF(A711<>\"\",IF(A711<$B$3,\"N\",\"Y\"),\"\"))","v":""},0,9.65,0,null,{"$f":"IF(A711<>\"\",IF((TODAY()-A711)/7>=0,INT((TODAY()-A711)/7),0),\"\")","v":890},{"$f":"IF(AND(ISNUMBER(A711),NOT(ISNUMBER(A712))),IF((OFFSET(Q711,-Q711,0)>50),SUM(OFFSET(E711,-Q711+1,0):E711),SUM(OFFSET(E711,-Q711,0):E711)),IF(AND(ISNUMBER(P711),ISNUMBER(P712),P711  <P712),IF((OFFSET(Q711,-Q711,0)>50),SUM(OFFSET(E711,-Q711+1,0):E711),SUM(OFFSET(E711,-Q711,0):E711)),\"\"))","v":{"$error":"#NAME?"}},{"$f":"IF(ISNUMBER(L711),IF((OFFSET(Q711,-Q711,0)>50),SUM(OFFSET(G711,-Q711+1,0):G711),SUM(OFFSET(G711,-Q711,0):G711)),\"\")","v":""},null,null,{"$f":"FinYear(A711)","v":{"$error":"#NAME?"}},{"$error":"#NAME?"}]
["2001-04-04",null,null,null,{"$f":"IF(A712<>\"\",IF(B712-C712>=0,B712-C712,0),\"\")","v":0},{"$f":"IF(SUM($B$7:$B712)=0,\"\",IF(A712<>\"\",IF(A712<$B$3,\"N\",\"Y\"),\"\"))","v":""},0,9.65,0,null,889,{"$f":"IF(AND(ISNUMBER(A712),NOT(ISNUMBER(A713))),IF((OFFSET(Q712,-Q712,0)>50),SUM(OFFSET(E712,-Q712+1,0):E712),SUM(OFFSET(E712,-Q712,0):E712)),IF(AND(ISNUMBER(P712),ISNUMBER(P713),P712  <P713),IF((OFFSET(Q712,-Q712,0)>50),SUM(OFFSET(E712,-Q712+1,0):E712),SUM(OFFSET(E712,-Q712,0):E712)),\"\"))","v":{"$error":"#NAME?"}},{"$f":"IF(ISNUMBER(L712),IF((OFFSET(Q712,-Q712,0)>50),SUM(OFFSET(G712,-Q712+1,0):G712),SUM(OFFSET(G712,-Q712,0):G712)),\"\")","v":""},null,null,{"$error":"#NAME?"},{"$f":"ROUND((A712-StartOfFinYear(P712))/7,0)","v":{"$error":"#NAME?"}}]
["2001-04-11",null,null,null,0,{"$f":"IF(SUM($B$7:$B713)=0,\"\",IF(A713<>\"\",IF(A713<$B$3,\"N\",\"Y\"),\"\"))","v":""},{"$f":"IF(F713=\"N\",0,IF(A713<>\"\",IF(K713>=0,((E713+I712)*(1+(H713/52)/100)-E713-I712),0),\"\"))","v":0},9.65,{"$f":"IF(A713<>\"\",I712+E713+G713,\"\")","v":0},null,888,{"$f":"IF(AND(ISNUMBER(A713),NOT(ISNUMBER(A714))),IF((OFFSET(Q713,-Q713,0)>50),SUM(OFFSET(E713,-Q713+1,0):E713),SUM(OFFSET(E713,-Q713,0):E713)),IF(AND(ISNUMBER(P713),ISNUMBER(P714),P713  <P714),IF((OFFSET(Q713,-Q713,0)>50),SUM(OFFSET(E713,-Q713+1,0):E713),SUM(OFFSET(E713,-Q713,0):E713)),\"\"))","v":{"$error":"#NAME?"}},{"$f":"IF(ISNUMBER(L713),IF((OFFSET(Q713,-Q713,0)>50),SUM(OFFSET(G713,-Q713+1,0):G713),SUM(OFFSET(G713,-Q713,0):G713)),\"\")","v":""},null,null,{"$error":"#NAME?"},{"$error":"#NAME?"}]
[{"$f":"IF(A713<>\"\",IF(A713+12<=TODAY(),+A713+7,\"\"),\"\")","v":"2001-04-18"},null,null,null,0,{"$f":"IF(SUM($B$7:$B714)=0,\"\",IF(A714<>\"\",IF(A714<$B$3,\"N\",\"Y\"),\"\"))","v":""},0,9.65,0,null,887,{"$f":"IF(AND(ISNUMBER(A714),NOT(ISNUMBER(A715))),IF((OFFSET(Q714,-Q714,0)>50),SUM(OFFSET(E714,-Q714+1,0):E714),SUM(OFFSET(E714,-Q714,0):E714)),IF(AND(ISNUMBER(P714),ISNUMBER(P715),P714  <P715),IF((OFFSET(Q714,-Q714,0)>50),SUM(OFFSET(E714,-Q714+1,0):E714),SUM(OFFSET(E714,-Q714,0):E714)),\"\"))","v":{"$error":"#NAME?"}},{"$f":"IF(ISNUMBER(L714),IF((OFFSET(Q714,-Q714,0)>50),SUM(OFFSET(G714,-Q714+1,0):G714),SUM(OFFSET(G714,-Q714,0):G714)),\"\")","v":""},null,null,{"$error":"#NAME?"},{"$error":"#NAME?"}]
["2001-04-25",null,null,null,0,{"$f":"IF(SUM($B$7:$B715)=0,\"\",IF(A715<>\"\",IF(A715<$B$3,\"N\",\"Y\"),\"\"))","v":""},0,9.65,0,null,886,{"$f":"IF(AND(ISNUMBER(A715),NOT(ISNUMBER(A716))),IF((OFFSET(Q715,-Q715,0)>50),SUM(OFFSET(E715,-Q715+1,0):E715),SUM(OFFSET(E715,-Q715,0):E715)),IF(AND(ISNUMBER(P715),ISNUMBER(P716),P715  <P716),IF((OFFSET(Q715,-Q715,0)>50),SUM(OFFSET(E715,-Q715+1,0):E715),SUM(OFFSET(E715,-Q715,0):E715)),\"\"))","v":{"$error":"#NAME?"}},{"$f":"IF(ISNUMBER(L715),IF((OFFSET(Q715,-Q715,0)>50),SUM(OFFSET(G715,-Q715+1,0):G715),SUM(OFFSET(G715,-Q715,0):G715)),\"\")","v":""},null,null,{"$error":"#NAME?"},{"$error":"#NAME?"}]
["2001-05-02",null,null,null,0,{"$f":"IF(SUM($B$7:$B716)=0,\"\",IF(A716<>\"\",IF(A716<$B$3,\"N\",\"Y\"),\"\"))","v":""},0,9.65,0,null,885,{"$f":"IF(AND(ISNUMBER(A716),NOT(ISNUMBER(A717))),IF((OFFSET(Q716,-Q716,0)>50),SUM(OFFSET(E716,-Q716+1,0):E716),SUM(OFFSET(E716,-Q716,0):E716)),IF(AND(ISNUMBER(P716),ISNUMBER(P717),P716  <P717),IF((OFFSET(Q716,-Q716,0)>50),SUM(OFFSET(E716,-Q716+1,0):E716),SUM(OFFSET(E716,-Q716,0):E716)),\"\"))","v":{"$error":"#NAME?"}},{"$f":"IF(ISNUMBER(L716),IF((OFFSET(Q716,-Q716,0)>50),SUM(OFFSET(G716,-Q716+1,0):G716),SUM(OFFSET(G716,-Q716,0):G716)),\"\")","v":""},null,null,{"$error":"#NAME?"},{"$error":"#NAME?"}]
["2001-05-09",null,null,null,0,{"$f":"IF(SUM($B$7:$B717)=0,\"\",IF(A717<>\"\",IF(A717<$B$3,\"N\",\"Y\"),\"\"))","v":""},0,9.65,0,null,884,{"$f":"IF(AND(ISNUMBER(A717),NOT(ISNUMBER(A718))),IF((OFFSET(Q717,-Q717,0)>50),SUM(OFFSET(E717,-Q717+1,0):E717),SUM(OFFSET(E717,-Q717,0):E717)),IF(AND(ISNUMBER(P717),ISNUMBER(P718),P717  <P718),IF((OFFSET(Q717,-Q717,0)>50),SUM(OFFSET(E717,-Q717+1,0):E717),SUM(OFFSET(E717,-Q717,0):E717)),\"\"))","v":{"$error":"#NAME?"}},{"$f":"IF(ISNUMBER(L717),IF((OFFSET(Q717,-Q717,0)>50),SUM(OFFSET(G717,-Q717+1,0):G717),SUM(OFFSET(G717,-Q717,0):G717)),\"\")","v":""},null,null,{"$error":"#NAME?"},{"$error":"#NAME?"}]
["2001-05-16",null,null,null,0,{"$f":"IF(SUM($B$7:$B718)=0,\"\",IF(A718<>\"\",IF(A718<$B$3,\"N\",\"Y\"),\"\"))","v":""},0,9.65,0,null,883,{"$f":"IF(AND(ISNUMBER(A718),NOT(ISNUMBER(A719))),IF((OFFSET(Q718,-Q718,0)>50),SUM(OFFSET(E718,-Q718+1,0):E718),SUM(OFFSET(E718,-Q718,0):E718)),IF(AND(ISNUMBER(P718),ISNUMBER(P719),P718  <P719),IF((OFFSET(Q718,-Q718,0)>50),SUM(OFFSET(E718,-Q718+1,0):E718),SUM(OFFSET(E718,-Q718,0):E718)),\"\"))","v":{"$error":"#NAME?"}},{"$f":"IF(ISNUMBER(L718),IF((OFFSET(Q718,-Q718,0)>50),SUM(OFFSET(G718,-Q718+1,0):G718),SUM(OFFSET(G718,-Q718,0):G718)),\"\")","v":""},null,null,{"$error":"#NAME?"},{"$error":"#NAME?"}]
["2001-05-23",null,null,null,0,{"$f":"IF(SUM($B$7:$B719)=0,\"\",IF(A719<>\"\",IF(A719<$B$3,\"N\",\"Y\"),\"\"))","v":""},0,9.65,0,null,882,{"$f":"IF(AND(ISNUMBER(A719),NOT(ISNUMBER(A720))),IF((OFFSET(Q719,-Q719,0)>50),SUM(OFFSET(E719,-Q719+1,0):E719),SUM(OFFSET(E719,-Q719,0):E719)),IF(AND(ISNUMBER(P719),ISNUMBER(P720),P719  <P720),IF((OFFSET(Q719,-Q719,0)>50),SUM(OFFSET(E719,-Q719+1,0):E719),SUM(OFFSET(E719,-Q719,0):E719)),\"\"))","v":{"$error":"#NAME?"}},{"$f":"IF(ISNUMBER(L719),IF((OFFSET(Q719,-Q719,0)>50),SUM(OFFSET(G719,-Q719+1,0):G719),SUM(OFFSET(G719,-Q719,0):G719)),\"\")","v":""},null,null,{"$error":"#NAME?"},{"$error":"#NAME?"}]
["2001-05-30",null,null,null,0,{"$f":"IF(SUM($B$7:$B720)=0,\"\",IF(A720<>\"\",IF(A720<$B$3,\"N\",\"Y\"),\"\"))","v":""},0,9.65,0,null,881,{"$f":"IF(AND(ISNUMBER(A720),NOT(ISNUMBER(A721))),IF((OFFSET(Q720,-Q720,0)>50),SUM(OFFSET(E720,-Q720+1,0):E720),SUM(OFFSET(E720,-Q720,0):E720)),IF(AND(ISNUMBER(P720),ISNUMBER(P721),P720  <P721),IF((OFFSET(Q720,-Q720,0)>50),SUM(OFFSET(E720,-Q720+1,0):E720),SUM(OFFSET(E720,-Q720,0):E720)),\"\"))","v":{"$error":"#NAME?"}},{"$f":"IF(ISNUMBER(L720),IF((OFFSET(Q720,-Q720,0)>50),SUM(OFFSET(G720,-Q720+1,0):G720),SUM(OFFSET(G720,-Q720,0):G720)),\"\")","v":""},null,null,{"$error":"#NAME?"},{"$error":"#NAME?"}]
["2001-06-06",null,null,null,0,{"$f":"IF(SUM($B$7:$B721)=0,\"\",IF(A721<>\"\",IF(A721<$B$3,\"N\",\"Y\"),\"\"))","v":""},0,9.65,0,null,880,{"$f":"IF(AND(ISNUMBER(A721),NOT(ISNUMBER(A722))),IF((OFFSET(Q721,-Q721,0)>50),SUM(OFFSET(E721,-Q721+1,0):E721),SUM(OFFSET(E721,-Q721,0):E721)),IF(AND(ISNUMBER(P721),ISNUMBER(P722),P721  <P722),IF((OFFSET(Q721,-Q721,0)>50),SUM(OFFSET(E721,-Q721+1,0):E721),SUM(OFFSET(E721,-Q721,0):E721)),\"\"))","v":{"$error":"#NAME?"}},{"$f":"IF(ISNUMBER(L721),IF((OFFSET(Q721,-Q721,0)>50),SUM(OFFSET(G721,-Q721+1,0):G721),SUM(OFFSET(G721,-Q721,0):G721)),\"\")","v":""},null,null,{"$error":"#NAME?"},{"$error":"#NAME?"}]
["2001-06-13",null,null,null,0,{"$f":"IF(SUM($B$7:$B722)=0,\"\",IF(A722<>\"\",IF(A722<$B$3,\"N\",\"Y\"),\"\"))","v":""},0,9.65,0,null,879,{"$f":"IF(AND(ISNUMBER(A722),NOT(ISNUMBER(A723))),IF((OFFSET(Q722,-Q722,0)>50),SUM(OFFSET(E722,-Q722+1,0):E722),SUM(OFFSET(E722,-Q722,0):E722)),IF(AND(ISNUMBER(P722),ISNUMBER(P723),P722  <P723),IF((OFFSET(Q722,-Q722,0)>50),SUM(OFFSET(E722,-Q722+1,0):E722),SUM(OFFSET(E722,-Q722,0):E722)),\"\"))","v":{"$error":"#NAME?"}},{"$f":"IF(ISNUMBER(L722),IF((OFFSET(Q722,-Q722,0)>50),SUM(OFFSET(G722,-Q722+1,0):G722),SUM(OFFSET(G722,-Q722,0):G722)),\"\")","v":""},null,null,{"$error":"#NAME?"},{"$error":"#NAME?"}]
["2001-06-20",null,null,null,0,{"$f":"IF(SUM($B$7:$B723)=0,\"\",IF(A723<>\"\",IF(A723<$B$3,\"N\",\"Y\"),\"\"))","v":""},0,9.65,0,null,878,{"$f":"IF(AND(ISNUMBER(A723),NOT(ISNUMBER(A724))),IF((OFFSET(Q723,-Q723,0)>50),SUM(OFFSET(E723,-Q723+1,0):E723),SUM(OFFSET(E723,-Q723,0):E723)),IF(AND(ISNUMBER(P723),ISNUMBER(P724),P723  <P724),IF((OFFSET(Q723,-Q723,0)>50),SUM(OFFSET(E723,-Q723+1,0):E723),SUM(OFFSET(E723,-Q723,0):E723)),\"\"))","v":{"$error":"#NAME?"}},{"$f":"IF(ISNUMBER(L723),IF((OFFSET(Q723,-Q723,0)>50),SUM(OFFSET(G723,-Q723+1,0):G723),SUM(OFFSET(G723,-Q723,0):G723)),\"\")","v":""},null,null,{"$error":"#NAME?"},{"$error":"#NAME?"}]
["2001-06-27",null,null,null,0,{"$f":"IF(SUM($B$7:$B724)=0,\"\",IF(A724<>\"\",IF(A724<$B$3,\"N\",\"Y\"),\"\"))","v":""},0,9.65,0,null,877,{"$f":"IF(AND(ISNUMBER(A724),NOT(ISNUMBER(A725))),IF((OFFSET(Q724,-Q724,0)>50),SUM(OFFSET(E724,-Q724+1,0):E724),SUM(OFFSET(E724,-Q724,0):E724)),IF(AND(ISNUMBER(P724),ISNUMBER(P725),P724  <P725),IF((OFFSET(Q724,-Q724,0)>50),SUM(OFFSET(E724,-Q724+1,0):E724),SUM(OFFSET(E724,-Q724,0):E724)),\"\"))","v":{"$error":"#NAME?"}},{"$f":"IF(ISNUMBER(L724),IF((OFFSET(Q724,-Q724,0)>50),SUM(OFFSET(G724,-Q724+1,0):G724),SUM(OFFSET(G724,-Q724,0):G724)),\"\")","v":""},null,null,{"$error":"#NAME?"},{"$error":"#NAME?"}]
["2001-07-04",null,null,null,0,{"$f":"IF(SUM($B$7:$B725)=0,\"\",IF(A725<>\"\",IF(A725<$B$3,\"N\",\"Y\"),\"\"))","v":""},0,9.08,0,null,876,{"$f":"IF(AND(ISNUMBER(A725),NOT(ISNUMBER(A726))),IF((OFFSET(Q725,-Q725,0)>50),SUM(OFFSET(E725,-Q725+1,0):E725),SUM(OFFSET(E725,-Q725,0):E725)),IF(AND(ISNUMBER(P725),ISNUMBER(P726),P725  <P726),IF((OFFSET(Q725,-Q725,0)>50),SUM(OFFSET(E725,-Q725+1,0):E725),SUM(OFFSET(E725,-Q725,0):E725)),\"\"))","v":{"$error":"#NAME?"}},{"$f":"IF(ISNUMBER(L725),IF((OFFSET(Q725,-Q725,0)>50),SUM(OFFSET(G725,-Q725+1,0):G725),SUM(OFFSET(G725,-Q725,0):G725)),\"\")","v":""},null,null,{"$error":"#NAME?"},{"$error":"#NAME?"}]
["2001-07-11",null,null,null,0,{"$f":"IF(SUM($B$7:$B726)=0,\"\",IF(A726<>\"\",IF(A726<$B$3,\"N\",\"Y\"),\"\"))","v":""},0,9.08,0,null,875,{"$f":"IF(AND(ISNUMBER(A726),NOT(ISNUMBER(A727))),IF((OFFSET(Q726,-Q726,0)>50),SUM(OFFSET(E726,-Q726+1,0):E726),SUM(OFFSET(E726,-Q726,0):E726)),IF(AND(ISNUMBER(P726),ISNUMBER(P727),P726  <P727),IF((OFFSET(Q726,-Q726,0)>50),SUM(OFFSET(E726,-Q726+1,0):E726),SUM(OFFSET(E726,-Q726,0):E726)),\"\"))","v":{"$error":"#NAME?"}},{"$f":"IF(ISNUMBER(L726),IF((OFFSET(Q726,-Q726,0)>50),SUM(OFFSET(G726,-Q726+1,0):G726),SUM(OFFSET(G726,-Q726,0):G726)),\"\")","v":""},null,null,{"$error":"#NAME?"},{"$error":"#NAME?"}]
["2001-07-18",null,null,null,0,{"$f":"IF(SUM($B$7:$B727)=0,\"\",IF(A727<>\"\",IF(A727<$B$3,\"N\",\"Y\"),\"\"))","v":""},0,9.08,0,null,874,{"$f":"IF(AND(ISNUMBER(A727),NOT(ISNUMBER(A728))),IF((OFFSET(Q727,-Q727,0)>50),SUM(OFFSET(E727,-Q727+1,0):E727),SUM(OFFSET(E727,-Q727,0):E727)),IF(AND(ISNUMBER(P727),ISNUMBER(P728),P727  <P728),IF((OFFSET(Q727,-Q727,0)>50),SUM(OFFSET(E727,-Q727+1,0):E727),SUM(OFFSET(E727,-Q727,0):E727)),\"\"))","v":{"$error":"#NAME?"}},{"$f":"IF(ISNUMBER(L727),IF((OFFSET(Q727,-Q727,0)>50),SUM(OFFSET(G727,-Q727+1,0):G727),SUM(OFFSET(G727,-Q727,0):G727)),\"\")","v":""},null,null,{"$error":"#NAME?"},{"$error":"#NAME?"}]
["2001-07-25",null,null,null,0,{"$f":"IF(SUM($B$7:$B728)=0,\"\",IF(A728<>\"\",IF(A728<$B$3,\"N\",\"Y\"),\"\"))","v":""},0,9.08,0,null,873,{"$f":"IF(AND(ISNUMBER(A728),NOT(ISNUMBER(A729))),IF((OFFSET(Q728,-Q728,0)>50),SUM(OFFSET(E728,-Q728+1,0):E728),SUM(OFFSET(E728,-Q728,0):E728)),IF(AND(ISNUMBER(P728),ISNUMBER(P729),P728  <P729),IF((OFFSET(Q728,-Q728,0)>50),SUM(OFFSET(E728,-Q728+1,0):E728),SUM(OFFSET(E728,-Q728,0):E728)),\"\"))","v":{"$error":"#NAME?"}},{"$f":"IF(ISNUMBER(L728),IF((OFFSET(Q728,-Q728,0)>50),SUM(OFFSET(G728,-Q728+1,0):G728),SUM(OFFSET(G728,-Q728,0):G728)),\"\")","v":""},null,null,{"$error":"#NAME?"},{"$error":"#NAME?"}]
["2001-08-01",null,null,null,0,{"$f":"IF(SUM($B$7:$B729)=0,\"\",IF(A729<>\"\",IF(A729<$B$3,\"N\",\"Y\"),\"\"))","v":""},0,9.08,0,null,872,{"$f":"IF(AND(ISNUMBER(A729),NOT(ISNUMBER(A730))),IF((OFFSET(Q729,-Q729,0)>50),SUM(OFFSET(E729,-Q729+1,0):E729),SUM(OFFSET(E729,-Q729,0):E729)),IF(AND(ISNUMBER(P729),ISNUMBER(P730),P729  <P730),IF((OFFSET(Q729,-Q729,0)>50),SUM(OFFSET(E729,-Q729+1,0):E729),SUM(OFFSET(E729,-Q729,0):E729)),\"\"))","v":{"$error":"#NAME?"}},{"$f":"IF(ISNUMBER(L729),IF((OFFSET(Q729,-Q729,0)>50),SUM(OFFSET(G729,-Q729+1,0):G729),SUM(OFFSET(G729,-Q729,0):G729)),\"\")","v":""},null,null,{"$error":"#NAME?"},{"$error":"#NAME?"}]
["2001-08-08",null,null,null,0,{"$f":"IF(SUM($B$7:$B730)=0,\"\",IF(A730<>\"\",IF(A730<$B$3,\"N\",\"Y\"),\"\"))","v":""},0,9.08,0,null,871,{"$f":"IF(AND(ISNUMBER(A730),NOT(ISNUMBER(A731))),IF((OFFSET(Q730,-Q730,0)>50),SUM(OFFSET(E730,-Q730+1,0):E730),SUM(OFFSET(E730,-Q730,0):E730)),IF(AND(ISNUMBER(P730),ISNUMBER(P731),P730  <P731),IF((OFFSET(Q730,-Q730,0)>50),SUM(OFFSET(E730,-Q730+1,0):E730),SUM(OFFSET(E730,-Q730,0):E730)),\"\"))","v":{"$error":"#NAME?"}},{"$f":"IF(ISNUMBER(L730),IF((OFFSET(Q730,-Q730,0)>50),SUM(OFFSET(G730,-Q730+1,0):G730),SUM(OFFSET(G730,-Q730,0):G730)),\"\")","v":""},null,null,{"$error":"#NAME?"},{"$error":"#NAME?"}]
["2001-08-15",null,null,null,0,{"$f":"IF(SUM($B$7:$B731)=0,\"\",IF(A731<>\"\",IF(A731<$B$3,\"N\",\"Y\"),\"\"))","v":""},0,9.08,0,null,870,{"$f":"IF(AND(ISNUMBER(A731),NOT(ISNUMBER(A732))),IF((OFFSET(Q731,-Q731,0)>50),SUM(OFFSET(E731,-Q731+1,0):E731),SUM(OFFSET(E731,-Q731,0):E731)),IF(AND(ISNUMBER(P731),ISNUMBER(P732),P731  <P732),IF((OFFSET(Q731,-Q731,0)>50),SUM(OFFSET(E731,-Q731+1,0):E731),SUM(OFFSET(E731,-Q731,0):E731)),\"\"))","v":{"$error":"#NAME?"}},{"$f":"IF(ISNUMBER(L731),IF((OFFSET(Q731,-Q731,0)>50),SUM(OFFSET(G731,-Q731+1,0):G731),SUM(OFFSET(G731,-Q731,0):G731)),\"\")","v":""},null,null,{"$error":"#NAME?"},{"$error":"#NAME?"}]
["2001-08-22",null,null,null,0,{"$f":"IF(SUM($B$7:$B732)=0,\"\",IF(A732<>\"\",IF(A732<$B$3,\"N\",\"Y\"),\"\"))","v":""},0,9.08,0,null,869,{"$f":"IF(AND(ISNUMBER(A732),NOT(ISNUMBER(A733))),IF((OFFSET(Q732,-Q732,0)>50),SUM(OFFSET(E732,-Q732+1,0):E732),SUM(OFFSET(E732,-Q732,0):E732)),IF(AND(ISNUMBER(P732),ISNUMBER(P733),P732  <P733),IF((OFFSET(Q732,-Q732,0)>50),SUM(OFFSET(E732,-Q732+1,0):E732),SUM(OFFSET(E732,-Q732,0):E732)),\"\"))","v":{"$error":"#NAME?"}},{"$f":"IF(ISNUMBER(L732),IF((OFFSET(Q732,-Q732,0)>50),SUM(OFFSET(G732,-Q732+1,0):G732),SUM(OFFSET(G732,-Q732,0):G732)),\"\")","v":""},null,null,{"$error":"#NAME?"},{"$error":"#NAME?"}]
["2001-08-29",null,null,null,0,{"$f":"IF(SUM($B$7:$B733)=0,\"\",IF(A733<>\"\",IF(A733<$B$3,\"N\",\"Y\"),\"\"))","v":""},0,9.08,0,null,868,{"$f":"IF(AND(ISNUMBER(A733),NOT(ISNUMBER(A734))),IF((OFFSET(Q733,-Q733,0)>50),SUM(OFFSET(E733,-Q733+1,0):E733),SUM(OFFSET(E733,-Q733,0):E733)),IF(AND(ISNUMBER(P733),ISNUMBER(P734),P733  <P734),IF((OFFSET(Q733,-Q733,0)>50),SUM(OFFSET(E733,-Q733+1,0):E733),SUM(OFFSET(E733,-Q733,0):E733)),\"\"))","v":{"$error":"#NAME?"}},{"$f":"IF(ISNUMBER(L733),IF((OFFSET(Q733,-Q733,0)>50),SUM(OFFSET(G733,-Q733+1,0):G733),SUM(OFFSET(G733,-Q733,0):G733)),\"\")","v":""},null,null,{"$error":"#NAME?"},{"$error":"#NAME?"}]
["2001-09-05",null,null,null,0,{"$f":"IF(SUM($B$7:$B734)=0,\"\",IF(A734<>\"\",IF(A734<$B$3,\"N\",\"Y\"),\"\"))","v":""},0,9.08,0,null,867,{"$f":"IF(AND(ISNUMBER(A734),NOT(ISNUMBER(A735))),IF((OFFSET(Q734,-Q734,0)>50),SUM(OFFSET(E734,-Q734+1,0):E734),SUM(OFFSET(E734,-Q734,0):E734)),IF(AND(ISNUMBER(P734),ISNUMBER(P735),P734  <P735),IF((OFFSET(Q734,-Q734,0)>50),SUM(OFFSET(E734,-Q734+1,0):E734),SUM(OFFSET(E734,-Q734,0):E734)),\"\"))","v":{"$error":"#NAME?"}},{"$f":"IF(ISNUMBER(L734),IF((OFFSET(Q734,-Q734,0)>50),SUM(OFFSET(G734,-Q734+1,0):G734),SUM(OFFSET(G734,-Q734,0):G734)),\"\")","v":""},null,null,{"$error":"#NAME?"},{"$error":"#NAME?"}]
["2001-09-12",null,null,null,0,{"$f":"IF(SUM($B$7:$B735)=0,\"\",IF(A735<>\"\",IF(A735<$B$3,\"N\",\"Y\"),\"\"))","v":""},0,9.08,0,null,866,{"$f":"IF(AND(ISNUMBER(A735),NOT(ISNUMBER(A736))),IF((OFFSET(Q735,-Q735,0)>50),SUM(OFFSET(E735,-Q735+1,0):E735),SUM(OFFSET(E735,-Q735,0):E735)),IF(AND(ISNUMBER(P735),ISNUMBER(P736),P735  <P736),IF((OFFSET(Q735,-Q735,0)>50),SUM(OFFSET(E735,-Q735+1,0):E735),SUM(OFFSET(E735,-Q735,0):E735)),\"\"))","v":{"$error":"#NAME?"}},{"$f":"IF(ISNUMBER(L735),IF((OFFSET(Q735,-Q735,0)>50),SUM(OFFSET(G735,-Q735+1,0):G735),SUM(OFFSET(G735,-Q735,0):G735)),\"\")","v":""},null,null,{"$error":"#NAME?"},{"$error":"#NAME?"}]
["2001-09-19",null,null,null,0,{"$f":"IF(SUM($B$7:$B736)=0,\"\",IF(A736<>\"\",IF(A736<$B$3,\"N\",\"Y\"),\"\"))","v":""},0,9.08,0,null,865,{"$f":"IF(AND(ISNUMBER(A736),NOT(ISNUMBER(A737))),IF((OFFSET(Q736,-Q736,0)>50),SUM(OFFSET(E736,-Q736+1,0):E736),SUM(OFFSET(E736,-Q736,0):E736)),IF(AND(ISNUMBER(P736),ISNUMBER(P737),P736  <P737),IF((OFFSET(Q736,-Q736,0)>50),SUM(OFFSET(E736,-Q736+1,0):E736),SUM(OFFSET(E736,-Q736,0):E736)),\"\"))","v":{"$error":"#NAME?"}},{"$f":"IF(ISNUMBER(L736),IF((OFFSET(Q736,-Q736,0)>50),SUM(OFFSET(G736,-Q736+1,0):G736),SUM(OFFSET(G736,-Q736,0):G736)),\"\")","v":""},null,null,{"$error":"#NAME?"},{"$error":"#NAME?"}]
["2001-09-26",null,null,null,0,{"$f":"IF(SUM($B$7:$B737)=0,\"\",IF(A737<>\"\",IF(A737<$B$3,\"N\",\"Y\"),\"\"))","v":""},0,9.08,0,null,864,{"$f":"IF(AND(ISNUMBER(A737),NOT(ISNUMBER(A738))),IF((OFFSET(Q737,-Q737,0)>50),SUM(OFFSET(E737,-Q737+1,0):E737),SUM(OFFSET(E737,-Q737,0):E737)),IF(AND(ISNUMBER(P737),ISNUMBER(P738),P737  <P738),IF((OFFSET(Q737,-Q737,0)>50),SUM(OFFSET(E737,-Q737+1,0):E737),SUM(OFFSET(E737,-Q737,0):E737)),\"\"))","v":{"$error":"#NAME?"}},{"$f":"IF(ISNUMBER(L737),IF((OFFSET(Q737,-Q737,0)>50),SUM(OFFSET(G737,-Q737+1,0):G737),SUM(OFFSET(G737,-Q737,0):G737)),\"\")","v":""},null,null,{"$error":"#NAME?"},{"$error":"#NAME?"}]
["2001-10-03",null,null,null,0,{"$f":"IF(SUM($B$7:$B738)=0,\"\",IF(A738<>\"\",IF(A738<$B$3,\"N\",\"Y\"),\"\"))","v":""},0,9.08,0,null,863,{"$f":"IF(AND(ISNUMBER(A738),NOT(ISNUMBER(A739))),IF((OFFSET(Q738,-Q738,0)>50),SUM(OFFSET(E738,-Q738+1,0):E738),SUM(OFFSET(E738,-Q738,0):E738)),IF(AND(ISNUMBER(P738),ISNUMBER(P739),P738  <P739),IF((OFFSET(Q738,-Q738,0)>50),SUM(OFFSET(E738,-Q738+1,0):E738),SUM(OFFSET(E738,-Q738,0):E738)),\"\"))","v":{"$error":"#NAME?"}},{"$f":"IF(ISNUMBER(L738),IF((OFFSET(Q738,-Q738,0)>50),SUM(OFFSET(G738,-Q738+1,0):G738),SUM(OFFSET(G738,-Q738,0):G738)),\"\")","v":""},null,null,{"$error":"#NAME?"},{"$error":"#NAME?"}]
["2001-10-10",null,null,null,0,{"$f":"IF(SUM($B$7:$B739)=0,\"\",IF(A739<>\"\",IF(A739<$B$3,\"N\",\"Y\"),\"\"))","v":""},0,9.08,0,null,862,{"$f":"IF(AND(ISNUMBER(A739),NOT(ISNUMBER(A740))),IF((OFFSET(Q739,-Q739,0)>50),SUM(OFFSET(E739,-Q739+1,0):E739),SUM(OFFSET(E739,-Q739,0):E739)),IF(AND(ISNUMBER(P739),ISNUMBER(P740),P739  <P740),IF((OFFSET(Q739,-Q739,0)>50),SUM(OFFSET(E739,-Q739+1,0):E739),SUM(OFFSET(E739,-Q739,0):E739)),\"\"))","v":{"$error":"#NAME?"}},{"$f":"IF(ISNUMBER(L739),IF((OFFSET(Q739,-Q739,0)>50),SUM(OFFSET(G739,-Q739+1,0):G739),SUM(OFFSET(G739,-Q739,0):G739)),\"\")","v":""},null,null,{"$error":"#NAME?"},{"$error":"#NAME?"}]
["2001-10-17",null,null,null,0,{"$f":"IF(SUM($B$7:$B740)=0,\"\",IF(A740<>\"\",IF(A740<$B$3,\"N\",\"Y\"),\"\"))","v":""},0,9.08,0,null,861,{"$f":"IF(AND(ISNUMBER(A740),NOT(ISNUMBER(A741))),IF((OFFSET(Q740,-Q740,0)>50),SUM(OFFSET(E740,-Q740+1,0):E740),SUM(OFFSET(E740,-Q740,0):E740)),IF(AND(ISNUMBER(P740),ISNUMBER(P741),P740  <P741),IF((OFFSET(Q740,-Q740,0)>50),SUM(OFFSET(E740,-Q740+1,0):E740),SUM(OFFSET(E740,-Q740,0):E740)),\"\"))","v":{"$error":"#NAME?"}},{"$f":"IF(ISNUMBER(L740),IF((OFFSET(Q740,-Q740,0)>50),SUM(OFFSET(G740,-Q740+1,0):G740),SUM(OFFSET(G740,-Q740,0):G740)),\"\")","v":""},null,null,{"$error":"#NAME?"},{"$error":"#NAME?"}]
["2001-10-24",null,null,null,0,{"$f":"IF(SUM($B$7:$B741)=0,\"\",IF(A741<>\"\",IF(A741<$B$3,\"N\",\"Y\"),\"\"))","v":""},0,9.08,0,null,860,{"$f":"IF(AND(ISNUMBER(A741),NOT(ISNUMBER(A742))),IF((OFFSET(Q741,-Q741,0)>50),SUM(OFFSET(E741,-Q741+1,0):E741),SUM(OFFSET(E741,-Q741,0):E741)),IF(AND(ISNUMBER(P741),ISNUMBER(P742),P741  <P742),IF((OFFSET(Q741,-Q741,0)>50),SUM(OFFSET(E741,-Q741+1,0):E741),SUM(OFFSET(E741,-Q741,0):E741)),\"\"))","v":{"$error":"#NAME?"}},{"$f":"IF(ISNUMBER(L741),IF((OFFSET(Q741,-Q741,0)>50),SUM(OFFSET(G741,-Q741+1,0):G741),SUM(OFFSET(G741,-Q741,0):G741)),\"\")","v":""},null,null,{"$error":"#NAME?"},{"$error":"#NAME?"}]
["2001-10-31",null,null,null,0,{"$f":"IF(SUM($B$7:$B742)=0,\"\",IF(A742<>\"\",IF(A742<$B$3,\"N\",\"Y\"),\"\"))","v":""},0,9.08,0,null,859,{"$f":"IF(AND(ISNUMBER(A742),NOT(ISNUMBER(A743))),IF((OFFSET(Q742,-Q742,0)>50),SUM(OFFSET(E742,-Q742+1,0):E742),SUM(OFFSET(E742,-Q742,0):E742)),IF(AND(ISNUMBER(P742),ISNUMBER(P743),P742  <P743),IF((OFFSET(Q742,-Q742,0)>50),SUM(OFFSET(E742,-Q742+1,0):E742),SUM(OFFSET(E742,-Q742,0):E742)),\"\"))","v":{"$error":"#NAME?"}},{"$f":"IF(ISNUMBER(L742),IF((OFFSET(Q742,-Q742,0)>50),SUM(OFFSET(G742,-Q742+1,0):G742),SUM(OFFSET(G742,-Q742,0):G742)),\"\")","v":""},null,null,{"$error":"#NAME?"},{"$error":"#NAME?"}]
["2001-11-07",null,null,null,0,{"$f":"IF(SUM($B$7:$B743)=0,\"\",IF(A743<>\"\",IF(A743<$B$3,\"N\",\"Y\"),\"\"))","v":""},0,9.08,0,null,858,{"$f":"IF(AND(ISNUMBER(A743),NOT(ISNUMBER(A744))),IF((OFFSET(Q743,-Q743,0)>50),SUM(OFFSET(E743,-Q743+1,0):E743),SUM(OFFSET(E743,-Q743,0):E743)),IF(AND(ISNUMBER(P743),ISNUMBER(P744),P743  <P744),IF((OFFSET(Q743,-Q743,0)>50),SUM(OFFSET(E743,-Q743+1,0):E743),SUM(OFFSET(E743,-Q743,0):E743)),\"\"))","v":{"$error":"#NAME?"}},{"$f":"IF(ISNUMBER(L743),IF((OFFSET(Q743,-Q743,0)>50),SUM(OFFSET(G743,-Q743+1,0):G743),SUM(OFFSET(G743,-Q743,0):G743)),\"\")","v":""},null,null,{"$error":"#NAME?"},{"$error":"#NAME?"}]
["2001-11-14",null,null,null,0,{"$f":"IF(SUM($B$7:$B744)=0,\"\",IF(A744<>\"\",IF(A744<$B$3,\"N\",\"Y\"),\"\"))","v":""},0,9.08,0,null,857,{"$f":"IF(AND(ISNUMBER(A744),NOT(ISNUMBER(A745))),IF((OFFSET(Q744,-Q744,0)>50),SUM(OFFSET(E744,-Q744+1,0):E744),SUM(OFFSET(E744,-Q744,0):E744)),IF(AND(ISNUMBER(P744),ISNUMBER(P745),P744  <P745),IF((OFFSET(Q744,-Q744,0)>50),SUM(OFFSET(E744,-Q744+1,0):E744),SUM(OFFSET(E744,-Q744,0):E744)),\"\"))","v":{"$error":"#NAME?"}},{"$f":"IF(ISNUMBER(L744),IF((OFFSET(Q744,-Q744,0)>50),SUM(OFFSET(G744,-Q744+1,0):G744),SUM(OFFSET(G744,-Q744,0):G744)),\"\")","v":""},null,null,{"$error":"#NAME?"},{"$error":"#NAME?"}]
["2001-11-21",null,null,null,0,{"$f":"IF(SUM($B$7:$B745)=0,\"\",IF(A745<>\"\",IF(A745<$B$3,\"N\",\"Y\"),\"\"))","v":""},0,9.08,0,null,856,{"$f":"IF(AND(ISNUMBER(A745),NOT(ISNUMBER(A746))),IF((OFFSET(Q745,-Q745,0)>50),SUM(OFFSET(E745,-Q745+1,0):E745),SUM(OFFSET(E745,-Q745,0):E745)),IF(AND(ISNUMBER(P745),ISNUMBER(P746),P745  <P746),IF((OFFSET(Q745,-Q745,0)>50),SUM(OFFSET(E745,-Q745+1,0):E745),SUM(OFFSET(E745,-Q745,0):E745)),\"\"))","v":{"$error":"#NAME?"}},{"$f":"IF(ISNUMBER(L745),IF((OFFSET(Q745,-Q745,0)>50),SUM(OFFSET(G745,-Q745+1,0):G745),SUM(OFFSET(G745,-Q745,0):G745)),\"\")","v":""},null,null,{"$error":"#NAME?"},{"$error":"#NAME?"}]
["2001-11-28",null,null,null,0,{"$f":"IF(SUM($B$7:$B746)=0,\"\",IF(A746<>\"\",IF(A746<$B$3,\"N\",\"Y\"),\"\"))","v":""},0,9.08,0,null,855,{"$f":"IF(AND(ISNUMBER(A746),NOT(ISNUMBER(A747))),IF((OFFSET(Q746,-Q746,0)>50),SUM(OFFSET(E746,-Q746+1,0):E746),SUM(OFFSET(E746,-Q746,0):E746)),IF(AND(ISNUMBER(P746),ISNUMBER(P747),P746  <P747),IF((OFFSET(Q746,-Q746,0)>50),SUM(OFFSET(E746,-Q746+1,0):E746),SUM(OFFSET(E746,-Q746,0):E746)),\"\"))","v":{"$error":"#NAME?"}},{"$f":"IF(ISNUMBER(L746),IF((OFFSET(Q746,-Q746,0)>50),SUM(OFFSET(G746,-Q746+1,0):G746),SUM(OFFSET(G746,-Q746,0):G746)),\"\")","v":""},null,null,{"$error":"#NAME?"},{"$error":"#NAME?"}]
["2001-12-05",null,null,null,0,{"$f":"IF(SUM($B$7:$B747)=0,\"\",IF(A747<>\"\",IF(A747<$B$3,\"N\",\"Y\"),\"\"))","v":""},0,9.08,0,null,854,{"$f":"IF(AND(ISNUMBER(A747),NOT(ISNUMBER(A748))),IF((OFFSET(Q747,-Q747,0)>50),SUM(OFFSET(E747,-Q747+1,0):E747),SUM(OFFSET(E747,-Q747,0):E747)),IF(AND(ISNUMBER(P747),ISNUMBER(P748),P747  <P748),IF((OFFSET(Q747,-Q747,0)>50),SUM(OFFSET(E747,-Q747+1,0):E747),SUM(OFFSET(E747,-Q747,0):E747)),\"\"))","v":{"$error":"#NAME?"}},{"$f":"IF(ISNUMBER(L747),IF((OFFSET(Q747,-Q747,0)>50),SUM(OFFSET(G747,-Q747+1,0):G747),SUM(OFFSET(G747,-Q747,0):G747)),\"\")","v":""},null,null,{"$error":"#NAME?"},{"$error":"#NAME?"}]
["2001-12-12",null,null,null,0,{"$f":"IF(SUM($B$7:$B748)=0,\"\",IF(A748<>\"\",IF(A748<$B$3,\"N\",\"Y\"),\"\"))","v":""},0,9.08,0,null,853,{"$f":"IF(AND(ISNUMBER(A748),NOT(ISNUMBER(A749))),IF((OFFSET(Q748,-Q748,0)>50),SUM(OFFSET(E748,-Q748+1,0):E748),SUM(OFFSET(E748,-Q748,0):E748)),IF(AND(ISNUMBER(P748),ISNUMBER(P749),P748  <P749),IF((OFFSET(Q748,-Q748,0)>50),SUM(OFFSET(E748,-Q748+1,0):E748),SUM(OFFSET(E748,-Q748,0):E748)),\"\"))","v":{"$error":"#NAME?"}},{"$f":"IF(ISNUMBER(L748),IF((OFFSET(Q748,-Q748,0)>50),SUM(OFFSET(G748,-Q748+1,0):G748),SUM(OFFSET(G748,-Q748,0):G748)),\"\")","v":""},null,null,{"$error":"#NAME?"},{"$error":"#NAME?"}]
["2001-12-19",null,null,null,0,{"$f":"IF(SUM($B$7:$B749)=0,\"\",IF(A749<>\"\",IF(A749<$B$3,\"N\",\"Y\"),\"\"))","v":""},0,9.08,0,null,852,{"$f":"IF(AND(ISNUMBER(A749),NOT(ISNUMBER(A750))),IF((OFFSET(Q749,-Q749,0)>50),SUM(OFFSET(E749,-Q749+1,0):E749),SUM(OFFSET(E749,-Q749,0):E749)),IF(AND(ISNUMBER(P749),ISNUMBER(P750),P749  <P750),IF((OFFSET(Q749,-Q749,0)>50),SUM(OFFSET(E749,-Q749+1,0):E749),SUM(OFFSET(E749,-Q749,0):E749)),\"\"))","v":{"$error":"#NAME?"}},{"$f":"IF(ISNUMBER(L749),IF((OFFSET(Q749,-Q749,0)>50),SUM(OFFSET(G749,-Q749+1,0):G749),SUM(OFFSET(G749,-Q749,0):G749)),\"\")","v":""},null,null,{"$error":"#NAME?"},{"$error":"#NAME?"}]
["2001-12-26",null,null,null,0,{"$f":"IF(SUM($B$7:$B750)=0,\"\",IF(A750<>\"\",IF(A750<$B$3,\"N\",\"Y\"),\"\"))","v":""},0,9.08,0,null,851,{"$f":"IF(AND(ISNUMBER(A750),NOT(ISNUMBER(A751))),IF((OFFSET(Q750,-Q750,0)>50),SUM(OFFSET(E750,-Q750+1,0):E750),SUM(OFFSET(E750,-Q750,0):E750)),IF(AND(ISNUMBER(P750),ISNUMBER(P751),P750  <P751),IF((OFFSET(Q750,-Q750,0)>50),SUM(OFFSET(E750,-Q750+1,0):E750),SUM(OFFSET(E750,-Q750,0):E750)),\"\"))","v":{"$error":"#NAME?"}},{"$f":"IF(ISNUMBER(L750),IF((OFFSET(Q750,-Q750,0)>50),SUM(OFFSET(G750,-Q750+1,0):G750),SUM(OFFSET(G750,-Q750,0):G750)),\"\")","v":""},null,null,{"$error":"#NAME?"},{"$error":"#NAME?"}]
["2002-01-02",null,null,null,0,{"$f":"IF(SUM($B$7:$B751)=0,\"\",IF(A751<>\"\",IF(A751<$B$3,\"N\",\"Y\"),\"\"))","v":""},0,9.08,0,null,850,{"$f":"IF(AND(ISNUMBER(A751),NOT(ISNUMBER(A752))),IF((OFFSET(Q751,-Q751,0)>50),SUM(OFFSET(E751,-Q751+1,0):E751),SUM(OFFSET(E751,-Q751,0):E751)),IF(AND(ISNUMBER(P751),ISNUMBER(P752),P751  <P752),IF((OFFSET(Q751,-Q751,0)>50),SUM(OFFSET(E751,-Q751+1,0):E751),SUM(OFFSET(E751,-Q751,0):E751)),\"\"))","v":{"$error":"#NAME?"}},{"$f":"IF(ISNUMBER(L751),IF((OFFSET(Q751,-Q751,0)>50),SUM(OFFSET(G751,-Q751+1,0):G751),SUM(OFFSET(G751,-Q751,0):G751)),\"\")","v":""},null,null,{"$error":"#NAME?"},{"$error":"#NAME?"}]
["2002-01-09",null,null,null,0,{"$f":"IF(SUM($B$7:$B752)=0,\"\",IF(A752<>\"\",IF(A752<$B$3,\"N\",\"Y\"),\"\"))","v":""},0,9.08,0,null,849,{"$f":"IF(AND(ISNUMBER(A752),NOT(ISNUMBER(A753))),IF((OFFSET(Q752,-Q752,0)>50),SUM(OFFSET(E752,-Q752+1,0):E752),SUM(OFFSET(E752,-Q752,0):E752)),IF(AND(ISNUMBER(P752),ISNUMBER(P753),P752  <P753),IF((OFFSET(Q752,-Q752,0)>50),SUM(OFFSET(E752,-Q752+1,0):E752),SUM(OFFSET(E752,-Q752,0):E752)),\"\"))","v":{"$error":"#NAME?"}},{"$f":"IF(ISNUMBER(L752),IF((OFFSET(Q752,-Q752,0)>50),SUM(OFFSET(G752,-Q752+1,0):G752),SUM(OFFSET(G752,-Q752,0):G752)),\"\")","v":""},null,null,{"$error":"#NAME?"},{"$error":"#NAME?"}]
["2002-01-16",null,null,null,0,{"$f":"IF(SUM($B$7:$B753)=0,\"\",IF(A753<>\"\",IF(A753<$B$3,\"N\",\"Y\"),\"\"))","v":""},0,9.08,0,null,848,{"$f":"IF(AND(ISNUMBER(A753),NOT(ISNUMBER(A754))),IF((OFFSET(Q753,-Q753,0)>50),SUM(OFFSET(E753,-Q753+1,0):E753),SUM(OFFSET(E753,-Q753,0):E753)),IF(AND(ISNUMBER(P753),ISNUMBER(P754),P753  <P754),IF((OFFSET(Q753,-Q753,0)>50),SUM(OFFSET(E753,-Q753+1,0):E753),SUM(OFFSET(E753,-Q753,0):E753)),\"\"))","v":{"$error":"#NAME?"}},{"$f":"IF(ISNUMBER(L753),IF((OFFSET(Q753,-Q753,0)>50),SUM(OFFSET(G753,-Q753+1,0):G753),SUM(OFFSET(G753,-Q753,0):G753)),\"\")","v":""},null,null,{"$error":"#NAME?"},{"$error":"#NAME?"}]
["2002-01-23",null,null,null,0,{"$f":"IF(SUM($B$7:$B754)=0,\"\",IF(A754<>\"\",IF(A754<$B$3,\"N\",\"Y\"),\"\"))","v":""},0,9.08,0,null,847,{"$f":"IF(AND(ISNUMBER(A754),NOT(ISNUMBER(A755))),IF((OFFSET(Q754,-Q754,0)>50),SUM(OFFSET(E754,-Q754+1,0):E754),SUM(OFFSET(E754,-Q754,0):E754)),IF(AND(ISNUMBER(P754),ISNUMBER(P755),P754  <P755),IF((OFFSET(Q754,-Q754,0)>50),SUM(OFFSET(E754,-Q754+1,0):E754),SUM(OFFSET(E754,-Q754,0):E754)),\"\"))","v":{"$error":"#NAME?"}},{"$f":"IF(ISNUMBER(L754),IF((OFFSET(Q754,-Q754,0)>50),SUM(OFFSET(G754,-Q754+1,0):G754),SUM(OFFSET(G754,-Q754,0):G754)),\"\")","v":""},null,null,{"$error":"#NAME?"},{"$error":"#NAME?"}]
["2002-01-30",null,null,null,0,{"$f":"IF(SUM($B$7:$B755)=0,\"\",IF(A755<>\"\",IF(A755<$B$3,\"N\",\"Y\"),\"\"))","v":""},0,9.08,0,null,846,{"$f":"IF(AND(ISNUMBER(A755),NOT(ISNUMBER(A756))),IF((OFFSET(Q755,-Q755,0)>50),SUM(OFFSET(E755,-Q755+1,0):E755),SUM(OFFSET(E755,-Q755,0):E755)),IF(AND(ISNUMBER(P755),ISNUMBER(P756),P755  <P756),IF((OFFSET(Q755,-Q755,0)>50),SUM(OFFSET(E755,-Q755+1,0):E755),SUM(OFFSET(E755,-Q755,0):E755)),\"\"))","v":{"$error":"#NAME?"}},{"$f":"IF(ISNUMBER(L755),IF((OFFSET(Q755,-Q755,0)>50),SUM(OFFSET(G755,-Q755+1,0):G755),SUM(OFFSET(G755,-Q755,0):G755)),\"\")","v":""},null,null,{"$error":"#NAME?"},{"$error":"#NAME?"}]
["2002-02-06",null,null,null,0,{"$f":"IF(SUM($B$7:$B756)=0,\"\",IF(A756<>\"\",IF(A756<$B$3,\"N\",\"Y\"),\"\"))","v":""},0,9.08,0,null,845,{"$f":"IF(AND(ISNUMBER(A756),NOT(ISNUMBER(A757))),IF((OFFSET(Q756,-Q756,0)>50),SUM(OFFSET(E756,-Q756+1,0):E756),SUM(OFFSET(E756,-Q756,0):E756)),IF(AND(ISNUMBER(P756),ISNUMBER(P757),P756  <P757),IF((OFFSET(Q756,-Q756,0)>50),SUM(OFFSET(E756,-Q756+1,0):E756),SUM(OFFSET(E756,-Q756,0):E756)),\"\"))","v":{"$error":"#NAME?"}},{"$f":"IF(ISNUMBER(L756),IF((OFFSET(Q756,-Q756,0)>50),SUM(OFFSET(G756,-Q756+1,0):G756),SUM(OFFSET(G756,-Q756,0):G756)),\"\")","v":""},null,null,{"$error":"#NAME?"},{"$error":"#NAME?"}]
["2002-02-13",null,null,null,0,{"$f":"IF(SUM($B$7:$B757)=0,\"\",IF(A757<>\"\",IF(A757<$B$3,\"N\",\"Y\"),\"\"))","v":""},0,9.08,0,null,844,{"$f":"IF(AND(ISNUMBER(A757),NOT(ISNUMBER(A758))),IF((OFFSET(Q757,-Q757,0)>50),SUM(OFFSET(E757,-Q757+1,0):E757),SUM(OFFSET(E757,-Q757,0):E757)),IF(AND(ISNUMBER(P757),ISNUMBER(P758),P757  <P758),IF((OFFSET(Q757,-Q757,0)>50),SUM(OFFSET(E757,-Q757+1,0):E757),SUM(OFFSET(E757,-Q757,0):E757)),\"\"))","v":{"$error":"#NAME?"}},{"$f":"IF(ISNUMBER(L757),IF((OFFSET(Q757,-Q757,0)>50),SUM(OFFSET(G757,-Q757+1,0):G757),SUM(OFFSET(G757,-Q757,0):G757)),\"\")","v":""},null,null,{"$error":"#NAME?"},{"$error":"#NAME?"}]
["2002-02-20",null,null,null,0,{"$f":"IF(SUM($B$7:$B758)=0,\"\",IF(A758<>\"\",IF(A758<$B$3,\"N\",\"Y\"),\"\"))","v":""},0,9.08,0,null,843,{"$f":"IF(AND(ISNUMBER(A758),NOT(ISNUMBER(A759))),IF((OFFSET(Q758,-Q758,0)>50),SUM(OFFSET(E758,-Q758+1,0):E758),SUM(OFFSET(E758,-Q758,0):E758)),IF(AND(ISNUMBER(P758),ISNUMBER(P759),P758  <P759),IF((OFFSET(Q758,-Q758,0)>50),SUM(OFFSET(E758,-Q758+1,0):E758),SUM(OFFSET(E758,-Q758,0):E758)),\"\"))","v":{"$error":"#NAME?"}},{"$f":"IF(ISNUMBER(L758),IF((OFFSET(Q758,-Q758,0)>50),SUM(OFFSET(G758,-Q758+1,0):G758),SUM(OFFSET(G758,-Q758,0):G758)),\"\")","v":""},null,null,{"$error":"#NAME?"},{"$error":"#NAME?"}]
["2002-02-27",null,null,null,0,{"$f":"IF(SUM($B$7:$B759)=0,\"\",IF(A759<>\"\",IF(A759<$B$3,\"N\",\"Y\"),\"\"))","v":""},0,9.08,0,null,842,{"$f":"IF(AND(ISNUMBER(A759),NOT(ISNUMBER(A760))),IF((OFFSET(Q759,-Q759,0)>50),SUM(OFFSET(E759,-Q759+1,0):E759),SUM(OFFSET(E759,-Q759,0):E759)),IF(AND(ISNUMBER(P759),ISNUMBER(P760),P759  <P760),IF((OFFSET(Q759,-Q759,0)>50),SUM(OFFSET(E759,-Q759+1,0):E759),SUM(OFFSET(E759,-Q759,0):E759)),\"\"))","v":{"$error":"#NAME?"}},{"$f":"IF(ISNUMBER(L759),IF((OFFSET(Q759,-Q759,0)>50),SUM(OFFSET(G759,-Q759+1,0):G759),SUM(OFFSET(G759,-Q759,0):G759)),\"\")","v":""},null,null,{"$error":"#NAME?"},{"$error":"#NAME?"}]
["2002-03-06",null,null,null,0,{"$f":"IF(SUM($B$7:$B760)=0,\"\",IF(A760<>\"\",IF(A760<$B$3,\"N\",\"Y\"),\"\"))","v":""},0,9.08,0,null,841,{"$f":"IF(AND(ISNUMBER(A760),NOT(ISNUMBER(A761))),IF((OFFSET(Q760,-Q760,0)>50),SUM(OFFSET(E760,-Q760+1,0):E760),SUM(OFFSET(E760,-Q760,0):E760)),IF(AND(ISNUMBER(P760),ISNUMBER(P761),P760  <P761),IF((OFFSET(Q760,-Q760,0)>50),SUM(OFFSET(E760,-Q760+1,0):E760),SUM(OFFSET(E760,-Q760,0):E760)),\"\"))","v":{"$error":"#NAME?"}},{"$f":"IF(ISNUMBER(L760),IF((OFFSET(Q760,-Q760,0)>50),SUM(OFFSET(G760,-Q760+1,0):G760),SUM(OFFSET(G760,-Q760,0):G760)),\"\")","v":""},null,null,{"$error":"#NAME?"},{"$error":"#NAME?"}]
["2002-03-13",null,null,null,0,{"$f":"IF(SUM($B$7:$B761)=0,\"\",IF(A761<>\"\",IF(A761<$B$3,\"N\",\"Y\"),\"\"))","v":""},0,9.08,0,null,840,{"$f":"IF(AND(ISNUMBER(A761),NOT(ISNUMBER(A762))),IF((OFFSET(Q761,-Q761,0)>50),SUM(OFFSET(E761,-Q761+1,0):E761),SUM(OFFSET(E761,-Q761,0):E761)),IF(AND(ISNUMBER(P761),ISNUMBER(P762),P761  <P762),IF((OFFSET(Q761,-Q761,0)>50),SUM(OFFSET(E761,-Q761+1,0):E761),SUM(OFFSET(E761,-Q761,0):E761)),\"\"))","v":{"$error":"#NAME?"}},{"$f":"IF(ISNUMBER(L761),IF((OFFSET(Q761,-Q761,0)>50),SUM(OFFSET(G761,-Q761+1,0):G761),SUM(OFFSET(G761,-Q761,0):G761)),\"\")","v":""},null,null,{"$error":"#NAME?"},{"$error":"#NAME?"}]
["2002-03-20",null,null,null,0,{"$f":"IF(SUM($B$7:$B762)=0,\"\",IF(A762<>\"\",IF(A762<$B$3,\"N\",\"Y\"),\"\"))","v":""},0,9.08,0,null,839,{"$f":"IF(AND(ISNUMBER(A762),NOT(ISNUMBER(A763))),IF((OFFSET(Q762,-Q762,0)>50),SUM(OFFSET(E762,-Q762+1,0):E762),SUM(OFFSET(E762,-Q762,0):E762)),IF(AND(ISNUMBER(P762),ISNUMBER(P763),P762  <P763),IF((OFFSET(Q762,-Q762,0)>50),SUM(OFFSET(E762,-Q762+1,0):E762),SUM(OFFSET(E762,-Q762,0):E762)),\"\"))","v":{"$error":"#NAME?"}},{"$f":"IF(ISNUMBER(L762),IF((OFFSET(Q762,-Q762,0)>50),SUM(OFFSET(G762,-Q762+1,0):G762),SUM(OFFSET(G762,-Q762,0):G762)),\"\")","v":""},null,null,{"$error":"#NAME?"},{"$error":"#NAME?"}]
["2002-03-27",null,null,null,0,{"$f":"IF(SUM($B$7:$B763)=0,\"\",IF(A763<>\"\",IF(A763<$B$3,\"N\",\"Y\"),\"\"))","v":""},0,9.08,0,null,838,{"$f":"IF(AND(ISNUMBER(A763),NOT(ISNUMBER(A764))),IF((OFFSET(Q763,-Q763,0)>50),SUM(OFFSET(E763,-Q763+1,0):E763),SUM(OFFSET(E763,-Q763,0):E763)),IF(AND(ISNUMBER(P763),ISNUMBER(P764),P763  <P764),IF((OFFSET(Q763,-Q763,0)>50),SUM(OFFSET(E763,-Q763+1,0):E763),SUM(OFFSET(E763,-Q763,0):E763)),\"\"))","v":{"$error":"#NAME?"}},{"$f":"IF(ISNUMBER(L763),IF((OFFSET(Q763,-Q763,0)>50),SUM(OFFSET(G763,-Q763+1,0):G763),SUM(OFFSET(G763,-Q763,0):G763)),\"\")","v":""},null,null,{"$error":"#NAME?"},{"$error":"#NAME?"}]
["2002-04-03",null,null,null,0,{"$f":"IF(SUM($B$7:$B764)=0,\"\",IF(A764<>\"\",IF(A764<$B$3,\"N\",\"Y\"),\"\"))","v":""},0,9.08,0,null,837,{"$f":"IF(AND(ISNUMBER(A764),NOT(ISNUMBER(A765))),IF((OFFSET(Q764,-Q764,0)>50),SUM(OFFSET(E764,-Q764+1,0):E764),SUM(OFFSET(E764,-Q764,0):E764)),IF(AND(ISNUMBER(P764),ISNUMBER(P765),P764  <P765),IF((OFFSET(Q764,-Q764,0)>50),SUM(OFFSET(E764,-Q764+1,0):E764),SUM(OFFSET(E764,-Q764,0):E764)),\"\"))","v":{"$error":"#NAME?"}},{"$f":"IF(ISNUMBER(L764),IF((OFFSET(Q764,-Q764,0)>50),SUM(OFFSET(G764,-Q764+1,0):G764),SUM(OFFSET(G764,-Q764,0):G764)),\"\")","v":""},null,null,{"$error":"#NAME?"},{"$error":"#NAME?"}]
["2002-04-10",null,null,null,0,{"$f":"IF(SUM($B$7:$B765)=0,\"\",IF(A765<>\"\",IF(A765<$B$3,\"N\",\"Y\"),\"\"))","v":""},0,9.08,0,null,836,{"$f":"IF(AND(ISNUMBER(A765),NOT(ISNUMBER(A766))),IF((OFFSET(Q765,-Q765,0)>50),SUM(OFFSET(E765,-Q765+1,0):E765),SUM(OFFSET(E765,-Q765,0):E765)),IF(AND(ISNUMBER(P765),ISNUMBER(P766),P765  <P766),IF((OFFSET(Q765,-Q765,0)>50),SUM(OFFSET(E765,-Q765+1,0):E765),SUM(OFFSET(E765,-Q765,0):E765)),\"\"))","v":{"$error":"#NAME?"}},{"$f":"IF(ISNUMBER(L765),IF((OFFSET(Q765,-Q765,0)>50),SUM(OFFSET(G765,-Q765+1,0):G765),SUM(OFFSET(G765,-Q765,0):G765)),\"\")","v":""},null,null,{"$error":"#NAME?"},{"$error":"#NAME?"}]
["2002-04-17",null,null,null,0,{"$f":"IF(SUM($B$7:$B766)=0,\"\",IF(A766<>\"\",IF(A766<$B$3,\"N\",\"Y\"),\"\"))","v":""},0,9.08,0,null,835,{"$f":"IF(AND(ISNUMBER(A766),NOT(ISNUMBER(A767))),IF((OFFSET(Q766,-Q766,0)>50),SUM(OFFSET(E766,-Q766+1,0):E766),SUM(OFFSET(E766,-Q766,0):E766)),IF(AND(ISNUMBER(P766),ISNUMBER(P767),P766  <P767),IF((OFFSET(Q766,-Q766,0)>50),SUM(OFFSET(E766,-Q766+1,0):E766),SUM(OFFSET(E766,-Q766,0):E766)),\"\"))","v":{"$error":"#NAME?"}},{"$f":"IF(ISNUMBER(L766),IF((OFFSET(Q766,-Q766,0)>50),SUM(OFFSET(G766,-Q766+1,0):G766),SUM(OFFSET(G766,-Q766,0):G766)),\"\")","v":""},null,null,{"$error":"#NAME?"},{"$error":"#NAME?"}]
["2002-04-24",null,null,null,0,{"$f":"IF(SUM($B$7:$B767)=0,\"\",IF(A767<>\"\",IF(A767<$B$3,\"N\",\"Y\"),\"\"))","v":""},0,9.08,0,null,834,{"$f":"IF(AND(ISNUMBER(A767),NOT(ISNUMBER(A768))),IF((OFFSET(Q767,-Q767,0)>50),SUM(OFFSET(E767,-Q767+1,0):E767),SUM(OFFSET(E767,-Q767,0):E767)),IF(AND(ISNUMBER(P767),ISNUMBER(P768),P767  <P768),IF((OFFSET(Q767,-Q767,0)>50),SUM(OFFSET(E767,-Q767+1,0):E767),SUM(OFFSET(E767,-Q767,0):E767)),\"\"))","v":{"$error":"#NAME?"}},{"$f":"IF(ISNUMBER(L767),IF((OFFSET(Q767,-Q767,0)>50),SUM(OFFSET(G767,-Q767+1,0):G767),SUM(OFFSET(G767,-Q767,0):G767)),\"\")","v":""},null,null,{"$error":"#NAME?"},{"$error":"#NAME?"}]
["2002-05-01",null,null,null,0,{"$f":"IF(SUM($B$7:$B768)=0,\"\",IF(A768<>\"\",IF(A768<$B$3,\"N\",\"Y\"),\"\"))","v":""},0,9.08,0,null,833,{"$f":"IF(AND(ISNUMBER(A768),NOT(ISNUMBER(A769))),IF((OFFSET(Q768,-Q768,0)>50),SUM(OFFSET(E768,-Q768+1,0):E768),SUM(OFFSET(E768,-Q768,0):E768)),IF(AND(ISNUMBER(P768),ISNUMBER(P769),P768  <P769),IF((OFFSET(Q768,-Q768,0)>50),SUM(OFFSET(E768,-Q768+1,0):E768),SUM(OFFSET(E768,-Q768,0):E768)),\"\"))","v":{"$error":"#NAME?"}},{"$f":"IF(ISNUMBER(L768),IF((OFFSET(Q768,-Q768,0)>50),SUM(OFFSET(G768,-Q768+1,0):G768),SUM(OFFSET(G768,-Q768,0):G768)),\"\")","v":""},null,null,{"$error":"#NAME?"},{"$error":"#NAME?"}]
["2002-05-08",null,null,null,0,{"$f":"IF(SUM($B$7:$B769)=0,\"\",IF(A769<>\"\",IF(A769<$B$3,\"N\",\"Y\"),\"\"))","v":""},0,9.08,0,null,832,{"$f":"IF(AND(ISNUMBER(A769),NOT(ISNUMBER(A770))),IF((OFFSET(Q769,-Q769,0)>50),SUM(OFFSET(E769,-Q769+1,0):E769),SUM(OFFSET(E769,-Q769,0):E769)),IF(AND(ISNUMBER(P769),ISNUMBER(P770),P769  <P770),IF((OFFSET(Q769,-Q769,0)>50),SUM(OFFSET(E769,-Q769+1,0):E769),SUM(OFFSET(E769,-Q769,0):E769)),\"\"))","v":{"$error":"#NAME?"}},{"$f":"IF(ISNUMBER(L769),IF((OFFSET(Q769,-Q769,0)>50),SUM(OFFSET(G769,-Q769+1,0):G769),SUM(OFFSET(G769,-Q769,0):G769)),\"\")","v":""},null,null,{"$error":"#NAME?"},{"$error":"#NAME?"}]
["2002-05-15",null,null,null,0,{"$f":"IF(SUM($B$7:$B770)=0,\"\",IF(A770<>\"\",IF(A770<$B$3,\"N\",\"Y\"),\"\"))","v":""},0,9.08,0,null,831,{"$f":"IF(AND(ISNUMBER(A770),NOT(ISNUMBER(A771))),IF((OFFSET(Q770,-Q770,0)>50),SUM(OFFSET(E770,-Q770+1,0):E770),SUM(OFFSET(E770,-Q770,0):E770)),IF(AND(ISNUMBER(P770),ISNUMBER(P771),P770  <P771),IF((OFFSET(Q770,-Q770,0)>50),SUM(OFFSET(E770,-Q770+1,0):E770),SUM(OFFSET(E770,-Q770,0):E770)),\"\"))","v":{"$error":"#NAME?"}},{"$f":"IF(ISNUMBER(L770),IF((OFFSET(Q770,-Q770,0)>50),SUM(OFFSET(G770,-Q770+1,0):G770),SUM(OFFSET(G770,-Q770,0):G770)),\"\")","v":""},null,null,{"$error":"#NAME?"},{"$error":"#NAME?"}]
["2002-05-22",null,null,null,0,{"$f":"IF(SUM($B$7:$B771)=0,\"\",IF(A771<>\"\",IF(A771<$B$3,\"N\",\"Y\"),\"\"))","v":""},0,9.08,0,null,830,{"$f":"IF(AND(ISNUMBER(A771),NOT(ISNUMBER(A772))),IF((OFFSET(Q771,-Q771,0)>50),SUM(OFFSET(E771,-Q771+1,0):E771),SUM(OFFSET(E771,-Q771,0):E771)),IF(AND(ISNUMBER(P771),ISNUMBER(P772),P771  <P772),IF((OFFSET(Q771,-Q771,0)>50),SUM(OFFSET(E771,-Q771+1,0):E771),SUM(OFFSET(E771,-Q771,0):E771)),\"\"))","v":{"$error":"#NAME?"}},{"$f":"IF(ISNUMBER(L771),IF((OFFSET(Q771,-Q771,0)>50),SUM(OFFSET(G771,-Q771+1,0):G771),SUM(OFFSET(G771,-Q771,0):G771)),\"\")","v":""},null,null,{"$error":"#NAME?"},{"$error":"#NAME?"}]
["2002-05-29",null,null,null,0,{"$f":"IF(SUM($B$7:$B772)=0,\"\",IF(A772<>\"\",IF(A772<$B$3,\"N\",\"Y\"),\"\"))","v":""},0,9.08,0,null,829,{"$f":"IF(AND(ISNUMBER(A772),NOT(ISNUMBER(A773))),IF((OFFSET(Q772,-Q772,0)>50),SUM(OFFSET(E772,-Q772+1,0):E772),SUM(OFFSET(E772,-Q772,0):E772)),IF(AND(ISNUMBER(P772),ISNUMBER(P773),P772  <P773),IF((OFFSET(Q772,-Q772,0)>50),SUM(OFFSET(E772,-Q772+1,0):E772),SUM(OFFSET(E772,-Q772,0):E772)),\"\"))","v":{"$error":"#NAME?"}},{"$f":"IF(ISNUMBER(L772),IF((OFFSET(Q772,-Q772,0)>50),SUM(OFFSET(G772,-Q772+1,0):G772),SUM(OFFSET(G772,-Q772,0):G772)),\"\")","v":""},null,null,{"$error":"#NAME?"},{"$error":"#NAME?"}]
["2002-06-05",null,null,null,0,{"$f":"IF(SUM($B$7:$B773)=0,\"\",IF(A773<>\"\",IF(A773<$B$3,\"N\",\"Y\"),\"\"))","v":""},0,9.08,0,null,828,{"$f":"IF(AND(ISNUMBER(A773),NOT(ISNUMBER(A774))),IF((OFFSET(Q773,-Q773,0)>50),SUM(OFFSET(E773,-Q773+1,0):E773),SUM(OFFSET(E773,-Q773,0):E773)),IF(AND(ISNUMBER(P773),ISNUMBER(P774),P773  <P774),IF((OFFSET(Q773,-Q773,0)>50),SUM(OFFSET(E773,-Q773+1,0):E773),SUM(OFFSET(E773,-Q773,0):E773)),\"\"))","v":{"$error":"#NAME?"}},{"$f":"IF(ISNUMBER(L773),IF((OFFSET(Q773,-Q773,0)>50),SUM(OFFSET(G773,-Q773+1,0):G773),SUM(OFFSET(G773,-Q773,0):G773)),\"\")","v":""},null,null,{"$error":"#NAME?"},{"$error":"#NAME?"}]
["2002-06-12",null,null,null,0,{"$f":"IF(SUM($B$7:$B774)=0,\"\",IF(A774<>\"\",IF(A774<$B$3,\"N\",\"Y\"),\"\"))","v":""},0,9.08,0,null,827,{"$f":"IF(AND(ISNUMBER(A774),NOT(ISNUMBER(A775))),IF((OFFSET(Q774,-Q774,0)>50),SUM(OFFSET(E774,-Q774+1,0):E774),SUM(OFFSET(E774,-Q774,0):E774)),IF(AND(ISNUMBER(P774),ISNUMBER(P775),P774  <P775),IF((OFFSET(Q774,-Q774,0)>50),SUM(OFFSET(E774,-Q774+1,0):E774),SUM(OFFSET(E774,-Q774,0):E774)),\"\"))","v":{"$error":"#NAME?"}},{"$f":"IF(ISNUMBER(L774),IF((OFFSET(Q774,-Q774,0)>50),SUM(OFFSET(G774,-Q774+1,0):G774),SUM(OFFSET(G774,-Q774,0):G774)),\"\")","v":""},null,null,{"$error":"#NAME?"},{"$error":"#NAME?"}]
["2002-06-19",null,null,null,0,{"$f":"IF(SUM($B$7:$B775)=0,\"\",IF(A775<>\"\",IF(A775<$B$3,\"N\",\"Y\"),\"\"))","v":""},0,9.08,0,null,{"$f":"IF(A775<>\"\",IF((TODAY()-A775)/7>=0,INT((TODAY()-A775)/7),0),\"\")","v":826},{"$f":"IF(AND(ISNUMBER(A775),NOT(ISNUMBER(A776))),IF((OFFSET(Q775,-Q775,0)>50),SUM(OFFSET(E775,-Q775+1,0):E775),SUM(OFFSET(E775,-Q775,0):E775)),IF(AND(ISNUMBER(P775),ISNUMBER(P776),P775  <P776),IF((OFFSET(Q775,-Q775,0)>50),SUM(OFFSET(E775,-Q775+1,0):E775),SUM(OFFSET(E775,-Q775,0):E775)),\"\"))","v":{"$error":"#NAME?"}},{"$f":"IF(ISNUMBER(L775),IF((OFFSET(Q775,-Q775,0)>50),SUM(OFFSET(G775,-Q775+1,0):G775),SUM(OFFSET(G775,-Q775,0):G775)),\"\")","v":""},null,null,{"$f":"FinYear(A775)","v":{"$error":"#NAME?"}},{"$error":"#NAME?"}]
["2002-06-26",null,null,null,{"$f":"IF(A776<>\"\",IF(B776-C776>=0,B776-C776,0),\"\")","v":0},{"$f":"IF(SUM($B$7:$B776)=0,\"\",IF(A776<>\"\",IF(A776<$B$3,\"N\",\"Y\"),\"\"))","v":""},0,9.08,0,null,825,{"$f":"IF(AND(ISNUMBER(A776),NOT(ISNUMBER(A777))),IF((OFFSET(Q776,-Q776,0)>50),SUM(OFFSET(E776,-Q776+1,0):E776),SUM(OFFSET(E776,-Q776,0):E776)),IF(AND(ISNUMBER(P776),ISNUMBER(P777),P776  <P777),IF((OFFSET(Q776,-Q776,0)>50),SUM(OFFSET(E776,-Q776+1,0):E776),SUM(OFFSET(E776,-Q776,0):E776)),\"\"))","v":{"$error":"#NAME?"}},{"$f":"IF(ISNUMBER(L776),IF((OFFSET(Q776,-Q776,0)>50),SUM(OFFSET(G776,-Q776+1,0):G776),SUM(OFFSET(G776,-Q776,0):G776)),\"\")","v":""},null,null,{"$error":"#NAME?"},{"$f":"ROUND((A776-StartOfFinYear(P776))/7,0)","v":{"$error":"#NAME?"}}]
["2002-07-03",null,null,null,0,{"$f":"IF(SUM($B$7:$B777)=0,\"\",IF(A777<>\"\",IF(A777<$B$3,\"N\",\"Y\"),\"\"))","v":""},{"$f":"IF(F777=\"N\",0,IF(A777<>\"\",IF(K777>=0,((E777+I776)*(1+(H777/52)/100)-E777-I776),0),\"\"))","v":0},9.1300000000000008,{"$f":"IF(A777<>\"\",I776+E777+G777,\"\")","v":0},null,824,{"$f":"IF(AND(ISNUMBER(A777),NOT(ISNUMBER(A778))),IF((OFFSET(Q777,-Q777,0)>50),SUM(OFFSET(E777,-Q777+1,0):E777),SUM(OFFSET(E777,-Q777,0):E777)),IF(AND(ISNUMBER(P777),ISNUMBER(P778),P777  <P778),IF((OFFSET(Q777,-Q777,0)>50),SUM(OFFSET(E777,-Q777+1,0):E777),SUM(OFFSET(E777,-Q777,0):E777)),\"\"))","v":{"$error":"#NAME?"}},{"$f":"IF(ISNUMBER(L777),IF((OFFSET(Q777,-Q777,0)>50),SUM(OFFSET(G777,-Q777+1,0):G777),SUM(OFFSET(G777,-Q777,0):G777)),\"\")","v":""},null,null,{"$error":"#NAME?"},{"$error":"#NAME?"}]
[{"$f":"IF(A777<>\"\",IF(A777+12<=TODAY(),+A777+7,\"\"),\"\")","v":"2002-07-10"},null,null,null,0,{"$f":"IF(SUM($B$7:$B778)=0,\"\",IF(A778<>\"\",IF(A778<$B$3,\"N\",\"Y\"),\"\"))","v":""},0,9.1300000000000008,0,null,823,{"$f":"IF(AND(ISNUMBER(A778),NOT(ISNUMBER(A779))),IF((OFFSET(Q778,-Q778,0)>50),SUM(OFFSET(E778,-Q778+1,0):E778),SUM(OFFSET(E778,-Q778,0):E778)),IF(AND(ISNUMBER(P778),ISNUMBER(P779),P778  <P779),IF((OFFSET(Q778,-Q778,0)>50),SUM(OFFSET(E778,-Q778+1,0):E778),SUM(OFFSET(E778,-Q778,0):E778)),\"\"))","v":{"$error":"#NAME?"}},{"$f":"IF(ISNUMBER(L778),IF((OFFSET(Q778,-Q778,0)>50),SUM(OFFSET(G778,-Q778+1,0):G778),SUM(OFFSET(G778,-Q778,0):G778)),\"\")","v":""},null,null,{"$error":"#NAME?"},{"$error":"#NAME?"}]
["2002-07-17",null,null,null,0,{"$f":"IF(SUM($B$7:$B779)=0,\"\",IF(A779<>\"\",IF(A779<$B$3,\"N\",\"Y\"),\"\"))","v":""},0,9.1300000000000008,0,null,822,{"$f":"IF(AND(ISNUMBER(A779),NOT(ISNUMBER(A780))),IF((OFFSET(Q779,-Q779,0)>50),SUM(OFFSET(E779,-Q779+1,0):E779),SUM(OFFSET(E779,-Q779,0):E779)),IF(AND(ISNUMBER(P779),ISNUMBER(P780),P779  <P780),IF((OFFSET(Q779,-Q779,0)>50),SUM(OFFSET(E779,-Q779+1,0):E779),SUM(OFFSET(E779,-Q779,0):E779)),\"\"))","v":{"$error":"#NAME?"}},{"$f":"IF(ISNUMBER(L779),IF((OFFSET(Q779,-Q779,0)>50),SUM(OFFSET(G779,-Q779+1,0):G779),SUM(OFFSET(G779,-Q779,0):G779)),\"\")","v":""},null,null,{"$error":"#NAME?"},{"$error":"#NAME?"}]
["2002-07-24",null,null,null,0,{"$f":"IF(SUM($B$7:$B780)=0,\"\",IF(A780<>\"\",IF(A780<$B$3,\"N\",\"Y\"),\"\"))","v":""},0,9.1300000000000008,0,null,821,{"$f":"IF(AND(ISNUMBER(A780),NOT(ISNUMBER(A781))),IF((OFFSET(Q780,-Q780,0)>50),SUM(OFFSET(E780,-Q780+1,0):E780),SUM(OFFSET(E780,-Q780,0):E780)),IF(AND(ISNUMBER(P780),ISNUMBER(P781),P780  <P781),IF((OFFSET(Q780,-Q780,0)>50),SUM(OFFSET(E780,-Q780+1,0):E780),SUM(OFFSET(E780,-Q780,0):E780)),\"\"))","v":{"$error":"#NAME?"}},{"$f":"IF(ISNUMBER(L780),IF((OFFSET(Q780,-Q780,0)>50),SUM(OFFSET(G780,-Q780+1,0):G780),SUM(OFFSET(G780,-Q780,0):G780)),\"\")","v":""},null,null,{"$error":"#NAME?"},{"$error":"#NAME?"}]
["2002-07-31",null,null,null,0,{"$f":"IF(SUM($B$7:$B781)=0,\"\",IF(A781<>\"\",IF(A781<$B$3,\"N\",\"Y\"),\"\"))","v":""},0,9.1300000000000008,0,null,820,{"$f":"IF(AND(ISNUMBER(A781),NOT(ISNUMBER(A782))),IF((OFFSET(Q781,-Q781,0)>50),SUM(OFFSET(E781,-Q781+1,0):E781),SUM(OFFSET(E781,-Q781,0):E781)),IF(AND(ISNUMBER(P781),ISNUMBER(P782),P781  <P782),IF((OFFSET(Q781,-Q781,0)>50),SUM(OFFSET(E781,-Q781+1,0):E781),SUM(OFFSET(E781,-Q781,0):E781)),\"\"))","v":{"$error":"#NAME?"}},{"$f":"IF(ISNUMBER(L781),IF((OFFSET(Q781,-Q781,0)>50),SUM(OFFSET(G781,-Q781+1,0):G781),SUM(OFFSET(G781,-Q781,0):G781)),\"\")","v":""},null,null,{"$error":"#NAME?"},{"$error":"#NAME?"}]
["2002-08-07",null,null,null,0,{"$f":"IF(SUM($B$7:$B782)=0,\"\",IF(A782<>\"\",IF(A782<$B$3,\"N\",\"Y\"),\"\"))","v":""},0,9.1300000000000008,0,null,819,{"$f":"IF(AND(ISNUMBER(A782),NOT(ISNUMBER(A783))),IF((OFFSET(Q782,-Q782,0)>50),SUM(OFFSET(E782,-Q782+1,0):E782),SUM(OFFSET(E782,-Q782,0):E782)),IF(AND(ISNUMBER(P782),ISNUMBER(P783),P782  <P783),IF((OFFSET(Q782,-Q782,0)>50),SUM(OFFSET(E782,-Q782+1,0):E782),SUM(OFFSET(E782,-Q782,0):E782)),\"\"))","v":{"$error":"#NAME?"}},{"$f":"IF(ISNUMBER(L782),IF((OFFSET(Q782,-Q782,0)>50),SUM(OFFSET(G782,-Q782+1,0):G782),SUM(OFFSET(G782,-Q782,0):G782)),\"\")","v":""},null,null,{"$error":"#NAME?"},{"$error":"#NAME?"}]
["2002-08-14",null,null,null,0,{"$f":"IF(SUM($B$7:$B783)=0,\"\",IF(A783<>\"\",IF(A783<$B$3,\"N\",\"Y\"),\"\"))","v":""},0,9.1300000000000008,0,null,818,{"$f":"IF(AND(ISNUMBER(A783),NOT(ISNUMBER(A784))),IF((OFFSET(Q783,-Q783,0)>50),SUM(OFFSET(E783,-Q783+1,0):E783),SUM(OFFSET(E783,-Q783,0):E783)),IF(AND(ISNUMBER(P783),ISNUMBER(P784),P783  <P784),IF((OFFSET(Q783,-Q783,0)>50),SUM(OFFSET(E783,-Q783+1,0):E783),SUM(OFFSET(E783,-Q783,0):E783)),\"\"))","v":{"$error":"#NAME?"}},{"$f":"IF(ISNUMBER(L783),IF((OFFSET(Q783,-Q783,0)>50),SUM(OFFSET(G783,-Q783+1,0):G783),SUM(OFFSET(G783,-Q783,0):G783)),\"\")","v":""},null,null,{"$error":"#NAME?"},{"$error":"#NAME?"}]
["2002-08-21",null,null,null,0,{"$f":"IF(SUM($B$7:$B784)=0,\"\",IF(A784<>\"\",IF(A784<$B$3,\"N\",\"Y\"),\"\"))","v":""},0,9.1300000000000008,0,null,817,{"$f":"IF(AND(ISNUMBER(A784),NOT(ISNUMBER(A785))),IF((OFFSET(Q784,-Q784,0)>50),SUM(OFFSET(E784,-Q784+1,0):E784),SUM(OFFSET(E784,-Q784,0):E784)),IF(AND(ISNUMBER(P784),ISNUMBER(P785),P784  <P785),IF((OFFSET(Q784,-Q784,0)>50),SUM(OFFSET(E784,-Q784+1,0):E784),SUM(OFFSET(E784,-Q784,0):E784)),\"\"))","v":{"$error":"#NAME?"}},{"$f":"IF(ISNUMBER(L784),IF((OFFSET(Q784,-Q784,0)>50),SUM(OFFSET(G784,-Q784+1,0):G784),SUM(OFFSET(G784,-Q784,0):G784)),\"\")","v":""},null,null,{"$error":"#NAME?"},{"$error":"#NAME?"}]
["2002-08-28",null,null,null,0,{"$f":"IF(SUM($B$7:$B785)=0,\"\",IF(A785<>\"\",IF(A785<$B$3,\"N\",\"Y\"),\"\"))","v":""},0,9.1300000000000008,0,null,816,{"$f":"IF(AND(ISNUMBER(A785),NOT(ISNUMBER(A786))),IF((OFFSET(Q785,-Q785,0)>50),SUM(OFFSET(E785,-Q785+1,0):E785),SUM(OFFSET(E785,-Q785,0):E785)),IF(AND(ISNUMBER(P785),ISNUMBER(P786),P785  <P786),IF((OFFSET(Q785,-Q785,0)>50),SUM(OFFSET(E785,-Q785+1,0):E785),SUM(OFFSET(E785,-Q785,0):E785)),\"\"))","v":{"$error":"#NAME?"}},{"$f":"IF(ISNUMBER(L785),IF((OFFSET(Q785,-Q785,0)>50),SUM(OFFSET(G785,-Q785+1,0):G785),SUM(OFFSET(G785,-Q785,0):G785)),\"\")","v":""},null,null,{"$error":"#NAME?"},{"$error":"#NAME?"}]
["2002-09-04",null,null,null,0,{"$f":"IF(SUM($B$7:$B786)=0,\"\",IF(A786<>\"\",IF(A786<$B$3,\"N\",\"Y\"),\"\"))","v":""},0,9.1300000000000008,0,null,815,{"$f":"IF(AND(ISNUMBER(A786),NOT(ISNUMBER(A787))),IF((OFFSET(Q786,-Q786,0)>50),SUM(OFFSET(E786,-Q786+1,0):E786),SUM(OFFSET(E786,-Q786,0):E786)),IF(AND(ISNUMBER(P786),ISNUMBER(P787),P786  <P787),IF((OFFSET(Q786,-Q786,0)>50),SUM(OFFSET(E786,-Q786+1,0):E786),SUM(OFFSET(E786,-Q786,0):E786)),\"\"))","v":{"$error":"#NAME?"}},{"$f":"IF(ISNUMBER(L786),IF((OFFSET(Q786,-Q786,0)>50),SUM(OFFSET(G786,-Q786+1,0):G786),SUM(OFFSET(G786,-Q786,0):G786)),\"\")","v":""},null,null,{"$error":"#NAME?"},{"$error":"#NAME?"}]
["2002-09-11",null,null,null,0,{"$f":"IF(SUM($B$7:$B787)=0,\"\",IF(A787<>\"\",IF(A787<$B$3,\"N\",\"Y\"),\"\"))","v":""},0,9.1300000000000008,0,null,814,{"$f":"IF(AND(ISNUMBER(A787),NOT(ISNUMBER(A788))),IF((OFFSET(Q787,-Q787,0)>50),SUM(OFFSET(E787,-Q787+1,0):E787),SUM(OFFSET(E787,-Q787,0):E787)),IF(AND(ISNUMBER(P787),ISNUMBER(P788),P787  <P788),IF((OFFSET(Q787,-Q787,0)>50),SUM(OFFSET(E787,-Q787+1,0):E787),SUM(OFFSET(E787,-Q787,0):E787)),\"\"))","v":{"$error":"#NAME?"}},{"$f":"IF(ISNUMBER(L787),IF((OFFSET(Q787,-Q787,0)>50),SUM(OFFSET(G787,-Q787+1,0):G787),SUM(OFFSET(G787,-Q787,0):G787)),\"\")","v":""},null,null,{"$error":"#NAME?"},{"$error":"#NAME?"}]
["2002-09-18",null,null,null,0,{"$f":"IF(SUM($B$7:$B788)=0,\"\",IF(A788<>\"\",IF(A788<$B$3,\"N\",\"Y\"),\"\"))","v":""},0,9.1300000000000008,0,null,813,{"$f":"IF(AND(ISNUMBER(A788),NOT(ISNUMBER(A789))),IF((OFFSET(Q788,-Q788,0)>50),SUM(OFFSET(E788,-Q788+1,0):E788),SUM(OFFSET(E788,-Q788,0):E788)),IF(AND(ISNUMBER(P788),ISNUMBER(P789),P788  <P789),IF((OFFSET(Q788,-Q788,0)>50),SUM(OFFSET(E788,-Q788+1,0):E788),SUM(OFFSET(E788,-Q788,0):E788)),\"\"))","v":{"$error":"#NAME?"}},{"$f":"IF(ISNUMBER(L788),IF((OFFSET(Q788,-Q788,0)>50),SUM(OFFSET(G788,-Q788+1,0):G788),SUM(OFFSET(G788,-Q788,0):G788)),\"\")","v":""},null,null,{"$error":"#NAME?"},{"$error":"#NAME?"}]
["2002-09-25",null,null,null,0,{"$f":"IF(SUM($B$7:$B789)=0,\"\",IF(A789<>\"\",IF(A789<$B$3,\"N\",\"Y\"),\"\"))","v":""},0,9.1300000000000008,0,null,812,{"$f":"IF(AND(ISNUMBER(A789),NOT(ISNUMBER(A790))),IF((OFFSET(Q789,-Q789,0)>50),SUM(OFFSET(E789,-Q789+1,0):E789),SUM(OFFSET(E789,-Q789,0):E789)),IF(AND(ISNUMBER(P789),ISNUMBER(P790),P789  <P790),IF((OFFSET(Q789,-Q789,0)>50),SUM(OFFSET(E789,-Q789+1,0):E789),SUM(OFFSET(E789,-Q789,0):E789)),\"\"))","v":{"$error":"#NAME?"}},{"$f":"IF(ISNUMBER(L789),IF((OFFSET(Q789,-Q789,0)>50),SUM(OFFSET(G789,-Q789+1,0):G789),SUM(OFFSET(G789,-Q789,0):G789)),\"\")","v":""},null,null,{"$error":"#NAME?"},{"$error":"#NAME?"}]
["2002-10-02",null,null,null,0,{"$f":"IF(SUM($B$7:$B790)=0,\"\",IF(A790<>\"\",IF(A790<$B$3,\"N\",\"Y\"),\"\"))","v":""},0,9.1300000000000008,0,null,811,{"$f":"IF(AND(ISNUMBER(A790),NOT(ISNUMBER(A791))),IF((OFFSET(Q790,-Q790,0)>50),SUM(OFFSET(E790,-Q790+1,0):E790),SUM(OFFSET(E790,-Q790,0):E790)),IF(AND(ISNUMBER(P790),ISNUMBER(P791),P790  <P791),IF((OFFSET(Q790,-Q790,0)>50),SUM(OFFSET(E790,-Q790+1,0):E790),SUM(OFFSET(E790,-Q790,0):E790)),\"\"))","v":{"$error":"#NAME?"}},{"$f":"IF(ISNUMBER(L790),IF((OFFSET(Q790,-Q790,0)>50),SUM(OFFSET(G790,-Q790+1,0):G790),SUM(OFFSET(G790,-Q790,0):G790)),\"\")","v":""},null,null,{"$error":"#NAME?"},{"$error":"#NAME?"}]
["2002-10-09",null,null,null,0,{"$f":"IF(SUM($B$7:$B791)=0,\"\",IF(A791<>\"\",IF(A791<$B$3,\"N\",\"Y\"),\"\"))","v":""},0,9.1300000000000008,0,null,810,{"$f":"IF(AND(ISNUMBER(A791),NOT(ISNUMBER(A792))),IF((OFFSET(Q791,-Q791,0)>50),SUM(OFFSET(E791,-Q791+1,0):E791),SUM(OFFSET(E791,-Q791,0):E791)),IF(AND(ISNUMBER(P791),ISNUMBER(P792),P791  <P792),IF((OFFSET(Q791,-Q791,0)>50),SUM(OFFSET(E791,-Q791+1,0):E791),SUM(OFFSET(E791,-Q791,0):E791)),\"\"))","v":{"$error":"#NAME?"}},{"$f":"IF(ISNUMBER(L791),IF((OFFSET(Q791,-Q791,0)>50),SUM(OFFSET(G791,-Q791+1,0):G791),SUM(OFFSET(G791,-Q791,0):G791)),\"\")","v":""},null,null,{"$error":"#NAME?"},{"$error":"#NAME?"}]
["2002-10-16",null,null,null,0,{"$f":"IF(SUM($B$7:$B792)=0,\"\",IF(A792<>\"\",IF(A792<$B$3,\"N\",\"Y\"),\"\"))","v":""},0,9.1300000000000008,0,null,809,{"$f":"IF(AND(ISNUMBER(A792),NOT(ISNUMBER(A793))),IF((OFFSET(Q792,-Q792,0)>50),SUM(OFFSET(E792,-Q792+1,0):E792),SUM(OFFSET(E792,-Q792,0):E792)),IF(AND(ISNUMBER(P792),ISNUMBER(P793),P792  <P793),IF((OFFSET(Q792,-Q792,0)>50),SUM(OFFSET(E792,-Q792+1,0):E792),SUM(OFFSET(E792,-Q792,0):E792)),\"\"))","v":{"$error":"#NAME?"}},{"$f":"IF(ISNUMBER(L792),IF((OFFSET(Q792,-Q792,0)>50),SUM(OFFSET(G792,-Q792+1,0):G792),SUM(OFFSET(G792,-Q792,0):G792)),\"\")","v":""},null,null,{"$error":"#NAME?"},{"$error":"#NAME?"}]
["2002-10-23",null,null,null,0,{"$f":"IF(SUM($B$7:$B793)=0,\"\",IF(A793<>\"\",IF(A793<$B$3,\"N\",\"Y\"),\"\"))","v":""},0,9.1300000000000008,0,null,808,{"$f":"IF(AND(ISNUMBER(A793),NOT(ISNUMBER(A794))),IF((OFFSET(Q793,-Q793,0)>50),SUM(OFFSET(E793,-Q793+1,0):E793),SUM(OFFSET(E793,-Q793,0):E793)),IF(AND(ISNUMBER(P793),ISNUMBER(P794),P793  <P794),IF((OFFSET(Q793,-Q793,0)>50),SUM(OFFSET(E793,-Q793+1,0):E793),SUM(OFFSET(E793,-Q793,0):E793)),\"\"))","v":{"$error":"#NAME?"}},{"$f":"IF(ISNUMBER(L793),IF((OFFSET(Q793,-Q793,0)>50),SUM(OFFSET(G793,-Q793+1,0):G793),SUM(OFFSET(G793,-Q793,0):G793)),\"\")","v":""},null,null,{"$error":"#NAME?"},{"$error":"#NAME?"}]
["2002-10-30",null,null,null,0,{"$f":"IF(SUM($B$7:$B794)=0,\"\",IF(A794<>\"\",IF(A794<$B$3,\"N\",\"Y\"),\"\"))","v":""},0,9.1300000000000008,0,null,807,{"$f":"IF(AND(ISNUMBER(A794),NOT(ISNUMBER(A795))),IF((OFFSET(Q794,-Q794,0)>50),SUM(OFFSET(E794,-Q794+1,0):E794),SUM(OFFSET(E794,-Q794,0):E794)),IF(AND(ISNUMBER(P794),ISNUMBER(P795),P794  <P795),IF((OFFSET(Q794,-Q794,0)>50),SUM(OFFSET(E794,-Q794+1,0):E794),SUM(OFFSET(E794,-Q794,0):E794)),\"\"))","v":{"$error":"#NAME?"}},{"$f":"IF(ISNUMBER(L794),IF((OFFSET(Q794,-Q794,0)>50),SUM(OFFSET(G794,-Q794+1,0):G794),SUM(OFFSET(G794,-Q794,0):G794)),\"\")","v":""},null,null,{"$error":"#NAME?"},{"$error":"#NAME?"}]
["2002-11-06",null,null,null,0,{"$f":"IF(SUM($B$7:$B795)=0,\"\",IF(A795<>\"\",IF(A795<$B$3,\"N\",\"Y\"),\"\"))","v":""},0,9.1300000000000008,0,null,806,{"$f":"IF(AND(ISNUMBER(A795),NOT(ISNUMBER(A796))),IF((OFFSET(Q795,-Q795,0)>50),SUM(OFFSET(E795,-Q795+1,0):E795),SUM(OFFSET(E795,-Q795,0):E795)),IF(AND(ISNUMBER(P795),ISNUMBER(P796),P795  <P796),IF((OFFSET(Q795,-Q795,0)>50),SUM(OFFSET(E795,-Q795+1,0):E795),SUM(OFFSET(E795,-Q795,0):E795)),\"\"))","v":{"$error":"#NAME?"}},{"$f":"IF(ISNUMBER(L795),IF((OFFSET(Q795,-Q795,0)>50),SUM(OFFSET(G795,-Q795+1,0):G795),SUM(OFFSET(G795,-Q795,0):G795)),\"\")","v":""},null,null,{"$error":"#NAME?"},{"$error":"#NAME?"}]
["2002-11-13",null,null,null,0,{"$f":"IF(SUM($B$7:$B796)=0,\"\",IF(A796<>\"\",IF(A796<$B$3,\"N\",\"Y\"),\"\"))","v":""},0,9.1300000000000008,0,null,805,{"$f":"IF(AND(ISNUMBER(A796),NOT(ISNUMBER(A797))),IF((OFFSET(Q796,-Q796,0)>50),SUM(OFFSET(E796,-Q796+1,0):E796),SUM(OFFSET(E796,-Q796,0):E796)),IF(AND(ISNUMBER(P796),ISNUMBER(P797),P796  <P797),IF((OFFSET(Q796,-Q796,0)>50),SUM(OFFSET(E796,-Q796+1,0):E796),SUM(OFFSET(E796,-Q796,0):E796)),\"\"))","v":{"$error":"#NAME?"}},{"$f":"IF(ISNUMBER(L796),IF((OFFSET(Q796,-Q796,0)>50),SUM(OFFSET(G796,-Q796+1,0):G796),SUM(OFFSET(G796,-Q796,0):G796)),\"\")","v":""},null,null,{"$error":"#NAME?"},{"$error":"#NAME?"}]
["2002-11-20",null,null,null,0,{"$f":"IF(SUM($B$7:$B797)=0,\"\",IF(A797<>\"\",IF(A797<$B$3,\"N\",\"Y\"),\"\"))","v":""},0,9.1300000000000008,0,null,804,{"$f":"IF(AND(ISNUMBER(A797),NOT(ISNUMBER(A798))),IF((OFFSET(Q797,-Q797,0)>50),SUM(OFFSET(E797,-Q797+1,0):E797),SUM(OFFSET(E797,-Q797,0):E797)),IF(AND(ISNUMBER(P797),ISNUMBER(P798),P797  <P798),IF((OFFSET(Q797,-Q797,0)>50),SUM(OFFSET(E797,-Q797+1,0):E797),SUM(OFFSET(E797,-Q797,0):E797)),\"\"))","v":{"$error":"#NAME?"}},{"$f":"IF(ISNUMBER(L797),IF((OFFSET(Q797,-Q797,0)>50),SUM(OFFSET(G797,-Q797+1,0):G797),SUM(OFFSET(G797,-Q797,0):G797)),\"\")","v":""},null,null,{"$error":"#NAME?"},{"$error":"#NAME?"}]
["2002-11-27",null,null,null,0,{"$f":"IF(SUM($B$7:$B798)=0,\"\",IF(A798<>\"\",IF(A798<$B$3,\"N\",\"Y\"),\"\"))","v":""},0,9.1300000000000008,0,null,803,{"$f":"IF(AND(ISNUMBER(A798),NOT(ISNUMBER(A799))),IF((OFFSET(Q798,-Q798,0)>50),SUM(OFFSET(E798,-Q798+1,0):E798),SUM(OFFSET(E798,-Q798,0):E798)),IF(AND(ISNUMBER(P798),ISNUMBER(P799),P798  <P799),IF((OFFSET(Q798,-Q798,0)>50),SUM(OFFSET(E798,-Q798+1,0):E798),SUM(OFFSET(E798,-Q798,0):E798)),\"\"))","v":{"$error":"#NAME?"}},{"$f":"IF(ISNUMBER(L798),IF((OFFSET(Q798,-Q798,0)>50),SUM(OFFSET(G798,-Q798+1,0):G798),SUM(OFFSET(G798,-Q798,0):G798)),\"\")","v":""},null,null,{"$error":"#NAME?"},{"$error":"#NAME?"}]
["2002-12-04",null,null,null,0,{"$f":"IF(SUM($B$7:$B799)=0,\"\",IF(A799<>\"\",IF(A799<$B$3,\"N\",\"Y\"),\"\"))","v":""},0,9.1300000000000008,0,null,802,{"$f":"IF(AND(ISNUMBER(A799),NOT(ISNUMBER(A800))),IF((OFFSET(Q799,-Q799,0)>50),SUM(OFFSET(E799,-Q799+1,0):E799),SUM(OFFSET(E799,-Q799,0):E799)),IF(AND(ISNUMBER(P799),ISNUMBER(P800),P799  <P800),IF((OFFSET(Q799,-Q799,0)>50),SUM(OFFSET(E799,-Q799+1,0):E799),SUM(OFFSET(E799,-Q799,0):E799)),\"\"))","v":{"$error":"#NAME?"}},{"$f":"IF(ISNUMBER(L799),IF((OFFSET(Q799,-Q799,0)>50),SUM(OFFSET(G799,-Q799+1,0):G799),SUM(OFFSET(G799,-Q799,0):G799)),\"\")","v":""},null,null,{"$error":"#NAME?"},{"$error":"#NAME?"}]
["2002-12-11",null,null,null,0,{"$f":"IF(SUM($B$7:$B800)=0,\"\",IF(A800<>\"\",IF(A800<$B$3,\"N\",\"Y\"),\"\"))","v":""},0,9.1300000000000008,0,null,801,{"$f":"IF(AND(ISNUMBER(A800),NOT(ISNUMBER(A801))),IF((OFFSET(Q800,-Q800,0)>50),SUM(OFFSET(E800,-Q800+1,0):E800),SUM(OFFSET(E800,-Q800,0):E800)),IF(AND(ISNUMBER(P800),ISNUMBER(P801),P800  <P801),IF((OFFSET(Q800,-Q800,0)>50),SUM(OFFSET(E800,-Q800+1,0):E800),SUM(OFFSET(E800,-Q800,0):E800)),\"\"))","v":{"$error":"#NAME?"}},{"$f":"IF(ISNUMBER(L800),IF((OFFSET(Q800,-Q800,0)>50),SUM(OFFSET(G800,-Q800+1,0):G800),SUM(OFFSET(G800,-Q800,0):G800)),\"\")","v":""},null,null,{"$error":"#NAME?"},{"$error":"#NAME?"}]
["2002-12-18",null,null,null,0,{"$f":"IF(SUM($B$7:$B801)=0,\"\",IF(A801<>\"\",IF(A801<$B$3,\"N\",\"Y\"),\"\"))","v":""},0,9.1300000000000008,0,null,800,{"$f":"IF(AND(ISNUMBER(A801),NOT(ISNUMBER(A802))),IF((OFFSET(Q801,-Q801,0)>50),SUM(OFFSET(E801,-Q801+1,0):E801),SUM(OFFSET(E801,-Q801,0):E801)),IF(AND(ISNUMBER(P801),ISNUMBER(P802),P801  <P802),IF((OFFSET(Q801,-Q801,0)>50),SUM(OFFSET(E801,-Q801+1,0):E801),SUM(OFFSET(E801,-Q801,0):E801)),\"\"))","v":{"$error":"#NAME?"}},{"$f":"IF(ISNUMBER(L801),IF((OFFSET(Q801,-Q801,0)>50),SUM(OFFSET(G801,-Q801+1,0):G801),SUM(OFFSET(G801,-Q801,0):G801)),\"\")","v":""},null,null,{"$error":"#NAME?"},{"$error":"#NAME?"}]
["2002-12-25",null,null,null,0,{"$f":"IF(SUM($B$7:$B802)=0,\"\",IF(A802<>\"\",IF(A802<$B$3,\"N\",\"Y\"),\"\"))","v":""},0,9.1300000000000008,0,null,799,{"$f":"IF(AND(ISNUMBER(A802),NOT(ISNUMBER(A803))),IF((OFFSET(Q802,-Q802,0)>50),SUM(OFFSET(E802,-Q802+1,0):E802),SUM(OFFSET(E802,-Q802,0):E802)),IF(AND(ISNUMBER(P802),ISNUMBER(P803),P802  <P803),IF((OFFSET(Q802,-Q802,0)>50),SUM(OFFSET(E802,-Q802+1,0):E802),SUM(OFFSET(E802,-Q802,0):E802)),\"\"))","v":{"$error":"#NAME?"}},{"$f":"IF(ISNUMBER(L802),IF((OFFSET(Q802,-Q802,0)>50),SUM(OFFSET(G802,-Q802+1,0):G802),SUM(OFFSET(G802,-Q802,0):G802)),\"\")","v":""},null,null,{"$error":"#NAME?"},{"$error":"#NAME?"}]
["2003-01-01",null,null,null,0,{"$f":"IF(SUM($B$7:$B803)=0,\"\",IF(A803<>\"\",IF(A803<$B$3,\"N\",\"Y\"),\"\"))","v":""},0,9.1300000000000008,0,null,798,{"$f":"IF(AND(ISNUMBER(A803),NOT(ISNUMBER(A804))),IF((OFFSET(Q803,-Q803,0)>50),SUM(OFFSET(E803,-Q803+1,0):E803),SUM(OFFSET(E803,-Q803,0):E803)),IF(AND(ISNUMBER(P803),ISNUMBER(P804),P803  <P804),IF((OFFSET(Q803,-Q803,0)>50),SUM(OFFSET(E803,-Q803+1,0):E803),SUM(OFFSET(E803,-Q803,0):E803)),\"\"))","v":{"$error":"#NAME?"}},{"$f":"IF(ISNUMBER(L803),IF((OFFSET(Q803,-Q803,0)>50),SUM(OFFSET(G803,-Q803+1,0):G803),SUM(OFFSET(G803,-Q803,0):G803)),\"\")","v":""},null,null,{"$error":"#NAME?"},{"$error":"#NAME?"}]
["2003-01-08",null,null,null,0,{"$f":"IF(SUM($B$7:$B804)=0,\"\",IF(A804<>\"\",IF(A804<$B$3,\"N\",\"Y\"),\"\"))","v":""},0,9.1300000000000008,0,null,797,{"$f":"IF(AND(ISNUMBER(A804),NOT(ISNUMBER(A805))),IF((OFFSET(Q804,-Q804,0)>50),SUM(OFFSET(E804,-Q804+1,0):E804),SUM(OFFSET(E804,-Q804,0):E804)),IF(AND(ISNUMBER(P804),ISNUMBER(P805),P804  <P805),IF((OFFSET(Q804,-Q804,0)>50),SUM(OFFSET(E804,-Q804+1,0):E804),SUM(OFFSET(E804,-Q804,0):E804)),\"\"))","v":{"$error":"#NAME?"}},{"$f":"IF(ISNUMBER(L804),IF((OFFSET(Q804,-Q804,0)>50),SUM(OFFSET(G804,-Q804+1,0):G804),SUM(OFFSET(G804,-Q804,0):G804)),\"\")","v":""},null,null,{"$error":"#NAME?"},{"$error":"#NAME?"}]
["2003-01-15",null,null,null,0,{"$f":"IF(SUM($B$7:$B805)=0,\"\",IF(A805<>\"\",IF(A805<$B$3,\"N\",\"Y\"),\"\"))","v":""},0,9.1300000000000008,0,null,796,{"$f":"IF(AND(ISNUMBER(A805),NOT(ISNUMBER(A806))),IF((OFFSET(Q805,-Q805,0)>50),SUM(OFFSET(E805,-Q805+1,0):E805),SUM(OFFSET(E805,-Q805,0):E805)),IF(AND(ISNUMBER(P805),ISNUMBER(P806),P805  <P806),IF((OFFSET(Q805,-Q805,0)>50),SUM(OFFSET(E805,-Q805+1,0):E805),SUM(OFFSET(E805,-Q805,0):E805)),\"\"))","v":{"$error":"#NAME?"}},{"$f":"IF(ISNUMBER(L805),IF((OFFSET(Q805,-Q805,0)>50),SUM(OFFSET(G805,-Q805+1,0):G805),SUM(OFFSET(G805,-Q805,0):G805)),\"\")","v":""},null,null,{"$error":"#NAME?"},{"$error":"#NAME?"}]
["2003-01-22",null,null,null,0,{"$f":"IF(SUM($B$7:$B806)=0,\"\",IF(A806<>\"\",IF(A806<$B$3,\"N\",\"Y\"),\"\"))","v":""},0,9.1300000000000008,0,null,795,{"$f":"IF(AND(ISNUMBER(A806),NOT(ISNUMBER(A807))),IF((OFFSET(Q806,-Q806,0)>50),SUM(OFFSET(E806,-Q806+1,0):E806),SUM(OFFSET(E806,-Q806,0):E806)),IF(AND(ISNUMBER(P806),ISNUMBER(P807),P806  <P807),IF((OFFSET(Q806,-Q806,0)>50),SUM(OFFSET(E806,-Q806+1,0):E806),SUM(OFFSET(E806,-Q806,0):E806)),\"\"))","v":{"$error":"#NAME?"}},{"$f":"IF(ISNUMBER(L806),IF((OFFSET(Q806,-Q806,0)>50),SUM(OFFSET(G806,-Q806+1,0):G806),SUM(OFFSET(G806,-Q806,0):G806)),\"\")","v":""},null,null,{"$error":"#NAME?"},{"$error":"#NAME?"}]
["2003-01-29",null,null,null,0,{"$f":"IF(SUM($B$7:$B807)=0,\"\",IF(A807<>\"\",IF(A807<$B$3,\"N\",\"Y\"),\"\"))","v":""},0,9.1300000000000008,0,null,794,{"$f":"IF(AND(ISNUMBER(A807),NOT(ISNUMBER(A808))),IF((OFFSET(Q807,-Q807,0)>50),SUM(OFFSET(E807,-Q807+1,0):E807),SUM(OFFSET(E807,-Q807,0):E807)),IF(AND(ISNUMBER(P807),ISNUMBER(P808),P807  <P808),IF((OFFSET(Q807,-Q807,0)>50),SUM(OFFSET(E807,-Q807+1,0):E807),SUM(OFFSET(E807,-Q807,0):E807)),\"\"))","v":{"$error":"#NAME?"}},{"$f":"IF(ISNUMBER(L807),IF((OFFSET(Q807,-Q807,0)>50),SUM(OFFSET(G807,-Q807+1,0):G807),SUM(OFFSET(G807,-Q807,0):G807)),\"\")","v":""},null,null,{"$error":"#NAME?"},{"$error":"#NAME?"}]
["2003-02-05",null,null,null,0,{"$f":"IF(SUM($B$7:$B808)=0,\"\",IF(A808<>\"\",IF(A808<$B$3,\"N\",\"Y\"),\"\"))","v":""},0,9.1300000000000008,0,null,793,{"$f":"IF(AND(ISNUMBER(A808),NOT(ISNUMBER(A809))),IF((OFFSET(Q808,-Q808,0)>50),SUM(OFFSET(E808,-Q808+1,0):E808),SUM(OFFSET(E808,-Q808,0):E808)),IF(AND(ISNUMBER(P808),ISNUMBER(P809),P808  <P809),IF((OFFSET(Q808,-Q808,0)>50),SUM(OFFSET(E808,-Q808+1,0):E808),SUM(OFFSET(E808,-Q808,0):E808)),\"\"))","v":{"$error":"#NAME?"}},{"$f":"IF(ISNUMBER(L808),IF((OFFSET(Q808,-Q808,0)>50),SUM(OFFSET(G808,-Q808+1,0):G808),SUM(OFFSET(G808,-Q808,0):G808)),\"\")","v":""},null,null,{"$error":"#NAME?"},{"$error":"#NAME?"}]
["2003-02-12",null,null,null,0,{"$f":"IF(SUM($B$7:$B809)=0,\"\",IF(A809<>\"\",IF(A809<$B$3,\"N\",\"Y\"),\"\"))","v":""},0,9.1300000000000008,0,null,792,{"$f":"IF(AND(ISNUMBER(A809),NOT(ISNUMBER(A810))),IF((OFFSET(Q809,-Q809,0)>50),SUM(OFFSET(E809,-Q809+1,0):E809),SUM(OFFSET(E809,-Q809,0):E809)),IF(AND(ISNUMBER(P809),ISNUMBER(P810),P809  <P810),IF((OFFSET(Q809,-Q809,0)>50),SUM(OFFSET(E809,-Q809+1,0):E809),SUM(OFFSET(E809,-Q809,0):E809)),\"\"))","v":{"$error":"#NAME?"}},{"$f":"IF(ISNUMBER(L809),IF((OFFSET(Q809,-Q809,0)>50),SUM(OFFSET(G809,-Q809+1,0):G809),SUM(OFFSET(G809,-Q809,0):G809)),\"\")","v":""},null,null,{"$error":"#NAME?"},{"$error":"#NAME?"}]
["2003-02-19",null,null,null,0,{"$f":"IF(SUM($B$7:$B810)=0,\"\",IF(A810<>\"\",IF(A810<$B$3,\"N\",\"Y\"),\"\"))","v":""},0,9.1300000000000008,0,null,791,{"$f":"IF(AND(ISNUMBER(A810),NOT(ISNUMBER(A811))),IF((OFFSET(Q810,-Q810,0)>50),SUM(OFFSET(E810,-Q810+1,0):E810),SUM(OFFSET(E810,-Q810,0):E810)),IF(AND(ISNUMBER(P810),ISNUMBER(P811),P810  <P811),IF((OFFSET(Q810,-Q810,0)>50),SUM(OFFSET(E810,-Q810+1,0):E810),SUM(OFFSET(E810,-Q810,0):E810)),\"\"))","v":{"$error":"#NAME?"}},{"$f":"IF(ISNUMBER(L810),IF((OFFSET(Q810,-Q810,0)>50),SUM(OFFSET(G810,-Q810+1,0):G810),SUM(OFFSET(G810,-Q810,0):G810)),\"\")","v":""},null,null,{"$error":"#NAME?"},{"$error":"#NAME?"}]
["2003-02-26",null,null,null,0,{"$f":"IF(SUM($B$7:$B811)=0,\"\",IF(A811<>\"\",IF(A811<$B$3,\"N\",\"Y\"),\"\"))","v":""},0,9.1300000000000008,0,null,790,{"$f":"IF(AND(ISNUMBER(A811),NOT(ISNUMBER(A812))),IF((OFFSET(Q811,-Q811,0)>50),SUM(OFFSET(E811,-Q811+1,0):E811),SUM(OFFSET(E811,-Q811,0):E811)),IF(AND(ISNUMBER(P811),ISNUMBER(P812),P811  <P812),IF((OFFSET(Q811,-Q811,0)>50),SUM(OFFSET(E811,-Q811+1,0):E811),SUM(OFFSET(E811,-Q811,0):E811)),\"\"))","v":{"$error":"#NAME?"}},{"$f":"IF(ISNUMBER(L811),IF((OFFSET(Q811,-Q811,0)>50),SUM(OFFSET(G811,-Q811+1,0):G811),SUM(OFFSET(G811,-Q811,0):G811)),\"\")","v":""},null,null,{"$error":"#NAME?"},{"$error":"#NAME?"}]
["2003-03-05",null,null,null,0,{"$f":"IF(SUM($B$7:$B812)=0,\"\",IF(A812<>\"\",IF(A812<$B$3,\"N\",\"Y\"),\"\"))","v":""},0,9.1300000000000008,0,null,789,{"$f":"IF(AND(ISNUMBER(A812),NOT(ISNUMBER(A813))),IF((OFFSET(Q812,-Q812,0)>50),SUM(OFFSET(E812,-Q812+1,0):E812),SUM(OFFSET(E812,-Q812,0):E812)),IF(AND(ISNUMBER(P812),ISNUMBER(P813),P812  <P813),IF((OFFSET(Q812,-Q812,0)>50),SUM(OFFSET(E812,-Q812+1,0):E812),SUM(OFFSET(E812,-Q812,0):E812)),\"\"))","v":{"$error":"#NAME?"}},{"$f":"IF(ISNUMBER(L812),IF((OFFSET(Q812,-Q812,0)>50),SUM(OFFSET(G812,-Q812+1,0):G812),SUM(OFFSET(G812,-Q812,0):G812)),\"\")","v":""},null,null,{"$error":"#NAME?"},{"$error":"#NAME?"}]
["2003-03-12",null,null,null,0,{"$f":"IF(SUM($B$7:$B813)=0,\"\",IF(A813<>\"\",IF(A813<$B$3,\"N\",\"Y\"),\"\"))","v":""},0,9.1300000000000008,0,null,788,{"$f":"IF(AND(ISNUMBER(A813),NOT(ISNUMBER(A814))),IF((OFFSET(Q813,-Q813,0)>50),SUM(OFFSET(E813,-Q813+1,0):E813),SUM(OFFSET(E813,-Q813,0):E813)),IF(AND(ISNUMBER(P813),ISNUMBER(P814),P813  <P814),IF((OFFSET(Q813,-Q813,0)>50),SUM(OFFSET(E813,-Q813+1,0):E813),SUM(OFFSET(E813,-Q813,0):E813)),\"\"))","v":{"$error":"#NAME?"}},{"$f":"IF(ISNUMBER(L813),IF((OFFSET(Q813,-Q813,0)>50),SUM(OFFSET(G813,-Q813+1,0):G813),SUM(OFFSET(G813,-Q813,0):G813)),\"\")","v":""},null,null,{"$error":"#NAME?"},{"$error":"#NAME?"}]
["2003-03-19",null,null,null,0,{"$f":"IF(SUM($B$7:$B814)=0,\"\",IF(A814<>\"\",IF(A814<$B$3,\"N\",\"Y\"),\"\"))","v":""},0,9.1300000000000008,0,null,787,{"$f":"IF(AND(ISNUMBER(A814),NOT(ISNUMBER(A815))),IF((OFFSET(Q814,-Q814,0)>50),SUM(OFFSET(E814,-Q814+1,0):E814),SUM(OFFSET(E814,-Q814,0):E814)),IF(AND(ISNUMBER(P814),ISNUMBER(P815),P814  <P815),IF((OFFSET(Q814,-Q814,0)>50),SUM(OFFSET(E814,-Q814+1,0):E814),SUM(OFFSET(E814,-Q814,0):E814)),\"\"))","v":{"$error":"#NAME?"}},{"$f":"IF(ISNUMBER(L814),IF((OFFSET(Q814,-Q814,0)>50),SUM(OFFSET(G814,-Q814+1,0):G814),SUM(OFFSET(G814,-Q814,0):G814)),\"\")","v":""},null,null,{"$error":"#NAME?"},{"$error":"#NAME?"}]
["2003-03-26",null,null,null,0,{"$f":"IF(SUM($B$7:$B815)=0,\"\",IF(A815<>\"\",IF(A815<$B$3,\"N\",\"Y\"),\"\"))","v":""},0,9.1300000000000008,0,null,786,{"$f":"IF(AND(ISNUMBER(A815),NOT(ISNUMBER(A816))),IF((OFFSET(Q815,-Q815,0)>50),SUM(OFFSET(E815,-Q815+1,0):E815),SUM(OFFSET(E815,-Q815,0):E815)),IF(AND(ISNUMBER(P815),ISNUMBER(P816),P815  <P816),IF((OFFSET(Q815,-Q815,0)>50),SUM(OFFSET(E815,-Q815+1,0):E815),SUM(OFFSET(E815,-Q815,0):E815)),\"\"))","v":{"$error":"#NAME?"}},{"$f":"IF(ISNUMBER(L815),IF((OFFSET(Q815,-Q815,0)>50),SUM(OFFSET(G815,-Q815+1,0):G815),SUM(OFFSET(G815,-Q815,0):G815)),\"\")","v":""},null,null,{"$error":"#NAME?"},{"$error":"#NAME?"}]
["2003-04-02",null,null,null,0,{"$f":"IF(SUM($B$7:$B816)=0,\"\",IF(A816<>\"\",IF(A816<$B$3,\"N\",\"Y\"),\"\"))","v":""},0,9.1300000000000008,0,null,785,{"$f":"IF(AND(ISNUMBER(A816),NOT(ISNUMBER(A817))),IF((OFFSET(Q816,-Q816,0)>50),SUM(OFFSET(E816,-Q816+1,0):E816),SUM(OFFSET(E816,-Q816,0):E816)),IF(AND(ISNUMBER(P816),ISNUMBER(P817),P816  <P817),IF((OFFSET(Q816,-Q816,0)>50),SUM(OFFSET(E816,-Q816+1,0):E816),SUM(OFFSET(E816,-Q816,0):E816)),\"\"))","v":{"$error":"#NAME?"}},{"$f":"IF(ISNUMBER(L816),IF((OFFSET(Q816,-Q816,0)>50),SUM(OFFSET(G816,-Q816+1,0):G816),SUM(OFFSET(G816,-Q816,0):G816)),\"\")","v":""},null,null,{"$error":"#NAME?"},{"$error":"#NAME?"}]
["2003-04-09",null,null,null,0,{"$f":"IF(SUM($B$7:$B817)=0,\"\",IF(A817<>\"\",IF(A817<$B$3,\"N\",\"Y\"),\"\"))","v":""},0,9.1300000000000008,0,null,784,{"$f":"IF(AND(ISNUMBER(A817),NOT(ISNUMBER(A818))),IF((OFFSET(Q817,-Q817,0)>50),SUM(OFFSET(E817,-Q817+1,0):E817),SUM(OFFSET(E817,-Q817,0):E817)),IF(AND(ISNUMBER(P817),ISNUMBER(P818),P817  <P818),IF((OFFSET(Q817,-Q817,0)>50),SUM(OFFSET(E817,-Q817+1,0):E817),SUM(OFFSET(E817,-Q817,0):E817)),\"\"))","v":{"$error":"#NAME?"}},{"$f":"IF(ISNUMBER(L817),IF((OFFSET(Q817,-Q817,0)>50),SUM(OFFSET(G817,-Q817+1,0):G817),SUM(OFFSET(G817,-Q817,0):G817)),\"\")","v":""},null,null,{"$error":"#NAME?"},{"$error":"#NAME?"}]
["2003-04-16",null,null,null,0,{"$f":"IF(SUM($B$7:$B818)=0,\"\",IF(A818<>\"\",IF(A818<$B$3,\"N\",\"Y\"),\"\"))","v":""},0,9.1300000000000008,0,null,783,{"$f":"IF(AND(ISNUMBER(A818),NOT(ISNUMBER(A819))),IF((OFFSET(Q818,-Q818,0)>50),SUM(OFFSET(E818,-Q818+1,0):E818),SUM(OFFSET(E818,-Q818,0):E818)),IF(AND(ISNUMBER(P818),ISNUMBER(P819),P818  <P819),IF((OFFSET(Q818,-Q818,0)>50),SUM(OFFSET(E818,-Q818+1,0):E818),SUM(OFFSET(E818,-Q818,0):E818)),\"\"))","v":{"$error":"#NAME?"}},{"$f":"IF(ISNUMBER(L818),IF((OFFSET(Q818,-Q818,0)>50),SUM(OFFSET(G818,-Q818+1,0):G818),SUM(OFFSET(G818,-Q818,0):G818)),\"\")","v":""},null,null,{"$error":"#NAME?"},{"$error":"#NAME?"}]
["2003-04-23",null,null,null,0,{"$f":"IF(SUM($B$7:$B819)=0,\"\",IF(A819<>\"\",IF(A819<$B$3,\"N\",\"Y\"),\"\"))","v":""},0,9.1300000000000008,0,null,782,{"$f":"IF(AND(ISNUMBER(A819),NOT(ISNUMBER(A820))),IF((OFFSET(Q819,-Q819,0)>50),SUM(OFFSET(E819,-Q819+1,0):E819),SUM(OFFSET(E819,-Q819,0):E819)),IF(AND(ISNUMBER(P819),ISNUMBER(P820),P819  <P820),IF((OFFSET(Q819,-Q819,0)>50),SUM(OFFSET(E819,-Q819+1,0):E819),SUM(OFFSET(E819,-Q819,0):E819)),\"\"))","v":{"$error":"#NAME?"}},{"$f":"IF(ISNUMBER(L819),IF((OFFSET(Q819,-Q819,0)>50),SUM(OFFSET(G819,-Q819+1,0):G819),SUM(OFFSET(G819,-Q819,0):G819)),\"\")","v":""},null,null,{"$error":"#NAME?"},{"$error":"#NAME?"}]
["2003-04-30",null,null,null,0,{"$f":"IF(SUM($B$7:$B820)=0,\"\",IF(A820<>\"\",IF(A820<$B$3,\"N\",\"Y\"),\"\"))","v":""},0,9.1300000000000008,0,null,781,{"$f":"IF(AND(ISNUMBER(A820),NOT(ISNUMBER(A821))),IF((OFFSET(Q820,-Q820,0)>50),SUM(OFFSET(E820,-Q820+1,0):E820),SUM(OFFSET(E820,-Q820,0):E820)),IF(AND(ISNUMBER(P820),ISNUMBER(P821),P820  <P821),IF((OFFSET(Q820,-Q820,0)>50),SUM(OFFSET(E820,-Q820+1,0):E820),SUM(OFFSET(E820,-Q820,0):E820)),\"\"))","v":{"$error":"#NAME?"}},{"$f":"IF(ISNUMBER(L820),IF((OFFSET(Q820,-Q820,0)>50),SUM(OFFSET(G820,-Q820+1,0):G820),SUM(OFFSET(G820,-Q820,0):G820)),\"\")","v":""},null,null,{"$error":"#NAME?"},{"$error":"#NAME?"}]
["2003-05-07",null,null,null,0,{"$f":"IF(SUM($B$7:$B821)=0,\"\",IF(A821<>\"\",IF(A821<$B$3,\"N\",\"Y\"),\"\"))","v":""},0,9.1300000000000008,0,null,780,{"$f":"IF(AND(ISNUMBER(A821),NOT(ISNUMBER(A822))),IF((OFFSET(Q821,-Q821,0)>50),SUM(OFFSET(E821,-Q821+1,0):E821),SUM(OFFSET(E821,-Q821,0):E821)),IF(AND(ISNUMBER(P821),ISNUMBER(P822),P821  <P822),IF((OFFSET(Q821,-Q821,0)>50),SUM(OFFSET(E821,-Q821+1,0):E821),SUM(OFFSET(E821,-Q821,0):E821)),\"\"))","v":{"$error":"#NAME?"}},{"$f":"IF(ISNUMBER(L821),IF((OFFSET(Q821,-Q821,0)>50),SUM(OFFSET(G821,-Q821+1,0):G821),SUM(OFFSET(G821,-Q821,0):G821)),\"\")","v":""},null,null,{"$error":"#NAME?"},{"$error":"#NAME?"}]
["2003-05-14",null,null,null,0,{"$f":"IF(SUM($B$7:$B822)=0,\"\",IF(A822<>\"\",IF(A822<$B$3,\"N\",\"Y\"),\"\"))","v":""},0,9.1300000000000008,0,null,779,{"$f":"IF(AND(ISNUMBER(A822),NOT(ISNUMBER(A823))),IF((OFFSET(Q822,-Q822,0)>50),SUM(OFFSET(E822,-Q822+1,0):E822),SUM(OFFSET(E822,-Q822,0):E822)),IF(AND(ISNUMBER(P822),ISNUMBER(P823),P822  <P823),IF((OFFSET(Q822,-Q822,0)>50),SUM(OFFSET(E822,-Q822+1,0):E822),SUM(OFFSET(E822,-Q822,0):E822)),\"\"))","v":{"$error":"#NAME?"}},{"$f":"IF(ISNUMBER(L822),IF((OFFSET(Q822,-Q822,0)>50),SUM(OFFSET(G822,-Q822+1,0):G822),SUM(OFFSET(G822,-Q822,0):G822)),\"\")","v":""},null,null,{"$error":"#NAME?"},{"$error":"#NAME?"}]
["2003-05-21",null,null,null,0,{"$f":"IF(SUM($B$7:$B823)=0,\"\",IF(A823<>\"\",IF(A823<$B$3,\"N\",\"Y\"),\"\"))","v":""},0,9.1300000000000008,0,null,778,{"$f":"IF(AND(ISNUMBER(A823),NOT(ISNUMBER(A824))),IF((OFFSET(Q823,-Q823,0)>50),SUM(OFFSET(E823,-Q823+1,0):E823),SUM(OFFSET(E823,-Q823,0):E823)),IF(AND(ISNUMBER(P823),ISNUMBER(P824),P823  <P824),IF((OFFSET(Q823,-Q823,0)>50),SUM(OFFSET(E823,-Q823+1,0):E823),SUM(OFFSET(E823,-Q823,0):E823)),\"\"))","v":{"$error":"#NAME?"}},{"$f":"IF(ISNUMBER(L823),IF((OFFSET(Q823,-Q823,0)>50),SUM(OFFSET(G823,-Q823+1,0):G823),SUM(OFFSET(G823,-Q823,0):G823)),\"\")","v":""},null,null,{"$error":"#NAME?"},{"$error":"#NAME?"}]
["2003-05-28",null,null,null,0,{"$f":"IF(SUM($B$7:$B824)=0,\"\",IF(A824<>\"\",IF(A824<$B$3,\"N\",\"Y\"),\"\"))","v":""},0,9.1300000000000008,0,null,777,{"$f":"IF(AND(ISNUMBER(A824),NOT(ISNUMBER(A825))),IF((OFFSET(Q824,-Q824,0)>50),SUM(OFFSET(E824,-Q824+1,0):E824),SUM(OFFSET(E824,-Q824,0):E824)),IF(AND(ISNUMBER(P824),ISNUMBER(P825),P824  <P825),IF((OFFSET(Q824,-Q824,0)>50),SUM(OFFSET(E824,-Q824+1,0):E824),SUM(OFFSET(E824,-Q824,0):E824)),\"\"))","v":{"$error":"#NAME?"}},{"$f":"IF(ISNUMBER(L824),IF((OFFSET(Q824,-Q824,0)>50),SUM(OFFSET(G824,-Q824+1,0):G824),SUM(OFFSET(G824,-Q824,0):G824)),\"\")","v":""},null,null,{"$error":"#NAME?"},{"$error":"#NAME?"}]
["2003-06-04",null,null,null,0,{"$f":"IF(SUM($B$7:$B825)=0,\"\",IF(A825<>\"\",IF(A825<$B$3,\"N\",\"Y\"),\"\"))","v":""},0,9.1300000000000008,0,null,776,{"$f":"IF(AND(ISNUMBER(A825),NOT(ISNUMBER(A826))),IF((OFFSET(Q825,-Q825,0)>50),SUM(OFFSET(E825,-Q825+1,0):E825),SUM(OFFSET(E825,-Q825,0):E825)),IF(AND(ISNUMBER(P825),ISNUMBER(P826),P825  <P826),IF((OFFSET(Q825,-Q825,0)>50),SUM(OFFSET(E825,-Q825+1,0):E825),SUM(OFFSET(E825,-Q825,0):E825)),\"\"))","v":{"$error":"#NAME?"}},{"$f":"IF(ISNUMBER(L825),IF((OFFSET(Q825,-Q825,0)>50),SUM(OFFSET(G825,-Q825+1,0):G825),SUM(OFFSET(G825,-Q825,0):G825)),\"\")","v":""},null,null,{"$error":"#NAME?"},{"$error":"#NAME?"}]
["2003-06-11",null,null,null,0,{"$f":"IF(SUM($B$7:$B826)=0,\"\",IF(A826<>\"\",IF(A826<$B$3,\"N\",\"Y\"),\"\"))","v":""},0,9.1300000000000008,0,null,775,{"$f":"IF(AND(ISNUMBER(A826),NOT(ISNUMBER(A827))),IF((OFFSET(Q826,-Q826,0)>50),SUM(OFFSET(E826,-Q826+1,0):E826),SUM(OFFSET(E826,-Q826,0):E826)),IF(AND(ISNUMBER(P826),ISNUMBER(P827),P826  <P827),IF((OFFSET(Q826,-Q826,0)>50),SUM(OFFSET(E826,-Q826+1,0):E826),SUM(OFFSET(E826,-Q826,0):E826)),\"\"))","v":{"$error":"#NAME?"}},{"$f":"IF(ISNUMBER(L826),IF((OFFSET(Q826,-Q826,0)>50),SUM(OFFSET(G826,-Q826+1,0):G826),SUM(OFFSET(G826,-Q826,0):G826)),\"\")","v":""},null,null,{"$error":"#NAME?"},{"$error":"#NAME?"}]
["2003-06-18",null,null,null,0,{"$f":"IF(SUM($B$7:$B827)=0,\"\",IF(A827<>\"\",IF(A827<$B$3,\"N\",\"Y\"),\"\"))","v":""},0,9.1300000000000008,0,null,774,{"$f":"IF(AND(ISNUMBER(A827),NOT(ISNUMBER(A828))),IF((OFFSET(Q827,-Q827,0)>50),SUM(OFFSET(E827,-Q827+1,0):E827),SUM(OFFSET(E827,-Q827,0):E827)),IF(AND(ISNUMBER(P827),ISNUMBER(P828),P827  <P828),IF((OFFSET(Q827,-Q827,0)>50),SUM(OFFSET(E827,-Q827+1,0):E827),SUM(OFFSET(E827,-Q827,0):E827)),\"\"))","v":{"$error":"#NAME?"}},{"$f":"IF(ISNUMBER(L827),IF((OFFSET(Q827,-Q827,0)>50),SUM(OFFSET(G827,-Q827+1,0):G827),SUM(OFFSET(G827,-Q827,0):G827)),\"\")","v":""},null,null,{"$error":"#NAME?"},{"$error":"#NAME?"}]
["2003-06-25",null,null,null,0,{"$f":"IF(SUM($B$7:$B828)=0,\"\",IF(A828<>\"\",IF(A828<$B$3,\"N\",\"Y\"),\"\"))","v":""},0,9.1300000000000008,0,null,773,{"$f":"IF(AND(ISNUMBER(A828),NOT(ISNUMBER(A829))),IF((OFFSET(Q828,-Q828,0)>50),SUM(OFFSET(E828,-Q828+1,0):E828),SUM(OFFSET(E828,-Q828,0):E828)),IF(AND(ISNUMBER(P828),ISNUMBER(P829),P828  <P829),IF((OFFSET(Q828,-Q828,0)>50),SUM(OFFSET(E828,-Q828+1,0):E828),SUM(OFFSET(E828,-Q828,0):E828)),\"\"))","v":{"$error":"#NAME?"}},{"$f":"IF(ISNUMBER(L828),IF((OFFSET(Q828,-Q828,0)>50),SUM(OFFSET(G828,-Q828+1,0):G828),SUM(OFFSET(G828,-Q828,0):G828)),\"\")","v":""},null,null,{"$error":"#NAME?"},{"$error":"#NAME?"}]
["2003-07-02",null,null,null,0,{"$f":"IF(SUM($B$7:$B829)=0,\"\",IF(A829<>\"\",IF(A829<$B$3,\"N\",\"Y\"),\"\"))","v":""},0,8.84,0,null,772,{"$f":"IF(AND(ISNUMBER(A829),NOT(ISNUMBER(A830))),IF((OFFSET(Q829,-Q829,0)>50),SUM(OFFSET(E829,-Q829+1,0):E829),SUM(OFFSET(E829,-Q829,0):E829)),IF(AND(ISNUMBER(P829),ISNUMBER(P830),P829  <P830),IF((OFFSET(Q829,-Q829,0)>50),SUM(OFFSET(E829,-Q829+1,0):E829),SUM(OFFSET(E829,-Q829,0):E829)),\"\"))","v":{"$error":"#NAME?"}},{"$f":"IF(ISNUMBER(L829),IF((OFFSET(Q829,-Q829,0)>50),SUM(OFFSET(G829,-Q829+1,0):G829),SUM(OFFSET(G829,-Q829,0):G829)),\"\")","v":""},null,null,{"$error":"#NAME?"},{"$error":"#NAME?"}]
["2003-07-09",null,null,null,0,{"$f":"IF(SUM($B$7:$B830)=0,\"\",IF(A830<>\"\",IF(A830<$B$3,\"N\",\"Y\"),\"\"))","v":""},0,8.84,0,null,771,{"$f":"IF(AND(ISNUMBER(A830),NOT(ISNUMBER(A831))),IF((OFFSET(Q830,-Q830,0)>50),SUM(OFFSET(E830,-Q830+1,0):E830),SUM(OFFSET(E830,-Q830,0):E830)),IF(AND(ISNUMBER(P830),ISNUMBER(P831),P830  <P831),IF((OFFSET(Q830,-Q830,0)>50),SUM(OFFSET(E830,-Q830+1,0):E830),SUM(OFFSET(E830,-Q830,0):E830)),\"\"))","v":{"$error":"#NAME?"}},{"$f":"IF(ISNUMBER(L830),IF((OFFSET(Q830,-Q830,0)>50),SUM(OFFSET(G830,-Q830+1,0):G830),SUM(OFFSET(G830,-Q830,0):G830)),\"\")","v":""},null,null,{"$error":"#NAME?"},{"$error":"#NAME?"}]
["2003-07-16",null,null,null,0,{"$f":"IF(SUM($B$7:$B831)=0,\"\",IF(A831<>\"\",IF(A831<$B$3,\"N\",\"Y\"),\"\"))","v":""},0,8.84,0,null,770,{"$f":"IF(AND(ISNUMBER(A831),NOT(ISNUMBER(A832))),IF((OFFSET(Q831,-Q831,0)>50),SUM(OFFSET(E831,-Q831+1,0):E831),SUM(OFFSET(E831,-Q831,0):E831)),IF(AND(ISNUMBER(P831),ISNUMBER(P832),P831  <P832),IF((OFFSET(Q831,-Q831,0)>50),SUM(OFFSET(E831,-Q831+1,0):E831),SUM(OFFSET(E831,-Q831,0):E831)),\"\"))","v":{"$error":"#NAME?"}},{"$f":"IF(ISNUMBER(L831),IF((OFFSET(Q831,-Q831,0)>50),SUM(OFFSET(G831,-Q831+1,0):G831),SUM(OFFSET(G831,-Q831,0):G831)),\"\")","v":""},null,null,{"$error":"#NAME?"},{"$error":"#NAME?"}]
["2003-07-23",null,null,null,0,{"$f":"IF(SUM($B$7:$B832)=0,\"\",IF(A832<>\"\",IF(A832<$B$3,\"N\",\"Y\"),\"\"))","v":""},0,8.84,0,null,769,{"$f":"IF(AND(ISNUMBER(A832),NOT(ISNUMBER(A833))),IF((OFFSET(Q832,-Q832,0)>50),SUM(OFFSET(E832,-Q832+1,0):E832),SUM(OFFSET(E832,-Q832,0):E832)),IF(AND(ISNUMBER(P832),ISNUMBER(P833),P832  <P833),IF((OFFSET(Q832,-Q832,0)>50),SUM(OFFSET(E832,-Q832+1,0):E832),SUM(OFFSET(E832,-Q832,0):E832)),\"\"))","v":{"$error":"#NAME?"}},{"$f":"IF(ISNUMBER(L832),IF((OFFSET(Q832,-Q832,0)>50),SUM(OFFSET(G832,-Q832+1,0):G832),SUM(OFFSET(G832,-Q832,0):G832)),\"\")","v":""},null,null,{"$error":"#NAME?"},{"$error":"#NAME?"}]
["2003-07-30",null,null,null,0,{"$f":"IF(SUM($B$7:$B833)=0,\"\",IF(A833<>\"\",IF(A833<$B$3,\"N\",\"Y\"),\"\"))","v":""},0,8.84,0,null,768,{"$f":"IF(AND(ISNUMBER(A833),NOT(ISNUMBER(A834))),IF((OFFSET(Q833,-Q833,0)>50),SUM(OFFSET(E833,-Q833+1,0):E833),SUM(OFFSET(E833,-Q833,0):E833)),IF(AND(ISNUMBER(P833),ISNUMBER(P834),P833  <P834),IF((OFFSET(Q833,-Q833,0)>50),SUM(OFFSET(E833,-Q833+1,0):E833),SUM(OFFSET(E833,-Q833,0):E833)),\"\"))","v":{"$error":"#NAME?"}},{"$f":"IF(ISNUMBER(L833),IF((OFFSET(Q833,-Q833,0)>50),SUM(OFFSET(G833,-Q833+1,0):G833),SUM(OFFSET(G833,-Q833,0):G833)),\"\")","v":""},null,null,{"$error":"#NAME?"},{"$error":"#NAME?"}]
["2003-08-06",null,null,null,0,{"$f":"IF(SUM($B$7:$B834)=0,\"\",IF(A834<>\"\",IF(A834<$B$3,\"N\",\"Y\"),\"\"))","v":""},0,8.84,0,null,767,{"$f":"IF(AND(ISNUMBER(A834),NOT(ISNUMBER(A835))),IF((OFFSET(Q834,-Q834,0)>50),SUM(OFFSET(E834,-Q834+1,0):E834),SUM(OFFSET(E834,-Q834,0):E834)),IF(AND(ISNUMBER(P834),ISNUMBER(P835),P834  <P835),IF((OFFSET(Q834,-Q834,0)>50),SUM(OFFSET(E834,-Q834+1,0):E834),SUM(OFFSET(E834,-Q834,0):E834)),\"\"))","v":{"$error":"#NAME?"}},{"$f":"IF(ISNUMBER(L834),IF((OFFSET(Q834,-Q834,0)>50),SUM(OFFSET(G834,-Q834+1,0):G834),SUM(OFFSET(G834,-Q834,0):G834)),\"\")","v":""},null,null,{"$error":"#NAME?"},{"$error":"#NAME?"}]
["2003-08-13",null,null,null,0,{"$f":"IF(SUM($B$7:$B835)=0,\"\",IF(A835<>\"\",IF(A835<$B$3,\"N\",\"Y\"),\"\"))","v":""},0,8.84,0,null,766,{"$f":"IF(AND(ISNUMBER(A835),NOT(ISNUMBER(A836))),IF((OFFSET(Q835,-Q835,0)>50),SUM(OFFSET(E835,-Q835+1,0):E835),SUM(OFFSET(E835,-Q835,0):E835)),IF(AND(ISNUMBER(P835),ISNUMBER(P836),P835  <P836),IF((OFFSET(Q835,-Q835,0)>50),SUM(OFFSET(E835,-Q835+1,0):E835),SUM(OFFSET(E835,-Q835,0):E835)),\"\"))","v":{"$error":"#NAME?"}},{"$f":"IF(ISNUMBER(L835),IF((OFFSET(Q835,-Q835,0)>50),SUM(OFFSET(G835,-Q835+1,0):G835),SUM(OFFSET(G835,-Q835,0):G835)),\"\")","v":""},null,null,{"$error":"#NAME?"},{"$error":"#NAME?"}]
["2003-08-20",null,null,null,0,{"$f":"IF(SUM($B$7:$B836)=0,\"\",IF(A836<>\"\",IF(A836<$B$3,\"N\",\"Y\"),\"\"))","v":""},0,8.84,0,null,765,{"$f":"IF(AND(ISNUMBER(A836),NOT(ISNUMBER(A837))),IF((OFFSET(Q836,-Q836,0)>50),SUM(OFFSET(E836,-Q836+1,0):E836),SUM(OFFSET(E836,-Q836,0):E836)),IF(AND(ISNUMBER(P836),ISNUMBER(P837),P836  <P837),IF((OFFSET(Q836,-Q836,0)>50),SUM(OFFSET(E836,-Q836+1,0):E836),SUM(OFFSET(E836,-Q836,0):E836)),\"\"))","v":{"$error":"#NAME?"}},{"$f":"IF(ISNUMBER(L836),IF((OFFSET(Q836,-Q836,0)>50),SUM(OFFSET(G836,-Q836+1,0):G836),SUM(OFFSET(G836,-Q836,0):G836)),\"\")","v":""},null,null,{"$error":"#NAME?"},{"$error":"#NAME?"}]
["2003-08-27",null,null,null,0,{"$f":"IF(SUM($B$7:$B837)=0,\"\",IF(A837<>\"\",IF(A837<$B$3,\"N\",\"Y\"),\"\"))","v":""},0,8.84,0,null,764,{"$f":"IF(AND(ISNUMBER(A837),NOT(ISNUMBER(A838))),IF((OFFSET(Q837,-Q837,0)>50),SUM(OFFSET(E837,-Q837+1,0):E837),SUM(OFFSET(E837,-Q837,0):E837)),IF(AND(ISNUMBER(P837),ISNUMBER(P838),P837  <P838),IF((OFFSET(Q837,-Q837,0)>50),SUM(OFFSET(E837,-Q837+1,0):E837),SUM(OFFSET(E837,-Q837,0):E837)),\"\"))","v":{"$error":"#NAME?"}},{"$f":"IF(ISNUMBER(L837),IF((OFFSET(Q837,-Q837,0)>50),SUM(OFFSET(G837,-Q837+1,0):G837),SUM(OFFSET(G837,-Q837,0):G837)),\"\")","v":""},null,null,{"$error":"#NAME?"},{"$error":"#NAME?"}]
["2003-09-03",null,null,null,0,{"$f":"IF(SUM($B$7:$B838)=0,\"\",IF(A838<>\"\",IF(A838<$B$3,\"N\",\"Y\"),\"\"))","v":""},0,8.84,0,null,763,{"$f":"IF(AND(ISNUMBER(A838),NOT(ISNUMBER(A839))),IF((OFFSET(Q838,-Q838,0)>50),SUM(OFFSET(E838,-Q838+1,0):E838),SUM(OFFSET(E838,-Q838,0):E838)),IF(AND(ISNUMBER(P838),ISNUMBER(P839),P838  <P839),IF((OFFSET(Q838,-Q838,0)>50),SUM(OFFSET(E838,-Q838+1,0):E838),SUM(OFFSET(E838,-Q838,0):E838)),\"\"))","v":{"$error":"#NAME?"}},{"$f":"IF(ISNUMBER(L838),IF((OFFSET(Q838,-Q838,0)>50),SUM(OFFSET(G838,-Q838+1,0):G838),SUM(OFFSET(G838,-Q838,0):G838)),\"\")","v":""},null,null,{"$error":"#NAME?"},{"$error":"#NAME?"}]
["2003-09-10",null,null,null,0,{"$f":"IF(SUM($B$7:$B839)=0,\"\",IF(A839<>\"\",IF(A839<$B$3,\"N\",\"Y\"),\"\"))","v":""},0,8.84,0,null,{"$f":"IF(A839<>\"\",IF((TODAY()-A839)/7>=0,INT((TODAY()-A839)/7),0),\"\")","v":762},{"$f":"IF(AND(ISNUMBER(A839),NOT(ISNUMBER(A840))),IF((OFFSET(Q839,-Q839,0)>50),SUM(OFFSET(E839,-Q839+1,0):E839),SUM(OFFSET(E839,-Q839,0):E839)),IF(AND(ISNUMBER(P839),ISNUMBER(P840),P839  <P840),IF((OFFSET(Q839,-Q839,0)>50),SUM(OFFSET(E839,-Q839+1,0):E839),SUM(OFFSET(E839,-Q839,0):E839)),\"\"))","v":{"$error":"#NAME?"}},{"$f":"IF(ISNUMBER(L839),IF((OFFSET(Q839,-Q839,0)>50),SUM(OFFSET(G839,-Q839+1,0):G839),SUM(OFFSET(G839,-Q839,0):G839)),\"\")","v":""},null,null,{"$f":"FinYear(A839)","v":{"$error":"#NAME?"}},{"$error":"#NAME?"}]
["2003-09-17",null,null,null,{"$f":"IF(A840<>\"\",IF(B840-C840>=0,B840-C840,0),\"\")","v":0},{"$f":"IF(SUM($B$7:$B840)=0,\"\",IF(A840<>\"\",IF(A840<$B$3,\"N\",\"Y\"),\"\"))","v":""},0,8.84,0,null,761,{"$f":"IF(AND(ISNUMBER(A840),NOT(ISNUMBER(A841))),IF((OFFSET(Q840,-Q840,0)>50),SUM(OFFSET(E840,-Q840+1,0):E840),SUM(OFFSET(E840,-Q840,0):E840)),IF(AND(ISNUMBER(P840),ISNUMBER(P841),P840  <P841),IF((OFFSET(Q840,-Q840,0)>50),SUM(OFFSET(E840,-Q840+1,0):E840),SUM(OFFSET(E840,-Q840,0):E840)),\"\"))","v":{"$error":"#NAME?"}},{"$f":"IF(ISNUMBER(L840),IF((OFFSET(Q840,-Q840,0)>50),SUM(OFFSET(G840,-Q840+1,0):G840),SUM(OFFSET(G840,-Q840,0):G840)),\"\")","v":""},null,null,{"$error":"#NAME?"},{"$f":"ROUND((A840-StartOfFinYear(P840))/7,0)","v":{"$error":"#NAME?"}}]
["2003-09-24",null,null,null,0,{"$f":"IF(SUM($B$7:$B841)=0,\"\",IF(A841<>\"\",IF(A841<$B$3,\"N\",\"Y\"),\"\"))","v":""},{"$f":"IF(F841=\"N\",0,IF(A841<>\"\",IF(K841>=0,((E841+I840)*(1+(H841/52)/100)-E841-I840),0),\"\"))","v":0},8.84,{"$f":"IF(A841<>\"\",I840+E841+G841,\"\")","v":0},null,760,{"$f":"IF(AND(ISNUMBER(A841),NOT(ISNUMBER(A842))),IF((OFFSET(Q841,-Q841,0)>50),SUM(OFFSET(E841,-Q841+1,0):E841),SUM(OFFSET(E841,-Q841,0):E841)),IF(AND(ISNUMBER(P841),ISNUMBER(P842),P841  <P842),IF((OFFSET(Q841,-Q841,0)>50),SUM(OFFSET(E841,-Q841+1,0):E841),SUM(OFFSET(E841,-Q841,0):E841)),\"\"))","v":{"$error":"#NAME?"}},{"$f":"IF(ISNUMBER(L841),IF((OFFSET(Q841,-Q841,0)>50),SUM(OFFSET(G841,-Q841+1,0):G841),SUM(OFFSET(G841,-Q841,0):G841)),\"\")","v":""},null,null,{"$error":"#NAME?"},{"$error":"#NAME?"}]
[{"$f":"IF(A841<>\"\",IF(A841+12<=TODAY(),+A841+7,\"\"),\"\")","v":"2003-10-01"},null,null,null,0,{"$f":"IF(SUM($B$7:$B842)=0,\"\",IF(A842<>\"\",IF(A842<$B$3,\"N\",\"Y\"),\"\"))","v":""},0,8.84,0,null,759,{"$f":"IF(AND(ISNUMBER(A842),NOT(ISNUMBER(A843))),IF((OFFSET(Q842,-Q842,0)>50),SUM(OFFSET(E842,-Q842+1,0):E842),SUM(OFFSET(E842,-Q842,0):E842)),IF(AND(ISNUMBER(P842),ISNUMBER(P843),P842  <P843),IF((OFFSET(Q842,-Q842,0)>50),SUM(OFFSET(E842,-Q842+1,0):E842),SUM(OFFSET(E842,-Q842,0):E842)),\"\"))","v":{"$error":"#NAME?"}},{"$f":"IF(ISNUMBER(L842),IF((OFFSET(Q842,-Q842,0)>50),SUM(OFFSET(G842,-Q842+1,0):G842),SUM(OFFSET(G842,-Q842,0):G842)),\"\")","v":""},null,null,{"$error":"#NAME?"},{"$error":"#NAME?"}]
["2003-10-08",null,null,null,0,{"$f":"IF(SUM($B$7:$B843)=0,\"\",IF(A843<>\"\",IF(A843<$B$3,\"N\",\"Y\"),\"\"))","v":""},0,8.84,0,null,758,{"$f":"IF(AND(ISNUMBER(A843),NOT(ISNUMBER(A844))),IF((OFFSET(Q843,-Q843,0)>50),SUM(OFFSET(E843,-Q843+1,0):E843),SUM(OFFSET(E843,-Q843,0):E843)),IF(AND(ISNUMBER(P843),ISNUMBER(P844),P843  <P844),IF((OFFSET(Q843,-Q843,0)>50),SUM(OFFSET(E843,-Q843+1,0):E843),SUM(OFFSET(E843,-Q843,0):E843)),\"\"))","v":{"$error":"#NAME?"}},{"$f":"IF(ISNUMBER(L843),IF((OFFSET(Q843,-Q843,0)>50),SUM(OFFSET(G843,-Q843+1,0):G843),SUM(OFFSET(G843,-Q843,0):G843)),\"\")","v":""},null,null,{"$error":"#NAME?"},{"$error":"#NAME?"}]
["2003-10-15",null,null,null,0,{"$f":"IF(SUM($B$7:$B844)=0,\"\",IF(A844<>\"\",IF(A844<$B$3,\"N\",\"Y\"),\"\"))","v":""},0,8.84,0,null,757,{"$f":"IF(AND(ISNUMBER(A844),NOT(ISNUMBER(A845))),IF((OFFSET(Q844,-Q844,0)>50),SUM(OFFSET(E844,-Q844+1,0):E844),SUM(OFFSET(E844,-Q844,0):E844)),IF(AND(ISNUMBER(P844),ISNUMBER(P845),P844  <P845),IF((OFFSET(Q844,-Q844,0)>50),SUM(OFFSET(E844,-Q844+1,0):E844),SUM(OFFSET(E844,-Q844,0):E844)),\"\"))","v":{"$error":"#NAME?"}},{"$f":"IF(ISNUMBER(L844),IF((OFFSET(Q844,-Q844,0)>50),SUM(OFFSET(G844,-Q844+1,0):G844),SUM(OFFSET(G844,-Q844,0):G844)),\"\")","v":""},null,null,{"$error":"#NAME?"},{"$error":"#NAME?"}]
["2003-10-22",null,null,null,0,{"$f":"IF(SUM($B$7:$B845)=0,\"\",IF(A845<>\"\",IF(A845<$B$3,\"N\",\"Y\"),\"\"))","v":""},0,8.84,0,null,756,{"$f":"IF(AND(ISNUMBER(A845),NOT(ISNUMBER(A846))),IF((OFFSET(Q845,-Q845,0)>50),SUM(OFFSET(E845,-Q845+1,0):E845),SUM(OFFSET(E845,-Q845,0):E845)),IF(AND(ISNUMBER(P845),ISNUMBER(P846),P845  <P846),IF((OFFSET(Q845,-Q845,0)>50),SUM(OFFSET(E845,-Q845+1,0):E845),SUM(OFFSET(E845,-Q845,0):E845)),\"\"))","v":{"$error":"#NAME?"}},{"$f":"IF(ISNUMBER(L845),IF((OFFSET(Q845,-Q845,0)>50),SUM(OFFSET(G845,-Q845+1,0):G845),SUM(OFFSET(G845,-Q845,0):G845)),\"\")","v":""},null,null,{"$error":"#NAME?"},{"$error":"#NAME?"}]
["2003-10-29",null,null,null,0,{"$f":"IF(SUM($B$7:$B846)=0,\"\",IF(A846<>\"\",IF(A846<$B$3,\"N\",\"Y\"),\"\"))","v":""},0,8.84,0,null,755,{"$f":"IF(AND(ISNUMBER(A846),NOT(ISNUMBER(A847))),IF((OFFSET(Q846,-Q846,0)>50),SUM(OFFSET(E846,-Q846+1,0):E846),SUM(OFFSET(E846,-Q846,0):E846)),IF(AND(ISNUMBER(P846),ISNUMBER(P847),P846  <P847),IF((OFFSET(Q846,-Q846,0)>50),SUM(OFFSET(E846,-Q846+1,0):E846),SUM(OFFSET(E846,-Q846,0):E846)),\"\"))","v":{"$error":"#NAME?"}},{"$f":"IF(ISNUMBER(L846),IF((OFFSET(Q846,-Q846,0)>50),SUM(OFFSET(G846,-Q846+1,0):G846),SUM(OFFSET(G846,-Q846,0):G846)),\"\")","v":""},null,null,{"$error":"#NAME?"},{"$error":"#NAME?"}]
["2003-11-05",null,null,null,0,{"$f":"IF(SUM($B$7:$B847)=0,\"\",IF(A847<>\"\",IF(A847<$B$3,\"N\",\"Y\"),\"\"))","v":""},0,8.84,0,null,754,{"$f":"IF(AND(ISNUMBER(A847),NOT(ISNUMBER(A848))),IF((OFFSET(Q847,-Q847,0)>50),SUM(OFFSET(E847,-Q847+1,0):E847),SUM(OFFSET(E847,-Q847,0):E847)),IF(AND(ISNUMBER(P847),ISNUMBER(P848),P847  <P848),IF((OFFSET(Q847,-Q847,0)>50),SUM(OFFSET(E847,-Q847+1,0):E847),SUM(OFFSET(E847,-Q847,0):E847)),\"\"))","v":{"$error":"#NAME?"}},{"$f":"IF(ISNUMBER(L847),IF((OFFSET(Q847,-Q847,0)>50),SUM(OFFSET(G847,-Q847+1,0):G847),SUM(OFFSET(G847,-Q847,0):G847)),\"\")","v":""},null,null,{"$error":"#NAME?"},{"$error":"#NAME?"}]
["2003-11-12",null,null,null,0,{"$f":"IF(SUM($B$7:$B848)=0,\"\",IF(A848<>\"\",IF(A848<$B$3,\"N\",\"Y\"),\"\"))","v":""},0,8.84,0,null,753,{"$f":"IF(AND(ISNUMBER(A848),NOT(ISNUMBER(A849))),IF((OFFSET(Q848,-Q848,0)>50),SUM(OFFSET(E848,-Q848+1,0):E848),SUM(OFFSET(E848,-Q848,0):E848)),IF(AND(ISNUMBER(P848),ISNUMBER(P849),P848  <P849),IF((OFFSET(Q848,-Q848,0)>50),SUM(OFFSET(E848,-Q848+1,0):E848),SUM(OFFSET(E848,-Q848,0):E848)),\"\"))","v":{"$error":"#NAME?"}},{"$f":"IF(ISNUMBER(L848),IF((OFFSET(Q848,-Q848,0)>50),SUM(OFFSET(G848,-Q848+1,0):G848),SUM(OFFSET(G848,-Q848,0):G848)),\"\")","v":""},null,null,{"$error":"#NAME?"},{"$error":"#NAME?"}]
["2003-11-19",null,null,null,0,{"$f":"IF(SUM($B$7:$B849)=0,\"\",IF(A849<>\"\",IF(A849<$B$3,\"N\",\"Y\"),\"\"))","v":""},0,8.84,0,null,752,{"$f":"IF(AND(ISNUMBER(A849),NOT(ISNUMBER(A850))),IF((OFFSET(Q849,-Q849,0)>50),SUM(OFFSET(E849,-Q849+1,0):E849),SUM(OFFSET(E849,-Q849,0):E849)),IF(AND(ISNUMBER(P849),ISNUMBER(P850),P849  <P850),IF((OFFSET(Q849,-Q849,0)>50),SUM(OFFSET(E849,-Q849+1,0):E849),SUM(OFFSET(E849,-Q849,0):E849)),\"\"))","v":{"$error":"#NAME?"}},{"$f":"IF(ISNUMBER(L849),IF((OFFSET(Q849,-Q849,0)>50),SUM(OFFSET(G849,-Q849+1,0):G849),SUM(OFFSET(G849,-Q849,0):G849)),\"\")","v":""},null,null,{"$error":"#NAME?"},{"$error":"#NAME?"}]
["2003-11-26",null,null,null,0,{"$f":"IF(SUM($B$7:$B850)=0,\"\",IF(A850<>\"\",IF(A850<$B$3,\"N\",\"Y\"),\"\"))","v":""},0,8.84,0,null,751,{"$f":"IF(AND(ISNUMBER(A850),NOT(ISNUMBER(A851))),IF((OFFSET(Q850,-Q850,0)>50),SUM(OFFSET(E850,-Q850+1,0):E850),SUM(OFFSET(E850,-Q850,0):E850)),IF(AND(ISNUMBER(P850),ISNUMBER(P851),P850  <P851),IF((OFFSET(Q850,-Q850,0)>50),SUM(OFFSET(E850,-Q850+1,0):E850),SUM(OFFSET(E850,-Q850,0):E850)),\"\"))","v":{"$error":"#NAME?"}},{"$f":"IF(ISNUMBER(L850),IF((OFFSET(Q850,-Q850,0)>50),SUM(OFFSET(G850,-Q850+1,0):G850),SUM(OFFSET(G850,-Q850,0):G850)),\"\")","v":""},null,null,{"$error":"#NAME?"},{"$error":"#NAME?"}]
["2003-12-03",null,null,null,0,{"$f":"IF(SUM($B$7:$B851)=0,\"\",IF(A851<>\"\",IF(A851<$B$3,\"N\",\"Y\"),\"\"))","v":""},0,8.84,0,null,750,{"$f":"IF(AND(ISNUMBER(A851),NOT(ISNUMBER(A852))),IF((OFFSET(Q851,-Q851,0)>50),SUM(OFFSET(E851,-Q851+1,0):E851),SUM(OFFSET(E851,-Q851,0):E851)),IF(AND(ISNUMBER(P851),ISNUMBER(P852),P851  <P852),IF((OFFSET(Q851,-Q851,0)>50),SUM(OFFSET(E851,-Q851+1,0):E851),SUM(OFFSET(E851,-Q851,0):E851)),\"\"))","v":{"$error":"#NAME?"}},{"$f":"IF(ISNUMBER(L851),IF((OFFSET(Q851,-Q851,0)>50),SUM(OFFSET(G851,-Q851+1,0):G851),SUM(OFFSET(G851,-Q851,0):G851)),\"\")","v":""},null,null,{"$error":"#NAME?"},{"$error":"#NAME?"}]
["2003-12-10",null,null,null,0,{"$f":"IF(SUM($B$7:$B852)=0,\"\",IF(A852<>\"\",IF(A852<$B$3,\"N\",\"Y\"),\"\"))","v":""},0,8.84,0,null,749,{"$f":"IF(AND(ISNUMBER(A852),NOT(ISNUMBER(A853))),IF((OFFSET(Q852,-Q852,0)>50),SUM(OFFSET(E852,-Q852+1,0):E852),SUM(OFFSET(E852,-Q852,0):E852)),IF(AND(ISNUMBER(P852),ISNUMBER(P853),P852  <P853),IF((OFFSET(Q852,-Q852,0)>50),SUM(OFFSET(E852,-Q852+1,0):E852),SUM(OFFSET(E852,-Q852,0):E852)),\"\"))","v":{"$error":"#NAME?"}},{"$f":"IF(ISNUMBER(L852),IF((OFFSET(Q852,-Q852,0)>50),SUM(OFFSET(G852,-Q852+1,0):G852),SUM(OFFSET(G852,-Q852,0):G852)),\"\")","v":""},null,null,{"$error":"#NAME?"},{"$error":"#NAME?"}]
["2003-12-17",null,null,null,0,{"$f":"IF(SUM($B$7:$B853)=0,\"\",IF(A853<>\"\",IF(A853<$B$3,\"N\",\"Y\"),\"\"))","v":""},0,8.84,0,null,748,{"$f":"IF(AND(ISNUMBER(A853),NOT(ISNUMBER(A854))),IF((OFFSET(Q853,-Q853,0)>50),SUM(OFFSET(E853,-Q853+1,0):E853),SUM(OFFSET(E853,-Q853,0):E853)),IF(AND(ISNUMBER(P853),ISNUMBER(P854),P853  <P854),IF((OFFSET(Q853,-Q853,0)>50),SUM(OFFSET(E853,-Q853+1,0):E853),SUM(OFFSET(E853,-Q853,0):E853)),\"\"))","v":{"$error":"#NAME?"}},{"$f":"IF(ISNUMBER(L853),IF((OFFSET(Q853,-Q853,0)>50),SUM(OFFSET(G853,-Q853+1,0):G853),SUM(OFFSET(G853,-Q853,0):G853)),\"\")","v":""},null,null,{"$error":"#NAME?"},{"$error":"#NAME?"}]
["2003-12-24",null,null,null,0,{"$f":"IF(SUM($B$7:$B854)=0,\"\",IF(A854<>\"\",IF(A854<$B$3,\"N\",\"Y\"),\"\"))","v":""},0,8.84,0,null,747,{"$f":"IF(AND(ISNUMBER(A854),NOT(ISNUMBER(A855))),IF((OFFSET(Q854,-Q854,0)>50),SUM(OFFSET(E854,-Q854+1,0):E854),SUM(OFFSET(E854,-Q854,0):E854)),IF(AND(ISNUMBER(P854),ISNUMBER(P855),P854  <P855),IF((OFFSET(Q854,-Q854,0)>50),SUM(OFFSET(E854,-Q854+1,0):E854),SUM(OFFSET(E854,-Q854,0):E854)),\"\"))","v":{"$error":"#NAME?"}},{"$f":"IF(ISNUMBER(L854),IF((OFFSET(Q854,-Q854,0)>50),SUM(OFFSET(G854,-Q854+1,0):G854),SUM(OFFSET(G854,-Q854,0):G854)),\"\")","v":""},null,null,{"$error":"#NAME?"},{"$error":"#NAME?"}]
["2003-12-31",null,null,null,0,{"$f":"IF(SUM($B$7:$B855)=0,\"\",IF(A855<>\"\",IF(A855<$B$3,\"N\",\"Y\"),\"\"))","v":""},0,8.84,0,null,746,{"$f":"IF(AND(ISNUMBER(A855),NOT(ISNUMBER(A856))),IF((OFFSET(Q855,-Q855,0)>50),SUM(OFFSET(E855,-Q855+1,0):E855),SUM(OFFSET(E855,-Q855,0):E855)),IF(AND(ISNUMBER(P855),ISNUMBER(P856),P855  <P856),IF((OFFSET(Q855,-Q855,0)>50),SUM(OFFSET(E855,-Q855+1,0):E855),SUM(OFFSET(E855,-Q855,0):E855)),\"\"))","v":{"$error":"#NAME?"}},{"$f":"IF(ISNUMBER(L855),IF((OFFSET(Q855,-Q855,0)>50),SUM(OFFSET(G855,-Q855+1,0):G855),SUM(OFFSET(G855,-Q855,0):G855)),\"\")","v":""},null,null,{"$error":"#NAME?"},{"$error":"#NAME?"}]
["2004-01-07",null,null,null,0,{"$f":"IF(SUM($B$7:$B856)=0,\"\",IF(A856<>\"\",IF(A856<$B$3,\"N\",\"Y\"),\"\"))","v":""},0,8.84,0,null,745,{"$f":"IF(AND(ISNUMBER(A856),NOT(ISNUMBER(A857))),IF((OFFSET(Q856,-Q856,0)>50),SUM(OFFSET(E856,-Q856+1,0):E856),SUM(OFFSET(E856,-Q856,0):E856)),IF(AND(ISNUMBER(P856),ISNUMBER(P857),P856  <P857),IF((OFFSET(Q856,-Q856,0)>50),SUM(OFFSET(E856,-Q856+1,0):E856),SUM(OFFSET(E856,-Q856,0):E856)),\"\"))","v":{"$error":"#NAME?"}},{"$f":"IF(ISNUMBER(L856),IF((OFFSET(Q856,-Q856,0)>50),SUM(OFFSET(G856,-Q856+1,0):G856),SUM(OFFSET(G856,-Q856,0):G856)),\"\")","v":""},null,null,{"$error":"#NAME?"},{"$error":"#NAME?"}]
["2004-01-14",null,null,null,0,{"$f":"IF(SUM($B$7:$B857)=0,\"\",IF(A857<>\"\",IF(A857<$B$3,\"N\",\"Y\"),\"\"))","v":""},0,8.84,0,null,744,{"$f":"IF(AND(ISNUMBER(A857),NOT(ISNUMBER(A858))),IF((OFFSET(Q857,-Q857,0)>50),SUM(OFFSET(E857,-Q857+1,0):E857),SUM(OFFSET(E857,-Q857,0):E857)),IF(AND(ISNUMBER(P857),ISNUMBER(P858),P857  <P858),IF((OFFSET(Q857,-Q857,0)>50),SUM(OFFSET(E857,-Q857+1,0):E857),SUM(OFFSET(E857,-Q857,0):E857)),\"\"))","v":{"$error":"#NAME?"}},{"$f":"IF(ISNUMBER(L857),IF((OFFSET(Q857,-Q857,0)>50),SUM(OFFSET(G857,-Q857+1,0):G857),SUM(OFFSET(G857,-Q857,0):G857)),\"\")","v":""},null,null,{"$error":"#NAME?"},{"$error":"#NAME?"}]
["2004-01-21",null,null,null,0,{"$f":"IF(SUM($B$7:$B858)=0,\"\",IF(A858<>\"\",IF(A858<$B$3,\"N\",\"Y\"),\"\"))","v":""},0,8.84,0,null,743,{"$f":"IF(AND(ISNUMBER(A858),NOT(ISNUMBER(A859))),IF((OFFSET(Q858,-Q858,0)>50),SUM(OFFSET(E858,-Q858+1,0):E858),SUM(OFFSET(E858,-Q858,0):E858)),IF(AND(ISNUMBER(P858),ISNUMBER(P859),P858  <P859),IF((OFFSET(Q858,-Q858,0)>50),SUM(OFFSET(E858,-Q858+1,0):E858),SUM(OFFSET(E858,-Q858,0):E858)),\"\"))","v":{"$error":"#NAME?"}},{"$f":"IF(ISNUMBER(L858),IF((OFFSET(Q858,-Q858,0)>50),SUM(OFFSET(G858,-Q858+1,0):G858),SUM(OFFSET(G858,-Q858,0):G858)),\"\")","v":""},null,null,{"$error":"#NAME?"},{"$error":"#NAME?"}]
["2004-01-28",null,null,null,0,{"$f":"IF(SUM($B$7:$B859)=0,\"\",IF(A859<>\"\",IF(A859<$B$3,\"N\",\"Y\"),\"\"))","v":""},0,8.84,0,null,742,{"$f":"IF(AND(ISNUMBER(A859),NOT(ISNUMBER(A860))),IF((OFFSET(Q859,-Q859,0)>50),SUM(OFFSET(E859,-Q859+1,0):E859),SUM(OFFSET(E859,-Q859,0):E859)),IF(AND(ISNUMBER(P859),ISNUMBER(P860),P859  <P860),IF((OFFSET(Q859,-Q859,0)>50),SUM(OFFSET(E859,-Q859+1,0):E859),SUM(OFFSET(E859,-Q859,0):E859)),\"\"))","v":{"$error":"#NAME?"}},{"$f":"IF(ISNUMBER(L859),IF((OFFSET(Q859,-Q859,0)>50),SUM(OFFSET(G859,-Q859+1,0):G859),SUM(OFFSET(G859,-Q859,0):G859)),\"\")","v":""},null,null,{"$error":"#NAME?"},{"$error":"#NAME?"}]
["2004-02-04",null,null,null,0,{"$f":"IF(SUM($B$7:$B860)=0,\"\",IF(A860<>\"\",IF(A860<$B$3,\"N\",\"Y\"),\"\"))","v":""},0,8.84,0,null,741,{"$f":"IF(AND(ISNUMBER(A860),NOT(ISNUMBER(A861))),IF((OFFSET(Q860,-Q860,0)>50),SUM(OFFSET(E860,-Q860+1,0):E860),SUM(OFFSET(E860,-Q860,0):E860)),IF(AND(ISNUMBER(P860),ISNUMBER(P861),P860  <P861),IF((OFFSET(Q860,-Q860,0)>50),SUM(OFFSET(E860,-Q860+1,0):E860),SUM(OFFSET(E860,-Q860,0):E860)),\"\"))","v":{"$error":"#NAME?"}},{"$f":"IF(ISNUMBER(L860),IF((OFFSET(Q860,-Q860,0)>50),SUM(OFFSET(G860,-Q860+1,0):G860),SUM(OFFSET(G860,-Q860,0):G860)),\"\")","v":""},null,null,{"$error":"#NAME?"},{"$error":"#NAME?"}]
["2004-02-11",null,null,null,0,{"$f":"IF(SUM($B$7:$B861)=0,\"\",IF(A861<>\"\",IF(A861<$B$3,\"N\",\"Y\"),\"\"))","v":""},0,8.84,0,null,740,{"$f":"IF(AND(ISNUMBER(A861),NOT(ISNUMBER(A862))),IF((OFFSET(Q861,-Q861,0)>50),SUM(OFFSET(E861,-Q861+1,0):E861),SUM(OFFSET(E861,-Q861,0):E861)),IF(AND(ISNUMBER(P861),ISNUMBER(P862),P861  <P862),IF((OFFSET(Q861,-Q861,0)>50),SUM(OFFSET(E861,-Q861+1,0):E861),SUM(OFFSET(E861,-Q861,0):E861)),\"\"))","v":{"$error":"#NAME?"}},{"$f":"IF(ISNUMBER(L861),IF((OFFSET(Q861,-Q861,0)>50),SUM(OFFSET(G861,-Q861+1,0):G861),SUM(OFFSET(G861,-Q861,0):G861)),\"\")","v":""},null,null,{"$error":"#NAME?"},{"$error":"#NAME?"}]
["2004-02-18",null,null,null,0,{"$f":"IF(SUM($B$7:$B862)=0,\"\",IF(A862<>\"\",IF(A862<$B$3,\"N\",\"Y\"),\"\"))","v":""},0,8.84,0,null,739,{"$f":"IF(AND(ISNUMBER(A862),NOT(ISNUMBER(A863))),IF((OFFSET(Q862,-Q862,0)>50),SUM(OFFSET(E862,-Q862+1,0):E862),SUM(OFFSET(E862,-Q862,0):E862)),IF(AND(ISNUMBER(P862),ISNUMBER(P863),P862  <P863),IF((OFFSET(Q862,-Q862,0)>50),SUM(OFFSET(E862,-Q862+1,0):E862),SUM(OFFSET(E862,-Q862,0):E862)),\"\"))","v":{"$error":"#NAME?"}},{"$f":"IF(ISNUMBER(L862),IF((OFFSET(Q862,-Q862,0)>50),SUM(OFFSET(G862,-Q862+1,0):G862),SUM(OFFSET(G862,-Q862,0):G862)),\"\")","v":""},null,null,{"$error":"#NAME?"},{"$error":"#NAME?"}]
["2004-02-25",null,null,null,0,{"$f":"IF(SUM($B$7:$B863)=0,\"\",IF(A863<>\"\",IF(A863<$B$3,\"N\",\"Y\"),\"\"))","v":""},0,8.84,0,null,738,{"$f":"IF(AND(ISNUMBER(A863),NOT(ISNUMBER(A864))),IF((OFFSET(Q863,-Q863,0)>50),SUM(OFFSET(E863,-Q863+1,0):E863),SUM(OFFSET(E863,-Q863,0):E863)),IF(AND(ISNUMBER(P863),ISNUMBER(P864),P863  <P864),IF((OFFSET(Q863,-Q863,0)>50),SUM(OFFSET(E863,-Q863+1,0):E863),SUM(OFFSET(E863,-Q863,0):E863)),\"\"))","v":{"$error":"#NAME?"}},{"$f":"IF(ISNUMBER(L863),IF((OFFSET(Q863,-Q863,0)>50),SUM(OFFSET(G863,-Q863+1,0):G863),SUM(OFFSET(G863,-Q863,0):G863)),\"\")","v":""},null,null,{"$error":"#NAME?"},{"$error":"#NAME?"}]
["2004-03-03",null,null,null,0,{"$f":"IF(SUM($B$7:$B864)=0,\"\",IF(A864<>\"\",IF(A864<$B$3,\"N\",\"Y\"),\"\"))","v":""},0,8.84,0,null,737,{"$f":"IF(AND(ISNUMBER(A864),NOT(ISNUMBER(A865))),IF((OFFSET(Q864,-Q864,0)>50),SUM(OFFSET(E864,-Q864+1,0):E864),SUM(OFFSET(E864,-Q864,0):E864)),IF(AND(ISNUMBER(P864),ISNUMBER(P865),P864  <P865),IF((OFFSET(Q864,-Q864,0)>50),SUM(OFFSET(E864,-Q864+1,0):E864),SUM(OFFSET(E864,-Q864,0):E864)),\"\"))","v":{"$error":"#NAME?"}},{"$f":"IF(ISNUMBER(L864),IF((OFFSET(Q864,-Q864,0)>50),SUM(OFFSET(G864,-Q864+1,0):G864),SUM(OFFSET(G864,-Q864,0):G864)),\"\")","v":""},null,null,{"$error":"#NAME?"},{"$error":"#NAME?"}]
["2004-03-10",null,null,null,0,{"$f":"IF(SUM($B$7:$B865)=0,\"\",IF(A865<>\"\",IF(A865<$B$3,\"N\",\"Y\"),\"\"))","v":""},0,8.84,0,null,736,{"$f":"IF(AND(ISNUMBER(A865),NOT(ISNUMBER(A866))),IF((OFFSET(Q865,-Q865,0)>50),SUM(OFFSET(E865,-Q865+1,0):E865),SUM(OFFSET(E865,-Q865,0):E865)),IF(AND(ISNUMBER(P865),ISNUMBER(P866),P865  <P866),IF((OFFSET(Q865,-Q865,0)>50),SUM(OFFSET(E865,-Q865+1,0):E865),SUM(OFFSET(E865,-Q865,0):E865)),\"\"))","v":{"$error":"#NAME?"}},{"$f":"IF(ISNUMBER(L865),IF((OFFSET(Q865,-Q865,0)>50),SUM(OFFSET(G865,-Q865+1,0):G865),SUM(OFFSET(G865,-Q865,0):G865)),\"\")","v":""},null,null,{"$error":"#NAME?"},{"$error":"#NAME?"}]
["2004-03-17",null,null,null,0,{"$f":"IF(SUM($B$7:$B866)=0,\"\",IF(A866<>\"\",IF(A866<$B$3,\"N\",\"Y\"),\"\"))","v":""},0,8.84,0,null,735,{"$f":"IF(AND(ISNUMBER(A866),NOT(ISNUMBER(A867))),IF((OFFSET(Q866,-Q866,0)>50),SUM(OFFSET(E866,-Q866+1,0):E866),SUM(OFFSET(E866,-Q866,0):E866)),IF(AND(ISNUMBER(P866),ISNUMBER(P867),P866  <P867),IF((OFFSET(Q866,-Q866,0)>50),SUM(OFFSET(E866,-Q866+1,0):E866),SUM(OFFSET(E866,-Q866,0):E866)),\"\"))","v":{"$error":"#NAME?"}},{"$f":"IF(ISNUMBER(L866),IF((OFFSET(Q866,-Q866,0)>50),SUM(OFFSET(G866,-Q866+1,0):G866),SUM(OFFSET(G866,-Q866,0):G866)),\"\")","v":""},null,null,{"$error":"#NAME?"},{"$error":"#NAME?"}]
["2004-03-24",null,null,null,0,{"$f":"IF(SUM($B$7:$B867)=0,\"\",IF(A867<>\"\",IF(A867<$B$3,\"N\",\"Y\"),\"\"))","v":""},0,8.84,0,null,734,{"$f":"IF(AND(ISNUMBER(A867),NOT(ISNUMBER(A868))),IF((OFFSET(Q867,-Q867,0)>50),SUM(OFFSET(E867,-Q867+1,0):E867),SUM(OFFSET(E867,-Q867,0):E867)),IF(AND(ISNUMBER(P867),ISNUMBER(P868),P867  <P868),IF((OFFSET(Q867,-Q867,0)>50),SUM(OFFSET(E867,-Q867+1,0):E867),SUM(OFFSET(E867,-Q867,0):E867)),\"\"))","v":{"$error":"#NAME?"}},{"$f":"IF(ISNUMBER(L867),IF((OFFSET(Q867,-Q867,0)>50),SUM(OFFSET(G867,-Q867+1,0):G867),SUM(OFFSET(G867,-Q867,0):G867)),\"\")","v":""},null,null,{"$error":"#NAME?"},{"$error":"#NAME?"}]
["2004-03-31",null,null,null,0,{"$f":"IF(SUM($B$7:$B868)=0,\"\",IF(A868<>\"\",IF(A868<$B$3,\"N\",\"Y\"),\"\"))","v":""},0,8.84,0,null,733,{"$f":"IF(AND(ISNUMBER(A868),NOT(ISNUMBER(A869))),IF((OFFSET(Q868,-Q868,0)>50),SUM(OFFSET(E868,-Q868+1,0):E868),SUM(OFFSET(E868,-Q868,0):E868)),IF(AND(ISNUMBER(P868),ISNUMBER(P869),P868  <P869),IF((OFFSET(Q868,-Q868,0)>50),SUM(OFFSET(E868,-Q868+1,0):E868),SUM(OFFSET(E868,-Q868,0):E868)),\"\"))","v":{"$error":"#NAME?"}},{"$f":"IF(ISNUMBER(L868),IF((OFFSET(Q868,-Q868,0)>50),SUM(OFFSET(G868,-Q868+1,0):G868),SUM(OFFSET(G868,-Q868,0):G868)),\"\")","v":""},null,null,{"$error":"#NAME?"},{"$error":"#NAME?"}]
["2004-04-07",null,null,null,0,{"$f":"IF(SUM($B$7:$B869)=0,\"\",IF(A869<>\"\",IF(A869<$B$3,\"N\",\"Y\"),\"\"))","v":""},0,8.84,0,null,732,{"$f":"IF(AND(ISNUMBER(A869),NOT(ISNUMBER(A870))),IF((OFFSET(Q869,-Q869,0)>50),SUM(OFFSET(E869,-Q869+1,0):E869),SUM(OFFSET(E869,-Q869,0):E869)),IF(AND(ISNUMBER(P869),ISNUMBER(P870),P869  <P870),IF((OFFSET(Q869,-Q869,0)>50),SUM(OFFSET(E869,-Q869+1,0):E869),SUM(OFFSET(E869,-Q869,0):E869)),\"\"))","v":{"$error":"#NAME?"}},{"$f":"IF(ISNUMBER(L869),IF((OFFSET(Q869,-Q869,0)>50),SUM(OFFSET(G869,-Q869+1,0):G869),SUM(OFFSET(G869,-Q869,0):G869)),\"\")","v":""},null,null,{"$error":"#NAME?"},{"$error":"#NAME?"}]
["2004-04-14",null,null,null,0,{"$f":"IF(SUM($B$7:$B870)=0,\"\",IF(A870<>\"\",IF(A870<$B$3,\"N\",\"Y\"),\"\"))","v":""},0,8.84,0,null,731,{"$f":"IF(AND(ISNUMBER(A870),NOT(ISNUMBER(A871))),IF((OFFSET(Q870,-Q870,0)>50),SUM(OFFSET(E870,-Q870+1,0):E870),SUM(OFFSET(E870,-Q870,0):E870)),IF(AND(ISNUMBER(P870),ISNUMBER(P871),P870  <P871),IF((OFFSET(Q870,-Q870,0)>50),SUM(OFFSET(E870,-Q870+1,0):E870),SUM(OFFSET(E870,-Q870,0):E870)),\"\"))","v":{"$error":"#NAME?"}},{"$f":"IF(ISNUMBER(L870),IF((OFFSET(Q870,-Q870,0)>50),SUM(OFFSET(G870,-Q870+1,0):G870),SUM(OFFSET(G870,-Q870,0):G870)),\"\")","v":""},null,null,{"$error":"#NAME?"},{"$error":"#NAME?"}]
["2004-04-21",null,null,null,0,{"$f":"IF(SUM($B$7:$B871)=0,\"\",IF(A871<>\"\",IF(A871<$B$3,\"N\",\"Y\"),\"\"))","v":""},0,8.84,0,null,730,{"$f":"IF(AND(ISNUMBER(A871),NOT(ISNUMBER(A872))),IF((OFFSET(Q871,-Q871,0)>50),SUM(OFFSET(E871,-Q871+1,0):E871),SUM(OFFSET(E871,-Q871,0):E871)),IF(AND(ISNUMBER(P871),ISNUMBER(P872),P871  <P872),IF((OFFSET(Q871,-Q871,0)>50),SUM(OFFSET(E871,-Q871+1,0):E871),SUM(OFFSET(E871,-Q871,0):E871)),\"\"))","v":{"$error":"#NAME?"}},{"$f":"IF(ISNUMBER(L871),IF((OFFSET(Q871,-Q871,0)>50),SUM(OFFSET(G871,-Q871+1,0):G871),SUM(OFFSET(G871,-Q871,0):G871)),\"\")","v":""},null,null,{"$error":"#NAME?"},{"$error":"#NAME?"}]
["2004-04-28",null,null,null,0,{"$f":"IF(SUM($B$7:$B872)=0,\"\",IF(A872<>\"\",IF(A872<$B$3,\"N\",\"Y\"),\"\"))","v":""},0,8.84,0,null,729,{"$f":"IF(AND(ISNUMBER(A872),NOT(ISNUMBER(A873))),IF((OFFSET(Q872,-Q872,0)>50),SUM(OFFSET(E872,-Q872+1,0):E872),SUM(OFFSET(E872,-Q872,0):E872)),IF(AND(ISNUMBER(P872),ISNUMBER(P873),P872  <P873),IF((OFFSET(Q872,-Q872,0)>50),SUM(OFFSET(E872,-Q872+1,0):E872),SUM(OFFSET(E872,-Q872,0):E872)),\"\"))","v":{"$error":"#NAME?"}},{"$f":"IF(ISNUMBER(L872),IF((OFFSET(Q872,-Q872,0)>50),SUM(OFFSET(G872,-Q872+1,0):G872),SUM(OFFSET(G872,-Q872,0):G872)),\"\")","v":""},null,null,{"$error":"#NAME?"},{"$error":"#NAME?"}]
["2004-05-05",null,null,null,0,{"$f":"IF(SUM($B$7:$B873)=0,\"\",IF(A873<>\"\",IF(A873<$B$3,\"N\",\"Y\"),\"\"))","v":""},0,8.84,0,null,728,{"$f":"IF(AND(ISNUMBER(A873),NOT(ISNUMBER(A874))),IF((OFFSET(Q873,-Q873,0)>50),SUM(OFFSET(E873,-Q873+1,0):E873),SUM(OFFSET(E873,-Q873,0):E873)),IF(AND(ISNUMBER(P873),ISNUMBER(P874),P873  <P874),IF((OFFSET(Q873,-Q873,0)>50),SUM(OFFSET(E873,-Q873+1,0):E873),SUM(OFFSET(E873,-Q873,0):E873)),\"\"))","v":{"$error":"#NAME?"}},{"$f":"IF(ISNUMBER(L873),IF((OFFSET(Q873,-Q873,0)>50),SUM(OFFSET(G873,-Q873+1,0):G873),SUM(OFFSET(G873,-Q873,0):G873)),\"\")","v":""},null,null,{"$error":"#NAME?"},{"$error":"#NAME?"}]
["2004-05-12",null,null,null,0,{"$f":"IF(SUM($B$7:$B874)=0,\"\",IF(A874<>\"\",IF(A874<$B$3,\"N\",\"Y\"),\"\"))","v":""},0,8.84,0,null,727,{"$f":"IF(AND(ISNUMBER(A874),NOT(ISNUMBER(A875))),IF((OFFSET(Q874,-Q874,0)>50),SUM(OFFSET(E874,-Q874+1,0):E874),SUM(OFFSET(E874,-Q874,0):E874)),IF(AND(ISNUMBER(P874),ISNUMBER(P875),P874  <P875),IF((OFFSET(Q874,-Q874,0)>50),SUM(OFFSET(E874,-Q874+1,0):E874),SUM(OFFSET(E874,-Q874,0):E874)),\"\"))","v":{"$error":"#NAME?"}},{"$f":"IF(ISNUMBER(L874),IF((OFFSET(Q874,-Q874,0)>50),SUM(OFFSET(G874,-Q874+1,0):G874),SUM(OFFSET(G874,-Q874,0):G874)),\"\")","v":""},null,null,{"$error":"#NAME?"},{"$error":"#NAME?"}]
["2004-05-19",null,null,null,0,{"$f":"IF(SUM($B$7:$B875)=0,\"\",IF(A875<>\"\",IF(A875<$B$3,\"N\",\"Y\"),\"\"))","v":""},0,8.84,0,null,726,{"$f":"IF(AND(ISNUMBER(A875),NOT(ISNUMBER(A876))),IF((OFFSET(Q875,-Q875,0)>50),SUM(OFFSET(E875,-Q875+1,0):E875),SUM(OFFSET(E875,-Q875,0):E875)),IF(AND(ISNUMBER(P875),ISNUMBER(P876),P875  <P876),IF((OFFSET(Q875,-Q875,0)>50),SUM(OFFSET(E875,-Q875+1,0):E875),SUM(OFFSET(E875,-Q875,0):E875)),\"\"))","v":{"$error":"#NAME?"}},{"$f":"IF(ISNUMBER(L875),IF((OFFSET(Q875,-Q875,0)>50),SUM(OFFSET(G875,-Q875+1,0):G875),SUM(OFFSET(G875,-Q875,0):G875)),\"\")","v":""},null,null,{"$error":"#NAME?"},{"$error":"#NAME?"}]
["2004-05-26",null,null,null,0,{"$f":"IF(SUM($B$7:$B876)=0,\"\",IF(A876<>\"\",IF(A876<$B$3,\"N\",\"Y\"),\"\"))","v":""},0,8.84,0,null,725,{"$f":"IF(AND(ISNUMBER(A876),NOT(ISNUMBER(A877))),IF((OFFSET(Q876,-Q876,0)>50),SUM(OFFSET(E876,-Q876+1,0):E876),SUM(OFFSET(E876,-Q876,0):E876)),IF(AND(ISNUMBER(P876),ISNUMBER(P877),P876  <P877),IF((OFFSET(Q876,-Q876,0)>50),SUM(OFFSET(E876,-Q876+1,0):E876),SUM(OFFSET(E876,-Q876,0):E876)),\"\"))","v":{"$error":"#NAME?"}},{"$f":"IF(ISNUMBER(L876),IF((OFFSET(Q876,-Q876,0)>50),SUM(OFFSET(G876,-Q876+1,0):G876),SUM(OFFSET(G876,-Q876,0):G876)),\"\")","v":""},null,null,{"$error":"#NAME?"},{"$error":"#NAME?"}]
["2004-06-02",null,null,null,0,{"$f":"IF(SUM($B$7:$B877)=0,\"\",IF(A877<>\"\",IF(A877<$B$3,\"N\",\"Y\"),\"\"))","v":""},0,8.84,0,null,724,{"$f":"IF(AND(ISNUMBER(A877),NOT(ISNUMBER(A878))),IF((OFFSET(Q877,-Q877,0)>50),SUM(OFFSET(E877,-Q877+1,0):E877),SUM(OFFSET(E877,-Q877,0):E877)),IF(AND(ISNUMBER(P877),ISNUMBER(P878),P877  <P878),IF((OFFSET(Q877,-Q877,0)>50),SUM(OFFSET(E877,-Q877+1,0):E877),SUM(OFFSET(E877,-Q877,0):E877)),\"\"))","v":{"$error":"#NAME?"}},{"$f":"IF(ISNUMBER(L877),IF((OFFSET(Q877,-Q877,0)>50),SUM(OFFSET(G877,-Q877+1,0):G877),SUM(OFFSET(G877,-Q877,0):G877)),\"\")","v":""},null,null,{"$error":"#NAME?"},{"$error":"#NAME?"}]
["2004-06-09",null,null,null,0,{"$f":"IF(SUM($B$7:$B878)=0,\"\",IF(A878<>\"\",IF(A878<$B$3,\"N\",\"Y\"),\"\"))","v":""},0,8.84,0,null,723,{"$f":"IF(AND(ISNUMBER(A878),NOT(ISNUMBER(A879))),IF((OFFSET(Q878,-Q878,0)>50),SUM(OFFSET(E878,-Q878+1,0):E878),SUM(OFFSET(E878,-Q878,0):E878)),IF(AND(ISNUMBER(P878),ISNUMBER(P879),P878  <P879),IF((OFFSET(Q878,-Q878,0)>50),SUM(OFFSET(E878,-Q878+1,0):E878),SUM(OFFSET(E878,-Q878,0):E878)),\"\"))","v":{"$error":"#NAME?"}},{"$f":"IF(ISNUMBER(L878),IF((OFFSET(Q878,-Q878,0)>50),SUM(OFFSET(G878,-Q878+1,0):G878),SUM(OFFSET(G878,-Q878,0):G878)),\"\")","v":""},null,null,{"$error":"#NAME?"},{"$error":"#NAME?"}]
["2004-06-16",null,null,null,0,{"$f":"IF(SUM($B$7:$B879)=0,\"\",IF(A879<>\"\",IF(A879<$B$3,\"N\",\"Y\"),\"\"))","v":""},0,8.84,0,null,722,{"$f":"IF(AND(ISNUMBER(A879),NOT(ISNUMBER(A880))),IF((OFFSET(Q879,-Q879,0)>50),SUM(OFFSET(E879,-Q879+1,0):E879),SUM(OFFSET(E879,-Q879,0):E879)),IF(AND(ISNUMBER(P879),ISNUMBER(P880),P879  <P880),IF((OFFSET(Q879,-Q879,0)>50),SUM(OFFSET(E879,-Q879+1,0):E879),SUM(OFFSET(E879,-Q879,0):E879)),\"\"))","v":{"$error":"#NAME?"}},{"$f":"IF(ISNUMBER(L879),IF((OFFSET(Q879,-Q879,0)>50),SUM(OFFSET(G879,-Q879+1,0):G879),SUM(OFFSET(G879,-Q879,0):G879)),\"\")","v":""},null,null,{"$error":"#NAME?"},{"$error":"#NAME?"}]
["2004-06-23",null,null,null,0,{"$f":"IF(SUM($B$7:$B880)=0,\"\",IF(A880<>\"\",IF(A880<$B$3,\"N\",\"Y\"),\"\"))","v":""},0,8.84,0,null,721,{"$f":"IF(AND(ISNUMBER(A880),NOT(ISNUMBER(A881))),IF((OFFSET(Q880,-Q880,0)>50),SUM(OFFSET(E880,-Q880+1,0):E880),SUM(OFFSET(E880,-Q880,0):E880)),IF(AND(ISNUMBER(P880),ISNUMBER(P881),P880  <P881),IF((OFFSET(Q880,-Q880,0)>50),SUM(OFFSET(E880,-Q880+1,0):E880),SUM(OFFSET(E880,-Q880,0):E880)),\"\"))","v":{"$error":"#NAME?"}},{"$f":"IF(ISNUMBER(L880),IF((OFFSET(Q880,-Q880,0)>50),SUM(OFFSET(G880,-Q880+1,0):G880),SUM(OFFSET(G880,-Q880,0):G880)),\"\")","v":""},null,null,{"$error":"#NAME?"},{"$error":"#NAME?"}]
["2004-06-30",null,null,null,0,{"$f":"IF(SUM($B$7:$B881)=0,\"\",IF(A881<>\"\",IF(A881<$B$3,\"N\",\"Y\"),\"\"))","v":""},0,8.84,0,null,720,{"$f":"IF(AND(ISNUMBER(A881),NOT(ISNUMBER(A882))),IF((OFFSET(Q881,-Q881,0)>50),SUM(OFFSET(E881,-Q881+1,0):E881),SUM(OFFSET(E881,-Q881,0):E881)),IF(AND(ISNUMBER(P881),ISNUMBER(P882),P881  <P882),IF((OFFSET(Q881,-Q881,0)>50),SUM(OFFSET(E881,-Q881+1,0):E881),SUM(OFFSET(E881,-Q881,0):E881)),\"\"))","v":{"$error":"#NAME?"}},{"$f":"IF(ISNUMBER(L881),IF((OFFSET(Q881,-Q881,0)>50),SUM(OFFSET(G881,-Q881+1,0):G881),SUM(OFFSET(G881,-Q881,0):G881)),\"\")","v":""},null,null,{"$error":"#NAME?"},{"$error":"#NAME?"}]
["2004-07-07",null,null,null,0,{"$f":"IF(SUM($B$7:$B882)=0,\"\",IF(A882<>\"\",IF(A882<$B$3,\"N\",\"Y\"),\"\"))","v":""},0,9.42,0,null,719,{"$f":"IF(AND(ISNUMBER(A882),NOT(ISNUMBER(A883))),IF((OFFSET(Q882,-Q882,0)>50),SUM(OFFSET(E882,-Q882+1,0):E882),SUM(OFFSET(E882,-Q882,0):E882)),IF(AND(ISNUMBER(P882),ISNUMBER(P883),P882  <P883),IF((OFFSET(Q882,-Q882,0)>50),SUM(OFFSET(E882,-Q882+1,0):E882),SUM(OFFSET(E882,-Q882,0):E882)),\"\"))","v":{"$error":"#NAME?"}},{"$f":"IF(ISNUMBER(L882),IF((OFFSET(Q882,-Q882,0)>50),SUM(OFFSET(G882,-Q882+1,0):G882),SUM(OFFSET(G882,-Q882,0):G882)),\"\")","v":""},null,null,{"$error":"#NAME?"},{"$error":"#NAME?"}]
["2004-07-14",null,null,null,0,{"$f":"IF(SUM($B$7:$B883)=0,\"\",IF(A883<>\"\",IF(A883<$B$3,\"N\",\"Y\"),\"\"))","v":""},0,9.42,0,null,718,{"$f":"IF(AND(ISNUMBER(A883),NOT(ISNUMBER(A884))),IF((OFFSET(Q883,-Q883,0)>50),SUM(OFFSET(E883,-Q883+1,0):E883),SUM(OFFSET(E883,-Q883,0):E883)),IF(AND(ISNUMBER(P883),ISNUMBER(P884),P883  <P884),IF((OFFSET(Q883,-Q883,0)>50),SUM(OFFSET(E883,-Q883+1,0):E883),SUM(OFFSET(E883,-Q883,0):E883)),\"\"))","v":{"$error":"#NAME?"}},{"$f":"IF(ISNUMBER(L883),IF((OFFSET(Q883,-Q883,0)>50),SUM(OFFSET(G883,-Q883+1,0):G883),SUM(OFFSET(G883,-Q883,0):G883)),\"\")","v":""},null,null,{"$error":"#NAME?"},{"$error":"#NAME?"}]
["2004-07-21",null,null,null,0,{"$f":"IF(SUM($B$7:$B884)=0,\"\",IF(A884<>\"\",IF(A884<$B$3,\"N\",\"Y\"),\"\"))","v":""},0,9.42,0,null,717,{"$f":"IF(AND(ISNUMBER(A884),NOT(ISNUMBER(A885))),IF((OFFSET(Q884,-Q884,0)>50),SUM(OFFSET(E884,-Q884+1,0):E884),SUM(OFFSET(E884,-Q884,0):E884)),IF(AND(ISNUMBER(P884),ISNUMBER(P885),P884  <P885),IF((OFFSET(Q884,-Q884,0)>50),SUM(OFFSET(E884,-Q884+1,0):E884),SUM(OFFSET(E884,-Q884,0):E884)),\"\"))","v":{"$error":"#NAME?"}},{"$f":"IF(ISNUMBER(L884),IF((OFFSET(Q884,-Q884,0)>50),SUM(OFFSET(G884,-Q884+1,0):G884),SUM(OFFSET(G884,-Q884,0):G884)),\"\")","v":""},null,null,{"$error":"#NAME?"},{"$error":"#NAME?"}]
["2004-07-28",null,null,null,0,{"$f":"IF(SUM($B$7:$B885)=0,\"\",IF(A885<>\"\",IF(A885<$B$3,\"N\",\"Y\"),\"\"))","v":""},0,9.42,0,null,716,{"$f":"IF(AND(ISNUMBER(A885),NOT(ISNUMBER(A886))),IF((OFFSET(Q885,-Q885,0)>50),SUM(OFFSET(E885,-Q885+1,0):E885),SUM(OFFSET(E885,-Q885,0):E885)),IF(AND(ISNUMBER(P885),ISNUMBER(P886),P885  <P886),IF((OFFSET(Q885,-Q885,0)>50),SUM(OFFSET(E885,-Q885+1,0):E885),SUM(OFFSET(E885,-Q885,0):E885)),\"\"))","v":{"$error":"#NAME?"}},{"$f":"IF(ISNUMBER(L885),IF((OFFSET(Q885,-Q885,0)>50),SUM(OFFSET(G885,-Q885+1,0):G885),SUM(OFFSET(G885,-Q885,0):G885)),\"\")","v":""},null,null,{"$error":"#NAME?"},{"$error":"#NAME?"}]
["2004-08-04",null,null,null,0,{"$f":"IF(SUM($B$7:$B886)=0,\"\",IF(A886<>\"\",IF(A886<$B$3,\"N\",\"Y\"),\"\"))","v":""},0,9.42,0,null,715,{"$f":"IF(AND(ISNUMBER(A886),NOT(ISNUMBER(A887))),IF((OFFSET(Q886,-Q886,0)>50),SUM(OFFSET(E886,-Q886+1,0):E886),SUM(OFFSET(E886,-Q886,0):E886)),IF(AND(ISNUMBER(P886),ISNUMBER(P887),P886  <P887),IF((OFFSET(Q886,-Q886,0)>50),SUM(OFFSET(E886,-Q886+1,0):E886),SUM(OFFSET(E886,-Q886,0):E886)),\"\"))","v":{"$error":"#NAME?"}},{"$f":"IF(ISNUMBER(L886),IF((OFFSET(Q886,-Q886,0)>50),SUM(OFFSET(G886,-Q886+1,0):G886),SUM(OFFSET(G886,-Q886,0):G886)),\"\")","v":""},null,null,{"$error":"#NAME?"},{"$error":"#NAME?"}]
["2004-08-11",null,null,null,0,{"$f":"IF(SUM($B$7:$B887)=0,\"\",IF(A887<>\"\",IF(A887<$B$3,\"N\",\"Y\"),\"\"))","v":""},0,9.42,0,null,714,{"$f":"IF(AND(ISNUMBER(A887),NOT(ISNUMBER(A888))),IF((OFFSET(Q887,-Q887,0)>50),SUM(OFFSET(E887,-Q887+1,0):E887),SUM(OFFSET(E887,-Q887,0):E887)),IF(AND(ISNUMBER(P887),ISNUMBER(P888),P887  <P888),IF((OFFSET(Q887,-Q887,0)>50),SUM(OFFSET(E887,-Q887+1,0):E887),SUM(OFFSET(E887,-Q887,0):E887)),\"\"))","v":{"$error":"#NAME?"}},{"$f":"IF(ISNUMBER(L887),IF((OFFSET(Q887,-Q887,0)>50),SUM(OFFSET(G887,-Q887+1,0):G887),SUM(OFFSET(G887,-Q887,0):G887)),\"\")","v":""},null,null,{"$error":"#NAME?"},{"$error":"#NAME?"}]
["2004-08-18",null,null,null,0,{"$f":"IF(SUM($B$7:$B888)=0,\"\",IF(A888<>\"\",IF(A888<$B$3,\"N\",\"Y\"),\"\"))","v":""},0,9.42,0,null,713,{"$f":"IF(AND(ISNUMBER(A888),NOT(ISNUMBER(A889))),IF((OFFSET(Q888,-Q888,0)>50),SUM(OFFSET(E888,-Q888+1,0):E888),SUM(OFFSET(E888,-Q888,0):E888)),IF(AND(ISNUMBER(P888),ISNUMBER(P889),P888  <P889),IF((OFFSET(Q888,-Q888,0)>50),SUM(OFFSET(E888,-Q888+1,0):E888),SUM(OFFSET(E888,-Q888,0):E888)),\"\"))","v":{"$error":"#NAME?"}},{"$f":"IF(ISNUMBER(L888),IF((OFFSET(Q888,-Q888,0)>50),SUM(OFFSET(G888,-Q888+1,0):G888),SUM(OFFSET(G888,-Q888,0):G888)),\"\")","v":""},null,null,{"$error":"#NAME?"},{"$error":"#NAME?"}]
["2004-08-25",null,null,null,0,{"$f":"IF(SUM($B$7:$B889)=0,\"\",IF(A889<>\"\",IF(A889<$B$3,\"N\",\"Y\"),\"\"))","v":""},0,9.42,0,null,712,{"$f":"IF(AND(ISNUMBER(A889),NOT(ISNUMBER(A890))),IF((OFFSET(Q889,-Q889,0)>50),SUM(OFFSET(E889,-Q889+1,0):E889),SUM(OFFSET(E889,-Q889,0):E889)),IF(AND(ISNUMBER(P889),ISNUMBER(P890),P889  <P890),IF((OFFSET(Q889,-Q889,0)>50),SUM(OFFSET(E889,-Q889+1,0):E889),SUM(OFFSET(E889,-Q889,0):E889)),\"\"))","v":{"$error":"#NAME?"}},{"$f":"IF(ISNUMBER(L889),IF((OFFSET(Q889,-Q889,0)>50),SUM(OFFSET(G889,-Q889+1,0):G889),SUM(OFFSET(G889,-Q889,0):G889)),\"\")","v":""},null,null,{"$error":"#NAME?"},{"$error":"#NAME?"}]
["2004-09-01",null,null,null,0,{"$f":"IF(SUM($B$7:$B890)=0,\"\",IF(A890<>\"\",IF(A890<$B$3,\"N\",\"Y\"),\"\"))","v":""},0,9.42,0,null,711,{"$f":"IF(AND(ISNUMBER(A890),NOT(ISNUMBER(A891))),IF((OFFSET(Q890,-Q890,0)>50),SUM(OFFSET(E890,-Q890+1,0):E890),SUM(OFFSET(E890,-Q890,0):E890)),IF(AND(ISNUMBER(P890),ISNUMBER(P891),P890  <P891),IF((OFFSET(Q890,-Q890,0)>50),SUM(OFFSET(E890,-Q890+1,0):E890),SUM(OFFSET(E890,-Q890,0):E890)),\"\"))","v":{"$error":"#NAME?"}},{"$f":"IF(ISNUMBER(L890),IF((OFFSET(Q890,-Q890,0)>50),SUM(OFFSET(G890,-Q890+1,0):G890),SUM(OFFSET(G890,-Q890,0):G890)),\"\")","v":""},null,null,{"$error":"#NAME?"},{"$error":"#NAME?"}]
["2004-09-08",null,null,null,0,{"$f":"IF(SUM($B$7:$B891)=0,\"\",IF(A891<>\"\",IF(A891<$B$3,\"N\",\"Y\"),\"\"))","v":""},0,9.42,0,null,710,{"$f":"IF(AND(ISNUMBER(A891),NOT(ISNUMBER(A892))),IF((OFFSET(Q891,-Q891,0)>50),SUM(OFFSET(E891,-Q891+1,0):E891),SUM(OFFSET(E891,-Q891,0):E891)),IF(AND(ISNUMBER(P891),ISNUMBER(P892),P891  <P892),IF((OFFSET(Q891,-Q891,0)>50),SUM(OFFSET(E891,-Q891+1,0):E891),SUM(OFFSET(E891,-Q891,0):E891)),\"\"))","v":{"$error":"#NAME?"}},{"$f":"IF(ISNUMBER(L891),IF((OFFSET(Q891,-Q891,0)>50),SUM(OFFSET(G891,-Q891+1,0):G891),SUM(OFFSET(G891,-Q891,0):G891)),\"\")","v":""},null,null,{"$error":"#NAME?"},{"$error":"#NAME?"}]
["2004-09-15",null,null,null,0,{"$f":"IF(SUM($B$7:$B892)=0,\"\",IF(A892<>\"\",IF(A892<$B$3,\"N\",\"Y\"),\"\"))","v":""},0,9.42,0,null,709,{"$f":"IF(AND(ISNUMBER(A892),NOT(ISNUMBER(A893))),IF((OFFSET(Q892,-Q892,0)>50),SUM(OFFSET(E892,-Q892+1,0):E892),SUM(OFFSET(E892,-Q892,0):E892)),IF(AND(ISNUMBER(P892),ISNUMBER(P893),P892  <P893),IF((OFFSET(Q892,-Q892,0)>50),SUM(OFFSET(E892,-Q892+1,0):E892),SUM(OFFSET(E892,-Q892,0):E892)),\"\"))","v":{"$error":"#NAME?"}},{"$f":"IF(ISNUMBER(L892),IF((OFFSET(Q892,-Q892,0)>50),SUM(OFFSET(G892,-Q892+1,0):G892),SUM(OFFSET(G892,-Q892,0):G892)),\"\")","v":""},null,null,{"$error":"#NAME?"},{"$error":"#NAME?"}]
["2004-09-22",null,null,null,0,{"$f":"IF(SUM($B$7:$B893)=0,\"\",IF(A893<>\"\",IF(A893<$B$3,\"N\",\"Y\"),\"\"))","v":""},0,9.42,0,null,708,{"$f":"IF(AND(ISNUMBER(A893),NOT(ISNUMBER(A894))),IF((OFFSET(Q893,-Q893,0)>50),SUM(OFFSET(E893,-Q893+1,0):E893),SUM(OFFSET(E893,-Q893,0):E893)),IF(AND(ISNUMBER(P893),ISNUMBER(P894),P893  <P894),IF((OFFSET(Q893,-Q893,0)>50),SUM(OFFSET(E893,-Q893+1,0):E893),SUM(OFFSET(E893,-Q893,0):E893)),\"\"))","v":{"$error":"#NAME?"}},{"$f":"IF(ISNUMBER(L893),IF((OFFSET(Q893,-Q893,0)>50),SUM(OFFSET(G893,-Q893+1,0):G893),SUM(OFFSET(G893,-Q893,0):G893)),\"\")","v":""},null,null,{"$error":"#NAME?"},{"$error":"#NAME?"}]
["2004-09-29",null,null,null,0,{"$f":"IF(SUM($B$7:$B894)=0,\"\",IF(A894<>\"\",IF(A894<$B$3,\"N\",\"Y\"),\"\"))","v":""},0,9.42,0,null,707,{"$f":"IF(AND(ISNUMBER(A894),NOT(ISNUMBER(A895))),IF((OFFSET(Q894,-Q894,0)>50),SUM(OFFSET(E894,-Q894+1,0):E894),SUM(OFFSET(E894,-Q894,0):E894)),IF(AND(ISNUMBER(P894),ISNUMBER(P895),P894  <P895),IF((OFFSET(Q894,-Q894,0)>50),SUM(OFFSET(E894,-Q894+1,0):E894),SUM(OFFSET(E894,-Q894,0):E894)),\"\"))","v":{"$error":"#NAME?"}},{"$f":"IF(ISNUMBER(L894),IF((OFFSET(Q894,-Q894,0)>50),SUM(OFFSET(G894,-Q894+1,0):G894),SUM(OFFSET(G894,-Q894,0):G894)),\"\")","v":""},null,null,{"$error":"#NAME?"},{"$error":"#NAME?"}]
["2004-10-06",null,null,null,0,{"$f":"IF(SUM($B$7:$B895)=0,\"\",IF(A895<>\"\",IF(A895<$B$3,\"N\",\"Y\"),\"\"))","v":""},0,9.42,0,null,706,{"$f":"IF(AND(ISNUMBER(A895),NOT(ISNUMBER(A896))),IF((OFFSET(Q895,-Q895,0)>50),SUM(OFFSET(E895,-Q895+1,0):E895),SUM(OFFSET(E895,-Q895,0):E895)),IF(AND(ISNUMBER(P895),ISNUMBER(P896),P895  <P896),IF((OFFSET(Q895,-Q895,0)>50),SUM(OFFSET(E895,-Q895+1,0):E895),SUM(OFFSET(E895,-Q895,0):E895)),\"\"))","v":{"$error":"#NAME?"}},{"$f":"IF(ISNUMBER(L895),IF((OFFSET(Q895,-Q895,0)>50),SUM(OFFSET(G895,-Q895+1,0):G895),SUM(OFFSET(G895,-Q895,0):G895)),\"\")","v":""},null,null,{"$error":"#NAME?"},{"$error":"#NAME?"}]
["2004-10-13",null,null,null,0,{"$f":"IF(SUM($B$7:$B896)=0,\"\",IF(A896<>\"\",IF(A896<$B$3,\"N\",\"Y\"),\"\"))","v":""},0,9.42,0,null,705,{"$f":"IF(AND(ISNUMBER(A896),NOT(ISNUMBER(A897))),IF((OFFSET(Q896,-Q896,0)>50),SUM(OFFSET(E896,-Q896+1,0):E896),SUM(OFFSET(E896,-Q896,0):E896)),IF(AND(ISNUMBER(P896),ISNUMBER(P897),P896  <P897),IF((OFFSET(Q896,-Q896,0)>50),SUM(OFFSET(E896,-Q896+1,0):E896),SUM(OFFSET(E896,-Q896,0):E896)),\"\"))","v":{"$error":"#NAME?"}},{"$f":"IF(ISNUMBER(L896),IF((OFFSET(Q896,-Q896,0)>50),SUM(OFFSET(G896,-Q896+1,0):G896),SUM(OFFSET(G896,-Q896,0):G896)),\"\")","v":""},null,null,{"$error":"#NAME?"},{"$error":"#NAME?"}]
["2004-10-20",null,null,null,0,{"$f":"IF(SUM($B$7:$B897)=0,\"\",IF(A897<>\"\",IF(A897<$B$3,\"N\",\"Y\"),\"\"))","v":""},0,9.42,0,null,704,{"$f":"IF(AND(ISNUMBER(A897),NOT(ISNUMBER(A898))),IF((OFFSET(Q897,-Q897,0)>50),SUM(OFFSET(E897,-Q897+1,0):E897),SUM(OFFSET(E897,-Q897,0):E897)),IF(AND(ISNUMBER(P897),ISNUMBER(P898),P897  <P898),IF((OFFSET(Q897,-Q897,0)>50),SUM(OFFSET(E897,-Q897+1,0):E897),SUM(OFFSET(E897,-Q897,0):E897)),\"\"))","v":{"$error":"#NAME?"}},{"$f":"IF(ISNUMBER(L897),IF((OFFSET(Q897,-Q897,0)>50),SUM(OFFSET(G897,-Q897+1,0):G897),SUM(OFFSET(G897,-Q897,0):G897)),\"\")","v":""},null,null,{"$error":"#NAME?"},{"$error":"#NAME?"}]
["2004-10-27",null,null,null,0,{"$f":"IF(SUM($B$7:$B898)=0,\"\",IF(A898<>\"\",IF(A898<$B$3,\"N\",\"Y\"),\"\"))","v":""},0,9.42,0,null,703,{"$f":"IF(AND(ISNUMBER(A898),NOT(ISNUMBER(A899))),IF((OFFSET(Q898,-Q898,0)>50),SUM(OFFSET(E898,-Q898+1,0):E898),SUM(OFFSET(E898,-Q898,0):E898)),IF(AND(ISNUMBER(P898),ISNUMBER(P899),P898  <P899),IF((OFFSET(Q898,-Q898,0)>50),SUM(OFFSET(E898,-Q898+1,0):E898),SUM(OFFSET(E898,-Q898,0):E898)),\"\"))","v":{"$error":"#NAME?"}},{"$f":"IF(ISNUMBER(L898),IF((OFFSET(Q898,-Q898,0)>50),SUM(OFFSET(G898,-Q898+1,0):G898),SUM(OFFSET(G898,-Q898,0):G898)),\"\")","v":""},null,null,{"$error":"#NAME?"},{"$error":"#NAME?"}]
["2004-11-03",null,null,null,0,{"$f":"IF(SUM($B$7:$B899)=0,\"\",IF(A899<>\"\",IF(A899<$B$3,\"N\",\"Y\"),\"\"))","v":""},0,9.42,0,null,702,{"$f":"IF(AND(ISNUMBER(A899),NOT(ISNUMBER(A900))),IF((OFFSET(Q899,-Q899,0)>50),SUM(OFFSET(E899,-Q899+1,0):E899),SUM(OFFSET(E899,-Q899,0):E899)),IF(AND(ISNUMBER(P899),ISNUMBER(P900),P899  <P900),IF((OFFSET(Q899,-Q899,0)>50),SUM(OFFSET(E899,-Q899+1,0):E899),SUM(OFFSET(E899,-Q899,0):E899)),\"\"))","v":{"$error":"#NAME?"}},{"$f":"IF(ISNUMBER(L899),IF((OFFSET(Q899,-Q899,0)>50),SUM(OFFSET(G899,-Q899+1,0):G899),SUM(OFFSET(G899,-Q899,0):G899)),\"\")","v":""},null,null,{"$error":"#NAME?"},{"$error":"#NAME?"}]
["2004-11-10",null,null,null,0,{"$f":"IF(SUM($B$7:$B900)=0,\"\",IF(A900<>\"\",IF(A900<$B$3,\"N\",\"Y\"),\"\"))","v":""},0,9.42,0,null,701,{"$f":"IF(AND(ISNUMBER(A900),NOT(ISNUMBER(A901))),IF((OFFSET(Q900,-Q900,0)>50),SUM(OFFSET(E900,-Q900+1,0):E900),SUM(OFFSET(E900,-Q900,0):E900)),IF(AND(ISNUMBER(P900),ISNUMBER(P901),P900  <P901),IF((OFFSET(Q900,-Q900,0)>50),SUM(OFFSET(E900,-Q900+1,0):E900),SUM(OFFSET(E900,-Q900,0):E900)),\"\"))","v":{"$error":"#NAME?"}},{"$f":"IF(ISNUMBER(L900),IF((OFFSET(Q900,-Q900,0)>50),SUM(OFFSET(G900,-Q900+1,0):G900),SUM(OFFSET(G900,-Q900,0):G900)),\"\")","v":""},null,null,{"$error":"#NAME?"},{"$error":"#NAME?"}]
["2004-11-17",null,null,null,0,{"$f":"IF(SUM($B$7:$B901)=0,\"\",IF(A901<>\"\",IF(A901<$B$3,\"N\",\"Y\"),\"\"))","v":""},0,9.42,0,null,700,{"$f":"IF(AND(ISNUMBER(A901),NOT(ISNUMBER(A902))),IF((OFFSET(Q901,-Q901,0)>50),SUM(OFFSET(E901,-Q901+1,0):E901),SUM(OFFSET(E901,-Q901,0):E901)),IF(AND(ISNUMBER(P901),ISNUMBER(P902),P901  <P902),IF((OFFSET(Q901,-Q901,0)>50),SUM(OFFSET(E901,-Q901+1,0):E901),SUM(OFFSET(E901,-Q901,0):E901)),\"\"))","v":{"$error":"#NAME?"}},{"$f":"IF(ISNUMBER(L901),IF((OFFSET(Q901,-Q901,0)>50),SUM(OFFSET(G901,-Q901+1,0):G901),SUM(OFFSET(G901,-Q901,0):G901)),\"\")","v":""},null,null,{"$error":"#NAME?"},{"$error":"#NAME?"}]
["2004-11-24",null,null,null,0,{"$f":"IF(SUM($B$7:$B902)=0,\"\",IF(A902<>\"\",IF(A902<$B$3,\"N\",\"Y\"),\"\"))","v":""},0,9.42,0,null,699,{"$f":"IF(AND(ISNUMBER(A902),NOT(ISNUMBER(A903))),IF((OFFSET(Q902,-Q902,0)>50),SUM(OFFSET(E902,-Q902+1,0):E902),SUM(OFFSET(E902,-Q902,0):E902)),IF(AND(ISNUMBER(P902),ISNUMBER(P903),P902  <P903),IF((OFFSET(Q902,-Q902,0)>50),SUM(OFFSET(E902,-Q902+1,0):E902),SUM(OFFSET(E902,-Q902,0):E902)),\"\"))","v":{"$error":"#NAME?"}},{"$f":"IF(ISNUMBER(L902),IF((OFFSET(Q902,-Q902,0)>50),SUM(OFFSET(G902,-Q902+1,0):G902),SUM(OFFSET(G902,-Q902,0):G902)),\"\")","v":""},null,null,{"$error":"#NAME?"},{"$error":"#NAME?"}]
["2004-12-01",null,null,null,0,{"$f":"IF(SUM($B$7:$B903)=0,\"\",IF(A903<>\"\",IF(A903<$B$3,\"N\",\"Y\"),\"\"))","v":""},0,9.42,0,null,{"$f":"IF(A903<>\"\",IF((TODAY()-A903)/7>=0,INT((TODAY()-A903)/7),0),\"\")","v":698},{"$f":"IF(AND(ISNUMBER(A903),NOT(ISNUMBER(A904))),IF((OFFSET(Q903,-Q903,0)>50),SUM(OFFSET(E903,-Q903+1,0):E903),SUM(OFFSET(E903,-Q903,0):E903)),IF(AND(ISNUMBER(P903),ISNUMBER(P904),P903  <P904),IF((OFFSET(Q903,-Q903,0)>50),SUM(OFFSET(E903,-Q903+1,0):E903),SUM(OFFSET(E903,-Q903,0):E903)),\"\"))","v":{"$error":"#NAME?"}},{"$f":"IF(ISNUMBER(L903),IF((OFFSET(Q903,-Q903,0)>50),SUM(OFFSET(G903,-Q903+1,0):G903),SUM(OFFSET(G903,-Q903,0):G903)),\"\")","v":""},null,null,{"$f":"FinYear(A903)","v":{"$error":"#NAME?"}},{"$error":"#NAME?"}]
["2004-12-08",null,null,null,{"$f":"IF(A904<>\"\",IF(B904-C904>=0,B904-C904,0),\"\")","v":0},{"$f":"IF(SUM($B$7:$B904)=0,\"\",IF(A904<>\"\",IF(A904<$B$3,\"N\",\"Y\"),\"\"))","v":""},0,9.42,0,null,697,{"$f":"IF(AND(ISNUMBER(A904),NOT(ISNUMBER(A905))),IF((OFFSET(Q904,-Q904,0)>50),SUM(OFFSET(E904,-Q904+1,0):E904),SUM(OFFSET(E904,-Q904,0):E904)),IF(AND(ISNUMBER(P904),ISNUMBER(P905),P904  <P905),IF((OFFSET(Q904,-Q904,0)>50),SUM(OFFSET(E904,-Q904+1,0):E904),SUM(OFFSET(E904,-Q904,0):E904)),\"\"))","v":{"$error":"#NAME?"}},{"$f":"IF(ISNUMBER(L904),IF((OFFSET(Q904,-Q904,0)>50),SUM(OFFSET(G904,-Q904+1,0):G904),SUM(OFFSET(G904,-Q904,0):G904)),\"\")","v":""},null,null,{"$error":"#NAME?"},{"$f":"ROUND((A904-StartOfFinYear(P904))/7,0)","v":{"$error":"#NAME?"}}]
["2004-12-15",null,null,null,0,{"$f":"IF(SUM($B$7:$B905)=0,\"\",IF(A905<>\"\",IF(A905<$B$3,\"N\",\"Y\"),\"\"))","v":""},{"$f":"IF(F905=\"N\",0,IF(A905<>\"\",IF(K905>=0,((E905+I904)*(1+(H905/52)/100)-E905-I904),0),\"\"))","v":0},9.42,{"$f":"IF(A905<>\"\",I904+E905+G905,\"\")","v":0},null,696,{"$f":"IF(AND(ISNUMBER(A905),NOT(ISNUMBER(A906))),IF((OFFSET(Q905,-Q905,0)>50),SUM(OFFSET(E905,-Q905+1,0):E905),SUM(OFFSET(E905,-Q905,0):E905)),IF(AND(ISNUMBER(P905),ISNUMBER(P906),P905  <P906),IF((OFFSET(Q905,-Q905,0)>50),SUM(OFFSET(E905,-Q905+1,0):E905),SUM(OFFSET(E905,-Q905,0):E905)),\"\"))","v":{"$error":"#NAME?"}},{"$f":"IF(ISNUMBER(L905),IF((OFFSET(Q905,-Q905,0)>50),SUM(OFFSET(G905,-Q905+1,0):G905),SUM(OFFSET(G905,-Q905,0):G905)),\"\")","v":""},null,null,{"$error":"#NAME?"},{"$error":"#NAME?"}]
[{"$f":"IF(A905<>\"\",IF(A905+12<=TODAY(),+A905+7,\"\"),\"\")","v":"2004-12-22"},null,null,null,0,{"$f":"IF(SUM($B$7:$B906)=0,\"\",IF(A906<>\"\",IF(A906<$B$3,\"N\",\"Y\"),\"\"))","v":""},0,9.42,0,null,695,{"$f":"IF(AND(ISNUMBER(A906),NOT(ISNUMBER(A907))),IF((OFFSET(Q906,-Q906,0)>50),SUM(OFFSET(E906,-Q906+1,0):E906),SUM(OFFSET(E906,-Q906,0):E906)),IF(AND(ISNUMBER(P906),ISNUMBER(P907),P906  <P907),IF((OFFSET(Q906,-Q906,0)>50),SUM(OFFSET(E906,-Q906+1,0):E906),SUM(OFFSET(E906,-Q906,0):E906)),\"\"))","v":{"$error":"#NAME?"}},{"$f":"IF(ISNUMBER(L906),IF((OFFSET(Q906,-Q906,0)>50),SUM(OFFSET(G906,-Q906+1,0):G906),SUM(OFFSET(G906,-Q906,0):G906)),\"\")","v":""},null,null,{"$error":"#NAME?"},{"$error":"#NAME?"}]
["2004-12-29",null,null,null,0,{"$f":"IF(SUM($B$7:$B907)=0,\"\",IF(A907<>\"\",IF(A907<$B$3,\"N\",\"Y\"),\"\"))","v":""},0,9.42,0,null,694,{"$f":"IF(AND(ISNUMBER(A907),NOT(ISNUMBER(A908))),IF((OFFSET(Q907,-Q907,0)>50),SUM(OFFSET(E907,-Q907+1,0):E907),SUM(OFFSET(E907,-Q907,0):E907)),IF(AND(ISNUMBER(P907),ISNUMBER(P908),P907  <P908),IF((OFFSET(Q907,-Q907,0)>50),SUM(OFFSET(E907,-Q907+1,0):E907),SUM(OFFSET(E907,-Q907,0):E907)),\"\"))","v":{"$error":"#NAME?"}},{"$f":"IF(ISNUMBER(L907),IF((OFFSET(Q907,-Q907,0)>50),SUM(OFFSET(G907,-Q907+1,0):G907),SUM(OFFSET(G907,-Q907,0):G907)),\"\")","v":""},null,null,{"$error":"#NAME?"},{"$error":"#NAME?"}]
["2005-01-05",null,null,null,0,{"$f":"IF(SUM($B$7:$B908)=0,\"\",IF(A908<>\"\",IF(A908<$B$3,\"N\",\"Y\"),\"\"))","v":""},0,9.42,0,null,693,{"$f":"IF(AND(ISNUMBER(A908),NOT(ISNUMBER(A909))),IF((OFFSET(Q908,-Q908,0)>50),SUM(OFFSET(E908,-Q908+1,0):E908),SUM(OFFSET(E908,-Q908,0):E908)),IF(AND(ISNUMBER(P908),ISNUMBER(P909),P908  <P909),IF((OFFSET(Q908,-Q908,0)>50),SUM(OFFSET(E908,-Q908+1,0):E908),SUM(OFFSET(E908,-Q908,0):E908)),\"\"))","v":{"$error":"#NAME?"}},{"$f":"IF(ISNUMBER(L908),IF((OFFSET(Q908,-Q908,0)>50),SUM(OFFSET(G908,-Q908+1,0):G908),SUM(OFFSET(G908,-Q908,0):G908)),\"\")","v":""},null,null,{"$error":"#NAME?"},{"$error":"#NAME?"}]
["2005-01-12",null,null,null,0,{"$f":"IF(SUM($B$7:$B909)=0,\"\",IF(A909<>\"\",IF(A909<$B$3,\"N\",\"Y\"),\"\"))","v":""},0,9.42,0,null,692,{"$f":"IF(AND(ISNUMBER(A909),NOT(ISNUMBER(A910))),IF((OFFSET(Q909,-Q909,0)>50),SUM(OFFSET(E909,-Q909+1,0):E909),SUM(OFFSET(E909,-Q909,0):E909)),IF(AND(ISNUMBER(P909),ISNUMBER(P910),P909  <P910),IF((OFFSET(Q909,-Q909,0)>50),SUM(OFFSET(E909,-Q909+1,0):E909),SUM(OFFSET(E909,-Q909,0):E909)),\"\"))","v":{"$error":"#NAME?"}},{"$f":"IF(ISNUMBER(L909),IF((OFFSET(Q909,-Q909,0)>50),SUM(OFFSET(G909,-Q909+1,0):G909),SUM(OFFSET(G909,-Q909,0):G909)),\"\")","v":""},null,null,{"$error":"#NAME?"},{"$error":"#NAME?"}]
["2005-01-19",null,null,null,0,{"$f":"IF(SUM($B$7:$B910)=0,\"\",IF(A910<>\"\",IF(A910<$B$3,\"N\",\"Y\"),\"\"))","v":""},0,9.42,0,null,691,{"$f":"IF(AND(ISNUMBER(A910),NOT(ISNUMBER(A911))),IF((OFFSET(Q910,-Q910,0)>50),SUM(OFFSET(E910,-Q910+1,0):E910),SUM(OFFSET(E910,-Q910,0):E910)),IF(AND(ISNUMBER(P910),ISNUMBER(P911),P910  <P911),IF((OFFSET(Q910,-Q910,0)>50),SUM(OFFSET(E910,-Q910+1,0):E910),SUM(OFFSET(E910,-Q910,0):E910)),\"\"))","v":{"$error":"#NAME?"}},{"$f":"IF(ISNUMBER(L910),IF((OFFSET(Q910,-Q910,0)>50),SUM(OFFSET(G910,-Q910+1,0):G910),SUM(OFFSET(G910,-Q910,0):G910)),\"\")","v":""},null,null,{"$error":"#NAME?"},{"$error":"#NAME?"}]
["2005-01-26",null,null,null,0,{"$f":"IF(SUM($B$7:$B911)=0,\"\",IF(A911<>\"\",IF(A911<$B$3,\"N\",\"Y\"),\"\"))","v":""},0,9.42,0,null,690,{"$f":"IF(AND(ISNUMBER(A911),NOT(ISNUMBER(A912))),IF((OFFSET(Q911,-Q911,0)>50),SUM(OFFSET(E911,-Q911+1,0):E911),SUM(OFFSET(E911,-Q911,0):E911)),IF(AND(ISNUMBER(P911),ISNUMBER(P912),P911  <P912),IF((OFFSET(Q911,-Q911,0)>50),SUM(OFFSET(E911,-Q911+1,0):E911),SUM(OFFSET(E911,-Q911,0):E911)),\"\"))","v":{"$error":"#NAME?"}},{"$f":"IF(ISNUMBER(L911),IF((OFFSET(Q911,-Q911,0)>50),SUM(OFFSET(G911,-Q911+1,0):G911),SUM(OFFSET(G911,-Q911,0):G911)),\"\")","v":""},null,null,{"$error":"#NAME?"},{"$error":"#NAME?"}]
["2005-02-02",null,null,null,0,{"$f":"IF(SUM($B$7:$B912)=0,\"\",IF(A912<>\"\",IF(A912<$B$3,\"N\",\"Y\"),\"\"))","v":""},0,9.42,0,null,689,{"$f":"IF(AND(ISNUMBER(A912),NOT(ISNUMBER(A913))),IF((OFFSET(Q912,-Q912,0)>50),SUM(OFFSET(E912,-Q912+1,0):E912),SUM(OFFSET(E912,-Q912,0):E912)),IF(AND(ISNUMBER(P912),ISNUMBER(P913),P912  <P913),IF((OFFSET(Q912,-Q912,0)>50),SUM(OFFSET(E912,-Q912+1,0):E912),SUM(OFFSET(E912,-Q912,0):E912)),\"\"))","v":{"$error":"#NAME?"}},{"$f":"IF(ISNUMBER(L912),IF((OFFSET(Q912,-Q912,0)>50),SUM(OFFSET(G912,-Q912+1,0):G912),SUM(OFFSET(G912,-Q912,0):G912)),\"\")","v":""},null,null,{"$error":"#NAME?"},{"$error":"#NAME?"}]
["2005-02-09",null,null,null,0,{"$f":"IF(SUM($B$7:$B913)=0,\"\",IF(A913<>\"\",IF(A913<$B$3,\"N\",\"Y\"),\"\"))","v":""},0,9.42,0,null,688,{"$f":"IF(AND(ISNUMBER(A913),NOT(ISNUMBER(A914))),IF((OFFSET(Q913,-Q913,0)>50),SUM(OFFSET(E913,-Q913+1,0):E913),SUM(OFFSET(E913,-Q913,0):E913)),IF(AND(ISNUMBER(P913),ISNUMBER(P914),P913  <P914),IF((OFFSET(Q913,-Q913,0)>50),SUM(OFFSET(E913,-Q913+1,0):E913),SUM(OFFSET(E913,-Q913,0):E913)),\"\"))","v":{"$error":"#NAME?"}},{"$f":"IF(ISNUMBER(L913),IF((OFFSET(Q913,-Q913,0)>50),SUM(OFFSET(G913,-Q913+1,0):G913),SUM(OFFSET(G913,-Q913,0):G913)),\"\")","v":""},null,null,{"$error":"#NAME?"},{"$error":"#NAME?"}]
["2005-02-16",null,null,null,0,{"$f":"IF(SUM($B$7:$B914)=0,\"\",IF(A914<>\"\",IF(A914<$B$3,\"N\",\"Y\"),\"\"))","v":""},0,9.42,0,null,687,{"$f":"IF(AND(ISNUMBER(A914),NOT(ISNUMBER(A915))),IF((OFFSET(Q914,-Q914,0)>50),SUM(OFFSET(E914,-Q914+1,0):E914),SUM(OFFSET(E914,-Q914,0):E914)),IF(AND(ISNUMBER(P914),ISNUMBER(P915),P914  <P915),IF((OFFSET(Q914,-Q914,0)>50),SUM(OFFSET(E914,-Q914+1,0):E914),SUM(OFFSET(E914,-Q914,0):E914)),\"\"))","v":{"$error":"#NAME?"}},{"$f":"IF(ISNUMBER(L914),IF((OFFSET(Q914,-Q914,0)>50),SUM(OFFSET(G914,-Q914+1,0):G914),SUM(OFFSET(G914,-Q914,0):G914)),\"\")","v":""},null,null,{"$error":"#NAME?"},{"$error":"#NAME?"}]
["2005-02-23",null,null,null,0,{"$f":"IF(SUM($B$7:$B915)=0,\"\",IF(A915<>\"\",IF(A915<$B$3,\"N\",\"Y\"),\"\"))","v":""},0,9.42,0,null,686,{"$f":"IF(AND(ISNUMBER(A915),NOT(ISNUMBER(A916))),IF((OFFSET(Q915,-Q915,0)>50),SUM(OFFSET(E915,-Q915+1,0):E915),SUM(OFFSET(E915,-Q915,0):E915)),IF(AND(ISNUMBER(P915),ISNUMBER(P916),P915  <P916),IF((OFFSET(Q915,-Q915,0)>50),SUM(OFFSET(E915,-Q915+1,0):E915),SUM(OFFSET(E915,-Q915,0):E915)),\"\"))","v":{"$error":"#NAME?"}},{"$f":"IF(ISNUMBER(L915),IF((OFFSET(Q915,-Q915,0)>50),SUM(OFFSET(G915,-Q915+1,0):G915),SUM(OFFSET(G915,-Q915,0):G915)),\"\")","v":""},null,null,{"$error":"#NAME?"},{"$error":"#NAME?"}]
["2005-03-02",null,null,null,0,{"$f":"IF(SUM($B$7:$B916)=0,\"\",IF(A916<>\"\",IF(A916<$B$3,\"N\",\"Y\"),\"\"))","v":""},0,9.42,0,null,685,{"$f":"IF(AND(ISNUMBER(A916),NOT(ISNUMBER(A917))),IF((OFFSET(Q916,-Q916,0)>50),SUM(OFFSET(E916,-Q916+1,0):E916),SUM(OFFSET(E916,-Q916,0):E916)),IF(AND(ISNUMBER(P916),ISNUMBER(P917),P916  <P917),IF((OFFSET(Q916,-Q916,0)>50),SUM(OFFSET(E916,-Q916+1,0):E916),SUM(OFFSET(E916,-Q916,0):E916)),\"\"))","v":{"$error":"#NAME?"}},{"$f":"IF(ISNUMBER(L916),IF((OFFSET(Q916,-Q916,0)>50),SUM(OFFSET(G916,-Q916+1,0):G916),SUM(OFFSET(G916,-Q916,0):G916)),\"\")","v":""},null,null,{"$error":"#NAME?"},{"$error":"#NAME?"}]
["2005-03-09",null,null,null,0,{"$f":"IF(SUM($B$7:$B917)=0,\"\",IF(A917<>\"\",IF(A917<$B$3,\"N\",\"Y\"),\"\"))","v":""},0,9.42,0,null,684,{"$f":"IF(AND(ISNUMBER(A917),NOT(ISNUMBER(A918))),IF((OFFSET(Q917,-Q917,0)>50),SUM(OFFSET(E917,-Q917+1,0):E917),SUM(OFFSET(E917,-Q917,0):E917)),IF(AND(ISNUMBER(P917),ISNUMBER(P918),P917  <P918),IF((OFFSET(Q917,-Q917,0)>50),SUM(OFFSET(E917,-Q917+1,0):E917),SUM(OFFSET(E917,-Q917,0):E917)),\"\"))","v":{"$error":"#NAME?"}},{"$f":"IF(ISNUMBER(L917),IF((OFFSET(Q917,-Q917,0)>50),SUM(OFFSET(G917,-Q917+1,0):G917),SUM(OFFSET(G917,-Q917,0):G917)),\"\")","v":""},null,null,{"$error":"#NAME?"},{"$error":"#NAME?"}]
["2005-03-16",null,null,null,0,{"$f":"IF(SUM($B$7:$B918)=0,\"\",IF(A918<>\"\",IF(A918<$B$3,\"N\",\"Y\"),\"\"))","v":""},0,9.42,0,null,683,{"$f":"IF(AND(ISNUMBER(A918),NOT(ISNUMBER(A919))),IF((OFFSET(Q918,-Q918,0)>50),SUM(OFFSET(E918,-Q918+1,0):E918),SUM(OFFSET(E918,-Q918,0):E918)),IF(AND(ISNUMBER(P918),ISNUMBER(P919),P918  <P919),IF((OFFSET(Q918,-Q918,0)>50),SUM(OFFSET(E918,-Q918+1,0):E918),SUM(OFFSET(E918,-Q918,0):E918)),\"\"))","v":{"$error":"#NAME?"}},{"$f":"IF(ISNUMBER(L918),IF((OFFSET(Q918,-Q918,0)>50),SUM(OFFSET(G918,-Q918+1,0):G918),SUM(OFFSET(G918,-Q918,0):G918)),\"\")","v":""},null,null,{"$error":"#NAME?"},{"$error":"#NAME?"}]
["2005-03-23",null,null,null,0,{"$f":"IF(SUM($B$7:$B919)=0,\"\",IF(A919<>\"\",IF(A919<$B$3,\"N\",\"Y\"),\"\"))","v":""},0,9.42,0,null,682,{"$f":"IF(AND(ISNUMBER(A919),NOT(ISNUMBER(A920))),IF((OFFSET(Q919,-Q919,0)>50),SUM(OFFSET(E919,-Q919+1,0):E919),SUM(OFFSET(E919,-Q919,0):E919)),IF(AND(ISNUMBER(P919),ISNUMBER(P920),P919  <P920),IF((OFFSET(Q919,-Q919,0)>50),SUM(OFFSET(E919,-Q919+1,0):E919),SUM(OFFSET(E919,-Q919,0):E919)),\"\"))","v":{"$error":"#NAME?"}},{"$f":"IF(ISNUMBER(L919),IF((OFFSET(Q919,-Q919,0)>50),SUM(OFFSET(G919,-Q919+1,0):G919),SUM(OFFSET(G919,-Q919,0):G919)),\"\")","v":""},null,null,{"$error":"#NAME?"},{"$error":"#NAME?"}]
["2005-03-30",null,null,null,0,{"$f":"IF(SUM($B$7:$B920)=0,\"\",IF(A920<>\"\",IF(A920<$B$3,\"N\",\"Y\"),\"\"))","v":""},0,9.42,0,null,681,{"$f":"IF(AND(ISNUMBER(A920),NOT(ISNUMBER(A921))),IF((OFFSET(Q920,-Q920,0)>50),SUM(OFFSET(E920,-Q920+1,0):E920),SUM(OFFSET(E920,-Q920,0):E920)),IF(AND(ISNUMBER(P920),ISNUMBER(P921),P920  <P921),IF((OFFSET(Q920,-Q920,0)>50),SUM(OFFSET(E920,-Q920+1,0):E920),SUM(OFFSET(E920,-Q920,0):E920)),\"\"))","v":{"$error":"#NAME?"}},{"$f":"IF(ISNUMBER(L920),IF((OFFSET(Q920,-Q920,0)>50),SUM(OFFSET(G920,-Q920+1,0):G920),SUM(OFFSET(G920,-Q920,0):G920)),\"\")","v":""},null,null,{"$error":"#NAME?"},{"$error":"#NAME?"}]
["2005-04-06",null,null,null,0,{"$f":"IF(SUM($B$7:$B921)=0,\"\",IF(A921<>\"\",IF(A921<$B$3,\"N\",\"Y\"),\"\"))","v":""},0,9.42,0,null,680,{"$f":"IF(AND(ISNUMBER(A921),NOT(ISNUMBER(A922))),IF((OFFSET(Q921,-Q921,0)>50),SUM(OFFSET(E921,-Q921+1,0):E921),SUM(OFFSET(E921,-Q921,0):E921)),IF(AND(ISNUMBER(P921),ISNUMBER(P922),P921  <P922),IF((OFFSET(Q921,-Q921,0)>50),SUM(OFFSET(E921,-Q921+1,0):E921),SUM(OFFSET(E921,-Q921,0):E921)),\"\"))","v":{"$error":"#NAME?"}},{"$f":"IF(ISNUMBER(L921),IF((OFFSET(Q921,-Q921,0)>50),SUM(OFFSET(G921,-Q921+1,0):G921),SUM(OFFSET(G921,-Q921,0):G921)),\"\")","v":""},null,null,{"$error":"#NAME?"},{"$error":"#NAME?"}]
["2005-04-13",null,null,null,0,{"$f":"IF(SUM($B$7:$B922)=0,\"\",IF(A922<>\"\",IF(A922<$B$3,\"N\",\"Y\"),\"\"))","v":""},0,9.42,0,null,679,{"$f":"IF(AND(ISNUMBER(A922),NOT(ISNUMBER(A923))),IF((OFFSET(Q922,-Q922,0)>50),SUM(OFFSET(E922,-Q922+1,0):E922),SUM(OFFSET(E922,-Q922,0):E922)),IF(AND(ISNUMBER(P922),ISNUMBER(P923),P922  <P923),IF((OFFSET(Q922,-Q922,0)>50),SUM(OFFSET(E922,-Q922+1,0):E922),SUM(OFFSET(E922,-Q922,0):E922)),\"\"))","v":{"$error":"#NAME?"}},{"$f":"IF(ISNUMBER(L922),IF((OFFSET(Q922,-Q922,0)>50),SUM(OFFSET(G922,-Q922+1,0):G922),SUM(OFFSET(G922,-Q922,0):G922)),\"\")","v":""},null,null,{"$error":"#NAME?"},{"$error":"#NAME?"}]
["2005-04-20",null,null,null,0,{"$f":"IF(SUM($B$7:$B923)=0,\"\",IF(A923<>\"\",IF(A923<$B$3,\"N\",\"Y\"),\"\"))","v":""},0,9.42,0,null,678,{"$f":"IF(AND(ISNUMBER(A923),NOT(ISNUMBER(A924))),IF((OFFSET(Q923,-Q923,0)>50),SUM(OFFSET(E923,-Q923+1,0):E923),SUM(OFFSET(E923,-Q923,0):E923)),IF(AND(ISNUMBER(P923),ISNUMBER(P924),P923  <P924),IF((OFFSET(Q923,-Q923,0)>50),SUM(OFFSET(E923,-Q923+1,0):E923),SUM(OFFSET(E923,-Q923,0):E923)),\"\"))","v":{"$error":"#NAME?"}},{"$f":"IF(ISNUMBER(L923),IF((OFFSET(Q923,-Q923,0)>50),SUM(OFFSET(G923,-Q923+1,0):G923),SUM(OFFSET(G923,-Q923,0):G923)),\"\")","v":""},null,null,{"$error":"#NAME?"},{"$error":"#NAME?"}]
["2005-04-27",null,null,null,0,{"$f":"IF(SUM($B$7:$B924)=0,\"\",IF(A924<>\"\",IF(A924<$B$3,\"N\",\"Y\"),\"\"))","v":""},0,9.42,0,null,677,{"$f":"IF(AND(ISNUMBER(A924),NOT(ISNUMBER(A925))),IF((OFFSET(Q924,-Q924,0)>50),SUM(OFFSET(E924,-Q924+1,0):E924),SUM(OFFSET(E924,-Q924,0):E924)),IF(AND(ISNUMBER(P924),ISNUMBER(P925),P924  <P925),IF((OFFSET(Q924,-Q924,0)>50),SUM(OFFSET(E924,-Q924+1,0):E924),SUM(OFFSET(E924,-Q924,0):E924)),\"\"))","v":{"$error":"#NAME?"}},{"$f":"IF(ISNUMBER(L924),IF((OFFSET(Q924,-Q924,0)>50),SUM(OFFSET(G924,-Q924+1,0):G924),SUM(OFFSET(G924,-Q924,0):G924)),\"\")","v":""},null,null,{"$error":"#NAME?"},{"$error":"#NAME?"}]
["2005-05-04",null,null,null,0,{"$f":"IF(SUM($B$7:$B925)=0,\"\",IF(A925<>\"\",IF(A925<$B$3,\"N\",\"Y\"),\"\"))","v":""},0,9.42,0,null,676,{"$f":"IF(AND(ISNUMBER(A925),NOT(ISNUMBER(A926))),IF((OFFSET(Q925,-Q925,0)>50),SUM(OFFSET(E925,-Q925+1,0):E925),SUM(OFFSET(E925,-Q925,0):E925)),IF(AND(ISNUMBER(P925),ISNUMBER(P926),P925  <P926),IF((OFFSET(Q925,-Q925,0)>50),SUM(OFFSET(E925,-Q925+1,0):E925),SUM(OFFSET(E925,-Q925,0):E925)),\"\"))","v":{"$error":"#NAME?"}},{"$f":"IF(ISNUMBER(L925),IF((OFFSET(Q925,-Q925,0)>50),SUM(OFFSET(G925,-Q925+1,0):G925),SUM(OFFSET(G925,-Q925,0):G925)),\"\")","v":""},null,null,{"$error":"#NAME?"},{"$error":"#NAME?"}]
["2005-05-11",null,null,null,0,{"$f":"IF(SUM($B$7:$B926)=0,\"\",IF(A926<>\"\",IF(A926<$B$3,\"N\",\"Y\"),\"\"))","v":""},0,9.42,0,null,675,{"$f":"IF(AND(ISNUMBER(A926),NOT(ISNUMBER(A927))),IF((OFFSET(Q926,-Q926,0)>50),SUM(OFFSET(E926,-Q926+1,0):E926),SUM(OFFSET(E926,-Q926,0):E926)),IF(AND(ISNUMBER(P926),ISNUMBER(P927),P926  <P927),IF((OFFSET(Q926,-Q926,0)>50),SUM(OFFSET(E926,-Q926+1,0):E926),SUM(OFFSET(E926,-Q926,0):E926)),\"\"))","v":{"$error":"#NAME?"}},{"$f":"IF(ISNUMBER(L926),IF((OFFSET(Q926,-Q926,0)>50),SUM(OFFSET(G926,-Q926+1,0):G926),SUM(OFFSET(G926,-Q926,0):G926)),\"\")","v":""},null,null,{"$error":"#NAME?"},{"$error":"#NAME?"}]
["2005-05-18",null,null,null,0,{"$f":"IF(SUM($B$7:$B927)=0,\"\",IF(A927<>\"\",IF(A927<$B$3,\"N\",\"Y\"),\"\"))","v":""},0,9.42,0,null,674,{"$f":"IF(AND(ISNUMBER(A927),NOT(ISNUMBER(A928))),IF((OFFSET(Q927,-Q927,0)>50),SUM(OFFSET(E927,-Q927+1,0):E927),SUM(OFFSET(E927,-Q927,0):E927)),IF(AND(ISNUMBER(P927),ISNUMBER(P928),P927  <P928),IF((OFFSET(Q927,-Q927,0)>50),SUM(OFFSET(E927,-Q927+1,0):E927),SUM(OFFSET(E927,-Q927,0):E927)),\"\"))","v":{"$error":"#NAME?"}},{"$f":"IF(ISNUMBER(L927),IF((OFFSET(Q927,-Q927,0)>50),SUM(OFFSET(G927,-Q927+1,0):G927),SUM(OFFSET(G927,-Q927,0):G927)),\"\")","v":""},null,null,{"$error":"#NAME?"},{"$error":"#NAME?"}]
["2005-05-25",null,null,null,0,{"$f":"IF(SUM($B$7:$B928)=0,\"\",IF(A928<>\"\",IF(A928<$B$3,\"N\",\"Y\"),\"\"))","v":""},0,9.42,0,null,673,{"$f":"IF(AND(ISNUMBER(A928),NOT(ISNUMBER(A929))),IF((OFFSET(Q928,-Q928,0)>50),SUM(OFFSET(E928,-Q928+1,0):E928),SUM(OFFSET(E928,-Q928,0):E928)),IF(AND(ISNUMBER(P928),ISNUMBER(P929),P928  <P929),IF((OFFSET(Q928,-Q928,0)>50),SUM(OFFSET(E928,-Q928+1,0):E928),SUM(OFFSET(E928,-Q928,0):E928)),\"\"))","v":{"$error":"#NAME?"}},{"$f":"IF(ISNUMBER(L928),IF((OFFSET(Q928,-Q928,0)>50),SUM(OFFSET(G928,-Q928+1,0):G928),SUM(OFFSET(G928,-Q928,0):G928)),\"\")","v":""},null,null,{"$error":"#NAME?"},{"$error":"#NAME?"}]
["2005-06-01",null,null,null,0,{"$f":"IF(SUM($B$7:$B929)=0,\"\",IF(A929<>\"\",IF(A929<$B$3,\"N\",\"Y\"),\"\"))","v":""},0,9.42,0,null,672,{"$f":"IF(AND(ISNUMBER(A929),NOT(ISNUMBER(A930))),IF((OFFSET(Q929,-Q929,0)>50),SUM(OFFSET(E929,-Q929+1,0):E929),SUM(OFFSET(E929,-Q929,0):E929)),IF(AND(ISNUMBER(P929),ISNUMBER(P930),P929  <P930),IF((OFFSET(Q929,-Q929,0)>50),SUM(OFFSET(E929,-Q929+1,0):E929),SUM(OFFSET(E929,-Q929,0):E929)),\"\"))","v":{"$error":"#NAME?"}},{"$f":"IF(ISNUMBER(L929),IF((OFFSET(Q929,-Q929,0)>50),SUM(OFFSET(G929,-Q929+1,0):G929),SUM(OFFSET(G929,-Q929,0):G929)),\"\")","v":""},null,null,{"$error":"#NAME?"},{"$error":"#NAME?"}]
["2005-06-08",null,null,null,0,{"$f":"IF(SUM($B$7:$B930)=0,\"\",IF(A930<>\"\",IF(A930<$B$3,\"N\",\"Y\"),\"\"))","v":""},0,9.42,0,null,671,{"$f":"IF(AND(ISNUMBER(A930),NOT(ISNUMBER(A931))),IF((OFFSET(Q930,-Q930,0)>50),SUM(OFFSET(E930,-Q930+1,0):E930),SUM(OFFSET(E930,-Q930,0):E930)),IF(AND(ISNUMBER(P930),ISNUMBER(P931),P930  <P931),IF((OFFSET(Q930,-Q930,0)>50),SUM(OFFSET(E930,-Q930+1,0):E930),SUM(OFFSET(E930,-Q930,0):E930)),\"\"))","v":{"$error":"#NAME?"}},{"$f":"IF(ISNUMBER(L930),IF((OFFSET(Q930,-Q930,0)>50),SUM(OFFSET(G930,-Q930+1,0):G930),SUM(OFFSET(G930,-Q930,0):G930)),\"\")","v":""},null,null,{"$error":"#NAME?"},{"$error":"#NAME?"}]
["2005-06-15",null,null,null,0,{"$f":"IF(SUM($B$7:$B931)=0,\"\",IF(A931<>\"\",IF(A931<$B$3,\"N\",\"Y\"),\"\"))","v":""},0,9.42,0,null,670,{"$f":"IF(AND(ISNUMBER(A931),NOT(ISNUMBER(A932))),IF((OFFSET(Q931,-Q931,0)>50),SUM(OFFSET(E931,-Q931+1,0):E931),SUM(OFFSET(E931,-Q931,0):E931)),IF(AND(ISNUMBER(P931),ISNUMBER(P932),P931  <P932),IF((OFFSET(Q931,-Q931,0)>50),SUM(OFFSET(E931,-Q931+1,0):E931),SUM(OFFSET(E931,-Q931,0):E931)),\"\"))","v":{"$error":"#NAME?"}},{"$f":"IF(ISNUMBER(L931),IF((OFFSET(Q931,-Q931,0)>50),SUM(OFFSET(G931,-Q931+1,0):G931),SUM(OFFSET(G931,-Q931,0):G931)),\"\")","v":""},null,null,{"$error":"#NAME?"},{"$error":"#NAME?"}]
["2005-06-22",null,null,null,0,{"$f":"IF(SUM($B$7:$B932)=0,\"\",IF(A932<>\"\",IF(A932<$B$3,\"N\",\"Y\"),\"\"))","v":""},0,9.42,0,null,669,{"$f":"IF(AND(ISNUMBER(A932),NOT(ISNUMBER(A933))),IF((OFFSET(Q932,-Q932,0)>50),SUM(OFFSET(E932,-Q932+1,0):E932),SUM(OFFSET(E932,-Q932,0):E932)),IF(AND(ISNUMBER(P932),ISNUMBER(P933),P932  <P933),IF((OFFSET(Q932,-Q932,0)>50),SUM(OFFSET(E932,-Q932+1,0):E932),SUM(OFFSET(E932,-Q932,0):E932)),\"\"))","v":{"$error":"#NAME?"}},{"$f":"IF(ISNUMBER(L932),IF((OFFSET(Q932,-Q932,0)>50),SUM(OFFSET(G932,-Q932+1,0):G932),SUM(OFFSET(G932,-Q932,0):G932)),\"\")","v":""},null,null,{"$error":"#NAME?"},{"$error":"#NAME?"}]
["2005-06-29",null,null,null,0,{"$f":"IF(SUM($B$7:$B933)=0,\"\",IF(A933<>\"\",IF(A933<$B$3,\"N\",\"Y\"),\"\"))","v":""},0,9.42,0,null,668,{"$f":"IF(AND(ISNUMBER(A933),NOT(ISNUMBER(A934))),IF((OFFSET(Q933,-Q933,0)>50),SUM(OFFSET(E933,-Q933+1,0):E933),SUM(OFFSET(E933,-Q933,0):E933)),IF(AND(ISNUMBER(P933),ISNUMBER(P934),P933  <P934),IF((OFFSET(Q933,-Q933,0)>50),SUM(OFFSET(E933,-Q933+1,0):E933),SUM(OFFSET(E933,-Q933,0):E933)),\"\"))","v":{"$error":"#NAME?"}},{"$f":"IF(ISNUMBER(L933),IF((OFFSET(Q933,-Q933,0)>50),SUM(OFFSET(G933,-Q933+1,0):G933),SUM(OFFSET(G933,-Q933,0):G933)),\"\")","v":""},null,null,{"$error":"#NAME?"},{"$error":"#NAME?"}]
["2005-07-06",null,null,null,0,{"$f":"IF(SUM($B$7:$B934)=0,\"\",IF(A934<>\"\",IF(A934<$B$3,\"N\",\"Y\"),\"\"))","v":""},0,9.9499999999999993,0,null,667,{"$f":"IF(AND(ISNUMBER(A934),NOT(ISNUMBER(A935))),IF((OFFSET(Q934,-Q934,0)>50),SUM(OFFSET(E934,-Q934+1,0):E934),SUM(OFFSET(E934,-Q934,0):E934)),IF(AND(ISNUMBER(P934),ISNUMBER(P935),P934  <P935),IF((OFFSET(Q934,-Q934,0)>50),SUM(OFFSET(E934,-Q934+1,0):E934),SUM(OFFSET(E934,-Q934,0):E934)),\"\"))","v":{"$error":"#NAME?"}},{"$f":"IF(ISNUMBER(L934),IF((OFFSET(Q934,-Q934,0)>50),SUM(OFFSET(G934,-Q934+1,0):G934),SUM(OFFSET(G934,-Q934,0):G934)),\"\")","v":""},null,null,{"$error":"#NAME?"},{"$error":"#NAME?"}]
["2005-07-13",null,null,null,0,{"$f":"IF(SUM($B$7:$B935)=0,\"\",IF(A935<>\"\",IF(A935<$B$3,\"N\",\"Y\"),\"\"))","v":""},0,9.9499999999999993,0,null,666,{"$f":"IF(AND(ISNUMBER(A935),NOT(ISNUMBER(A936))),IF((OFFSET(Q935,-Q935,0)>50),SUM(OFFSET(E935,-Q935+1,0):E935),SUM(OFFSET(E935,-Q935,0):E935)),IF(AND(ISNUMBER(P935),ISNUMBER(P936),P935  <P936),IF((OFFSET(Q935,-Q935,0)>50),SUM(OFFSET(E935,-Q935+1,0):E935),SUM(OFFSET(E935,-Q935,0):E935)),\"\"))","v":{"$error":"#NAME?"}},{"$f":"IF(ISNUMBER(L935),IF((OFFSET(Q935,-Q935,0)>50),SUM(OFFSET(G935,-Q935+1,0):G935),SUM(OFFSET(G935,-Q935,0):G935)),\"\")","v":""},null,null,{"$error":"#NAME?"},{"$error":"#NAME?"}]
["2005-07-20",null,null,null,0,{"$f":"IF(SUM($B$7:$B936)=0,\"\",IF(A936<>\"\",IF(A936<$B$3,\"N\",\"Y\"),\"\"))","v":""},0,9.9499999999999993,0,null,665,{"$f":"IF(AND(ISNUMBER(A936),NOT(ISNUMBER(A937))),IF((OFFSET(Q936,-Q936,0)>50),SUM(OFFSET(E936,-Q936+1,0):E936),SUM(OFFSET(E936,-Q936,0):E936)),IF(AND(ISNUMBER(P936),ISNUMBER(P937),P936  <P937),IF((OFFSET(Q936,-Q936,0)>50),SUM(OFFSET(E936,-Q936+1,0):E936),SUM(OFFSET(E936,-Q936,0):E936)),\"\"))","v":{"$error":"#NAME?"}},{"$f":"IF(ISNUMBER(L936),IF((OFFSET(Q936,-Q936,0)>50),SUM(OFFSET(G936,-Q936+1,0):G936),SUM(OFFSET(G936,-Q936,0):G936)),\"\")","v":""},null,null,{"$error":"#NAME?"},{"$error":"#NAME?"}]
["2005-07-27",null,null,null,0,{"$f":"IF(SUM($B$7:$B937)=0,\"\",IF(A937<>\"\",IF(A937<$B$3,\"N\",\"Y\"),\"\"))","v":""},0,9.9499999999999993,0,null,664,{"$f":"IF(AND(ISNUMBER(A937),NOT(ISNUMBER(A938))),IF((OFFSET(Q937,-Q937,0)>50),SUM(OFFSET(E937,-Q937+1,0):E937),SUM(OFFSET(E937,-Q937,0):E937)),IF(AND(ISNUMBER(P937),ISNUMBER(P938),P937  <P938),IF((OFFSET(Q937,-Q937,0)>50),SUM(OFFSET(E937,-Q937+1,0):E937),SUM(OFFSET(E937,-Q937,0):E937)),\"\"))","v":{"$error":"#NAME?"}},{"$f":"IF(ISNUMBER(L937),IF((OFFSET(Q937,-Q937,0)>50),SUM(OFFSET(G937,-Q937+1,0):G937),SUM(OFFSET(G937,-Q937,0):G937)),\"\")","v":""},null,null,{"$error":"#NAME?"},{"$error":"#NAME?"}]
["2005-08-03",null,null,null,0,{"$f":"IF(SUM($B$7:$B938)=0,\"\",IF(A938<>\"\",IF(A938<$B$3,\"N\",\"Y\"),\"\"))","v":""},0,9.9499999999999993,0,null,663,{"$f":"IF(AND(ISNUMBER(A938),NOT(ISNUMBER(A939))),IF((OFFSET(Q938,-Q938,0)>50),SUM(OFFSET(E938,-Q938+1,0):E938),SUM(OFFSET(E938,-Q938,0):E938)),IF(AND(ISNUMBER(P938),ISNUMBER(P939),P938  <P939),IF((OFFSET(Q938,-Q938,0)>50),SUM(OFFSET(E938,-Q938+1,0):E938),SUM(OFFSET(E938,-Q938,0):E938)),\"\"))","v":{"$error":"#NAME?"}},{"$f":"IF(ISNUMBER(L938),IF((OFFSET(Q938,-Q938,0)>50),SUM(OFFSET(G938,-Q938+1,0):G938),SUM(OFFSET(G938,-Q938,0):G938)),\"\")","v":""},null,null,{"$error":"#NAME?"},{"$error":"#NAME?"}]
["2005-08-10",null,null,null,0,{"$f":"IF(SUM($B$7:$B939)=0,\"\",IF(A939<>\"\",IF(A939<$B$3,\"N\",\"Y\"),\"\"))","v":""},0,9.9499999999999993,0,null,662,{"$f":"IF(AND(ISNUMBER(A939),NOT(ISNUMBER(A940))),IF((OFFSET(Q939,-Q939,0)>50),SUM(OFFSET(E939,-Q939+1,0):E939),SUM(OFFSET(E939,-Q939,0):E939)),IF(AND(ISNUMBER(P939),ISNUMBER(P940),P939  <P940),IF((OFFSET(Q939,-Q939,0)>50),SUM(OFFSET(E939,-Q939+1,0):E939),SUM(OFFSET(E939,-Q939,0):E939)),\"\"))","v":{"$error":"#NAME?"}},{"$f":"IF(ISNUMBER(L939),IF((OFFSET(Q939,-Q939,0)>50),SUM(OFFSET(G939,-Q939+1,0):G939),SUM(OFFSET(G939,-Q939,0):G939)),\"\")","v":""},null,null,{"$error":"#NAME?"},{"$error":"#NAME?"}]
["2005-08-17",null,null,null,0,{"$f":"IF(SUM($B$7:$B940)=0,\"\",IF(A940<>\"\",IF(A940<$B$3,\"N\",\"Y\"),\"\"))","v":""},0,9.9499999999999993,0,null,661,{"$f":"IF(AND(ISNUMBER(A940),NOT(ISNUMBER(A941))),IF((OFFSET(Q940,-Q940,0)>50),SUM(OFFSET(E940,-Q940+1,0):E940),SUM(OFFSET(E940,-Q940,0):E940)),IF(AND(ISNUMBER(P940),ISNUMBER(P941),P940  <P941),IF((OFFSET(Q940,-Q940,0)>50),SUM(OFFSET(E940,-Q940+1,0):E940),SUM(OFFSET(E940,-Q940,0):E940)),\"\"))","v":{"$error":"#NAME?"}},{"$f":"IF(ISNUMBER(L940),IF((OFFSET(Q940,-Q940,0)>50),SUM(OFFSET(G940,-Q940+1,0):G940),SUM(OFFSET(G940,-Q940,0):G940)),\"\")","v":""},null,null,{"$error":"#NAME?"},{"$error":"#NAME?"}]
["2005-08-24",null,null,null,0,{"$f":"IF(SUM($B$7:$B941)=0,\"\",IF(A941<>\"\",IF(A941<$B$3,\"N\",\"Y\"),\"\"))","v":""},0,9.9499999999999993,0,null,660,{"$f":"IF(AND(ISNUMBER(A941),NOT(ISNUMBER(A942))),IF((OFFSET(Q941,-Q941,0)>50),SUM(OFFSET(E941,-Q941+1,0):E941),SUM(OFFSET(E941,-Q941,0):E941)),IF(AND(ISNUMBER(P941),ISNUMBER(P942),P941  <P942),IF((OFFSET(Q941,-Q941,0)>50),SUM(OFFSET(E941,-Q941+1,0):E941),SUM(OFFSET(E941,-Q941,0):E941)),\"\"))","v":{"$error":"#NAME?"}},{"$f":"IF(ISNUMBER(L941),IF((OFFSET(Q941,-Q941,0)>50),SUM(OFFSET(G941,-Q941+1,0):G941),SUM(OFFSET(G941,-Q941,0):G941)),\"\")","v":""},null,null,{"$error":"#NAME?"},{"$error":"#NAME?"}]
["2005-08-31",null,null,null,0,{"$f":"IF(SUM($B$7:$B942)=0,\"\",IF(A942<>\"\",IF(A942<$B$3,\"N\",\"Y\"),\"\"))","v":""},0,9.9499999999999993,0,null,659,{"$f":"IF(AND(ISNUMBER(A942),NOT(ISNUMBER(A943))),IF((OFFSET(Q942,-Q942,0)>50),SUM(OFFSET(E942,-Q942+1,0):E942),SUM(OFFSET(E942,-Q942,0):E942)),IF(AND(ISNUMBER(P942),ISNUMBER(P943),P942  <P943),IF((OFFSET(Q942,-Q942,0)>50),SUM(OFFSET(E942,-Q942+1,0):E942),SUM(OFFSET(E942,-Q942,0):E942)),\"\"))","v":{"$error":"#NAME?"}},{"$f":"IF(ISNUMBER(L942),IF((OFFSET(Q942,-Q942,0)>50),SUM(OFFSET(G942,-Q942+1,0):G942),SUM(OFFSET(G942,-Q942,0):G942)),\"\")","v":""},null,null,{"$error":"#NAME?"},{"$error":"#NAME?"}]
["2005-09-07",null,null,null,0,{"$f":"IF(SUM($B$7:$B943)=0,\"\",IF(A943<>\"\",IF(A943<$B$3,\"N\",\"Y\"),\"\"))","v":""},0,9.9499999999999993,0,null,658,{"$f":"IF(AND(ISNUMBER(A943),NOT(ISNUMBER(A944))),IF((OFFSET(Q943,-Q943,0)>50),SUM(OFFSET(E943,-Q943+1,0):E943),SUM(OFFSET(E943,-Q943,0):E943)),IF(AND(ISNUMBER(P943),ISNUMBER(P944),P943  <P944),IF((OFFSET(Q943,-Q943,0)>50),SUM(OFFSET(E943,-Q943+1,0):E943),SUM(OFFSET(E943,-Q943,0):E943)),\"\"))","v":{"$error":"#NAME?"}},{"$f":"IF(ISNUMBER(L943),IF((OFFSET(Q943,-Q943,0)>50),SUM(OFFSET(G943,-Q943+1,0):G943),SUM(OFFSET(G943,-Q943,0):G943)),\"\")","v":""},null,null,{"$error":"#NAME?"},{"$error":"#NAME?"}]
["2005-09-14",null,null,null,0,{"$f":"IF(SUM($B$7:$B944)=0,\"\",IF(A944<>\"\",IF(A944<$B$3,\"N\",\"Y\"),\"\"))","v":""},0,9.9499999999999993,0,null,657,{"$f":"IF(AND(ISNUMBER(A944),NOT(ISNUMBER(A945))),IF((OFFSET(Q944,-Q944,0)>50),SUM(OFFSET(E944,-Q944+1,0):E944),SUM(OFFSET(E944,-Q944,0):E944)),IF(AND(ISNUMBER(P944),ISNUMBER(P945),P944  <P945),IF((OFFSET(Q944,-Q944,0)>50),SUM(OFFSET(E944,-Q944+1,0):E944),SUM(OFFSET(E944,-Q944,0):E944)),\"\"))","v":{"$error":"#NAME?"}},{"$f":"IF(ISNUMBER(L944),IF((OFFSET(Q944,-Q944,0)>50),SUM(OFFSET(G944,-Q944+1,0):G944),SUM(OFFSET(G944,-Q944,0):G944)),\"\")","v":""},null,null,{"$error":"#NAME?"},{"$error":"#NAME?"}]
["2005-09-21",null,null,null,0,{"$f":"IF(SUM($B$7:$B945)=0,\"\",IF(A945<>\"\",IF(A945<$B$3,\"N\",\"Y\"),\"\"))","v":""},0,9.9499999999999993,0,null,656,{"$f":"IF(AND(ISNUMBER(A945),NOT(ISNUMBER(A946))),IF((OFFSET(Q945,-Q945,0)>50),SUM(OFFSET(E945,-Q945+1,0):E945),SUM(OFFSET(E945,-Q945,0):E945)),IF(AND(ISNUMBER(P945),ISNUMBER(P946),P945  <P946),IF((OFFSET(Q945,-Q945,0)>50),SUM(OFFSET(E945,-Q945+1,0):E945),SUM(OFFSET(E945,-Q945,0):E945)),\"\"))","v":{"$error":"#NAME?"}},{"$f":"IF(ISNUMBER(L945),IF((OFFSET(Q945,-Q945,0)>50),SUM(OFFSET(G945,-Q945+1,0):G945),SUM(OFFSET(G945,-Q945,0):G945)),\"\")","v":""},null,null,{"$error":"#NAME?"},{"$error":"#NAME?"}]
["2005-09-28",null,null,null,0,{"$f":"IF(SUM($B$7:$B946)=0,\"\",IF(A946<>\"\",IF(A946<$B$3,\"N\",\"Y\"),\"\"))","v":""},0,9.9499999999999993,0,null,655,{"$f":"IF(AND(ISNUMBER(A946),NOT(ISNUMBER(A947))),IF((OFFSET(Q946,-Q946,0)>50),SUM(OFFSET(E946,-Q946+1,0):E946),SUM(OFFSET(E946,-Q946,0):E946)),IF(AND(ISNUMBER(P946),ISNUMBER(P947),P946  <P947),IF((OFFSET(Q946,-Q946,0)>50),SUM(OFFSET(E946,-Q946+1,0):E946),SUM(OFFSET(E946,-Q946,0):E946)),\"\"))","v":{"$error":"#NAME?"}},{"$f":"IF(ISNUMBER(L946),IF((OFFSET(Q946,-Q946,0)>50),SUM(OFFSET(G946,-Q946+1,0):G946),SUM(OFFSET(G946,-Q946,0):G946)),\"\")","v":""},null,null,{"$error":"#NAME?"},{"$error":"#NAME?"}]
["2005-10-05",null,null,null,0,{"$f":"IF(SUM($B$7:$B947)=0,\"\",IF(A947<>\"\",IF(A947<$B$3,\"N\",\"Y\"),\"\"))","v":""},0,9.9499999999999993,0,null,654,{"$f":"IF(AND(ISNUMBER(A947),NOT(ISNUMBER(A948))),IF((OFFSET(Q947,-Q947,0)>50),SUM(OFFSET(E947,-Q947+1,0):E947),SUM(OFFSET(E947,-Q947,0):E947)),IF(AND(ISNUMBER(P947),ISNUMBER(P948),P947  <P948),IF((OFFSET(Q947,-Q947,0)>50),SUM(OFFSET(E947,-Q947+1,0):E947),SUM(OFFSET(E947,-Q947,0):E947)),\"\"))","v":{"$error":"#NAME?"}},{"$f":"IF(ISNUMBER(L947),IF((OFFSET(Q947,-Q947,0)>50),SUM(OFFSET(G947,-Q947+1,0):G947),SUM(OFFSET(G947,-Q947,0):G947)),\"\")","v":""},null,null,{"$error":"#NAME?"},{"$error":"#NAME?"}]
["2005-10-12",null,null,null,0,{"$f":"IF(SUM($B$7:$B948)=0,\"\",IF(A948<>\"\",IF(A948<$B$3,\"N\",\"Y\"),\"\"))","v":""},0,9.9499999999999993,0,null,653,{"$f":"IF(AND(ISNUMBER(A948),NOT(ISNUMBER(A949))),IF((OFFSET(Q948,-Q948,0)>50),SUM(OFFSET(E948,-Q948+1,0):E948),SUM(OFFSET(E948,-Q948,0):E948)),IF(AND(ISNUMBER(P948),ISNUMBER(P949),P948  <P949),IF((OFFSET(Q948,-Q948,0)>50),SUM(OFFSET(E948,-Q948+1,0):E948),SUM(OFFSET(E948,-Q948,0):E948)),\"\"))","v":{"$error":"#NAME?"}},{"$f":"IF(ISNUMBER(L948),IF((OFFSET(Q948,-Q948,0)>50),SUM(OFFSET(G948,-Q948+1,0):G948),SUM(OFFSET(G948,-Q948,0):G948)),\"\")","v":""},null,null,{"$error":"#NAME?"},{"$error":"#NAME?"}]
["2005-10-19",null,null,null,0,{"$f":"IF(SUM($B$7:$B949)=0,\"\",IF(A949<>\"\",IF(A949<$B$3,\"N\",\"Y\"),\"\"))","v":""},0,9.9499999999999993,0,null,652,{"$f":"IF(AND(ISNUMBER(A949),NOT(ISNUMBER(A950))),IF((OFFSET(Q949,-Q949,0)>50),SUM(OFFSET(E949,-Q949+1,0):E949),SUM(OFFSET(E949,-Q949,0):E949)),IF(AND(ISNUMBER(P949),ISNUMBER(P950),P949  <P950),IF((OFFSET(Q949,-Q949,0)>50),SUM(OFFSET(E949,-Q949+1,0):E949),SUM(OFFSET(E949,-Q949,0):E949)),\"\"))","v":{"$error":"#NAME?"}},{"$f":"IF(ISNUMBER(L949),IF((OFFSET(Q949,-Q949,0)>50),SUM(OFFSET(G949,-Q949+1,0):G949),SUM(OFFSET(G949,-Q949,0):G949)),\"\")","v":""},null,null,{"$error":"#NAME?"},{"$error":"#NAME?"}]
["2005-10-26",null,null,null,0,{"$f":"IF(SUM($B$7:$B950)=0,\"\",IF(A950<>\"\",IF(A950<$B$3,\"N\",\"Y\"),\"\"))","v":""},0,9.9499999999999993,0,null,651,{"$f":"IF(AND(ISNUMBER(A950),NOT(ISNUMBER(A951))),IF((OFFSET(Q950,-Q950,0)>50),SUM(OFFSET(E950,-Q950+1,0):E950),SUM(OFFSET(E950,-Q950,0):E950)),IF(AND(ISNUMBER(P950),ISNUMBER(P951),P950  <P951),IF((OFFSET(Q950,-Q950,0)>50),SUM(OFFSET(E950,-Q950+1,0):E950),SUM(OFFSET(E950,-Q950,0):E950)),\"\"))","v":{"$error":"#NAME?"}},{"$f":"IF(ISNUMBER(L950),IF((OFFSET(Q950,-Q950,0)>50),SUM(OFFSET(G950,-Q950+1,0):G950),SUM(OFFSET(G950,-Q950,0):G950)),\"\")","v":""},null,null,{"$error":"#NAME?"},{"$error":"#NAME?"}]
["2005-11-02",null,null,null,0,{"$f":"IF(SUM($B$7:$B951)=0,\"\",IF(A951<>\"\",IF(A951<$B$3,\"N\",\"Y\"),\"\"))","v":""},0,9.9499999999999993,0,null,650,{"$f":"IF(AND(ISNUMBER(A951),NOT(ISNUMBER(A952))),IF((OFFSET(Q951,-Q951,0)>50),SUM(OFFSET(E951,-Q951+1,0):E951),SUM(OFFSET(E951,-Q951,0):E951)),IF(AND(ISNUMBER(P951),ISNUMBER(P952),P951  <P952),IF((OFFSET(Q951,-Q951,0)>50),SUM(OFFSET(E951,-Q951+1,0):E951),SUM(OFFSET(E951,-Q951,0):E951)),\"\"))","v":{"$error":"#NAME?"}},{"$f":"IF(ISNUMBER(L951),IF((OFFSET(Q951,-Q951,0)>50),SUM(OFFSET(G951,-Q951+1,0):G951),SUM(OFFSET(G951,-Q951,0):G951)),\"\")","v":""},null,null,{"$error":"#NAME?"},{"$error":"#NAME?"}]
["2005-11-09",null,null,null,0,{"$f":"IF(SUM($B$7:$B952)=0,\"\",IF(A952<>\"\",IF(A952<$B$3,\"N\",\"Y\"),\"\"))","v":""},0,9.9499999999999993,0,null,649,{"$f":"IF(AND(ISNUMBER(A952),NOT(ISNUMBER(A953))),IF((OFFSET(Q952,-Q952,0)>50),SUM(OFFSET(E952,-Q952+1,0):E952),SUM(OFFSET(E952,-Q952,0):E952)),IF(AND(ISNUMBER(P952),ISNUMBER(P953),P952  <P953),IF((OFFSET(Q952,-Q952,0)>50),SUM(OFFSET(E952,-Q952+1,0):E952),SUM(OFFSET(E952,-Q952,0):E952)),\"\"))","v":{"$error":"#NAME?"}},{"$f":"IF(ISNUMBER(L952),IF((OFFSET(Q952,-Q952,0)>50),SUM(OFFSET(G952,-Q952+1,0):G952),SUM(OFFSET(G952,-Q952,0):G952)),\"\")","v":""},null,null,{"$error":"#NAME?"},{"$error":"#NAME?"}]
["2005-11-16",null,null,null,0,{"$f":"IF(SUM($B$7:$B953)=0,\"\",IF(A953<>\"\",IF(A953<$B$3,\"N\",\"Y\"),\"\"))","v":""},0,9.9499999999999993,0,null,648,{"$f":"IF(AND(ISNUMBER(A953),NOT(ISNUMBER(A954))),IF((OFFSET(Q953,-Q953,0)>50),SUM(OFFSET(E953,-Q953+1,0):E953),SUM(OFFSET(E953,-Q953,0):E953)),IF(AND(ISNUMBER(P953),ISNUMBER(P954),P953  <P954),IF((OFFSET(Q953,-Q953,0)>50),SUM(OFFSET(E953,-Q953+1,0):E953),SUM(OFFSET(E953,-Q953,0):E953)),\"\"))","v":{"$error":"#NAME?"}},{"$f":"IF(ISNUMBER(L953),IF((OFFSET(Q953,-Q953,0)>50),SUM(OFFSET(G953,-Q953+1,0):G953),SUM(OFFSET(G953,-Q953,0):G953)),\"\")","v":""},null,null,{"$error":"#NAME?"},{"$error":"#NAME?"}]
["2005-11-23",null,null,null,0,{"$f":"IF(SUM($B$7:$B954)=0,\"\",IF(A954<>\"\",IF(A954<$B$3,\"N\",\"Y\"),\"\"))","v":""},0,9.9499999999999993,0,null,647,{"$f":"IF(AND(ISNUMBER(A954),NOT(ISNUMBER(A955))),IF((OFFSET(Q954,-Q954,0)>50),SUM(OFFSET(E954,-Q954+1,0):E954),SUM(OFFSET(E954,-Q954,0):E954)),IF(AND(ISNUMBER(P954),ISNUMBER(P955),P954  <P955),IF((OFFSET(Q954,-Q954,0)>50),SUM(OFFSET(E954,-Q954+1,0):E954),SUM(OFFSET(E954,-Q954,0):E954)),\"\"))","v":{"$error":"#NAME?"}},{"$f":"IF(ISNUMBER(L954),IF((OFFSET(Q954,-Q954,0)>50),SUM(OFFSET(G954,-Q954+1,0):G954),SUM(OFFSET(G954,-Q954,0):G954)),\"\")","v":""},null,null,{"$error":"#NAME?"},{"$error":"#NAME?"}]
["2005-11-30",null,null,null,0,{"$f":"IF(SUM($B$7:$B955)=0,\"\",IF(A955<>\"\",IF(A955<$B$3,\"N\",\"Y\"),\"\"))","v":""},0,9.9499999999999993,0,null,646,{"$f":"IF(AND(ISNUMBER(A955),NOT(ISNUMBER(A956))),IF((OFFSET(Q955,-Q955,0)>50),SUM(OFFSET(E955,-Q955+1,0):E955),SUM(OFFSET(E955,-Q955,0):E955)),IF(AND(ISNUMBER(P955),ISNUMBER(P956),P955  <P956),IF((OFFSET(Q955,-Q955,0)>50),SUM(OFFSET(E955,-Q955+1,0):E955),SUM(OFFSET(E955,-Q955,0):E955)),\"\"))","v":{"$error":"#NAME?"}},{"$f":"IF(ISNUMBER(L955),IF((OFFSET(Q955,-Q955,0)>50),SUM(OFFSET(G955,-Q955+1,0):G955),SUM(OFFSET(G955,-Q955,0):G955)),\"\")","v":""},null,null,{"$error":"#NAME?"},{"$error":"#NAME?"}]
["2005-12-07",null,null,null,0,{"$f":"IF(SUM($B$7:$B956)=0,\"\",IF(A956<>\"\",IF(A956<$B$3,\"N\",\"Y\"),\"\"))","v":""},0,9.9499999999999993,0,null,645,{"$f":"IF(AND(ISNUMBER(A956),NOT(ISNUMBER(A957))),IF((OFFSET(Q956,-Q956,0)>50),SUM(OFFSET(E956,-Q956+1,0):E956),SUM(OFFSET(E956,-Q956,0):E956)),IF(AND(ISNUMBER(P956),ISNUMBER(P957),P956  <P957),IF((OFFSET(Q956,-Q956,0)>50),SUM(OFFSET(E956,-Q956+1,0):E956),SUM(OFFSET(E956,-Q956,0):E956)),\"\"))","v":{"$error":"#NAME?"}},{"$f":"IF(ISNUMBER(L956),IF((OFFSET(Q956,-Q956,0)>50),SUM(OFFSET(G956,-Q956+1,0):G956),SUM(OFFSET(G956,-Q956,0):G956)),\"\")","v":""},null,null,{"$error":"#NAME?"},{"$error":"#NAME?"}]
["2005-12-14",null,null,null,0,{"$f":"IF(SUM($B$7:$B957)=0,\"\",IF(A957<>\"\",IF(A957<$B$3,\"N\",\"Y\"),\"\"))","v":""},0,9.9499999999999993,0,null,644,{"$f":"IF(AND(ISNUMBER(A957),NOT(ISNUMBER(A958))),IF((OFFSET(Q957,-Q957,0)>50),SUM(OFFSET(E957,-Q957+1,0):E957),SUM(OFFSET(E957,-Q957,0):E957)),IF(AND(ISNUMBER(P957),ISNUMBER(P958),P957  <P958),IF((OFFSET(Q957,-Q957,0)>50),SUM(OFFSET(E957,-Q957+1,0):E957),SUM(OFFSET(E957,-Q957,0):E957)),\"\"))","v":{"$error":"#NAME?"}},{"$f":"IF(ISNUMBER(L957),IF((OFFSET(Q957,-Q957,0)>50),SUM(OFFSET(G957,-Q957+1,0):G957),SUM(OFFSET(G957,-Q957,0):G957)),\"\")","v":""},null,null,{"$error":"#NAME?"},{"$error":"#NAME?"}]
["2005-12-21",null,null,null,0,{"$f":"IF(SUM($B$7:$B958)=0,\"\",IF(A958<>\"\",IF(A958<$B$3,\"N\",\"Y\"),\"\"))","v":""},0,9.9499999999999993,0,null,643,{"$f":"IF(AND(ISNUMBER(A958),NOT(ISNUMBER(A959))),IF((OFFSET(Q958,-Q958,0)>50),SUM(OFFSET(E958,-Q958+1,0):E958),SUM(OFFSET(E958,-Q958,0):E958)),IF(AND(ISNUMBER(P958),ISNUMBER(P959),P958  <P959),IF((OFFSET(Q958,-Q958,0)>50),SUM(OFFSET(E958,-Q958+1,0):E958),SUM(OFFSET(E958,-Q958,0):E958)),\"\"))","v":{"$error":"#NAME?"}},{"$f":"IF(ISNUMBER(L958),IF((OFFSET(Q958,-Q958,0)>50),SUM(OFFSET(G958,-Q958+1,0):G958),SUM(OFFSET(G958,-Q958,0):G958)),\"\")","v":""},null,null,{"$error":"#NAME?"},{"$error":"#NAME?"}]
["2005-12-28",null,null,null,0,{"$f":"IF(SUM($B$7:$B959)=0,\"\",IF(A959<>\"\",IF(A959<$B$3,\"N\",\"Y\"),\"\"))","v":""},0,9.9499999999999993,0,null,642,{"$f":"IF(AND(ISNUMBER(A959),NOT(ISNUMBER(A960))),IF((OFFSET(Q959,-Q959,0)>50),SUM(OFFSET(E959,-Q959+1,0):E959),SUM(OFFSET(E959,-Q959,0):E959)),IF(AND(ISNUMBER(P959),ISNUMBER(P960),P959  <P960),IF((OFFSET(Q959,-Q959,0)>50),SUM(OFFSET(E959,-Q959+1,0):E959),SUM(OFFSET(E959,-Q959,0):E959)),\"\"))","v":{"$error":"#NAME?"}},{"$f":"IF(ISNUMBER(L959),IF((OFFSET(Q959,-Q959,0)>50),SUM(OFFSET(G959,-Q959+1,0):G959),SUM(OFFSET(G959,-Q959,0):G959)),\"\")","v":""},null,null,{"$error":"#NAME?"},{"$error":"#NAME?"}]
["2006-01-04",null,null,null,0,{"$f":"IF(SUM($B$7:$B960)=0,\"\",IF(A960<>\"\",IF(A960<$B$3,\"N\",\"Y\"),\"\"))","v":""},0,9.9499999999999993,0,null,641,{"$f":"IF(AND(ISNUMBER(A960),NOT(ISNUMBER(A961))),IF((OFFSET(Q960,-Q960,0)>50),SUM(OFFSET(E960,-Q960+1,0):E960),SUM(OFFSET(E960,-Q960,0):E960)),IF(AND(ISNUMBER(P960),ISNUMBER(P961),P960  <P961),IF((OFFSET(Q960,-Q960,0)>50),SUM(OFFSET(E960,-Q960+1,0):E960),SUM(OFFSET(E960,-Q960,0):E960)),\"\"))","v":{"$error":"#NAME?"}},{"$f":"IF(ISNUMBER(L960),IF((OFFSET(Q960,-Q960,0)>50),SUM(OFFSET(G960,-Q960+1,0):G960),SUM(OFFSET(G960,-Q960,0):G960)),\"\")","v":""},null,null,{"$error":"#NAME?"},{"$error":"#NAME?"}]
["2006-01-11",null,null,null,0,{"$f":"IF(SUM($B$7:$B961)=0,\"\",IF(A961<>\"\",IF(A961<$B$3,\"N\",\"Y\"),\"\"))","v":""},0,9.9499999999999993,0,null,640,{"$f":"IF(AND(ISNUMBER(A961),NOT(ISNUMBER(A962))),IF((OFFSET(Q961,-Q961,0)>50),SUM(OFFSET(E961,-Q961+1,0):E961),SUM(OFFSET(E961,-Q961,0):E961)),IF(AND(ISNUMBER(P961),ISNUMBER(P962),P961  <P962),IF((OFFSET(Q961,-Q961,0)>50),SUM(OFFSET(E961,-Q961+1,0):E961),SUM(OFFSET(E961,-Q961,0):E961)),\"\"))","v":{"$error":"#NAME?"}},{"$f":"IF(ISNUMBER(L961),IF((OFFSET(Q961,-Q961,0)>50),SUM(OFFSET(G961,-Q961+1,0):G961),SUM(OFFSET(G961,-Q961,0):G961)),\"\")","v":""},null,null,{"$error":"#NAME?"},{"$error":"#NAME?"}]
["2006-01-18",null,null,null,0,{"$f":"IF(SUM($B$7:$B962)=0,\"\",IF(A962<>\"\",IF(A962<$B$3,\"N\",\"Y\"),\"\"))","v":""},0,9.9499999999999993,0,null,639,{"$f":"IF(AND(ISNUMBER(A962),NOT(ISNUMBER(A963))),IF((OFFSET(Q962,-Q962,0)>50),SUM(OFFSET(E962,-Q962+1,0):E962),SUM(OFFSET(E962,-Q962,0):E962)),IF(AND(ISNUMBER(P962),ISNUMBER(P963),P962  <P963),IF((OFFSET(Q962,-Q962,0)>50),SUM(OFFSET(E962,-Q962+1,0):E962),SUM(OFFSET(E962,-Q962,0):E962)),\"\"))","v":{"$error":"#NAME?"}},{"$f":"IF(ISNUMBER(L962),IF((OFFSET(Q962,-Q962,0)>50),SUM(OFFSET(G962,-Q962+1,0):G962),SUM(OFFSET(G962,-Q962,0):G962)),\"\")","v":""},null,null,{"$error":"#NAME?"},{"$error":"#NAME?"}]
["2006-01-25",null,null,null,0,{"$f":"IF(SUM($B$7:$B963)=0,\"\",IF(A963<>\"\",IF(A963<$B$3,\"N\",\"Y\"),\"\"))","v":""},0,9.9499999999999993,0,null,638,{"$f":"IF(AND(ISNUMBER(A963),NOT(ISNUMBER(A964))),IF((OFFSET(Q963,-Q963,0)>50),SUM(OFFSET(E963,-Q963+1,0):E963),SUM(OFFSET(E963,-Q963,0):E963)),IF(AND(ISNUMBER(P963),ISNUMBER(P964),P963  <P964),IF((OFFSET(Q963,-Q963,0)>50),SUM(OFFSET(E963,-Q963+1,0):E963),SUM(OFFSET(E963,-Q963,0):E963)),\"\"))","v":{"$error":"#NAME?"}},{"$f":"IF(ISNUMBER(L963),IF((OFFSET(Q963,-Q963,0)>50),SUM(OFFSET(G963,-Q963+1,0):G963),SUM(OFFSET(G963,-Q963,0):G963)),\"\")","v":""},null,null,{"$error":"#NAME?"},{"$error":"#NAME?"}]
["2006-02-01",null,null,null,0,{"$f":"IF(SUM($B$7:$B964)=0,\"\",IF(A964<>\"\",IF(A964<$B$3,\"N\",\"Y\"),\"\"))","v":""},0,9.9499999999999993,0,null,637,{"$f":"IF(AND(ISNUMBER(A964),NOT(ISNUMBER(A965))),IF((OFFSET(Q964,-Q964,0)>50),SUM(OFFSET(E964,-Q964+1,0):E964),SUM(OFFSET(E964,-Q964,0):E964)),IF(AND(ISNUMBER(P964),ISNUMBER(P965),P964  <P965),IF((OFFSET(Q964,-Q964,0)>50),SUM(OFFSET(E964,-Q964+1,0):E964),SUM(OFFSET(E964,-Q964,0):E964)),\"\"))","v":{"$error":"#NAME?"}},{"$f":"IF(ISNUMBER(L964),IF((OFFSET(Q964,-Q964,0)>50),SUM(OFFSET(G964,-Q964+1,0):G964),SUM(OFFSET(G964,-Q964,0):G964)),\"\")","v":""},null,null,{"$error":"#NAME?"},{"$error":"#NAME?"}]
["2006-02-08",null,null,null,0,{"$f":"IF(SUM($B$7:$B965)=0,\"\",IF(A965<>\"\",IF(A965<$B$3,\"N\",\"Y\"),\"\"))","v":""},0,9.9499999999999993,0,null,636,{"$f":"IF(AND(ISNUMBER(A965),NOT(ISNUMBER(A966))),IF((OFFSET(Q965,-Q965,0)>50),SUM(OFFSET(E965,-Q965+1,0):E965),SUM(OFFSET(E965,-Q965,0):E965)),IF(AND(ISNUMBER(P965),ISNUMBER(P966),P965  <P966),IF((OFFSET(Q965,-Q965,0)>50),SUM(OFFSET(E965,-Q965+1,0):E965),SUM(OFFSET(E965,-Q965,0):E965)),\"\"))","v":{"$error":"#NAME?"}},{"$f":"IF(ISNUMBER(L965),IF((OFFSET(Q965,-Q965,0)>50),SUM(OFFSET(G965,-Q965+1,0):G965),SUM(OFFSET(G965,-Q965,0):G965)),\"\")","v":""},null,null,{"$error":"#NAME?"},{"$error":"#NAME?"}]
["2006-02-15",null,null,null,0,{"$f":"IF(SUM($B$7:$B966)=0,\"\",IF(A966<>\"\",IF(A966<$B$3,\"N\",\"Y\"),\"\"))","v":""},0,9.9499999999999993,0,null,635,{"$f":"IF(AND(ISNUMBER(A966),NOT(ISNUMBER(A967))),IF((OFFSET(Q966,-Q966,0)>50),SUM(OFFSET(E966,-Q966+1,0):E966),SUM(OFFSET(E966,-Q966,0):E966)),IF(AND(ISNUMBER(P966),ISNUMBER(P967),P966  <P967),IF((OFFSET(Q966,-Q966,0)>50),SUM(OFFSET(E966,-Q966+1,0):E966),SUM(OFFSET(E966,-Q966,0):E966)),\"\"))","v":{"$error":"#NAME?"}},{"$f":"IF(ISNUMBER(L966),IF((OFFSET(Q966,-Q966,0)>50),SUM(OFFSET(G966,-Q966+1,0):G966),SUM(OFFSET(G966,-Q966,0):G966)),\"\")","v":""},null,null,{"$error":"#NAME?"},{"$error":"#NAME?"}]
["2006-02-22",null,null,null,0,{"$f":"IF(SUM($B$7:$B967)=0,\"\",IF(A967<>\"\",IF(A967<$B$3,\"N\",\"Y\"),\"\"))","v":""},0,9.9499999999999993,0,null,{"$f":"IF(A967<>\"\",IF((TODAY()-A967)/7>=0,INT((TODAY()-A967)/7),0),\"\")","v":634},{"$f":"IF(AND(ISNUMBER(A967),NOT(ISNUMBER(A968))),IF((OFFSET(Q967,-Q967,0)>50),SUM(OFFSET(E967,-Q967+1,0):E967),SUM(OFFSET(E967,-Q967,0):E967)),IF(AND(ISNUMBER(P967),ISNUMBER(P968),P967  <P968),IF((OFFSET(Q967,-Q967,0)>50),SUM(OFFSET(E967,-Q967+1,0):E967),SUM(OFFSET(E967,-Q967,0):E967)),\"\"))","v":{"$error":"#NAME?"}},{"$f":"IF(ISNUMBER(L967),IF((OFFSET(Q967,-Q967,0)>50),SUM(OFFSET(G967,-Q967+1,0):G967),SUM(OFFSET(G967,-Q967,0):G967)),\"\")","v":""},null,null,{"$f":"FinYear(A967)","v":{"$error":"#NAME?"}},{"$error":"#NAME?"}]
["2006-03-01",null,null,null,{"$f":"IF(A968<>\"\",IF(B968-C968>=0,B968-C968,0),\"\")","v":0},{"$f":"IF(SUM($B$7:$B968)=0,\"\",IF(A968<>\"\",IF(A968<$B$3,\"N\",\"Y\"),\"\"))","v":""},0,9.9499999999999993,0,null,633,{"$f":"IF(AND(ISNUMBER(A968),NOT(ISNUMBER(A969))),IF((OFFSET(Q968,-Q968,0)>50),SUM(OFFSET(E968,-Q968+1,0):E968),SUM(OFFSET(E968,-Q968,0):E968)),IF(AND(ISNUMBER(P968),ISNUMBER(P969),P968  <P969),IF((OFFSET(Q968,-Q968,0)>50),SUM(OFFSET(E968,-Q968+1,0):E968),SUM(OFFSET(E968,-Q968,0):E968)),\"\"))","v":{"$error":"#NAME?"}},{"$f":"IF(ISNUMBER(L968),IF((OFFSET(Q968,-Q968,0)>50),SUM(OFFSET(G968,-Q968+1,0):G968),SUM(OFFSET(G968,-Q968,0):G968)),\"\")","v":""},null,null,{"$error":"#NAME?"},{"$f":"ROUND((A968-StartOfFinYear(P968))/7,0)","v":{"$error":"#NAME?"}}]
["2006-03-08",null,null,null,0,{"$f":"IF(SUM($B$7:$B969)=0,\"\",IF(A969<>\"\",IF(A969<$B$3,\"N\",\"Y\"),\"\"))","v":""},{"$f":"IF(F969=\"N\",0,IF(A969<>\"\",IF(K969>=0,((E969+I968)*(1+(H969/52)/100)-E969-I968),0),\"\"))","v":0},9.9499999999999993,{"$f":"IF(A969<>\"\",I968+E969+G969,\"\")","v":0},null,632,{"$f":"IF(AND(ISNUMBER(A969),NOT(ISNUMBER(A970))),IF((OFFSET(Q969,-Q969,0)>50),SUM(OFFSET(E969,-Q969+1,0):E969),SUM(OFFSET(E969,-Q969,0):E969)),IF(AND(ISNUMBER(P969),ISNUMBER(P970),P969  <P970),IF((OFFSET(Q969,-Q969,0)>50),SUM(OFFSET(E969,-Q969+1,0):E969),SUM(OFFSET(E969,-Q969,0):E969)),\"\"))","v":{"$error":"#NAME?"}},{"$f":"IF(ISNUMBER(L969),IF((OFFSET(Q969,-Q969,0)>50),SUM(OFFSET(G969,-Q969+1,0):G969),SUM(OFFSET(G969,-Q969,0):G969)),\"\")","v":""},null,null,{"$error":"#NAME?"},{"$error":"#NAME?"}]
[{"$f":"IF(A969<>\"\",IF(A969+12<=TODAY(),+A969+7,\"\"),\"\")","v":"2006-03-15"},null,null,null,0,{"$f":"IF(SUM($B$7:$B970)=0,\"\",IF(A970<>\"\",IF(A970<$B$3,\"N\",\"Y\"),\"\"))","v":""},0,9.9499999999999993,0,null,631,{"$f":"IF(AND(ISNUMBER(A970),NOT(ISNUMBER(A971))),IF((OFFSET(Q970,-Q970,0)>50),SUM(OFFSET(E970,-Q970+1,0):E970),SUM(OFFSET(E970,-Q970,0):E970)),IF(AND(ISNUMBER(P970),ISNUMBER(P971),P970  <P971),IF((OFFSET(Q970,-Q970,0)>50),SUM(OFFSET(E970,-Q970+1,0):E970),SUM(OFFSET(E970,-Q970,0):E970)),\"\"))","v":{"$error":"#NAME?"}},{"$f":"IF(ISNUMBER(L970),IF((OFFSET(Q970,-Q970,0)>50),SUM(OFFSET(G970,-Q970+1,0):G970),SUM(OFFSET(G970,-Q970,0):G970)),\"\")","v":""},null,null,{"$error":"#NAME?"},{"$error":"#NAME?"}]
["2006-03-22",null,null,null,0,{"$f":"IF(SUM($B$7:$B971)=0,\"\",IF(A971<>\"\",IF(A971<$B$3,\"N\",\"Y\"),\"\"))","v":""},0,9.9499999999999993,0,null,630,{"$f":"IF(AND(ISNUMBER(A971),NOT(ISNUMBER(A972))),IF((OFFSET(Q971,-Q971,0)>50),SUM(OFFSET(E971,-Q971+1,0):E971),SUM(OFFSET(E971,-Q971,0):E971)),IF(AND(ISNUMBER(P971),ISNUMBER(P972),P971  <P972),IF((OFFSET(Q971,-Q971,0)>50),SUM(OFFSET(E971,-Q971+1,0):E971),SUM(OFFSET(E971,-Q971,0):E971)),\"\"))","v":{"$error":"#NAME?"}},{"$f":"IF(ISNUMBER(L971),IF((OFFSET(Q971,-Q971,0)>50),SUM(OFFSET(G971,-Q971+1,0):G971),SUM(OFFSET(G971,-Q971,0):G971)),\"\")","v":""},null,null,{"$error":"#NAME?"},{"$error":"#NAME?"}]
["2006-03-29",null,null,null,0,{"$f":"IF(SUM($B$7:$B972)=0,\"\",IF(A972<>\"\",IF(A972<$B$3,\"N\",\"Y\"),\"\"))","v":""},0,9.9499999999999993,0,null,629,{"$f":"IF(AND(ISNUMBER(A972),NOT(ISNUMBER(A973))),IF((OFFSET(Q972,-Q972,0)>50),SUM(OFFSET(E972,-Q972+1,0):E972),SUM(OFFSET(E972,-Q972,0):E972)),IF(AND(ISNUMBER(P972),ISNUMBER(P973),P972  <P973),IF((OFFSET(Q972,-Q972,0)>50),SUM(OFFSET(E972,-Q972+1,0):E972),SUM(OFFSET(E972,-Q972,0):E972)),\"\"))","v":{"$error":"#NAME?"}},{"$f":"IF(ISNUMBER(L972),IF((OFFSET(Q972,-Q972,0)>50),SUM(OFFSET(G972,-Q972+1,0):G972),SUM(OFFSET(G972,-Q972,0):G972)),\"\")","v":""},null,null,{"$error":"#NAME?"},{"$error":"#NAME?"}]
["2006-04-05",null,null,null,0,{"$f":"IF(SUM($B$7:$B973)=0,\"\",IF(A973<>\"\",IF(A973<$B$3,\"N\",\"Y\"),\"\"))","v":""},0,9.9499999999999993,0,null,628,{"$f":"IF(AND(ISNUMBER(A973),NOT(ISNUMBER(A974))),IF((OFFSET(Q973,-Q973,0)>50),SUM(OFFSET(E973,-Q973+1,0):E973),SUM(OFFSET(E973,-Q973,0):E973)),IF(AND(ISNUMBER(P973),ISNUMBER(P974),P973  <P974),IF((OFFSET(Q973,-Q973,0)>50),SUM(OFFSET(E973,-Q973+1,0):E973),SUM(OFFSET(E973,-Q973,0):E973)),\"\"))","v":{"$error":"#NAME?"}},{"$f":"IF(ISNUMBER(L973),IF((OFFSET(Q973,-Q973,0)>50),SUM(OFFSET(G973,-Q973+1,0):G973),SUM(OFFSET(G973,-Q973,0):G973)),\"\")","v":""},null,null,{"$error":"#NAME?"},{"$error":"#NAME?"}]
["2006-04-12",null,null,null,0,{"$f":"IF(SUM($B$7:$B974)=0,\"\",IF(A974<>\"\",IF(A974<$B$3,\"N\",\"Y\"),\"\"))","v":""},0,9.9499999999999993,0,null,627,{"$f":"IF(AND(ISNUMBER(A974),NOT(ISNUMBER(A975))),IF((OFFSET(Q974,-Q974,0)>50),SUM(OFFSET(E974,-Q974+1,0):E974),SUM(OFFSET(E974,-Q974,0):E974)),IF(AND(ISNUMBER(P974),ISNUMBER(P975),P974  <P975),IF((OFFSET(Q974,-Q974,0)>50),SUM(OFFSET(E974,-Q974+1,0):E974),SUM(OFFSET(E974,-Q974,0):E974)),\"\"))","v":{"$error":"#NAME?"}},{"$f":"IF(ISNUMBER(L974),IF((OFFSET(Q974,-Q974,0)>50),SUM(OFFSET(G974,-Q974+1,0):G974),SUM(OFFSET(G974,-Q974,0):G974)),\"\")","v":""},null,null,{"$error":"#NAME?"},{"$error":"#NAME?"}]
["2006-04-19",null,null,null,0,{"$f":"IF(SUM($B$7:$B975)=0,\"\",IF(A975<>\"\",IF(A975<$B$3,\"N\",\"Y\"),\"\"))","v":""},0,9.9499999999999993,0,null,626,{"$f":"IF(AND(ISNUMBER(A975),NOT(ISNUMBER(A976))),IF((OFFSET(Q975,-Q975,0)>50),SUM(OFFSET(E975,-Q975+1,0):E975),SUM(OFFSET(E975,-Q975,0):E975)),IF(AND(ISNUMBER(P975),ISNUMBER(P976),P975  <P976),IF((OFFSET(Q975,-Q975,0)>50),SUM(OFFSET(E975,-Q975+1,0):E975),SUM(OFFSET(E975,-Q975,0):E975)),\"\"))","v":{"$error":"#NAME?"}},{"$f":"IF(ISNUMBER(L975),IF((OFFSET(Q975,-Q975,0)>50),SUM(OFFSET(G975,-Q975+1,0):G975),SUM(OFFSET(G975,-Q975,0):G975)),\"\")","v":""},null,null,{"$error":"#NAME?"},{"$error":"#NAME?"}]
["2006-04-26",null,null,null,0,{"$f":"IF(SUM($B$7:$B976)=0,\"\",IF(A976<>\"\",IF(A976<$B$3,\"N\",\"Y\"),\"\"))","v":""},0,9.9499999999999993,0,null,625,{"$f":"IF(AND(ISNUMBER(A976),NOT(ISNUMBER(A977))),IF((OFFSET(Q976,-Q976,0)>50),SUM(OFFSET(E976,-Q976+1,0):E976),SUM(OFFSET(E976,-Q976,0):E976)),IF(AND(ISNUMBER(P976),ISNUMBER(P977),P976  <P977),IF((OFFSET(Q976,-Q976,0)>50),SUM(OFFSET(E976,-Q976+1,0):E976),SUM(OFFSET(E976,-Q976,0):E976)),\"\"))","v":{"$error":"#NAME?"}},{"$f":"IF(ISNUMBER(L976),IF((OFFSET(Q976,-Q976,0)>50),SUM(OFFSET(G976,-Q976+1,0):G976),SUM(OFFSET(G976,-Q976,0):G976)),\"\")","v":""},null,null,{"$error":"#NAME?"},{"$error":"#NAME?"}]
["2006-05-03",null,null,null,0,{"$f":"IF(SUM($B$7:$B977)=0,\"\",IF(A977<>\"\",IF(A977<$B$3,\"N\",\"Y\"),\"\"))","v":""},0,9.9499999999999993,0,null,624,{"$f":"IF(AND(ISNUMBER(A977),NOT(ISNUMBER(A978))),IF((OFFSET(Q977,-Q977,0)>50),SUM(OFFSET(E977,-Q977+1,0):E977),SUM(OFFSET(E977,-Q977,0):E977)),IF(AND(ISNUMBER(P977),ISNUMBER(P978),P977  <P978),IF((OFFSET(Q977,-Q977,0)>50),SUM(OFFSET(E977,-Q977+1,0):E977),SUM(OFFSET(E977,-Q977,0):E977)),\"\"))","v":{"$error":"#NAME?"}},{"$f":"IF(ISNUMBER(L977),IF((OFFSET(Q977,-Q977,0)>50),SUM(OFFSET(G977,-Q977+1,0):G977),SUM(OFFSET(G977,-Q977,0):G977)),\"\")","v":""},null,null,{"$error":"#NAME?"},{"$error":"#NAME?"}]
["2006-05-10",null,null,null,0,{"$f":"IF(SUM($B$7:$B978)=0,\"\",IF(A978<>\"\",IF(A978<$B$3,\"N\",\"Y\"),\"\"))","v":""},0,9.9499999999999993,0,null,623,{"$f":"IF(AND(ISNUMBER(A978),NOT(ISNUMBER(A979))),IF((OFFSET(Q978,-Q978,0)>50),SUM(OFFSET(E978,-Q978+1,0):E978),SUM(OFFSET(E978,-Q978,0):E978)),IF(AND(ISNUMBER(P978),ISNUMBER(P979),P978  <P979),IF((OFFSET(Q978,-Q978,0)>50),SUM(OFFSET(E978,-Q978+1,0):E978),SUM(OFFSET(E978,-Q978,0):E978)),\"\"))","v":{"$error":"#NAME?"}},{"$f":"IF(ISNUMBER(L978),IF((OFFSET(Q978,-Q978,0)>50),SUM(OFFSET(G978,-Q978+1,0):G978),SUM(OFFSET(G978,-Q978,0):G978)),\"\")","v":""},null,null,{"$error":"#NAME?"},{"$error":"#NAME?"}]
["2006-05-17",null,null,null,0,{"$f":"IF(SUM($B$7:$B979)=0,\"\",IF(A979<>\"\",IF(A979<$B$3,\"N\",\"Y\"),\"\"))","v":""},0,9.9499999999999993,0,null,622,{"$f":"IF(AND(ISNUMBER(A979),NOT(ISNUMBER(A980))),IF((OFFSET(Q979,-Q979,0)>50),SUM(OFFSET(E979,-Q979+1,0):E979),SUM(OFFSET(E979,-Q979,0):E979)),IF(AND(ISNUMBER(P979),ISNUMBER(P980),P979  <P980),IF((OFFSET(Q979,-Q979,0)>50),SUM(OFFSET(E979,-Q979+1,0):E979),SUM(OFFSET(E979,-Q979,0):E979)),\"\"))","v":{"$error":"#NAME?"}},{"$f":"IF(ISNUMBER(L979),IF((OFFSET(Q979,-Q979,0)>50),SUM(OFFSET(G979,-Q979+1,0):G979),SUM(OFFSET(G979,-Q979,0):G979)),\"\")","v":""},null,null,{"$error":"#NAME?"},{"$error":"#NAME?"}]
["2006-05-24",null,null,null,0,{"$f":"IF(SUM($B$7:$B980)=0,\"\",IF(A980<>\"\",IF(A980<$B$3,\"N\",\"Y\"),\"\"))","v":""},0,9.9499999999999993,0,null,621,{"$f":"IF(AND(ISNUMBER(A980),NOT(ISNUMBER(A981))),IF((OFFSET(Q980,-Q980,0)>50),SUM(OFFSET(E980,-Q980+1,0):E980),SUM(OFFSET(E980,-Q980,0):E980)),IF(AND(ISNUMBER(P980),ISNUMBER(P981),P980  <P981),IF((OFFSET(Q980,-Q980,0)>50),SUM(OFFSET(E980,-Q980+1,0):E980),SUM(OFFSET(E980,-Q980,0):E980)),\"\"))","v":{"$error":"#NAME?"}},{"$f":"IF(ISNUMBER(L980),IF((OFFSET(Q980,-Q980,0)>50),SUM(OFFSET(G980,-Q980+1,0):G980),SUM(OFFSET(G980,-Q980,0):G980)),\"\")","v":""},null,null,{"$error":"#NAME?"},{"$error":"#NAME?"}]
["2006-05-31",null,null,null,0,{"$f":"IF(SUM($B$7:$B981)=0,\"\",IF(A981<>\"\",IF(A981<$B$3,\"N\",\"Y\"),\"\"))","v":""},0,9.9499999999999993,0,null,620,{"$f":"IF(AND(ISNUMBER(A981),NOT(ISNUMBER(A982))),IF((OFFSET(Q981,-Q981,0)>50),SUM(OFFSET(E981,-Q981+1,0):E981),SUM(OFFSET(E981,-Q981,0):E981)),IF(AND(ISNUMBER(P981),ISNUMBER(P982),P981  <P982),IF((OFFSET(Q981,-Q981,0)>50),SUM(OFFSET(E981,-Q981+1,0):E981),SUM(OFFSET(E981,-Q981,0):E981)),\"\"))","v":{"$error":"#NAME?"}},{"$f":"IF(ISNUMBER(L981),IF((OFFSET(Q981,-Q981,0)>50),SUM(OFFSET(G981,-Q981+1,0):G981),SUM(OFFSET(G981,-Q981,0):G981)),\"\")","v":""},null,null,{"$error":"#NAME?"},{"$error":"#NAME?"}]
["2006-06-07",null,null,null,0,{"$f":"IF(SUM($B$7:$B982)=0,\"\",IF(A982<>\"\",IF(A982<$B$3,\"N\",\"Y\"),\"\"))","v":""},0,9.9499999999999993,0,null,619,{"$f":"IF(AND(ISNUMBER(A982),NOT(ISNUMBER(A983))),IF((OFFSET(Q982,-Q982,0)>50),SUM(OFFSET(E982,-Q982+1,0):E982),SUM(OFFSET(E982,-Q982,0):E982)),IF(AND(ISNUMBER(P982),ISNUMBER(P983),P982  <P983),IF((OFFSET(Q982,-Q982,0)>50),SUM(OFFSET(E982,-Q982+1,0):E982),SUM(OFFSET(E982,-Q982,0):E982)),\"\"))","v":{"$error":"#NAME?"}},{"$f":"IF(ISNUMBER(L982),IF((OFFSET(Q982,-Q982,0)>50),SUM(OFFSET(G982,-Q982+1,0):G982),SUM(OFFSET(G982,-Q982,0):G982)),\"\")","v":""},null,null,{"$error":"#NAME?"},{"$error":"#NAME?"}]
["2006-06-14",null,null,null,0,{"$f":"IF(SUM($B$7:$B983)=0,\"\",IF(A983<>\"\",IF(A983<$B$3,\"N\",\"Y\"),\"\"))","v":""},0,9.9499999999999993,0,null,618,{"$f":"IF(AND(ISNUMBER(A983),NOT(ISNUMBER(A984))),IF((OFFSET(Q983,-Q983,0)>50),SUM(OFFSET(E983,-Q983+1,0):E983),SUM(OFFSET(E983,-Q983,0):E983)),IF(AND(ISNUMBER(P983),ISNUMBER(P984),P983  <P984),IF((OFFSET(Q983,-Q983,0)>50),SUM(OFFSET(E983,-Q983+1,0):E983),SUM(OFFSET(E983,-Q983,0):E983)),\"\"))","v":{"$error":"#NAME?"}},{"$f":"IF(ISNUMBER(L983),IF((OFFSET(Q983,-Q983,0)>50),SUM(OFFSET(G983,-Q983+1,0):G983),SUM(OFFSET(G983,-Q983,0):G983)),\"\")","v":""},null,null,{"$error":"#NAME?"},{"$error":"#NAME?"}]
["2006-06-21",null,null,null,0,{"$f":"IF(SUM($B$7:$B984)=0,\"\",IF(A984<>\"\",IF(A984<$B$3,\"N\",\"Y\"),\"\"))","v":""},0,9.9499999999999993,0,null,617,{"$f":"IF(AND(ISNUMBER(A984),NOT(ISNUMBER(A985))),IF((OFFSET(Q984,-Q984,0)>50),SUM(OFFSET(E984,-Q984+1,0):E984),SUM(OFFSET(E984,-Q984,0):E984)),IF(AND(ISNUMBER(P984),ISNUMBER(P985),P984  <P985),IF((OFFSET(Q984,-Q984,0)>50),SUM(OFFSET(E984,-Q984+1,0):E984),SUM(OFFSET(E984,-Q984,0):E984)),\"\"))","v":{"$error":"#NAME?"}},{"$f":"IF(ISNUMBER(L984),IF((OFFSET(Q984,-Q984,0)>50),SUM(OFFSET(G984,-Q984+1,0):G984),SUM(OFFSET(G984,-Q984,0):G984)),\"\")","v":""},null,null,{"$error":"#NAME?"},{"$error":"#NAME?"}]
["2006-06-28",null,null,null,0,{"$f":"IF(SUM($B$7:$B985)=0,\"\",IF(A985<>\"\",IF(A985<$B$3,\"N\",\"Y\"),\"\"))","v":""},0,9.9499999999999993,0,null,616,{"$f":"IF(AND(ISNUMBER(A985),NOT(ISNUMBER(A986))),IF((OFFSET(Q985,-Q985,0)>50),SUM(OFFSET(E985,-Q985+1,0):E985),SUM(OFFSET(E985,-Q985,0):E985)),IF(AND(ISNUMBER(P985),ISNUMBER(P986),P985  <P986),IF((OFFSET(Q985,-Q985,0)>50),SUM(OFFSET(E985,-Q985+1,0):E985),SUM(OFFSET(E985,-Q985,0):E985)),\"\"))","v":{"$error":"#NAME?"}},{"$f":"IF(ISNUMBER(L985),IF((OFFSET(Q985,-Q985,0)>50),SUM(OFFSET(G985,-Q985+1,0):G985),SUM(OFFSET(G985,-Q985,0):G985)),\"\")","v":""},null,null,{"$error":"#NAME?"},{"$error":"#NAME?"}]
["2006-07-05",null,null,null,0,{"$f":"IF(SUM($B$7:$B986)=0,\"\",IF(A986<>\"\",IF(A986<$B$3,\"N\",\"Y\"),\"\"))","v":""},0,9.52,0,null,615,{"$f":"IF(AND(ISNUMBER(A986),NOT(ISNUMBER(A987))),IF((OFFSET(Q986,-Q986,0)>50),SUM(OFFSET(E986,-Q986+1,0):E986),SUM(OFFSET(E986,-Q986,0):E986)),IF(AND(ISNUMBER(P986),ISNUMBER(P987),P986  <P987),IF((OFFSET(Q986,-Q986,0)>50),SUM(OFFSET(E986,-Q986+1,0):E986),SUM(OFFSET(E986,-Q986,0):E986)),\"\"))","v":{"$error":"#NAME?"}},{"$f":"IF(ISNUMBER(L986),IF((OFFSET(Q986,-Q986,0)>50),SUM(OFFSET(G986,-Q986+1,0):G986),SUM(OFFSET(G986,-Q986,0):G986)),\"\")","v":""},null,null,{"$error":"#NAME?"},{"$error":"#NAME?"}]
["2006-07-12",null,null,null,0,{"$f":"IF(SUM($B$7:$B987)=0,\"\",IF(A987<>\"\",IF(A987<$B$3,\"N\",\"Y\"),\"\"))","v":""},0,9.52,0,null,614,{"$f":"IF(AND(ISNUMBER(A987),NOT(ISNUMBER(A988))),IF((OFFSET(Q987,-Q987,0)>50),SUM(OFFSET(E987,-Q987+1,0):E987),SUM(OFFSET(E987,-Q987,0):E987)),IF(AND(ISNUMBER(P987),ISNUMBER(P988),P987  <P988),IF((OFFSET(Q987,-Q987,0)>50),SUM(OFFSET(E987,-Q987+1,0):E987),SUM(OFFSET(E987,-Q987,0):E987)),\"\"))","v":{"$error":"#NAME?"}},{"$f":"IF(ISNUMBER(L987),IF((OFFSET(Q987,-Q987,0)>50),SUM(OFFSET(G987,-Q987+1,0):G987),SUM(OFFSET(G987,-Q987,0):G987)),\"\")","v":""},null,null,{"$error":"#NAME?"},{"$error":"#NAME?"}]
["2006-07-19",null,null,null,0,{"$f":"IF(SUM($B$7:$B988)=0,\"\",IF(A988<>\"\",IF(A988<$B$3,\"N\",\"Y\"),\"\"))","v":""},0,9.52,0,null,613,{"$f":"IF(AND(ISNUMBER(A988),NOT(ISNUMBER(A989))),IF((OFFSET(Q988,-Q988,0)>50),SUM(OFFSET(E988,-Q988+1,0):E988),SUM(OFFSET(E988,-Q988,0):E988)),IF(AND(ISNUMBER(P988),ISNUMBER(P989),P988  <P989),IF((OFFSET(Q988,-Q988,0)>50),SUM(OFFSET(E988,-Q988+1,0):E988),SUM(OFFSET(E988,-Q988,0):E988)),\"\"))","v":{"$error":"#NAME?"}},{"$f":"IF(ISNUMBER(L988),IF((OFFSET(Q988,-Q988,0)>50),SUM(OFFSET(G988,-Q988+1,0):G988),SUM(OFFSET(G988,-Q988,0):G988)),\"\")","v":""},null,null,{"$error":"#NAME?"},{"$error":"#NAME?"}]
["2006-07-26",null,null,null,0,{"$f":"IF(SUM($B$7:$B989)=0,\"\",IF(A989<>\"\",IF(A989<$B$3,\"N\",\"Y\"),\"\"))","v":""},0,9.52,0,null,612,{"$f":"IF(AND(ISNUMBER(A989),NOT(ISNUMBER(A990))),IF((OFFSET(Q989,-Q989,0)>50),SUM(OFFSET(E989,-Q989+1,0):E989),SUM(OFFSET(E989,-Q989,0):E989)),IF(AND(ISNUMBER(P989),ISNUMBER(P990),P989  <P990),IF((OFFSET(Q989,-Q989,0)>50),SUM(OFFSET(E989,-Q989+1,0):E989),SUM(OFFSET(E989,-Q989,0):E989)),\"\"))","v":{"$error":"#NAME?"}},{"$f":"IF(ISNUMBER(L989),IF((OFFSET(Q989,-Q989,0)>50),SUM(OFFSET(G989,-Q989+1,0):G989),SUM(OFFSET(G989,-Q989,0):G989)),\"\")","v":""},null,null,{"$error":"#NAME?"},{"$error":"#NAME?"}]
["2006-08-02",null,null,null,0,{"$f":"IF(SUM($B$7:$B990)=0,\"\",IF(A990<>\"\",IF(A990<$B$3,\"N\",\"Y\"),\"\"))","v":""},0,9.52,0,null,611,{"$f":"IF(AND(ISNUMBER(A990),NOT(ISNUMBER(A991))),IF((OFFSET(Q990,-Q990,0)>50),SUM(OFFSET(E990,-Q990+1,0):E990),SUM(OFFSET(E990,-Q990,0):E990)),IF(AND(ISNUMBER(P990),ISNUMBER(P991),P990  <P991),IF((OFFSET(Q990,-Q990,0)>50),SUM(OFFSET(E990,-Q990+1,0):E990),SUM(OFFSET(E990,-Q990,0):E990)),\"\"))","v":{"$error":"#NAME?"}},{"$f":"IF(ISNUMBER(L990),IF((OFFSET(Q990,-Q990,0)>50),SUM(OFFSET(G990,-Q990+1,0):G990),SUM(OFFSET(G990,-Q990,0):G990)),\"\")","v":""},null,null,{"$error":"#NAME?"},{"$error":"#NAME?"}]
["2006-08-09",null,null,null,0,{"$f":"IF(SUM($B$7:$B991)=0,\"\",IF(A991<>\"\",IF(A991<$B$3,\"N\",\"Y\"),\"\"))","v":""},0,9.52,0,null,610,{"$f":"IF(AND(ISNUMBER(A991),NOT(ISNUMBER(A992))),IF((OFFSET(Q991,-Q991,0)>50),SUM(OFFSET(E991,-Q991+1,0):E991),SUM(OFFSET(E991,-Q991,0):E991)),IF(AND(ISNUMBER(P991),ISNUMBER(P992),P991  <P992),IF((OFFSET(Q991,-Q991,0)>50),SUM(OFFSET(E991,-Q991+1,0):E991),SUM(OFFSET(E991,-Q991,0):E991)),\"\"))","v":{"$error":"#NAME?"}},{"$f":"IF(ISNUMBER(L991),IF((OFFSET(Q991,-Q991,0)>50),SUM(OFFSET(G991,-Q991+1,0):G991),SUM(OFFSET(G991,-Q991,0):G991)),\"\")","v":""},null,null,{"$error":"#NAME?"},{"$error":"#NAME?"}]
["2006-08-16",null,null,null,0,{"$f":"IF(SUM($B$7:$B992)=0,\"\",IF(A992<>\"\",IF(A992<$B$3,\"N\",\"Y\"),\"\"))","v":""},0,9.52,0,null,609,{"$f":"IF(AND(ISNUMBER(A992),NOT(ISNUMBER(A993))),IF((OFFSET(Q992,-Q992,0)>50),SUM(OFFSET(E992,-Q992+1,0):E992),SUM(OFFSET(E992,-Q992,0):E992)),IF(AND(ISNUMBER(P992),ISNUMBER(P993),P992  <P993),IF((OFFSET(Q992,-Q992,0)>50),SUM(OFFSET(E992,-Q992+1,0):E992),SUM(OFFSET(E992,-Q992,0):E992)),\"\"))","v":{"$error":"#NAME?"}},{"$f":"IF(ISNUMBER(L992),IF((OFFSET(Q992,-Q992,0)>50),SUM(OFFSET(G992,-Q992+1,0):G992),SUM(OFFSET(G992,-Q992,0):G992)),\"\")","v":""},null,null,{"$error":"#NAME?"},{"$error":"#NAME?"}]
["2006-08-23",null,null,null,0,{"$f":"IF(SUM($B$7:$B993)=0,\"\",IF(A993<>\"\",IF(A993<$B$3,\"N\",\"Y\"),\"\"))","v":""},0,9.52,0,null,608,{"$f":"IF(AND(ISNUMBER(A993),NOT(ISNUMBER(A994))),IF((OFFSET(Q993,-Q993,0)>50),SUM(OFFSET(E993,-Q993+1,0):E993),SUM(OFFSET(E993,-Q993,0):E993)),IF(AND(ISNUMBER(P993),ISNUMBER(P994),P993  <P994),IF((OFFSET(Q993,-Q993,0)>50),SUM(OFFSET(E993,-Q993+1,0):E993),SUM(OFFSET(E993,-Q993,0):E993)),\"\"))","v":{"$error":"#NAME?"}},{"$f":"IF(ISNUMBER(L993),IF((OFFSET(Q993,-Q993,0)>50),SUM(OFFSET(G993,-Q993+1,0):G993),SUM(OFFSET(G993,-Q993,0):G993)),\"\")","v":""},null,null,{"$error":"#NAME?"},{"$error":"#NAME?"}]
["2006-08-30",null,null,null,0,{"$f":"IF(SUM($B$7:$B994)=0,\"\",IF(A994<>\"\",IF(A994<$B$3,\"N\",\"Y\"),\"\"))","v":""},0,9.52,0,null,607,{"$f":"IF(AND(ISNUMBER(A994),NOT(ISNUMBER(A995))),IF((OFFSET(Q994,-Q994,0)>50),SUM(OFFSET(E994,-Q994+1,0):E994),SUM(OFFSET(E994,-Q994,0):E994)),IF(AND(ISNUMBER(P994),ISNUMBER(P995),P994  <P995),IF((OFFSET(Q994,-Q994,0)>50),SUM(OFFSET(E994,-Q994+1,0):E994),SUM(OFFSET(E994,-Q994,0):E994)),\"\"))","v":{"$error":"#NAME?"}},{"$f":"IF(ISNUMBER(L994),IF((OFFSET(Q994,-Q994,0)>50),SUM(OFFSET(G994,-Q994+1,0):G994),SUM(OFFSET(G994,-Q994,0):G994)),\"\")","v":""},null,null,{"$error":"#NAME?"},{"$error":"#NAME?"}]
["2006-09-06",null,null,null,0,{"$f":"IF(SUM($B$7:$B995)=0,\"\",IF(A995<>\"\",IF(A995<$B$3,\"N\",\"Y\"),\"\"))","v":""},0,9.52,0,null,606,{"$f":"IF(AND(ISNUMBER(A995),NOT(ISNUMBER(A996))),IF((OFFSET(Q995,-Q995,0)>50),SUM(OFFSET(E995,-Q995+1,0):E995),SUM(OFFSET(E995,-Q995,0):E995)),IF(AND(ISNUMBER(P995),ISNUMBER(P996),P995  <P996),IF((OFFSET(Q995,-Q995,0)>50),SUM(OFFSET(E995,-Q995+1,0):E995),SUM(OFFSET(E995,-Q995,0):E995)),\"\"))","v":{"$error":"#NAME?"}},{"$f":"IF(ISNUMBER(L995),IF((OFFSET(Q995,-Q995,0)>50),SUM(OFFSET(G995,-Q995+1,0):G995),SUM(OFFSET(G995,-Q995,0):G995)),\"\")","v":""},null,null,{"$error":"#NAME?"},{"$error":"#NAME?"}]
["2006-09-13",null,null,null,0,{"$f":"IF(SUM($B$7:$B996)=0,\"\",IF(A996<>\"\",IF(A996<$B$3,\"N\",\"Y\"),\"\"))","v":""},0,9.52,0,null,605,{"$f":"IF(AND(ISNUMBER(A996),NOT(ISNUMBER(A997))),IF((OFFSET(Q996,-Q996,0)>50),SUM(OFFSET(E996,-Q996+1,0):E996),SUM(OFFSET(E996,-Q996,0):E996)),IF(AND(ISNUMBER(P996),ISNUMBER(P997),P996  <P997),IF((OFFSET(Q996,-Q996,0)>50),SUM(OFFSET(E996,-Q996+1,0):E996),SUM(OFFSET(E996,-Q996,0):E996)),\"\"))","v":{"$error":"#NAME?"}},{"$f":"IF(ISNUMBER(L996),IF((OFFSET(Q996,-Q996,0)>50),SUM(OFFSET(G996,-Q996+1,0):G996),SUM(OFFSET(G996,-Q996,0):G996)),\"\")","v":""},null,null,{"$error":"#NAME?"},{"$error":"#NAME?"}]
["2006-09-20",null,null,null,0,{"$f":"IF(SUM($B$7:$B997)=0,\"\",IF(A997<>\"\",IF(A997<$B$3,\"N\",\"Y\"),\"\"))","v":""},0,9.52,0,null,604,{"$f":"IF(AND(ISNUMBER(A997),NOT(ISNUMBER(A998))),IF((OFFSET(Q997,-Q997,0)>50),SUM(OFFSET(E997,-Q997+1,0):E997),SUM(OFFSET(E997,-Q997,0):E997)),IF(AND(ISNUMBER(P997),ISNUMBER(P998),P997  <P998),IF((OFFSET(Q997,-Q997,0)>50),SUM(OFFSET(E997,-Q997+1,0):E997),SUM(OFFSET(E997,-Q997,0):E997)),\"\"))","v":{"$error":"#NAME?"}},{"$f":"IF(ISNUMBER(L997),IF((OFFSET(Q997,-Q997,0)>50),SUM(OFFSET(G997,-Q997+1,0):G997),SUM(OFFSET(G997,-Q997,0):G997)),\"\")","v":""},null,null,{"$error":"#NAME?"},{"$error":"#NAME?"}]
["2006-09-27",null,null,null,0,{"$f":"IF(SUM($B$7:$B998)=0,\"\",IF(A998<>\"\",IF(A998<$B$3,\"N\",\"Y\"),\"\"))","v":""},0,9.52,0,null,603,{"$f":"IF(AND(ISNUMBER(A998),NOT(ISNUMBER(A999))),IF((OFFSET(Q998,-Q998,0)>50),SUM(OFFSET(E998,-Q998+1,0):E998),SUM(OFFSET(E998,-Q998,0):E998)),IF(AND(ISNUMBER(P998),ISNUMBER(P999),P998  <P999),IF((OFFSET(Q998,-Q998,0)>50),SUM(OFFSET(E998,-Q998+1,0):E998),SUM(OFFSET(E998,-Q998,0):E998)),\"\"))","v":{"$error":"#NAME?"}},{"$f":"IF(ISNUMBER(L998),IF((OFFSET(Q998,-Q998,0)>50),SUM(OFFSET(G998,-Q998+1,0):G998),SUM(OFFSET(G998,-Q998,0):G998)),\"\")","v":""},null,null,{"$error":"#NAME?"},{"$error":"#NAME?"}]
["2006-10-04",null,null,null,0,{"$f":"IF(SUM($B$7:$B999)=0,\"\",IF(A999<>\"\",IF(A999<$B$3,\"N\",\"Y\"),\"\"))","v":""},0,9.52,0,null,602,{"$f":"IF(AND(ISNUMBER(A999),NOT(ISNUMBER(A1000))),IF((OFFSET(Q999,-Q999,0)>50),SUM(OFFSET(E999,-Q999+1,0):E999),SUM(OFFSET(E999,-Q999,0):E999)),IF(AND(ISNUMBER(P999),ISNUMBER(P1000),P999  <P1000),IF((OFFSET(Q999,-Q999,0)>50),SUM(OFFSET(E999,-Q999+1,0):E999),SUM(OFFSET(E999,-Q999,0):E999)),\"\"))","v":{"$error":"#NAME?"}},{"$f":"IF(ISNUMBER(L999),IF((OFFSET(Q999,-Q999,0)>50),SUM(OFFSET(G999,-Q999+1,0):G999),SUM(OFFSET(G999,-Q999,0):G999)),\"\")","v":""},null,null,{"$error":"#NAME?"},{"$error":"#NAME?"}]
["2006-10-11",null,null,null,0,{"$f":"IF(SUM($B$7:$B1000)=0,\"\",IF(A1000<>\"\",IF(A1000<$B$3,\"N\",\"Y\"),\"\"))","v":""},0,9.52,0,null,601,{"$f":"IF(AND(ISNUMBER(A1000),NOT(ISNUMBER(A1001))),IF((OFFSET(Q1000,-Q1000,0)>50),SUM(OFFSET(E1000,-Q1000+1,0):E1000),SUM(OFFSET(E1000,-Q1000,0):E1000)),IF(AND(ISNUMBER(P1000),ISNUMBER(P1001),P1000  <P1001),IF((OFFSET(Q1000,-Q1000,0)>50),SUM(OFFSET(E1000,-Q1000+1,0):E1000),SUM(OFFSET(E1000,-Q1000,0):E1000)),\"\"))","v":{"$error":"#NAME?"}},{"$f":"IF(ISNUMBER(L1000),IF((OFFSET(Q1000,-Q1000,0)>50),SUM(OFFSET(G1000,-Q1000+1,0):G1000),SUM(OFFSET(G1000,-Q1000,0):G1000)),\"\")","v":""},null,null,{"$error":"#NAME?"},{"$error":"#NAME?"}]
["2006-10-18",null,null,null,0,{"$f":"IF(SUM($B$7:$B1001)=0,\"\",IF(A1001<>\"\",IF(A1001<$B$3,\"N\",\"Y\"),\"\"))","v":""},0,9.52,0,null,600,{"$f":"IF(AND(ISNUMBER(A1001),NOT(ISNUMBER(A1002))),IF((OFFSET(Q1001,-Q1001,0)>50),SUM(OFFSET(E1001,-Q1001+1,0):E1001),SUM(OFFSET(E1001,-Q1001,0):E1001)),IF(AND(ISNUMBER(P1001),ISNUMBER(P1002),P1001  <P1002),IF((OFFSET(Q1001,-Q1001,0)>50),SUM(OFFSET(E1001,-Q1001+1,0):E1001),SUM(OFFSET(E1001,-Q1001,0):E1001)),\"\"))","v":{"$error":"#NAME?"}},{"$f":"IF(ISNUMBER(L1001),IF((OFFSET(Q1001,-Q1001,0)>50),SUM(OFFSET(G1001,-Q1001+1,0):G1001),SUM(OFFSET(G1001,-Q1001,0):G1001)),\"\")","v":""},null,null,{"$error":"#NAME?"},{"$error":"#NAME?"}]
["2006-10-25",null,null,null,0,{"$f":"IF(SUM($B$7:$B1002)=0,\"\",IF(A1002<>\"\",IF(A1002<$B$3,\"N\",\"Y\"),\"\"))","v":""},0,9.52,0,null,599,{"$f":"IF(AND(ISNUMBER(A1002),NOT(ISNUMBER(A1003))),IF((OFFSET(Q1002,-Q1002,0)>50),SUM(OFFSET(E1002,-Q1002+1,0):E1002),SUM(OFFSET(E1002,-Q1002,0):E1002)),IF(AND(ISNUMBER(P1002),ISNUMBER(P1003),P1002  <P1003),IF((OFFSET(Q1002,-Q1002,0)>50),SUM(OFFSET(E1002,-Q1002+1,0):E1002),SUM(OFFSET(E1002,-Q1002,0):E1002)),\"\"))","v":{"$error":"#NAME?"}},{"$f":"IF(ISNUMBER(L1002),IF((OFFSET(Q1002,-Q1002,0)>50),SUM(OFFSET(G1002,-Q1002+1,0):G1002),SUM(OFFSET(G1002,-Q1002,0):G1002)),\"\")","v":""},null,null,{"$error":"#NAME?"},{"$error":"#NAME?"}]
["2006-11-01",null,null,null,0,{"$f":"IF(SUM($B$7:$B1003)=0,\"\",IF(A1003<>\"\",IF(A1003<$B$3,\"N\",\"Y\"),\"\"))","v":""},0,9.52,0,null,598,{"$f":"IF(AND(ISNUMBER(A1003),NOT(ISNUMBER(A1004))),IF((OFFSET(Q1003,-Q1003,0)>50),SUM(OFFSET(E1003,-Q1003+1,0):E1003),SUM(OFFSET(E1003,-Q1003,0):E1003)),IF(AND(ISNUMBER(P1003),ISNUMBER(P1004),P1003  <P1004),IF((OFFSET(Q1003,-Q1003,0)>50),SUM(OFFSET(E1003,-Q1003+1,0):E1003),SUM(OFFSET(E1003,-Q1003,0):E1003)),\"\"))","v":{"$error":"#NAME?"}},{"$f":"IF(ISNUMBER(L1003),IF((OFFSET(Q1003,-Q1003,0)>50),SUM(OFFSET(G1003,-Q1003+1,0):G1003),SUM(OFFSET(G1003,-Q1003,0):G1003)),\"\")","v":""},null,null,{"$error":"#NAME?"},{"$error":"#NAME?"}]
["2006-11-08",null,null,null,0,{"$f":"IF(SUM($B$7:$B1004)=0,\"\",IF(A1004<>\"\",IF(A1004<$B$3,\"N\",\"Y\"),\"\"))","v":""},0,9.52,0,null,597,{"$f":"IF(AND(ISNUMBER(A1004),NOT(ISNUMBER(A1005))),IF((OFFSET(Q1004,-Q1004,0)>50),SUM(OFFSET(E1004,-Q1004+1,0):E1004),SUM(OFFSET(E1004,-Q1004,0):E1004)),IF(AND(ISNUMBER(P1004),ISNUMBER(P1005),P1004  <P1005),IF((OFFSET(Q1004,-Q1004,0)>50),SUM(OFFSET(E1004,-Q1004+1,0):E1004),SUM(OFFSET(E1004,-Q1004,0):E1004)),\"\"))","v":{"$error":"#NAME?"}},{"$f":"IF(ISNUMBER(L1004),IF((OFFSET(Q1004,-Q1004,0)>50),SUM(OFFSET(G1004,-Q1004+1,0):G1004),SUM(OFFSET(G1004,-Q1004,0):G1004)),\"\")","v":""},null,null,{"$error":"#NAME?"},{"$error":"#NAME?"}]
["2006-11-15",null,null,null,0,{"$f":"IF(SUM($B$7:$B1005)=0,\"\",IF(A1005<>\"\",IF(A1005<$B$3,\"N\",\"Y\"),\"\"))","v":""},0,9.52,0,null,596,{"$f":"IF(AND(ISNUMBER(A1005),NOT(ISNUMBER(A1006))),IF((OFFSET(Q1005,-Q1005,0)>50),SUM(OFFSET(E1005,-Q1005+1,0):E1005),SUM(OFFSET(E1005,-Q1005,0):E1005)),IF(AND(ISNUMBER(P1005),ISNUMBER(P1006),P1005  <P1006),IF((OFFSET(Q1005,-Q1005,0)>50),SUM(OFFSET(E1005,-Q1005+1,0):E1005),SUM(OFFSET(E1005,-Q1005,0):E1005)),\"\"))","v":{"$error":"#NAME?"}},{"$f":"IF(ISNUMBER(L1005),IF((OFFSET(Q1005,-Q1005,0)>50),SUM(OFFSET(G1005,-Q1005+1,0):G1005),SUM(OFFSET(G1005,-Q1005,0):G1005)),\"\")","v":""},null,null,{"$error":"#NAME?"},{"$error":"#NAME?"}]
["2006-11-22",null,null,null,0,{"$f":"IF(SUM($B$7:$B1006)=0,\"\",IF(A1006<>\"\",IF(A1006<$B$3,\"N\",\"Y\"),\"\"))","v":""},0,9.52,0,null,595,{"$f":"IF(AND(ISNUMBER(A1006),NOT(ISNUMBER(A1007))),IF((OFFSET(Q1006,-Q1006,0)>50),SUM(OFFSET(E1006,-Q1006+1,0):E1006),SUM(OFFSET(E1006,-Q1006,0):E1006)),IF(AND(ISNUMBER(P1006),ISNUMBER(P1007),P1006  <P1007),IF((OFFSET(Q1006,-Q1006,0)>50),SUM(OFFSET(E1006,-Q1006+1,0):E1006),SUM(OFFSET(E1006,-Q1006,0):E1006)),\"\"))","v":{"$error":"#NAME?"}},{"$f":"IF(ISNUMBER(L1006),IF((OFFSET(Q1006,-Q1006,0)>50),SUM(OFFSET(G1006,-Q1006+1,0):G1006),SUM(OFFSET(G1006,-Q1006,0):G1006)),\"\")","v":""},null,null,{"$error":"#NAME?"},{"$error":"#NAME?"}]
["2006-11-29",null,null,null,0,{"$f":"IF(SUM($B$7:$B1007)=0,\"\",IF(A1007<>\"\",IF(A1007<$B$3,\"N\",\"Y\"),\"\"))","v":""},0,9.52,0,null,594,{"$f":"IF(AND(ISNUMBER(A1007),NOT(ISNUMBER(A1008))),IF((OFFSET(Q1007,-Q1007,0)>50),SUM(OFFSET(E1007,-Q1007+1,0):E1007),SUM(OFFSET(E1007,-Q1007,0):E1007)),IF(AND(ISNUMBER(P1007),ISNUMBER(P1008),P1007  <P1008),IF((OFFSET(Q1007,-Q1007,0)>50),SUM(OFFSET(E1007,-Q1007+1,0):E1007),SUM(OFFSET(E1007,-Q1007,0):E1007)),\"\"))","v":{"$error":"#NAME?"}},{"$f":"IF(ISNUMBER(L1007),IF((OFFSET(Q1007,-Q1007,0)>50),SUM(OFFSET(G1007,-Q1007+1,0):G1007),SUM(OFFSET(G1007,-Q1007,0):G1007)),\"\")","v":""},null,null,{"$error":"#NAME?"},{"$error":"#NAME?"}]
["2006-12-06",null,null,null,0,{"$f":"IF(SUM($B$7:$B1008)=0,\"\",IF(A1008<>\"\",IF(A1008<$B$3,\"N\",\"Y\"),\"\"))","v":""},0,9.52,0,null,593,{"$f":"IF(AND(ISNUMBER(A1008),NOT(ISNUMBER(A1009))),IF((OFFSET(Q1008,-Q1008,0)>50),SUM(OFFSET(E1008,-Q1008+1,0):E1008),SUM(OFFSET(E1008,-Q1008,0):E1008)),IF(AND(ISNUMBER(P1008),ISNUMBER(P1009),P1008  <P1009),IF((OFFSET(Q1008,-Q1008,0)>50),SUM(OFFSET(E1008,-Q1008+1,0):E1008),SUM(OFFSET(E1008,-Q1008,0):E1008)),\"\"))","v":{"$error":"#NAME?"}},{"$f":"IF(ISNUMBER(L1008),IF((OFFSET(Q1008,-Q1008,0)>50),SUM(OFFSET(G1008,-Q1008+1,0):G1008),SUM(OFFSET(G1008,-Q1008,0):G1008)),\"\")","v":""},null,null,{"$error":"#NAME?"},{"$error":"#NAME?"}]
["2006-12-13",null,null,null,0,{"$f":"IF(SUM($B$7:$B1009)=0,\"\",IF(A1009<>\"\",IF(A1009<$B$3,\"N\",\"Y\"),\"\"))","v":""},0,9.52,0,null,592,{"$f":"IF(AND(ISNUMBER(A1009),NOT(ISNUMBER(A1010))),IF((OFFSET(Q1009,-Q1009,0)>50),SUM(OFFSET(E1009,-Q1009+1,0):E1009),SUM(OFFSET(E1009,-Q1009,0):E1009)),IF(AND(ISNUMBER(P1009),ISNUMBER(P1010),P1009  <P1010),IF((OFFSET(Q1009,-Q1009,0)>50),SUM(OFFSET(E1009,-Q1009+1,0):E1009),SUM(OFFSET(E1009,-Q1009,0):E1009)),\"\"))","v":{"$error":"#NAME?"}},{"$f":"IF(ISNUMBER(L1009),IF((OFFSET(Q1009,-Q1009,0)>50),SUM(OFFSET(G1009,-Q1009+1,0):G1009),SUM(OFFSET(G1009,-Q1009,0):G1009)),\"\")","v":""},null,null,{"$error":"#NAME?"},{"$error":"#NAME?"}]
["2006-12-20",null,null,null,0,{"$f":"IF(SUM($B$7:$B1010)=0,\"\",IF(A1010<>\"\",IF(A1010<$B$3,\"N\",\"Y\"),\"\"))","v":""},0,9.52,0,null,591,{"$f":"IF(AND(ISNUMBER(A1010),NOT(ISNUMBER(A1011))),IF((OFFSET(Q1010,-Q1010,0)>50),SUM(OFFSET(E1010,-Q1010+1,0):E1010),SUM(OFFSET(E1010,-Q1010,0):E1010)),IF(AND(ISNUMBER(P1010),ISNUMBER(P1011),P1010  <P1011),IF((OFFSET(Q1010,-Q1010,0)>50),SUM(OFFSET(E1010,-Q1010+1,0):E1010),SUM(OFFSET(E1010,-Q1010,0):E1010)),\"\"))","v":{"$error":"#NAME?"}},{"$f":"IF(ISNUMBER(L1010),IF((OFFSET(Q1010,-Q1010,0)>50),SUM(OFFSET(G1010,-Q1010+1,0):G1010),SUM(OFFSET(G1010,-Q1010,0):G1010)),\"\")","v":""},null,null,{"$error":"#NAME?"},{"$error":"#NAME?"}]
["2006-12-27",null,null,null,0,{"$f":"IF(SUM($B$7:$B1011)=0,\"\",IF(A1011<>\"\",IF(A1011<$B$3,\"N\",\"Y\"),\"\"))","v":""},0,9.52,0,null,590,{"$f":"IF(AND(ISNUMBER(A1011),NOT(ISNUMBER(A1012))),IF((OFFSET(Q1011,-Q1011,0)>50),SUM(OFFSET(E1011,-Q1011+1,0):E1011),SUM(OFFSET(E1011,-Q1011,0):E1011)),IF(AND(ISNUMBER(P1011),ISNUMBER(P1012),P1011  <P1012),IF((OFFSET(Q1011,-Q1011,0)>50),SUM(OFFSET(E1011,-Q1011+1,0):E1011),SUM(OFFSET(E1011,-Q1011,0):E1011)),\"\"))","v":{"$error":"#NAME?"}},{"$f":"IF(ISNUMBER(L1011),IF((OFFSET(Q1011,-Q1011,0)>50),SUM(OFFSET(G1011,-Q1011+1,0):G1011),SUM(OFFSET(G1011,-Q1011,0):G1011)),\"\")","v":""},null,null,{"$error":"#NAME?"},{"$error":"#NAME?"}]
["2007-01-03",null,null,null,0,{"$f":"IF(SUM($B$7:$B1012)=0,\"\",IF(A1012<>\"\",IF(A1012<$B$3,\"N\",\"Y\"),\"\"))","v":""},0,9.52,0,null,589,{"$f":"IF(AND(ISNUMBER(A1012),NOT(ISNUMBER(A1013))),IF((OFFSET(Q1012,-Q1012,0)>50),SUM(OFFSET(E1012,-Q1012+1,0):E1012),SUM(OFFSET(E1012,-Q1012,0):E1012)),IF(AND(ISNUMBER(P1012),ISNUMBER(P1013),P1012  <P1013),IF((OFFSET(Q1012,-Q1012,0)>50),SUM(OFFSET(E1012,-Q1012+1,0):E1012),SUM(OFFSET(E1012,-Q1012,0):E1012)),\"\"))","v":{"$error":"#NAME?"}},{"$f":"IF(ISNUMBER(L1012),IF((OFFSET(Q1012,-Q1012,0)>50),SUM(OFFSET(G1012,-Q1012+1,0):G1012),SUM(OFFSET(G1012,-Q1012,0):G1012)),\"\")","v":""},null,null,{"$error":"#NAME?"},{"$error":"#NAME?"}]
["2007-01-10",null,null,null,0,{"$f":"IF(SUM($B$7:$B1013)=0,\"\",IF(A1013<>\"\",IF(A1013<$B$3,\"N\",\"Y\"),\"\"))","v":""},0,9.52,0,null,588,{"$f":"IF(AND(ISNUMBER(A1013),NOT(ISNUMBER(A1014))),IF((OFFSET(Q1013,-Q1013,0)>50),SUM(OFFSET(E1013,-Q1013+1,0):E1013),SUM(OFFSET(E1013,-Q1013,0):E1013)),IF(AND(ISNUMBER(P1013),ISNUMBER(P1014),P1013  <P1014),IF((OFFSET(Q1013,-Q1013,0)>50),SUM(OFFSET(E1013,-Q1013+1,0):E1013),SUM(OFFSET(E1013,-Q1013,0):E1013)),\"\"))","v":{"$error":"#NAME?"}},{"$f":"IF(ISNUMBER(L1013),IF((OFFSET(Q1013,-Q1013,0)>50),SUM(OFFSET(G1013,-Q1013+1,0):G1013),SUM(OFFSET(G1013,-Q1013,0):G1013)),\"\")","v":""},null,null,{"$error":"#NAME?"},{"$error":"#NAME?"}]
["2007-01-17",null,null,null,0,{"$f":"IF(SUM($B$7:$B1014)=0,\"\",IF(A1014<>\"\",IF(A1014<$B$3,\"N\",\"Y\"),\"\"))","v":""},0,9.52,0,null,587,{"$f":"IF(AND(ISNUMBER(A1014),NOT(ISNUMBER(A1015))),IF((OFFSET(Q1014,-Q1014,0)>50),SUM(OFFSET(E1014,-Q1014+1,0):E1014),SUM(OFFSET(E1014,-Q1014,0):E1014)),IF(AND(ISNUMBER(P1014),ISNUMBER(P1015),P1014  <P1015),IF((OFFSET(Q1014,-Q1014,0)>50),SUM(OFFSET(E1014,-Q1014+1,0):E1014),SUM(OFFSET(E1014,-Q1014,0):E1014)),\"\"))","v":{"$error":"#NAME?"}},{"$f":"IF(ISNUMBER(L1014),IF((OFFSET(Q1014,-Q1014,0)>50),SUM(OFFSET(G1014,-Q1014+1,0):G1014),SUM(OFFSET(G1014,-Q1014,0):G1014)),\"\")","v":""},null,null,{"$error":"#NAME?"},{"$error":"#NAME?"}]
["2007-01-24",null,null,null,0,{"$f":"IF(SUM($B$7:$B1015)=0,\"\",IF(A1015<>\"\",IF(A1015<$B$3,\"N\",\"Y\"),\"\"))","v":""},0,9.52,0,null,586,{"$f":"IF(AND(ISNUMBER(A1015),NOT(ISNUMBER(A1016))),IF((OFFSET(Q1015,-Q1015,0)>50),SUM(OFFSET(E1015,-Q1015+1,0):E1015),SUM(OFFSET(E1015,-Q1015,0):E1015)),IF(AND(ISNUMBER(P1015),ISNUMBER(P1016),P1015  <P1016),IF((OFFSET(Q1015,-Q1015,0)>50),SUM(OFFSET(E1015,-Q1015+1,0):E1015),SUM(OFFSET(E1015,-Q1015,0):E1015)),\"\"))","v":{"$error":"#NAME?"}},{"$f":"IF(ISNUMBER(L1015),IF((OFFSET(Q1015,-Q1015,0)>50),SUM(OFFSET(G1015,-Q1015+1,0):G1015),SUM(OFFSET(G1015,-Q1015,0):G1015)),\"\")","v":""},null,null,{"$error":"#NAME?"},{"$error":"#NAME?"}]
["2007-01-31",null,null,null,0,{"$f":"IF(SUM($B$7:$B1016)=0,\"\",IF(A1016<>\"\",IF(A1016<$B$3,\"N\",\"Y\"),\"\"))","v":""},0,9.52,0,null,585,{"$f":"IF(AND(ISNUMBER(A1016),NOT(ISNUMBER(A1017))),IF((OFFSET(Q1016,-Q1016,0)>50),SUM(OFFSET(E1016,-Q1016+1,0):E1016),SUM(OFFSET(E1016,-Q1016,0):E1016)),IF(AND(ISNUMBER(P1016),ISNUMBER(P1017),P1016  <P1017),IF((OFFSET(Q1016,-Q1016,0)>50),SUM(OFFSET(E1016,-Q1016+1,0):E1016),SUM(OFFSET(E1016,-Q1016,0):E1016)),\"\"))","v":{"$error":"#NAME?"}},{"$f":"IF(ISNUMBER(L1016),IF((OFFSET(Q1016,-Q1016,0)>50),SUM(OFFSET(G1016,-Q1016+1,0):G1016),SUM(OFFSET(G1016,-Q1016,0):G1016)),\"\")","v":""},null,null,{"$error":"#NAME?"},{"$error":"#NAME?"}]
["2007-02-07",null,null,null,0,{"$f":"IF(SUM($B$7:$B1017)=0,\"\",IF(A1017<>\"\",IF(A1017<$B$3,\"N\",\"Y\"),\"\"))","v":""},0,9.52,0,null,584,{"$f":"IF(AND(ISNUMBER(A1017),NOT(ISNUMBER(A1018))),IF((OFFSET(Q1017,-Q1017,0)>50),SUM(OFFSET(E1017,-Q1017+1,0):E1017),SUM(OFFSET(E1017,-Q1017,0):E1017)),IF(AND(ISNUMBER(P1017),ISNUMBER(P1018),P1017  <P1018),IF((OFFSET(Q1017,-Q1017,0)>50),SUM(OFFSET(E1017,-Q1017+1,0):E1017),SUM(OFFSET(E1017,-Q1017,0):E1017)),\"\"))","v":{"$error":"#NAME?"}},{"$f":"IF(ISNUMBER(L1017),IF((OFFSET(Q1017,-Q1017,0)>50),SUM(OFFSET(G1017,-Q1017+1,0):G1017),SUM(OFFSET(G1017,-Q1017,0):G1017)),\"\")","v":""},null,null,{"$error":"#NAME?"},{"$error":"#NAME?"}]
["2007-02-14",null,null,null,0,{"$f":"IF(SUM($B$7:$B1018)=0,\"\",IF(A1018<>\"\",IF(A1018<$B$3,\"N\",\"Y\"),\"\"))","v":""},0,9.52,0,null,583,{"$f":"IF(AND(ISNUMBER(A1018),NOT(ISNUMBER(A1019))),IF((OFFSET(Q1018,-Q1018,0)>50),SUM(OFFSET(E1018,-Q1018+1,0):E1018),SUM(OFFSET(E1018,-Q1018,0):E1018)),IF(AND(ISNUMBER(P1018),ISNUMBER(P1019),P1018  <P1019),IF((OFFSET(Q1018,-Q1018,0)>50),SUM(OFFSET(E1018,-Q1018+1,0):E1018),SUM(OFFSET(E1018,-Q1018,0):E1018)),\"\"))","v":{"$error":"#NAME?"}},{"$f":"IF(ISNUMBER(L1018),IF((OFFSET(Q1018,-Q1018,0)>50),SUM(OFFSET(G1018,-Q1018+1,0):G1018),SUM(OFFSET(G1018,-Q1018,0):G1018)),\"\")","v":""},null,null,{"$error":"#NAME?"},{"$error":"#NAME?"}]
["2007-02-21",null,null,null,0,{"$f":"IF(SUM($B$7:$B1019)=0,\"\",IF(A1019<>\"\",IF(A1019<$B$3,\"N\",\"Y\"),\"\"))","v":""},0,9.52,0,null,582,{"$f":"IF(AND(ISNUMBER(A1019),NOT(ISNUMBER(A1020))),IF((OFFSET(Q1019,-Q1019,0)>50),SUM(OFFSET(E1019,-Q1019+1,0):E1019),SUM(OFFSET(E1019,-Q1019,0):E1019)),IF(AND(ISNUMBER(P1019),ISNUMBER(P1020),P1019  <P1020),IF((OFFSET(Q1019,-Q1019,0)>50),SUM(OFFSET(E1019,-Q1019+1,0):E1019),SUM(OFFSET(E1019,-Q1019,0):E1019)),\"\"))","v":{"$error":"#NAME?"}},{"$f":"IF(ISNUMBER(L1019),IF((OFFSET(Q1019,-Q1019,0)>50),SUM(OFFSET(G1019,-Q1019+1,0):G1019),SUM(OFFSET(G1019,-Q1019,0):G1019)),\"\")","v":""},null,null,{"$error":"#NAME?"},{"$error":"#NAME?"}]
["2007-02-28",null,null,null,0,{"$f":"IF(SUM($B$7:$B1020)=0,\"\",IF(A1020<>\"\",IF(A1020<$B$3,\"N\",\"Y\"),\"\"))","v":""},0,9.52,0,null,581,{"$f":"IF(AND(ISNUMBER(A1020),NOT(ISNUMBER(A1021))),IF((OFFSET(Q1020,-Q1020,0)>50),SUM(OFFSET(E1020,-Q1020+1,0):E1020),SUM(OFFSET(E1020,-Q1020,0):E1020)),IF(AND(ISNUMBER(P1020),ISNUMBER(P1021),P1020  <P1021),IF((OFFSET(Q1020,-Q1020,0)>50),SUM(OFFSET(E1020,-Q1020+1,0):E1020),SUM(OFFSET(E1020,-Q1020,0):E1020)),\"\"))","v":{"$error":"#NAME?"}},{"$f":"IF(ISNUMBER(L1020),IF((OFFSET(Q1020,-Q1020,0)>50),SUM(OFFSET(G1020,-Q1020+1,0):G1020),SUM(OFFSET(G1020,-Q1020,0):G1020)),\"\")","v":""},null,null,{"$error":"#NAME?"},{"$error":"#NAME?"}]
["2007-03-07",null,null,null,0,{"$f":"IF(SUM($B$7:$B1021)=0,\"\",IF(A1021<>\"\",IF(A1021<$B$3,\"N\",\"Y\"),\"\"))","v":""},0,9.52,0,null,580,{"$f":"IF(AND(ISNUMBER(A1021),NOT(ISNUMBER(A1022))),IF((OFFSET(Q1021,-Q1021,0)>50),SUM(OFFSET(E1021,-Q1021+1,0):E1021),SUM(OFFSET(E1021,-Q1021,0):E1021)),IF(AND(ISNUMBER(P1021),ISNUMBER(P1022),P1021  <P1022),IF((OFFSET(Q1021,-Q1021,0)>50),SUM(OFFSET(E1021,-Q1021+1,0):E1021),SUM(OFFSET(E1021,-Q1021,0):E1021)),\"\"))","v":{"$error":"#NAME?"}},{"$f":"IF(ISNUMBER(L1021),IF((OFFSET(Q1021,-Q1021,0)>50),SUM(OFFSET(G1021,-Q1021+1,0):G1021),SUM(OFFSET(G1021,-Q1021,0):G1021)),\"\")","v":""},null,null,{"$error":"#NAME?"},{"$error":"#NAME?"}]
["2007-03-14",null,null,null,0,{"$f":"IF(SUM($B$7:$B1022)=0,\"\",IF(A1022<>\"\",IF(A1022<$B$3,\"N\",\"Y\"),\"\"))","v":""},0,9.52,0,null,579,{"$f":"IF(AND(ISNUMBER(A1022),NOT(ISNUMBER(A1023))),IF((OFFSET(Q1022,-Q1022,0)>50),SUM(OFFSET(E1022,-Q1022+1,0):E1022),SUM(OFFSET(E1022,-Q1022,0):E1022)),IF(AND(ISNUMBER(P1022),ISNUMBER(P1023),P1022  <P1023),IF((OFFSET(Q1022,-Q1022,0)>50),SUM(OFFSET(E1022,-Q1022+1,0):E1022),SUM(OFFSET(E1022,-Q1022,0):E1022)),\"\"))","v":{"$error":"#NAME?"}},{"$f":"IF(ISNUMBER(L1022),IF((OFFSET(Q1022,-Q1022,0)>50),SUM(OFFSET(G1022,-Q1022+1,0):G1022),SUM(OFFSET(G1022,-Q1022,0):G1022)),\"\")","v":""},null,null,{"$error":"#NAME?"},{"$error":"#NAME?"}]
["2007-03-21",null,null,null,0,{"$f":"IF(SUM($B$7:$B1023)=0,\"\",IF(A1023<>\"\",IF(A1023<$B$3,\"N\",\"Y\"),\"\"))","v":""},0,9.52,0,null,578,{"$f":"IF(AND(ISNUMBER(A1023),NOT(ISNUMBER(A1024))),IF((OFFSET(Q1023,-Q1023,0)>50),SUM(OFFSET(E1023,-Q1023+1,0):E1023),SUM(OFFSET(E1023,-Q1023,0):E1023)),IF(AND(ISNUMBER(P1023),ISNUMBER(P1024),P1023  <P1024),IF((OFFSET(Q1023,-Q1023,0)>50),SUM(OFFSET(E1023,-Q1023+1,0):E1023),SUM(OFFSET(E1023,-Q1023,0):E1023)),\"\"))","v":{"$error":"#NAME?"}},{"$f":"IF(ISNUMBER(L1023),IF((OFFSET(Q1023,-Q1023,0)>50),SUM(OFFSET(G1023,-Q1023+1,0):G1023),SUM(OFFSET(G1023,-Q1023,0):G1023)),\"\")","v":""},null,null,{"$error":"#NAME?"},{"$error":"#NAME?"}]
["2007-03-28",null,null,null,0,{"$f":"IF(SUM($B$7:$B1024)=0,\"\",IF(A1024<>\"\",IF(A1024<$B$3,\"N\",\"Y\"),\"\"))","v":""},0,9.52,0,null,577,{"$f":"IF(AND(ISNUMBER(A1024),NOT(ISNUMBER(A1025))),IF((OFFSET(Q1024,-Q1024,0)>50),SUM(OFFSET(E1024,-Q1024+1,0):E1024),SUM(OFFSET(E1024,-Q1024,0):E1024)),IF(AND(ISNUMBER(P1024),ISNUMBER(P1025),P1024  <P1025),IF((OFFSET(Q1024,-Q1024,0)>50),SUM(OFFSET(E1024,-Q1024+1,0):E1024),SUM(OFFSET(E1024,-Q1024,0):E1024)),\"\"))","v":{"$error":"#NAME?"}},{"$f":"IF(ISNUMBER(L1024),IF((OFFSET(Q1024,-Q1024,0)>50),SUM(OFFSET(G1024,-Q1024+1,0):G1024),SUM(OFFSET(G1024,-Q1024,0):G1024)),\"\")","v":""},null,null,{"$error":"#NAME?"},{"$error":"#NAME?"}]
["2007-04-04",null,null,null,0,{"$f":"IF(SUM($B$7:$B1025)=0,\"\",IF(A1025<>\"\",IF(A1025<$B$3,\"N\",\"Y\"),\"\"))","v":""},0,9.52,0,null,576,{"$f":"IF(AND(ISNUMBER(A1025),NOT(ISNUMBER(A1026))),IF((OFFSET(Q1025,-Q1025,0)>50),SUM(OFFSET(E1025,-Q1025+1,0):E1025),SUM(OFFSET(E1025,-Q1025,0):E1025)),IF(AND(ISNUMBER(P1025),ISNUMBER(P1026),P1025  <P1026),IF((OFFSET(Q1025,-Q1025,0)>50),SUM(OFFSET(E1025,-Q1025+1,0):E1025),SUM(OFFSET(E1025,-Q1025,0):E1025)),\"\"))","v":{"$error":"#NAME?"}},{"$f":"IF(ISNUMBER(L1025),IF((OFFSET(Q1025,-Q1025,0)>50),SUM(OFFSET(G1025,-Q1025+1,0):G1025),SUM(OFFSET(G1025,-Q1025,0):G1025)),\"\")","v":""},null,null,{"$error":"#NAME?"},{"$error":"#NAME?"}]
["2007-04-11",null,null,null,0,{"$f":"IF(SUM($B$7:$B1026)=0,\"\",IF(A1026<>\"\",IF(A1026<$B$3,\"N\",\"Y\"),\"\"))","v":""},0,9.52,0,null,575,{"$f":"IF(AND(ISNUMBER(A1026),NOT(ISNUMBER(A1027))),IF((OFFSET(Q1026,-Q1026,0)>50),SUM(OFFSET(E1026,-Q1026+1,0):E1026),SUM(OFFSET(E1026,-Q1026,0):E1026)),IF(AND(ISNUMBER(P1026),ISNUMBER(P1027),P1026  <P1027),IF((OFFSET(Q1026,-Q1026,0)>50),SUM(OFFSET(E1026,-Q1026+1,0):E1026),SUM(OFFSET(E1026,-Q1026,0):E1026)),\"\"))","v":{"$error":"#NAME?"}},{"$f":"IF(ISNUMBER(L1026),IF((OFFSET(Q1026,-Q1026,0)>50),SUM(OFFSET(G1026,-Q1026+1,0):G1026),SUM(OFFSET(G1026,-Q1026,0):G1026)),\"\")","v":""},null,null,{"$error":"#NAME?"},{"$error":"#NAME?"}]
["2007-04-18",null,null,null,0,{"$f":"IF(SUM($B$7:$B1027)=0,\"\",IF(A1027<>\"\",IF(A1027<$B$3,\"N\",\"Y\"),\"\"))","v":""},0,9.52,0,null,574,{"$f":"IF(AND(ISNUMBER(A1027),NOT(ISNUMBER(A1028))),IF((OFFSET(Q1027,-Q1027,0)>50),SUM(OFFSET(E1027,-Q1027+1,0):E1027),SUM(OFFSET(E1027,-Q1027,0):E1027)),IF(AND(ISNUMBER(P1027),ISNUMBER(P1028),P1027  <P1028),IF((OFFSET(Q1027,-Q1027,0)>50),SUM(OFFSET(E1027,-Q1027+1,0):E1027),SUM(OFFSET(E1027,-Q1027,0):E1027)),\"\"))","v":{"$error":"#NAME?"}},{"$f":"IF(ISNUMBER(L1027),IF((OFFSET(Q1027,-Q1027,0)>50),SUM(OFFSET(G1027,-Q1027+1,0):G1027),SUM(OFFSET(G1027,-Q1027,0):G1027)),\"\")","v":""},null,null,{"$error":"#NAME?"},{"$error":"#NAME?"}]
["2007-04-25",null,null,null,0,{"$f":"IF(SUM($B$7:$B1028)=0,\"\",IF(A1028<>\"\",IF(A1028<$B$3,\"N\",\"Y\"),\"\"))","v":""},0,9.52,0,null,573,{"$f":"IF(AND(ISNUMBER(A1028),NOT(ISNUMBER(A1029))),IF((OFFSET(Q1028,-Q1028,0)>50),SUM(OFFSET(E1028,-Q1028+1,0):E1028),SUM(OFFSET(E1028,-Q1028,0):E1028)),IF(AND(ISNUMBER(P1028),ISNUMBER(P1029),P1028  <P1029),IF((OFFSET(Q1028,-Q1028,0)>50),SUM(OFFSET(E1028,-Q1028+1,0):E1028),SUM(OFFSET(E1028,-Q1028,0):E1028)),\"\"))","v":{"$error":"#NAME?"}},{"$f":"IF(ISNUMBER(L1028),IF((OFFSET(Q1028,-Q1028,0)>50),SUM(OFFSET(G1028,-Q1028+1,0):G1028),SUM(OFFSET(G1028,-Q1028,0):G1028)),\"\")","v":""},null,null,{"$error":"#NAME?"},{"$error":"#NAME?"}]
["2007-05-02",null,null,null,0,{"$f":"IF(SUM($B$7:$B1029)=0,\"\",IF(A1029<>\"\",IF(A1029<$B$3,\"N\",\"Y\"),\"\"))","v":""},0,9.52,0,null,572,{"$f":"IF(AND(ISNUMBER(A1029),NOT(ISNUMBER(A1030))),IF((OFFSET(Q1029,-Q1029,0)>50),SUM(OFFSET(E1029,-Q1029+1,0):E1029),SUM(OFFSET(E1029,-Q1029,0):E1029)),IF(AND(ISNUMBER(P1029),ISNUMBER(P1030),P1029  <P1030),IF((OFFSET(Q1029,-Q1029,0)>50),SUM(OFFSET(E1029,-Q1029+1,0):E1029),SUM(OFFSET(E1029,-Q1029,0):E1029)),\"\"))","v":{"$error":"#NAME?"}},{"$f":"IF(ISNUMBER(L1029),IF((OFFSET(Q1029,-Q1029,0)>50),SUM(OFFSET(G1029,-Q1029+1,0):G1029),SUM(OFFSET(G1029,-Q1029,0):G1029)),\"\")","v":""},null,null,{"$error":"#NAME?"},{"$error":"#NAME?"}]
["2007-05-09",null,null,null,0,{"$f":"IF(SUM($B$7:$B1030)=0,\"\",IF(A1030<>\"\",IF(A1030<$B$3,\"N\",\"Y\"),\"\"))","v":""},0,9.52,0,null,571,{"$f":"IF(AND(ISNUMBER(A1030),NOT(ISNUMBER(A1031))),IF((OFFSET(Q1030,-Q1030,0)>50),SUM(OFFSET(E1030,-Q1030+1,0):E1030),SUM(OFFSET(E1030,-Q1030,0):E1030)),IF(AND(ISNUMBER(P1030),ISNUMBER(P1031),P1030  <P1031),IF((OFFSET(Q1030,-Q1030,0)>50),SUM(OFFSET(E1030,-Q1030+1,0):E1030),SUM(OFFSET(E1030,-Q1030,0):E1030)),\"\"))","v":{"$error":"#NAME?"}},{"$f":"IF(ISNUMBER(L1030),IF((OFFSET(Q1030,-Q1030,0)>50),SUM(OFFSET(G1030,-Q1030+1,0):G1030),SUM(OFFSET(G1030,-Q1030,0):G1030)),\"\")","v":""},null,null,{"$error":"#NAME?"},{"$error":"#NAME?"}]
["2007-05-16",null,null,null,0,{"$f":"IF(SUM($B$7:$B1031)=0,\"\",IF(A1031<>\"\",IF(A1031<$B$3,\"N\",\"Y\"),\"\"))","v":""},0,9.52,0,null,{"$f":"IF(A1031<>\"\",IF((TODAY()-A1031)/7>=0,INT((TODAY()-A1031)/7),0),\"\")","v":570},{"$f":"IF(AND(ISNUMBER(A1031),NOT(ISNUMBER(A1032))),IF((OFFSET(Q1031,-Q1031,0)>50),SUM(OFFSET(E1031,-Q1031+1,0):E1031),SUM(OFFSET(E1031,-Q1031,0):E1031)),IF(AND(ISNUMBER(P1031),ISNUMBER(P1032),P1031  <P1032),IF((OFFSET(Q1031,-Q1031,0)>50),SUM(OFFSET(E1031,-Q1031+1,0):E1031),SUM(OFFSET(E1031,-Q1031,0):E1031)),\"\"))","v":{"$error":"#NAME?"}},{"$f":"IF(ISNUMBER(L1031),IF((OFFSET(Q1031,-Q1031,0)>50),SUM(OFFSET(G1031,-Q1031+1,0):G1031),SUM(OFFSET(G1031,-Q1031,0):G1031)),\"\")","v":""},null,null,{"$f":"FinYear(A1031)","v":{"$error":"#NAME?"}},{"$error":"#NAME?"}]
["2007-05-23",null,null,null,{"$f":"IF(A1032<>\"\",IF(B1032-C1032>=0,B1032-C1032,0),\"\")","v":0},{"$f":"IF(SUM($B$7:$B1032)=0,\"\",IF(A1032<>\"\",IF(A1032<$B$3,\"N\",\"Y\"),\"\"))","v":""},0,9.52,0,null,569,{"$f":"IF(AND(ISNUMBER(A1032),NOT(ISNUMBER(A1033))),IF((OFFSET(Q1032,-Q1032,0)>50),SUM(OFFSET(E1032,-Q1032+1,0):E1032),SUM(OFFSET(E1032,-Q1032,0):E1032)),IF(AND(ISNUMBER(P1032),ISNUMBER(P1033),P1032  <P1033),IF((OFFSET(Q1032,-Q1032,0)>50),SUM(OFFSET(E1032,-Q1032+1,0):E1032),SUM(OFFSET(E1032,-Q1032,0):E1032)),\"\"))","v":{"$error":"#NAME?"}},{"$f":"IF(ISNUMBER(L1032),IF((OFFSET(Q1032,-Q1032,0)>50),SUM(OFFSET(G1032,-Q1032+1,0):G1032),SUM(OFFSET(G1032,-Q1032,0):G1032)),\"\")","v":""},null,null,{"$error":"#NAME?"},{"$f":"ROUND((A1032-StartOfFinYear(P1032))/7,0)","v":{"$error":"#NAME?"}}]
["2007-05-30",null,null,null,0,{"$f":"IF(SUM($B$7:$B1033)=0,\"\",IF(A1033<>\"\",IF(A1033<$B$3,\"N\",\"Y\"),\"\"))","v":""},{"$f":"IF(F1033=\"N\",0,IF(A1033<>\"\",IF(K1033>=0,((E1033+I1032)*(1+(H1033/52)/100)-E1033-I1032),0),\"\"))","v":0},9.52,{"$f":"IF(A1033<>\"\",I1032+E1033+G1033,\"\")","v":0},null,568,{"$f":"IF(AND(ISNUMBER(A1033),NOT(ISNUMBER(A1034))),IF((OFFSET(Q1033,-Q1033,0)>50),SUM(OFFSET(E1033,-Q1033+1,0):E1033),SUM(OFFSET(E1033,-Q1033,0):E1033)),IF(AND(ISNUMBER(P1033),ISNUMBER(P1034),P1033  <P1034),IF((OFFSET(Q1033,-Q1033,0)>50),SUM(OFFSET(E1033,-Q1033+1,0):E1033),SUM(OFFSET(E1033,-Q1033,0):E1033)),\"\"))","v":{"$error":"#NAME?"}},{"$f":"IF(ISNUMBER(L1033),IF((OFFSET(Q1033,-Q1033,0)>50),SUM(OFFSET(G1033,-Q1033+1,0):G1033),SUM(OFFSET(G1033,-Q1033,0):G1033)),\"\")","v":""},null,null,{"$error":"#NAME?"},{"$error":"#NAME?"}]
[{"$f":"IF(A1033<>\"\",IF(A1033+12<=TODAY(),+A1033+7,\"\"),\"\")","v":"2007-06-06"},null,null,null,0,{"$f":"IF(SUM($B$7:$B1034)=0,\"\",IF(A1034<>\"\",IF(A1034<$B$3,\"N\",\"Y\"),\"\"))","v":""},0,9.52,0,null,567,{"$f":"IF(AND(ISNUMBER(A1034),NOT(ISNUMBER(A1035))),IF((OFFSET(Q1034,-Q1034,0)>50),SUM(OFFSET(E1034,-Q1034+1,0):E1034),SUM(OFFSET(E1034,-Q1034,0):E1034)),IF(AND(ISNUMBER(P1034),ISNUMBER(P1035),P1034  <P1035),IF((OFFSET(Q1034,-Q1034,0)>50),SUM(OFFSET(E1034,-Q1034+1,0):E1034),SUM(OFFSET(E1034,-Q1034,0):E1034)),\"\"))","v":{"$error":"#NAME?"}},{"$f":"IF(ISNUMBER(L1034),IF((OFFSET(Q1034,-Q1034,0)>50),SUM(OFFSET(G1034,-Q1034+1,0):G1034),SUM(OFFSET(G1034,-Q1034,0):G1034)),\"\")","v":""},null,null,{"$error":"#NAME?"},{"$error":"#NAME?"}]
["2007-06-13",null,null,null,0,{"$f":"IF(SUM($B$7:$B1035)=0,\"\",IF(A1035<>\"\",IF(A1035<$B$3,\"N\",\"Y\"),\"\"))","v":""},0,9.52,0,null,566,{"$f":"IF(AND(ISNUMBER(A1035),NOT(ISNUMBER(A1036))),IF((OFFSET(Q1035,-Q1035,0)>50),SUM(OFFSET(E1035,-Q1035+1,0):E1035),SUM(OFFSET(E1035,-Q1035,0):E1035)),IF(AND(ISNUMBER(P1035),ISNUMBER(P1036),P1035  <P1036),IF((OFFSET(Q1035,-Q1035,0)>50),SUM(OFFSET(E1035,-Q1035+1,0):E1035),SUM(OFFSET(E1035,-Q1035,0):E1035)),\"\"))","v":{"$error":"#NAME?"}},{"$f":"IF(ISNUMBER(L1035),IF((OFFSET(Q1035,-Q1035,0)>50),SUM(OFFSET(G1035,-Q1035+1,0):G1035),SUM(OFFSET(G1035,-Q1035,0):G1035)),\"\")","v":""},null,null,{"$error":"#NAME?"},{"$error":"#NAME?"}]
["2007-06-20",null,null,null,0,{"$f":"IF(SUM($B$7:$B1036)=0,\"\",IF(A1036<>\"\",IF(A1036<$B$3,\"N\",\"Y\"),\"\"))","v":""},0,9.52,0,null,565,{"$f":"IF(AND(ISNUMBER(A1036),NOT(ISNUMBER(A1037))),IF((OFFSET(Q1036,-Q1036,0)>50),SUM(OFFSET(E1036,-Q1036+1,0):E1036),SUM(OFFSET(E1036,-Q1036,0):E1036)),IF(AND(ISNUMBER(P1036),ISNUMBER(P1037),P1036  <P1037),IF((OFFSET(Q1036,-Q1036,0)>50),SUM(OFFSET(E1036,-Q1036+1,0):E1036),SUM(OFFSET(E1036,-Q1036,0):E1036)),\"\"))","v":{"$error":"#NAME?"}},{"$f":"IF(ISNUMBER(L1036),IF((OFFSET(Q1036,-Q1036,0)>50),SUM(OFFSET(G1036,-Q1036+1,0):G1036),SUM(OFFSET(G1036,-Q1036,0):G1036)),\"\")","v":""},null,null,{"$error":"#NAME?"},{"$error":"#NAME?"}]
["2007-06-27",null,null,null,0,{"$f":"IF(SUM($B$7:$B1037)=0,\"\",IF(A1037<>\"\",IF(A1037<$B$3,\"N\",\"Y\"),\"\"))","v":""},0,9.52,0,null,564,{"$f":"IF(AND(ISNUMBER(A1037),NOT(ISNUMBER(A1038))),IF((OFFSET(Q1037,-Q1037,0)>50),SUM(OFFSET(E1037,-Q1037+1,0):E1037),SUM(OFFSET(E1037,-Q1037,0):E1037)),IF(AND(ISNUMBER(P1037),ISNUMBER(P1038),P1037  <P1038),IF((OFFSET(Q1037,-Q1037,0)>50),SUM(OFFSET(E1037,-Q1037+1,0):E1037),SUM(OFFSET(E1037,-Q1037,0):E1037)),\"\"))","v":{"$error":"#NAME?"}},{"$f":"IF(ISNUMBER(L1037),IF((OFFSET(Q1037,-Q1037,0)>50),SUM(OFFSET(G1037,-Q1037+1,0):G1037),SUM(OFFSET(G1037,-Q1037,0):G1037)),\"\")","v":""},null,null,{"$f":"IF(ISNUMBER(A1037),FinYear(A1037),\"\")","v":{"$error":"#NAME?"}},{"$error":"#NAME?"}]
["2007-07-04",null,null,null,{"$f":"IF(A1038<>\"\",IF(B1038-C1038>=0,B1038-C1038,0),\"\")","v":0},{"$f":"IF(SUM($B$7:$B1038)=0,\"\",IF(A1038<>\"\",IF(A1038<$B$3,\"N\",\"Y\"),\"\"))","v":""},0,{"$f":"IF(A1038<>\"\",10.16,\"\")","v":10.16},0,null,563,{"$f":"IF(AND(ISNUMBER(A1038),NOT(ISNUMBER(A1039))),IF((OFFSET(Q1038,-Q1038,0)>50),SUM(OFFSET(E1038,-Q1038+1,0):E1038),SUM(OFFSET(E1038,-Q1038,0):E1038)),IF(AND(ISNUMBER(P1038),ISNUMBER(P1039),P1038  <P1039),IF((OFFSET(Q1038,-Q1038,0)>50),SUM(OFFSET(E1038,-Q1038+1,0):E1038),SUM(OFFSET(E1038,-Q1038,0):E1038)),\"\"))","v":{"$error":"#NAME?"}},{"$f":"IF(ISNUMBER(L1038),IF((OFFSET(Q1038,-Q1038,0)>50),SUM(OFFSET(G1038,-Q1038+1,0):G1038),SUM(OFFSET(G1038,-Q1038,0):G1038)),\"\")","v":""},null,null,{"$f":"IF(ISNUMBER(A1038),FinYear(A1038),\"\")","v":{"$error":"#NAME?"}},{"$f":"ROUND((A1038-StartOfFinYear(P1038))/7,0)","v":{"$error":"#NAME?"}}]
["2007-07-11",null,null,null,{"$f":"IF(A1039<>\"\",IF(B1039-C1039>=0,B1039-C1039,0),\"\")","v":0},{"$f":"IF(SUM($B$7:$B1039)=0,\"\",IF(A1039<>\"\",IF(A1039<$B$3,\"N\",\"Y\"),\"\"))","v":""},0,{"$f":"IF(A1039<>\"\",10.16,\"\")","v":10.16},0,null,562,{"$f":"IF(AND(ISNUMBER(A1039),NOT(ISNUMBER(A1040))),IF((OFFSET(Q1039,-Q1039,0)>50),SUM(OFFSET(E1039,-Q1039+1,0):E1039),SUM(OFFSET(E1039,-Q1039,0):E1039)),IF(AND(ISNUMBER(P1039),ISNUMBER(P1040),P1039  <P1040),IF((OFFSET(Q1039,-Q1039,0)>50),SUM(OFFSET(E1039,-Q1039+1,0):E1039),SUM(OFFSET(E1039,-Q1039,0):E1039)),\"\"))","v":{"$error":"#NAME?"}},{"$f":"IF(ISNUMBER(L1039),IF((OFFSET(Q1039,-Q1039,0)>50),SUM(OFFSET(G1039,-Q1039+1,0):G1039),SUM(OFFSET(G1039,-Q1039,0):G1039)),\"\")","v":""},null,null,{"$error":"#NAME?"},{"$error":"#NAME?"}]
["2007-07-18",null,null,null,0,{"$f":"IF(SUM($B$7:$B1040)=0,\"\",IF(A1040<>\"\",IF(A1040<$B$3,\"N\",\"Y\"),\"\"))","v":""},0,10.16,0,null,561,{"$f":"IF(AND(ISNUMBER(A1040),NOT(ISNUMBER(A1041))),IF((OFFSET(Q1040,-Q1040,0)>50),SUM(OFFSET(E1040,-Q1040+1,0):E1040),SUM(OFFSET(E1040,-Q1040,0):E1040)),IF(AND(ISNUMBER(P1040),ISNUMBER(P1041),P1040  <P1041),IF((OFFSET(Q1040,-Q1040,0)>50),SUM(OFFSET(E1040,-Q1040+1,0):E1040),SUM(OFFSET(E1040,-Q1040,0):E1040)),\"\"))","v":{"$error":"#NAME?"}},{"$f":"IF(ISNUMBER(L1040),IF((OFFSET(Q1040,-Q1040,0)>50),SUM(OFFSET(G1040,-Q1040+1,0):G1040),SUM(OFFSET(G1040,-Q1040,0):G1040)),\"\")","v":""},null,null,{"$error":"#NAME?"},{"$error":"#NAME?"}]
["2007-07-25",null,null,null,0,{"$f":"IF(SUM($B$7:$B1041)=0,\"\",IF(A1041<>\"\",IF(A1041<$B$3,\"N\",\"Y\"),\"\"))","v":""},0,10.16,0,null,560,{"$f":"IF(AND(ISNUMBER(A1041),NOT(ISNUMBER(A1042))),IF((OFFSET(Q1041,-Q1041,0)>50),SUM(OFFSET(E1041,-Q1041+1,0):E1041),SUM(OFFSET(E1041,-Q1041,0):E1041)),IF(AND(ISNUMBER(P1041),ISNUMBER(P1042),P1041  <P1042),IF((OFFSET(Q1041,-Q1041,0)>50),SUM(OFFSET(E1041,-Q1041+1,0):E1041),SUM(OFFSET(E1041,-Q1041,0):E1041)),\"\"))","v":{"$error":"#NAME?"}},{"$f":"IF(ISNUMBER(L1041),IF((OFFSET(Q1041,-Q1041,0)>50),SUM(OFFSET(G1041,-Q1041+1,0):G1041),SUM(OFFSET(G1041,-Q1041,0):G1041)),\"\")","v":""},null,null,{"$error":"#NAME?"},{"$error":"#NAME?"}]
["2007-08-01",null,null,null,0,{"$f":"IF(SUM($B$7:$B1042)=0,\"\",IF(A1042<>\"\",IF(A1042<$B$3,\"N\",\"Y\"),\"\"))","v":""},0,10.16,0,null,559,{"$f":"IF(AND(ISNUMBER(A1042),NOT(ISNUMBER(A1043))),IF((OFFSET(Q1042,-Q1042,0)>50),SUM(OFFSET(E1042,-Q1042+1,0):E1042),SUM(OFFSET(E1042,-Q1042,0):E1042)),IF(AND(ISNUMBER(P1042),ISNUMBER(P1043),P1042  <P1043),IF((OFFSET(Q1042,-Q1042,0)>50),SUM(OFFSET(E1042,-Q1042+1,0):E1042),SUM(OFFSET(E1042,-Q1042,0):E1042)),\"\"))","v":{"$error":"#NAME?"}},{"$f":"IF(ISNUMBER(L1042),IF((OFFSET(Q1042,-Q1042,0)>50),SUM(OFFSET(G1042,-Q1042+1,0):G1042),SUM(OFFSET(G1042,-Q1042,0):G1042)),\"\")","v":""},null,null,{"$error":"#NAME?"},{"$error":"#NAME?"}]
["2007-08-08",null,null,null,0,{"$f":"IF(SUM($B$7:$B1043)=0,\"\",IF(A1043<>\"\",IF(A1043<$B$3,\"N\",\"Y\"),\"\"))","v":""},0,10.16,0,null,558,{"$f":"IF(AND(ISNUMBER(A1043),NOT(ISNUMBER(A1044))),IF((OFFSET(Q1043,-Q1043,0)>50),SUM(OFFSET(E1043,-Q1043+1,0):E1043),SUM(OFFSET(E1043,-Q1043,0):E1043)),IF(AND(ISNUMBER(P1043),ISNUMBER(P1044),P1043  <P1044),IF((OFFSET(Q1043,-Q1043,0)>50),SUM(OFFSET(E1043,-Q1043+1,0):E1043),SUM(OFFSET(E1043,-Q1043,0):E1043)),\"\"))","v":{"$error":"#NAME?"}},{"$f":"IF(ISNUMBER(L1043),IF((OFFSET(Q1043,-Q1043,0)>50),SUM(OFFSET(G1043,-Q1043+1,0):G1043),SUM(OFFSET(G1043,-Q1043,0):G1043)),\"\")","v":""},null,null,{"$error":"#NAME?"},{"$error":"#NAME?"}]
["2007-08-15",null,null,null,0,{"$f":"IF(SUM($B$7:$B1044)=0,\"\",IF(A1044<>\"\",IF(A1044<$B$3,\"N\",\"Y\"),\"\"))","v":""},0,10.16,0,null,557,{"$f":"IF(AND(ISNUMBER(A1044),NOT(ISNUMBER(A1045))),IF((OFFSET(Q1044,-Q1044,0)>50),SUM(OFFSET(E1044,-Q1044+1,0):E1044),SUM(OFFSET(E1044,-Q1044,0):E1044)),IF(AND(ISNUMBER(P1044),ISNUMBER(P1045),P1044  <P1045),IF((OFFSET(Q1044,-Q1044,0)>50),SUM(OFFSET(E1044,-Q1044+1,0):E1044),SUM(OFFSET(E1044,-Q1044,0):E1044)),\"\"))","v":{"$error":"#NAME?"}},{"$f":"IF(ISNUMBER(L1044),IF((OFFSET(Q1044,-Q1044,0)>50),SUM(OFFSET(G1044,-Q1044+1,0):G1044),SUM(OFFSET(G1044,-Q1044,0):G1044)),\"\")","v":""},null,null,{"$error":"#NAME?"},{"$error":"#NAME?"}]
["2007-08-22",null,null,null,0,{"$f":"IF(SUM($B$7:$B1045)=0,\"\",IF(A1045<>\"\",IF(A1045<$B$3,\"N\",\"Y\"),\"\"))","v":""},0,10.16,0,null,556,{"$f":"IF(AND(ISNUMBER(A1045),NOT(ISNUMBER(A1046))),IF((OFFSET(Q1045,-Q1045,0)>50),SUM(OFFSET(E1045,-Q1045+1,0):E1045),SUM(OFFSET(E1045,-Q1045,0):E1045)),IF(AND(ISNUMBER(P1045),ISNUMBER(P1046),P1045  <P1046),IF((OFFSET(Q1045,-Q1045,0)>50),SUM(OFFSET(E1045,-Q1045+1,0):E1045),SUM(OFFSET(E1045,-Q1045,0):E1045)),\"\"))","v":{"$error":"#NAME?"}},{"$f":"IF(ISNUMBER(L1045),IF((OFFSET(Q1045,-Q1045,0)>50),SUM(OFFSET(G1045,-Q1045+1,0):G1045),SUM(OFFSET(G1045,-Q1045,0):G1045)),\"\")","v":""},null,null,{"$error":"#NAME?"},{"$error":"#NAME?"}]
["2007-08-29",null,null,null,0,{"$f":"IF(SUM($B$7:$B1046)=0,\"\",IF(A1046<>\"\",IF(A1046<$B$3,\"N\",\"Y\"),\"\"))","v":""},0,10.16,0,null,555,{"$f":"IF(AND(ISNUMBER(A1046),NOT(ISNUMBER(A1047))),IF((OFFSET(Q1046,-Q1046,0)>50),SUM(OFFSET(E1046,-Q1046+1,0):E1046),SUM(OFFSET(E1046,-Q1046,0):E1046)),IF(AND(ISNUMBER(P1046),ISNUMBER(P1047),P1046  <P1047),IF((OFFSET(Q1046,-Q1046,0)>50),SUM(OFFSET(E1046,-Q1046+1,0):E1046),SUM(OFFSET(E1046,-Q1046,0):E1046)),\"\"))","v":{"$error":"#NAME?"}},{"$f":"IF(ISNUMBER(L1046),IF((OFFSET(Q1046,-Q1046,0)>50),SUM(OFFSET(G1046,-Q1046+1,0):G1046),SUM(OFFSET(G1046,-Q1046,0):G1046)),\"\")","v":""},null,null,{"$error":"#NAME?"},{"$error":"#NAME?"}]
["2007-09-05",null,null,null,0,{"$f":"IF(SUM($B$7:$B1047)=0,\"\",IF(A1047<>\"\",IF(A1047<$B$3,\"N\",\"Y\"),\"\"))","v":""},0,10.16,0,null,554,{"$f":"IF(AND(ISNUMBER(A1047),NOT(ISNUMBER(A1048))),IF((OFFSET(Q1047,-Q1047,0)>50),SUM(OFFSET(E1047,-Q1047+1,0):E1047),SUM(OFFSET(E1047,-Q1047,0):E1047)),IF(AND(ISNUMBER(P1047),ISNUMBER(P1048),P1047  <P1048),IF((OFFSET(Q1047,-Q1047,0)>50),SUM(OFFSET(E1047,-Q1047+1,0):E1047),SUM(OFFSET(E1047,-Q1047,0):E1047)),\"\"))","v":{"$error":"#NAME?"}},{"$f":"IF(ISNUMBER(L1047),IF((OFFSET(Q1047,-Q1047,0)>50),SUM(OFFSET(G1047,-Q1047+1,0):G1047),SUM(OFFSET(G1047,-Q1047,0):G1047)),\"\")","v":""},null,null,{"$error":"#NAME?"},{"$error":"#NAME?"}]
["2007-09-12",null,null,null,0,{"$f":"IF(SUM($B$7:$B1048)=0,\"\",IF(A1048<>\"\",IF(A1048<$B$3,\"N\",\"Y\"),\"\"))","v":""},0,10.16,0,null,553,{"$f":"IF(AND(ISNUMBER(A1048),NOT(ISNUMBER(A1049))),IF((OFFSET(Q1048,-Q1048,0)>50),SUM(OFFSET(E1048,-Q1048+1,0):E1048),SUM(OFFSET(E1048,-Q1048,0):E1048)),IF(AND(ISNUMBER(P1048),ISNUMBER(P1049),P1048  <P1049),IF((OFFSET(Q1048,-Q1048,0)>50),SUM(OFFSET(E1048,-Q1048+1,0):E1048),SUM(OFFSET(E1048,-Q1048,0):E1048)),\"\"))","v":{"$error":"#NAME?"}},{"$f":"IF(ISNUMBER(L1048),IF((OFFSET(Q1048,-Q1048,0)>50),SUM(OFFSET(G1048,-Q1048+1,0):G1048),SUM(OFFSET(G1048,-Q1048,0):G1048)),\"\")","v":""},null,null,{"$error":"#NAME?"},{"$error":"#NAME?"}]
["2007-09-19",null,null,null,0,{"$f":"IF(SUM($B$7:$B1049)=0,\"\",IF(A1049<>\"\",IF(A1049<$B$3,\"N\",\"Y\"),\"\"))","v":""},0,10.16,0,null,552,{"$f":"IF(AND(ISNUMBER(A1049),NOT(ISNUMBER(A1050))),IF((OFFSET(Q1049,-Q1049,0)>50),SUM(OFFSET(E1049,-Q1049+1,0):E1049),SUM(OFFSET(E1049,-Q1049,0):E1049)),IF(AND(ISNUMBER(P1049),ISNUMBER(P1050),P1049  <P1050),IF((OFFSET(Q1049,-Q1049,0)>50),SUM(OFFSET(E1049,-Q1049+1,0):E1049),SUM(OFFSET(E1049,-Q1049,0):E1049)),\"\"))","v":{"$error":"#NAME?"}},{"$f":"IF(ISNUMBER(L1049),IF((OFFSET(Q1049,-Q1049,0)>50),SUM(OFFSET(G1049,-Q1049+1,0):G1049),SUM(OFFSET(G1049,-Q1049,0):G1049)),\"\")","v":""},null,null,{"$error":"#NAME?"},{"$error":"#NAME?"}]
["2007-09-26",null,null,null,0,{"$f":"IF(SUM($B$7:$B1050)=0,\"\",IF(A1050<>\"\",IF(A1050<$B$3,\"N\",\"Y\"),\"\"))","v":""},0,10.16,0,null,551,{"$f":"IF(AND(ISNUMBER(A1050),NOT(ISNUMBER(A1051))),IF((OFFSET(Q1050,-Q1050,0)>50),SUM(OFFSET(E1050,-Q1050+1,0):E1050),SUM(OFFSET(E1050,-Q1050,0):E1050)),IF(AND(ISNUMBER(P1050),ISNUMBER(P1051),P1050  <P1051),IF((OFFSET(Q1050,-Q1050,0)>50),SUM(OFFSET(E1050,-Q1050+1,0):E1050),SUM(OFFSET(E1050,-Q1050,0):E1050)),\"\"))","v":{"$error":"#NAME?"}},{"$f":"IF(ISNUMBER(L1050),IF((OFFSET(Q1050,-Q1050,0)>50),SUM(OFFSET(G1050,-Q1050+1,0):G1050),SUM(OFFSET(G1050,-Q1050,0):G1050)),\"\")","v":""},null,null,{"$error":"#NAME?"},{"$error":"#NAME?"}]
["2007-10-03",null,null,null,0,{"$f":"IF(SUM($B$7:$B1051)=0,\"\",IF(A1051<>\"\",IF(A1051<$B$3,\"N\",\"Y\"),\"\"))","v":""},0,10.16,0,null,550,{"$f":"IF(AND(ISNUMBER(A1051),NOT(ISNUMBER(A1052))),IF((OFFSET(Q1051,-Q1051,0)>50),SUM(OFFSET(E1051,-Q1051+1,0):E1051),SUM(OFFSET(E1051,-Q1051,0):E1051)),IF(AND(ISNUMBER(P1051),ISNUMBER(P1052),P1051  <P1052),IF((OFFSET(Q1051,-Q1051,0)>50),SUM(OFFSET(E1051,-Q1051+1,0):E1051),SUM(OFFSET(E1051,-Q1051,0):E1051)),\"\"))","v":{"$error":"#NAME?"}},{"$f":"IF(ISNUMBER(L1051),IF((OFFSET(Q1051,-Q1051,0)>50),SUM(OFFSET(G1051,-Q1051+1,0):G1051),SUM(OFFSET(G1051,-Q1051,0):G1051)),\"\")","v":""},null,null,{"$error":"#NAME?"},{"$error":"#NAME?"}]
["2007-10-10",null,null,null,0,{"$f":"IF(SUM($B$7:$B1052)=0,\"\",IF(A1052<>\"\",IF(A1052<$B$3,\"N\",\"Y\"),\"\"))","v":""},0,10.16,0,null,549,{"$f":"IF(AND(ISNUMBER(A1052),NOT(ISNUMBER(A1053))),IF((OFFSET(Q1052,-Q1052,0)>50),SUM(OFFSET(E1052,-Q1052+1,0):E1052),SUM(OFFSET(E1052,-Q1052,0):E1052)),IF(AND(ISNUMBER(P1052),ISNUMBER(P1053),P1052  <P1053),IF((OFFSET(Q1052,-Q1052,0)>50),SUM(OFFSET(E1052,-Q1052+1,0):E1052),SUM(OFFSET(E1052,-Q1052,0):E1052)),\"\"))","v":{"$error":"#NAME?"}},{"$f":"IF(ISNUMBER(L1052),IF((OFFSET(Q1052,-Q1052,0)>50),SUM(OFFSET(G1052,-Q1052+1,0):G1052),SUM(OFFSET(G1052,-Q1052,0):G1052)),\"\")","v":""},null,null,{"$error":"#NAME?"},{"$error":"#NAME?"}]
["2007-10-17",null,null,null,0,{"$f":"IF(SUM($B$7:$B1053)=0,\"\",IF(A1053<>\"\",IF(A1053<$B$3,\"N\",\"Y\"),\"\"))","v":""},0,10.16,0,null,548,{"$f":"IF(AND(ISNUMBER(A1053),NOT(ISNUMBER(A1054))),IF((OFFSET(Q1053,-Q1053,0)>50),SUM(OFFSET(E1053,-Q1053+1,0):E1053),SUM(OFFSET(E1053,-Q1053,0):E1053)),IF(AND(ISNUMBER(P1053),ISNUMBER(P1054),P1053  <P1054),IF((OFFSET(Q1053,-Q1053,0)>50),SUM(OFFSET(E1053,-Q1053+1,0):E1053),SUM(OFFSET(E1053,-Q1053,0):E1053)),\"\"))","v":{"$error":"#NAME?"}},{"$f":"IF(ISNUMBER(L1053),IF((OFFSET(Q1053,-Q1053,0)>50),SUM(OFFSET(G1053,-Q1053+1,0):G1053),SUM(OFFSET(G1053,-Q1053,0):G1053)),\"\")","v":""},null,null,{"$error":"#NAME?"},{"$error":"#NAME?"}]
["2007-10-24",null,null,null,0,{"$f":"IF(SUM($B$7:$B1054)=0,\"\",IF(A1054<>\"\",IF(A1054<$B$3,\"N\",\"Y\"),\"\"))","v":""},0,10.16,0,null,547,{"$f":"IF(AND(ISNUMBER(A1054),NOT(ISNUMBER(A1055))),IF((OFFSET(Q1054,-Q1054,0)>50),SUM(OFFSET(E1054,-Q1054+1,0):E1054),SUM(OFFSET(E1054,-Q1054,0):E1054)),IF(AND(ISNUMBER(P1054),ISNUMBER(P1055),P1054  <P1055),IF((OFFSET(Q1054,-Q1054,0)>50),SUM(OFFSET(E1054,-Q1054+1,0):E1054),SUM(OFFSET(E1054,-Q1054,0):E1054)),\"\"))","v":{"$error":"#NAME?"}},{"$f":"IF(ISNUMBER(L1054),IF((OFFSET(Q1054,-Q1054,0)>50),SUM(OFFSET(G1054,-Q1054+1,0):G1054),SUM(OFFSET(G1054,-Q1054,0):G1054)),\"\")","v":""},null,null,{"$error":"#NAME?"},{"$error":"#NAME?"}]
["2007-10-31",null,null,null,0,{"$f":"IF(SUM($B$7:$B1055)=0,\"\",IF(A1055<>\"\",IF(A1055<$B$3,\"N\",\"Y\"),\"\"))","v":""},0,10.16,0,null,546,{"$f":"IF(AND(ISNUMBER(A1055),NOT(ISNUMBER(A1056))),IF((OFFSET(Q1055,-Q1055,0)>50),SUM(OFFSET(E1055,-Q1055+1,0):E1055),SUM(OFFSET(E1055,-Q1055,0):E1055)),IF(AND(ISNUMBER(P1055),ISNUMBER(P1056),P1055  <P1056),IF((OFFSET(Q1055,-Q1055,0)>50),SUM(OFFSET(E1055,-Q1055+1,0):E1055),SUM(OFFSET(E1055,-Q1055,0):E1055)),\"\"))","v":{"$error":"#NAME?"}},{"$f":"IF(ISNUMBER(L1055),IF((OFFSET(Q1055,-Q1055,0)>50),SUM(OFFSET(G1055,-Q1055+1,0):G1055),SUM(OFFSET(G1055,-Q1055,0):G1055)),\"\")","v":""},null,null,{"$error":"#NAME?"},{"$error":"#NAME?"}]
["2007-11-07",null,null,null,0,{"$f":"IF(SUM($B$7:$B1056)=0,\"\",IF(A1056<>\"\",IF(A1056<$B$3,\"N\",\"Y\"),\"\"))","v":""},0,10.16,0,null,545,{"$f":"IF(AND(ISNUMBER(A1056),NOT(ISNUMBER(A1057))),IF((OFFSET(Q1056,-Q1056,0)>50),SUM(OFFSET(E1056,-Q1056+1,0):E1056),SUM(OFFSET(E1056,-Q1056,0):E1056)),IF(AND(ISNUMBER(P1056),ISNUMBER(P1057),P1056  <P1057),IF((OFFSET(Q1056,-Q1056,0)>50),SUM(OFFSET(E1056,-Q1056+1,0):E1056),SUM(OFFSET(E1056,-Q1056,0):E1056)),\"\"))","v":{"$error":"#NAME?"}},{"$f":"IF(ISNUMBER(L1056),IF((OFFSET(Q1056,-Q1056,0)>50),SUM(OFFSET(G1056,-Q1056+1,0):G1056),SUM(OFFSET(G1056,-Q1056,0):G1056)),\"\")","v":""},null,null,{"$error":"#NAME?"},{"$error":"#NAME?"}]
["2007-11-14",null,null,null,0,{"$f":"IF(SUM($B$7:$B1057)=0,\"\",IF(A1057<>\"\",IF(A1057<$B$3,\"N\",\"Y\"),\"\"))","v":""},0,10.16,0,null,{"$f":"IF(A1057<>\"\",IF((TODAY()-A1057)/7>=0,INT((TODAY()-A1057)/7),0),\"\")","v":544},{"$f":"IF(AND(ISNUMBER(A1057),NOT(ISNUMBER(A1058))),IF((OFFSET(Q1057,-Q1057,0)>50),SUM(OFFSET(E1057,-Q1057+1,0):E1057),SUM(OFFSET(E1057,-Q1057,0):E1057)),IF(AND(ISNUMBER(P1057),ISNUMBER(P1058),P1057  <P1058),IF((OFFSET(Q1057,-Q1057,0)>50),SUM(OFFSET(E1057,-Q1057+1,0):E1057),SUM(OFFSET(E1057,-Q1057,0):E1057)),\"\"))","v":{"$error":"#NAME?"}},{"$f":"IF(ISNUMBER(L1057),IF((OFFSET(Q1057,-Q1057,0)>50),SUM(OFFSET(G1057,-Q1057+1,0):G1057),SUM(OFFSET(G1057,-Q1057,0):G1057)),\"\")","v":""},null,null,{"$error":"#NAME?"},{"$error":"#NAME?"}]
["2007-11-21",null,null,null,0,{"$f":"IF(SUM($B$7:$B1058)=0,\"\",IF(A1058<>\"\",IF(A1058<$B$3,\"N\",\"Y\"),\"\"))","v":""},0,10.16,0,null,{"$f":"IF(A1058<>\"\",IF((TODAY()-A1058)/7>=0,INT((TODAY()-A1058)/7),0),\"\")","v":543},{"$f":"IF(AND(ISNUMBER(A1058),NOT(ISNUMBER(A1059))),IF((OFFSET(Q1058,-Q1058,0)>50),SUM(OFFSET(E1058,-Q1058+1,0):E1058),SUM(OFFSET(E1058,-Q1058,0):E1058)),IF(AND(ISNUMBER(P1058),ISNUMBER(P1059),P1058  <P1059),IF((OFFSET(Q1058,-Q1058,0)>50),SUM(OFFSET(E1058,-Q1058+1,0):E1058),SUM(OFFSET(E1058,-Q1058,0):E1058)),\"\"))","v":{"$error":"#NAME?"}},{"$f":"IF(ISNUMBER(L1058),IF((OFFSET(Q1058,-Q1058,0)>50),SUM(OFFSET(G1058,-Q1058+1,0):G1058),SUM(OFFSET(G1058,-Q1058,0):G1058)),\"\")","v":""},null,null,{"$error":"#NAME?"},{"$error":"#NAME?"}]
["2007-11-28",null,null,null,0,{"$f":"IF(SUM($B$7:$B1059)=0,\"\",IF(A1059<>\"\",IF(A1059<$B$3,\"N\",\"Y\"),\"\"))","v":""},0,10.16,0,null,542,{"$f":"IF(AND(ISNUMBER(A1059),NOT(ISNUMBER(A1060))),IF((OFFSET(Q1059,-Q1059,0)>50),SUM(OFFSET(E1059,-Q1059+1,0):E1059),SUM(OFFSET(E1059,-Q1059,0):E1059)),IF(AND(ISNUMBER(P1059),ISNUMBER(P1060),P1059  <P1060),IF((OFFSET(Q1059,-Q1059,0)>50),SUM(OFFSET(E1059,-Q1059+1,0):E1059),SUM(OFFSET(E1059,-Q1059,0):E1059)),\"\"))","v":{"$error":"#NAME?"}},{"$f":"IF(ISNUMBER(L1059),IF((OFFSET(Q1059,-Q1059,0)>50),SUM(OFFSET(G1059,-Q1059+1,0):G1059),SUM(OFFSET(G1059,-Q1059,0):G1059)),\"\")","v":""},null,null,{"$error":"#NAME?"},{"$error":"#NAME?"}]
["2007-12-05",null,null,null,0,{"$f":"IF(SUM($B$7:$B1060)=0,\"\",IF(A1060<>\"\",IF(A1060<$B$3,\"N\",\"Y\"),\"\"))","v":""},0,10.16,0,null,541,{"$f":"IF(AND(ISNUMBER(A1060),NOT(ISNUMBER(A1061))),IF((OFFSET(Q1060,-Q1060,0)>50),SUM(OFFSET(E1060,-Q1060+1,0):E1060),SUM(OFFSET(E1060,-Q1060,0):E1060)),IF(AND(ISNUMBER(P1060),ISNUMBER(P1061),P1060  <P1061),IF((OFFSET(Q1060,-Q1060,0)>50),SUM(OFFSET(E1060,-Q1060+1,0):E1060),SUM(OFFSET(E1060,-Q1060,0):E1060)),\"\"))","v":{"$error":"#NAME?"}},{"$f":"IF(ISNUMBER(L1060),IF((OFFSET(Q1060,-Q1060,0)>50),SUM(OFFSET(G1060,-Q1060+1,0):G1060),SUM(OFFSET(G1060,-Q1060,0):G1060)),\"\")","v":""},null,null,{"$error":"#NAME?"},{"$error":"#NAME?"}]
["2007-12-12",null,null,null,0,{"$f":"IF(SUM($B$7:$B1061)=0,\"\",IF(A1061<>\"\",IF(A1061<$B$3,\"N\",\"Y\"),\"\"))","v":""},0,10.16,0,null,540,{"$f":"IF(AND(ISNUMBER(A1061),NOT(ISNUMBER(A1062))),IF((OFFSET(Q1061,-Q1061,0)>50),SUM(OFFSET(E1061,-Q1061+1,0):E1061),SUM(OFFSET(E1061,-Q1061,0):E1061)),IF(AND(ISNUMBER(P1061),ISNUMBER(P1062),P1061  <P1062),IF((OFFSET(Q1061,-Q1061,0)>50),SUM(OFFSET(E1061,-Q1061+1,0):E1061),SUM(OFFSET(E1061,-Q1061,0):E1061)),\"\"))","v":{"$error":"#NAME?"}},{"$f":"IF(ISNUMBER(L1061),IF((OFFSET(Q1061,-Q1061,0)>50),SUM(OFFSET(G1061,-Q1061+1,0):G1061),SUM(OFFSET(G1061,-Q1061,0):G1061)),\"\")","v":""},null,null,{"$error":"#NAME?"},{"$error":"#NAME?"}]
["2007-12-19",null,null,null,0,{"$f":"IF(SUM($B$7:$B1062)=0,\"\",IF(A1062<>\"\",IF(A1062<$B$3,\"N\",\"Y\"),\"\"))","v":""},0,10.16,0,null,539,{"$f":"IF(AND(ISNUMBER(A1062),NOT(ISNUMBER(A1063))),IF((OFFSET(Q1062,-Q1062,0)>50),SUM(OFFSET(E1062,-Q1062+1,0):E1062),SUM(OFFSET(E1062,-Q1062,0):E1062)),IF(AND(ISNUMBER(P1062),ISNUMBER(P1063),P1062  <P1063),IF((OFFSET(Q1062,-Q1062,0)>50),SUM(OFFSET(E1062,-Q1062+1,0):E1062),SUM(OFFSET(E1062,-Q1062,0):E1062)),\"\"))","v":{"$error":"#NAME?"}},{"$f":"IF(ISNUMBER(L1062),IF((OFFSET(Q1062,-Q1062,0)>50),SUM(OFFSET(G1062,-Q1062+1,0):G1062),SUM(OFFSET(G1062,-Q1062,0):G1062)),\"\")","v":""},null,null,{"$error":"#NAME?"},{"$error":"#NAME?"}]
["2007-12-26",null,null,null,0,{"$f":"IF(SUM($B$7:$B1063)=0,\"\",IF(A1063<>\"\",IF(A1063<$B$3,\"N\",\"Y\"),\"\"))","v":""},0,10.16,0,null,538,{"$f":"IF(AND(ISNUMBER(A1063),NOT(ISNUMBER(A1064))),IF((OFFSET(Q1063,-Q1063,0)>50),SUM(OFFSET(E1063,-Q1063+1,0):E1063),SUM(OFFSET(E1063,-Q1063,0):E1063)),IF(AND(ISNUMBER(P1063),ISNUMBER(P1064),P1063  <P1064),IF((OFFSET(Q1063,-Q1063,0)>50),SUM(OFFSET(E1063,-Q1063+1,0):E1063),SUM(OFFSET(E1063,-Q1063,0):E1063)),\"\"))","v":{"$error":"#NAME?"}},{"$f":"IF(ISNUMBER(L1063),IF((OFFSET(Q1063,-Q1063,0)>50),SUM(OFFSET(G1063,-Q1063+1,0):G1063),SUM(OFFSET(G1063,-Q1063,0):G1063)),\"\")","v":""},null,null,{"$error":"#NAME?"},{"$error":"#NAME?"}]
["2008-01-02",null,null,null,0,{"$f":"IF(SUM($B$7:$B1064)=0,\"\",IF(A1064<>\"\",IF(A1064<$B$3,\"N\",\"Y\"),\"\"))","v":""},0,10.16,0,null,537,{"$f":"IF(AND(ISNUMBER(A1064),NOT(ISNUMBER(A1065))),IF((OFFSET(Q1064,-Q1064,0)>50),SUM(OFFSET(E1064,-Q1064+1,0):E1064),SUM(OFFSET(E1064,-Q1064,0):E1064)),IF(AND(ISNUMBER(P1064),ISNUMBER(P1065),P1064  <P1065),IF((OFFSET(Q1064,-Q1064,0)>50),SUM(OFFSET(E1064,-Q1064+1,0):E1064),SUM(OFFSET(E1064,-Q1064,0):E1064)),\"\"))","v":{"$error":"#NAME?"}},{"$f":"IF(ISNUMBER(L1064),IF((OFFSET(Q1064,-Q1064,0)>50),SUM(OFFSET(G1064,-Q1064+1,0):G1064),SUM(OFFSET(G1064,-Q1064,0):G1064)),\"\")","v":""},null,null,{"$error":"#NAME?"},{"$error":"#NAME?"}]
["2008-01-09",null,null,null,0,{"$f":"IF(SUM($B$7:$B1065)=0,\"\",IF(A1065<>\"\",IF(A1065<$B$3,\"N\",\"Y\"),\"\"))","v":""},0,10.16,0,null,536,{"$f":"IF(AND(ISNUMBER(A1065),NOT(ISNUMBER(A1066))),IF((OFFSET(Q1065,-Q1065,0)>50),SUM(OFFSET(E1065,-Q1065+1,0):E1065),SUM(OFFSET(E1065,-Q1065,0):E1065)),IF(AND(ISNUMBER(P1065),ISNUMBER(P1066),P1065  <P1066),IF((OFFSET(Q1065,-Q1065,0)>50),SUM(OFFSET(E1065,-Q1065+1,0):E1065),SUM(OFFSET(E1065,-Q1065,0):E1065)),\"\"))","v":{"$error":"#NAME?"}},{"$f":"IF(ISNUMBER(L1065),IF((OFFSET(Q1065,-Q1065,0)>50),SUM(OFFSET(G1065,-Q1065+1,0):G1065),SUM(OFFSET(G1065,-Q1065,0):G1065)),\"\")","v":""},null,null,{"$error":"#NAME?"},{"$error":"#NAME?"}]
["2008-01-16",null,null,null,0,{"$f":"IF(SUM($B$7:$B1066)=0,\"\",IF(A1066<>\"\",IF(A1066<$B$3,\"N\",\"Y\"),\"\"))","v":""},0,10.16,0,null,535,{"$f":"IF(AND(ISNUMBER(A1066),NOT(ISNUMBER(A1067))),IF((OFFSET(Q1066,-Q1066,0)>50),SUM(OFFSET(E1066,-Q1066+1,0):E1066),SUM(OFFSET(E1066,-Q1066,0):E1066)),IF(AND(ISNUMBER(P1066),ISNUMBER(P1067),P1066  <P1067),IF((OFFSET(Q1066,-Q1066,0)>50),SUM(OFFSET(E1066,-Q1066+1,0):E1066),SUM(OFFSET(E1066,-Q1066,0):E1066)),\"\"))","v":{"$error":"#NAME?"}},{"$f":"IF(ISNUMBER(L1066),IF((OFFSET(Q1066,-Q1066,0)>50),SUM(OFFSET(G1066,-Q1066+1,0):G1066),SUM(OFFSET(G1066,-Q1066,0):G1066)),\"\")","v":""},null,null,{"$error":"#NAME?"},{"$error":"#NAME?"}]
["2008-01-23",null,null,null,0,{"$f":"IF(SUM($B$7:$B1067)=0,\"\",IF(A1067<>\"\",IF(A1067<$B$3,\"N\",\"Y\"),\"\"))","v":""},0,10.16,0,null,534,{"$f":"IF(AND(ISNUMBER(A1067),NOT(ISNUMBER(A1068))),IF((OFFSET(Q1067,-Q1067,0)>50),SUM(OFFSET(E1067,-Q1067+1,0):E1067),SUM(OFFSET(E1067,-Q1067,0):E1067)),IF(AND(ISNUMBER(P1067),ISNUMBER(P1068),P1067  <P1068),IF((OFFSET(Q1067,-Q1067,0)>50),SUM(OFFSET(E1067,-Q1067+1,0):E1067),SUM(OFFSET(E1067,-Q1067,0):E1067)),\"\"))","v":{"$error":"#NAME?"}},{"$f":"IF(ISNUMBER(L1067),IF((OFFSET(Q1067,-Q1067,0)>50),SUM(OFFSET(G1067,-Q1067+1,0):G1067),SUM(OFFSET(G1067,-Q1067,0):G1067)),\"\")","v":""},null,null,{"$error":"#NAME?"},{"$error":"#NAME?"}]
["2008-01-30",null,null,null,0,{"$f":"IF(SUM($B$7:$B1068)=0,\"\",IF(A1068<>\"\",IF(A1068<$B$3,\"N\",\"Y\"),\"\"))","v":""},0,10.16,0,null,533,{"$f":"IF(AND(ISNUMBER(A1068),NOT(ISNUMBER(A1069))),IF((OFFSET(Q1068,-Q1068,0)>50),SUM(OFFSET(E1068,-Q1068+1,0):E1068),SUM(OFFSET(E1068,-Q1068,0):E1068)),IF(AND(ISNUMBER(P1068),ISNUMBER(P1069),P1068  <P1069),IF((OFFSET(Q1068,-Q1068,0)>50),SUM(OFFSET(E1068,-Q1068+1,0):E1068),SUM(OFFSET(E1068,-Q1068,0):E1068)),\"\"))","v":{"$error":"#NAME?"}},{"$f":"IF(ISNUMBER(L1068),IF((OFFSET(Q1068,-Q1068,0)>50),SUM(OFFSET(G1068,-Q1068+1,0):G1068),SUM(OFFSET(G1068,-Q1068,0):G1068)),\"\")","v":""},null,null,{"$error":"#NAME?"},{"$error":"#NAME?"}]
["2008-02-06",null,null,null,0,{"$f":"IF(SUM($B$7:$B1069)=0,\"\",IF(A1069<>\"\",IF(A1069<$B$3,\"N\",\"Y\"),\"\"))","v":""},0,10.16,0,null,532,{"$f":"IF(AND(ISNUMBER(A1069),NOT(ISNUMBER(A1070))),IF((OFFSET(Q1069,-Q1069,0)>50),SUM(OFFSET(E1069,-Q1069+1,0):E1069),SUM(OFFSET(E1069,-Q1069,0):E1069)),IF(AND(ISNUMBER(P1069),ISNUMBER(P1070),P1069  <P1070),IF((OFFSET(Q1069,-Q1069,0)>50),SUM(OFFSET(E1069,-Q1069+1,0):E1069),SUM(OFFSET(E1069,-Q1069,0):E1069)),\"\"))","v":{"$error":"#NAME?"}},{"$f":"IF(ISNUMBER(L1069),IF((OFFSET(Q1069,-Q1069,0)>50),SUM(OFFSET(G1069,-Q1069+1,0):G1069),SUM(OFFSET(G1069,-Q1069,0):G1069)),\"\")","v":""},null,null,{"$error":"#NAME?"},{"$error":"#NAME?"}]
["2008-02-13",null,null,null,0,{"$f":"IF(SUM($B$7:$B1070)=0,\"\",IF(A1070<>\"\",IF(A1070<$B$3,\"N\",\"Y\"),\"\"))","v":""},0,10.16,0,null,531,{"$f":"IF(AND(ISNUMBER(A1070),NOT(ISNUMBER(A1071))),IF((OFFSET(Q1070,-Q1070,0)>50),SUM(OFFSET(E1070,-Q1070+1,0):E1070),SUM(OFFSET(E1070,-Q1070,0):E1070)),IF(AND(ISNUMBER(P1070),ISNUMBER(P1071),P1070  <P1071),IF((OFFSET(Q1070,-Q1070,0)>50),SUM(OFFSET(E1070,-Q1070+1,0):E1070),SUM(OFFSET(E1070,-Q1070,0):E1070)),\"\"))","v":{"$error":"#NAME?"}},{"$f":"IF(ISNUMBER(L1070),IF((OFFSET(Q1070,-Q1070,0)>50),SUM(OFFSET(G1070,-Q1070+1,0):G1070),SUM(OFFSET(G1070,-Q1070,0):G1070)),\"\")","v":""},null,null,{"$error":"#NAME?"},{"$error":"#NAME?"}]
["2008-02-20",null,null,null,0,{"$f":"IF(SUM($B$7:$B1071)=0,\"\",IF(A1071<>\"\",IF(A1071<$B$3,\"N\",\"Y\"),\"\"))","v":""},0,10.16,0,null,530,{"$f":"IF(AND(ISNUMBER(A1071),NOT(ISNUMBER(A1072))),IF((OFFSET(Q1071,-Q1071,0)>50),SUM(OFFSET(E1071,-Q1071+1,0):E1071),SUM(OFFSET(E1071,-Q1071,0):E1071)),IF(AND(ISNUMBER(P1071),ISNUMBER(P1072),P1071  <P1072),IF((OFFSET(Q1071,-Q1071,0)>50),SUM(OFFSET(E1071,-Q1071+1,0):E1071),SUM(OFFSET(E1071,-Q1071,0):E1071)),\"\"))","v":{"$error":"#NAME?"}},{"$f":"IF(ISNUMBER(L1071),IF((OFFSET(Q1071,-Q1071,0)>50),SUM(OFFSET(G1071,-Q1071+1,0):G1071),SUM(OFFSET(G1071,-Q1071,0):G1071)),\"\")","v":""},null,null,{"$error":"#NAME?"},{"$error":"#NAME?"}]
["2008-02-27",null,null,null,0,{"$f":"IF(SUM($B$7:$B1072)=0,\"\",IF(A1072<>\"\",IF(A1072<$B$3,\"N\",\"Y\"),\"\"))","v":""},0,10.16,0,null,529,{"$f":"IF(AND(ISNUMBER(A1072),NOT(ISNUMBER(A1073))),IF((OFFSET(Q1072,-Q1072,0)>50),SUM(OFFSET(E1072,-Q1072+1,0):E1072),SUM(OFFSET(E1072,-Q1072,0):E1072)),IF(AND(ISNUMBER(P1072),ISNUMBER(P1073),P1072  <P1073),IF((OFFSET(Q1072,-Q1072,0)>50),SUM(OFFSET(E1072,-Q1072+1,0):E1072),SUM(OFFSET(E1072,-Q1072,0):E1072)),\"\"))","v":{"$error":"#NAME?"}},{"$f":"IF(ISNUMBER(L1072),IF((OFFSET(Q1072,-Q1072,0)>50),SUM(OFFSET(G1072,-Q1072+1,0):G1072),SUM(OFFSET(G1072,-Q1072,0):G1072)),\"\")","v":""},null,null,{"$error":"#NAME?"},{"$error":"#NAME?"}]
["2008-03-05",null,null,null,0,{"$f":"IF(SUM($B$7:$B1073)=0,\"\",IF(A1073<>\"\",IF(A1073<$B$3,\"N\",\"Y\"),\"\"))","v":""},0,10.16,0,null,528,{"$f":"IF(AND(ISNUMBER(A1073),NOT(ISNUMBER(A1074))),IF((OFFSET(Q1073,-Q1073,0)>50),SUM(OFFSET(E1073,-Q1073+1,0):E1073),SUM(OFFSET(E1073,-Q1073,0):E1073)),IF(AND(ISNUMBER(P1073),ISNUMBER(P1074),P1073  <P1074),IF((OFFSET(Q1073,-Q1073,0)>50),SUM(OFFSET(E1073,-Q1073+1,0):E1073),SUM(OFFSET(E1073,-Q1073,0):E1073)),\"\"))","v":{"$error":"#NAME?"}},{"$f":"IF(ISNUMBER(L1073),IF((OFFSET(Q1073,-Q1073,0)>50),SUM(OFFSET(G1073,-Q1073+1,0):G1073),SUM(OFFSET(G1073,-Q1073,0):G1073)),\"\")","v":""},null,null,{"$error":"#NAME?"},{"$error":"#NAME?"}]
["2008-03-12",null,null,null,0,{"$f":"IF(SUM($B$7:$B1074)=0,\"\",IF(A1074<>\"\",IF(A1074<$B$3,\"N\",\"Y\"),\"\"))","v":""},0,10.16,0,null,527,{"$f":"IF(AND(ISNUMBER(A1074),NOT(ISNUMBER(A1075))),IF((OFFSET(Q1074,-Q1074,0)>50),SUM(OFFSET(E1074,-Q1074+1,0):E1074),SUM(OFFSET(E1074,-Q1074,0):E1074)),IF(AND(ISNUMBER(P1074),ISNUMBER(P1075),P1074  <P1075),IF((OFFSET(Q1074,-Q1074,0)>50),SUM(OFFSET(E1074,-Q1074+1,0):E1074),SUM(OFFSET(E1074,-Q1074,0):E1074)),\"\"))","v":{"$error":"#NAME?"}},{"$f":"IF(ISNUMBER(L1074),IF((OFFSET(Q1074,-Q1074,0)>50),SUM(OFFSET(G1074,-Q1074+1,0):G1074),SUM(OFFSET(G1074,-Q1074,0):G1074)),\"\")","v":""},null,null,{"$error":"#NAME?"},{"$error":"#NAME?"}]
["2008-03-19",null,null,null,0,{"$f":"IF(SUM($B$7:$B1075)=0,\"\",IF(A1075<>\"\",IF(A1075<$B$3,\"N\",\"Y\"),\"\"))","v":""},0,10.16,0,null,526,{"$f":"IF(AND(ISNUMBER(A1075),NOT(ISNUMBER(A1076))),IF((OFFSET(Q1075,-Q1075,0)>50),SUM(OFFSET(E1075,-Q1075+1,0):E1075),SUM(OFFSET(E1075,-Q1075,0):E1075)),IF(AND(ISNUMBER(P1075),ISNUMBER(P1076),P1075  <P1076),IF((OFFSET(Q1075,-Q1075,0)>50),SUM(OFFSET(E1075,-Q1075+1,0):E1075),SUM(OFFSET(E1075,-Q1075,0):E1075)),\"\"))","v":{"$error":"#NAME?"}},{"$f":"IF(ISNUMBER(L1075),IF((OFFSET(Q1075,-Q1075,0)>50),SUM(OFFSET(G1075,-Q1075+1,0):G1075),SUM(OFFSET(G1075,-Q1075,0):G1075)),\"\")","v":""},null,null,{"$error":"#NAME?"},{"$error":"#NAME?"}]
["2008-03-26",null,null,null,0,{"$f":"IF(SUM($B$7:$B1076)=0,\"\",IF(A1076<>\"\",IF(A1076<$B$3,\"N\",\"Y\"),\"\"))","v":""},0,10.16,0,null,525,{"$f":"IF(AND(ISNUMBER(A1076),NOT(ISNUMBER(A1077))),IF((OFFSET(Q1076,-Q1076,0)>50),SUM(OFFSET(E1076,-Q1076+1,0):E1076),SUM(OFFSET(E1076,-Q1076,0):E1076)),IF(AND(ISNUMBER(P1076),ISNUMBER(P1077),P1076  <P1077),IF((OFFSET(Q1076,-Q1076,0)>50),SUM(OFFSET(E1076,-Q1076+1,0):E1076),SUM(OFFSET(E1076,-Q1076,0):E1076)),\"\"))","v":{"$error":"#NAME?"}},{"$f":"IF(ISNUMBER(L1076),IF((OFFSET(Q1076,-Q1076,0)>50),SUM(OFFSET(G1076,-Q1076+1,0):G1076),SUM(OFFSET(G1076,-Q1076,0):G1076)),\"\")","v":""},null,null,{"$error":"#NAME?"},{"$error":"#NAME?"}]
["2008-04-02",null,null,null,0,{"$f":"IF(SUM($B$7:$B1077)=0,\"\",IF(A1077<>\"\",IF(A1077<$B$3,\"N\",\"Y\"),\"\"))","v":""},0,10.16,0,null,524,{"$f":"IF(AND(ISNUMBER(A1077),NOT(ISNUMBER(A1078))),IF((OFFSET(Q1077,-Q1077,0)>50),SUM(OFFSET(E1077,-Q1077+1,0):E1077),SUM(OFFSET(E1077,-Q1077,0):E1077)),IF(AND(ISNUMBER(P1077),ISNUMBER(P1078),P1077  <P1078),IF((OFFSET(Q1077,-Q1077,0)>50),SUM(OFFSET(E1077,-Q1077+1,0):E1077),SUM(OFFSET(E1077,-Q1077,0):E1077)),\"\"))","v":{"$error":"#NAME?"}},{"$f":"IF(ISNUMBER(L1077),IF((OFFSET(Q1077,-Q1077,0)>50),SUM(OFFSET(G1077,-Q1077+1,0):G1077),SUM(OFFSET(G1077,-Q1077,0):G1077)),\"\")","v":""},null,null,{"$error":"#NAME?"},{"$error":"#NAME?"}]
["2008-04-09",null,null,null,0,{"$f":"IF(SUM($B$7:$B1078)=0,\"\",IF(A1078<>\"\",IF(A1078<$B$3,\"N\",\"Y\"),\"\"))","v":""},0,10.16,0,null,523,{"$f":"IF(AND(ISNUMBER(A1078),NOT(ISNUMBER(A1079))),IF((OFFSET(Q1078,-Q1078,0)>50),SUM(OFFSET(E1078,-Q1078+1,0):E1078),SUM(OFFSET(E1078,-Q1078,0):E1078)),IF(AND(ISNUMBER(P1078),ISNUMBER(P1079),P1078  <P1079),IF((OFFSET(Q1078,-Q1078,0)>50),SUM(OFFSET(E1078,-Q1078+1,0):E1078),SUM(OFFSET(E1078,-Q1078,0):E1078)),\"\"))","v":{"$error":"#NAME?"}},{"$f":"IF(ISNUMBER(L1078),IF((OFFSET(Q1078,-Q1078,0)>50),SUM(OFFSET(G1078,-Q1078+1,0):G1078),SUM(OFFSET(G1078,-Q1078,0):G1078)),\"\")","v":""},null,null,{"$error":"#NAME?"},{"$error":"#NAME?"}]
["2008-04-16",null,null,null,0,{"$f":"IF(SUM($B$7:$B1079)=0,\"\",IF(A1079<>\"\",IF(A1079<$B$3,\"N\",\"Y\"),\"\"))","v":""},0,10.16,0,null,522,{"$f":"IF(AND(ISNUMBER(A1079),NOT(ISNUMBER(A1080))),IF((OFFSET(Q1079,-Q1079,0)>50),SUM(OFFSET(E1079,-Q1079+1,0):E1079),SUM(OFFSET(E1079,-Q1079,0):E1079)),IF(AND(ISNUMBER(P1079),ISNUMBER(P1080),P1079  <P1080),IF((OFFSET(Q1079,-Q1079,0)>50),SUM(OFFSET(E1079,-Q1079+1,0):E1079),SUM(OFFSET(E1079,-Q1079,0):E1079)),\"\"))","v":{"$error":"#NAME?"}},{"$f":"IF(ISNUMBER(L1079),IF((OFFSET(Q1079,-Q1079,0)>50),SUM(OFFSET(G1079,-Q1079+1,0):G1079),SUM(OFFSET(G1079,-Q1079,0):G1079)),\"\")","v":""},null,null,{"$error":"#NAME?"},{"$error":"#NAME?"}]
["2008-04-23",null,null,null,0,{"$f":"IF(SUM($B$7:$B1080)=0,\"\",IF(A1080<>\"\",IF(A1080<$B$3,\"N\",\"Y\"),\"\"))","v":""},0,10.16,0,null,521,{"$f":"IF(AND(ISNUMBER(A1080),NOT(ISNUMBER(A1081))),IF((OFFSET(Q1080,-Q1080,0)>50),SUM(OFFSET(E1080,-Q1080+1,0):E1080),SUM(OFFSET(E1080,-Q1080,0):E1080)),IF(AND(ISNUMBER(P1080),ISNUMBER(P1081),P1080  <P1081),IF((OFFSET(Q1080,-Q1080,0)>50),SUM(OFFSET(E1080,-Q1080+1,0):E1080),SUM(OFFSET(E1080,-Q1080,0):E1080)),\"\"))","v":{"$error":"#NAME?"}},{"$f":"IF(ISNUMBER(L1080),IF((OFFSET(Q1080,-Q1080,0)>50),SUM(OFFSET(G1080,-Q1080+1,0):G1080),SUM(OFFSET(G1080,-Q1080,0):G1080)),\"\")","v":""},null,null,{"$error":"#NAME?"},{"$error":"#NAME?"}]
["2008-04-30",null,null,null,0,{"$f":"IF(SUM($B$7:$B1081)=0,\"\",IF(A1081<>\"\",IF(A1081<$B$3,\"N\",\"Y\"),\"\"))","v":""},0,10.16,0,null,520,{"$f":"IF(AND(ISNUMBER(A1081),NOT(ISNUMBER(A1082))),IF((OFFSET(Q1081,-Q1081,0)>50),SUM(OFFSET(E1081,-Q1081+1,0):E1081),SUM(OFFSET(E1081,-Q1081,0):E1081)),IF(AND(ISNUMBER(P1081),ISNUMBER(P1082),P1081  <P1082),IF((OFFSET(Q1081,-Q1081,0)>50),SUM(OFFSET(E1081,-Q1081+1,0):E1081),SUM(OFFSET(E1081,-Q1081,0):E1081)),\"\"))","v":{"$error":"#NAME?"}},{"$f":"IF(ISNUMBER(L1081),IF((OFFSET(Q1081,-Q1081,0)>50),SUM(OFFSET(G1081,-Q1081+1,0):G1081),SUM(OFFSET(G1081,-Q1081,0):G1081)),\"\")","v":""},null,null,{"$error":"#NAME?"},{"$error":"#NAME?"}]
["2008-05-07",null,null,null,0,{"$f":"IF(SUM($B$7:$B1082)=0,\"\",IF(A1082<>\"\",IF(A1082<$B$3,\"N\",\"Y\"),\"\"))","v":""},0,10.16,0,null,519,{"$f":"IF(AND(ISNUMBER(A1082),NOT(ISNUMBER(A1083))),IF((OFFSET(Q1082,-Q1082,0)>50),SUM(OFFSET(E1082,-Q1082+1,0):E1082),SUM(OFFSET(E1082,-Q1082,0):E1082)),IF(AND(ISNUMBER(P1082),ISNUMBER(P1083),P1082  <P1083),IF((OFFSET(Q1082,-Q1082,0)>50),SUM(OFFSET(E1082,-Q1082+1,0):E1082),SUM(OFFSET(E1082,-Q1082,0):E1082)),\"\"))","v":{"$error":"#NAME?"}},{"$f":"IF(ISNUMBER(L1082),IF((OFFSET(Q1082,-Q1082,0)>50),SUM(OFFSET(G1082,-Q1082+1,0):G1082),SUM(OFFSET(G1082,-Q1082,0):G1082)),\"\")","v":""},null,null,{"$error":"#NAME?"},{"$error":"#NAME?"}]
["2008-05-14",null,null,null,0,{"$f":"IF(SUM($B$7:$B1083)=0,\"\",IF(A1083<>\"\",IF(A1083<$B$3,\"N\",\"Y\"),\"\"))","v":""},0,10.16,0,null,518,{"$f":"IF(AND(ISNUMBER(A1083),NOT(ISNUMBER(A1084))),IF((OFFSET(Q1083,-Q1083,0)>50),SUM(OFFSET(E1083,-Q1083+1,0):E1083),SUM(OFFSET(E1083,-Q1083,0):E1083)),IF(AND(ISNUMBER(P1083),ISNUMBER(P1084),P1083  <P1084),IF((OFFSET(Q1083,-Q1083,0)>50),SUM(OFFSET(E1083,-Q1083+1,0):E1083),SUM(OFFSET(E1083,-Q1083,0):E1083)),\"\"))","v":{"$error":"#NAME?"}},{"$f":"IF(ISNUMBER(L1083),IF((OFFSET(Q1083,-Q1083,0)>50),SUM(OFFSET(G1083,-Q1083+1,0):G1083),SUM(OFFSET(G1083,-Q1083,0):G1083)),\"\")","v":""},null,null,{"$error":"#NAME?"},{"$error":"#NAME?"}]
["2008-05-21",null,null,null,0,{"$f":"IF(SUM($B$7:$B1084)=0,\"\",IF(A1084<>\"\",IF(A1084<$B$3,\"N\",\"Y\"),\"\"))","v":""},0,10.16,0,null,517,{"$f":"IF(AND(ISNUMBER(A1084),NOT(ISNUMBER(A1085))),IF((OFFSET(Q1084,-Q1084,0)>50),SUM(OFFSET(E1084,-Q1084+1,0):E1084),SUM(OFFSET(E1084,-Q1084,0):E1084)),IF(AND(ISNUMBER(P1084),ISNUMBER(P1085),P1084  <P1085),IF((OFFSET(Q1084,-Q1084,0)>50),SUM(OFFSET(E1084,-Q1084+1,0):E1084),SUM(OFFSET(E1084,-Q1084,0):E1084)),\"\"))","v":{"$error":"#NAME?"}},{"$f":"IF(ISNUMBER(L1084),IF((OFFSET(Q1084,-Q1084,0)>50),SUM(OFFSET(G1084,-Q1084+1,0):G1084),SUM(OFFSET(G1084,-Q1084,0):G1084)),\"\")","v":""},null,null,{"$error":"#NAME?"},{"$error":"#NAME?"}]
["2008-05-28",null,null,null,0,{"$f":"IF(SUM($B$7:$B1085)=0,\"\",IF(A1085<>\"\",IF(A1085<$B$3,\"N\",\"Y\"),\"\"))","v":""},0,10.16,0,null,516,{"$f":"IF(AND(ISNUMBER(A1085),NOT(ISNUMBER(A1086))),IF((OFFSET(Q1085,-Q1085,0)>50),SUM(OFFSET(E1085,-Q1085+1,0):E1085),SUM(OFFSET(E1085,-Q1085,0):E1085)),IF(AND(ISNUMBER(P1085),ISNUMBER(P1086),P1085  <P1086),IF((OFFSET(Q1085,-Q1085,0)>50),SUM(OFFSET(E1085,-Q1085+1,0):E1085),SUM(OFFSET(E1085,-Q1085,0):E1085)),\"\"))","v":{"$error":"#NAME?"}},{"$f":"IF(ISNUMBER(L1085),IF((OFFSET(Q1085,-Q1085,0)>50),SUM(OFFSET(G1085,-Q1085+1,0):G1085),SUM(OFFSET(G1085,-Q1085,0):G1085)),\"\")","v":""},null,null,{"$error":"#NAME?"},{"$error":"#NAME?"}]
["2008-06-04",null,null,null,0,{"$f":"IF(SUM($B$7:$B1086)=0,\"\",IF(A1086<>\"\",IF(A1086<$B$3,\"N\",\"Y\"),\"\"))","v":""},0,10.16,0,null,515,{"$f":"IF(AND(ISNUMBER(A1086),NOT(ISNUMBER(A1087))),IF((OFFSET(Q1086,-Q1086,0)>50),SUM(OFFSET(E1086,-Q1086+1,0):E1086),SUM(OFFSET(E1086,-Q1086,0):E1086)),IF(AND(ISNUMBER(P1086),ISNUMBER(P1087),P1086  <P1087),IF((OFFSET(Q1086,-Q1086,0)>50),SUM(OFFSET(E1086,-Q1086+1,0):E1086),SUM(OFFSET(E1086,-Q1086,0):E1086)),\"\"))","v":{"$error":"#NAME?"}},{"$f":"IF(ISNUMBER(L1086),IF((OFFSET(Q1086,-Q1086,0)>50),SUM(OFFSET(G1086,-Q1086+1,0):G1086),SUM(OFFSET(G1086,-Q1086,0):G1086)),\"\")","v":""},null,null,{"$error":"#NAME?"},{"$error":"#NAME?"}]
["2008-06-11",null,null,null,0,{"$f":"IF(SUM($B$7:$B1087)=0,\"\",IF(A1087<>\"\",IF(A1087<$B$3,\"N\",\"Y\"),\"\"))","v":""},0,10.16,0,null,514,{"$f":"IF(AND(ISNUMBER(A1087),NOT(ISNUMBER(A1088))),IF((OFFSET(Q1087,-Q1087,0)>50),SUM(OFFSET(E1087,-Q1087+1,0):E1087),SUM(OFFSET(E1087,-Q1087,0):E1087)),IF(AND(ISNUMBER(P1087),ISNUMBER(P1088),P1087  <P1088),IF((OFFSET(Q1087,-Q1087,0)>50),SUM(OFFSET(E1087,-Q1087+1,0):E1087),SUM(OFFSET(E1087,-Q1087,0):E1087)),\"\"))","v":{"$error":"#NAME?"}},{"$f":"IF(ISNUMBER(L1087),IF((OFFSET(Q1087,-Q1087,0)>50),SUM(OFFSET(G1087,-Q1087+1,0):G1087),SUM(OFFSET(G1087,-Q1087,0):G1087)),\"\")","v":""},null,null,{"$error":"#NAME?"},{"$error":"#NAME?"}]
["2008-06-18",null,null,null,0,{"$f":"IF(SUM($B$7:$B1088)=0,\"\",IF(A1088<>\"\",IF(A1088<$B$3,\"N\",\"Y\"),\"\"))","v":""},0,10.16,0,null,513,{"$f":"IF(AND(ISNUMBER(A1088),NOT(ISNUMBER(A1089))),IF((OFFSET(Q1088,-Q1088,0)>50),SUM(OFFSET(E1088,-Q1088+1,0):E1088),SUM(OFFSET(E1088,-Q1088,0):E1088)),IF(AND(ISNUMBER(P1088),ISNUMBER(P1089),P1088  <P1089),IF((OFFSET(Q1088,-Q1088,0)>50),SUM(OFFSET(E1088,-Q1088+1,0):E1088),SUM(OFFSET(E1088,-Q1088,0):E1088)),\"\"))","v":{"$error":"#NAME?"}},{"$f":"IF(ISNUMBER(L1088),IF((OFFSET(Q1088,-Q1088,0)>50),SUM(OFFSET(G1088,-Q1088+1,0):G1088),SUM(OFFSET(G1088,-Q1088,0):G1088)),\"\")","v":""},null,null,{"$error":"#NAME?"},{"$error":"#NAME?"}]
["2008-06-25",null,null,null,0,{"$f":"IF(SUM($B$7:$B1089)=0,\"\",IF(A1089<>\"\",IF(A1089<$B$3,\"N\",\"Y\"),\"\"))","v":""},0,10.16,0,null,512,{"$f":"IF(AND(ISNUMBER(A1089),NOT(ISNUMBER(A1090))),IF((OFFSET(Q1089,-Q1089,0)>50),SUM(OFFSET(E1089,-Q1089+1,0):E1089),SUM(OFFSET(E1089,-Q1089,0):E1089)),IF(AND(ISNUMBER(P1089),ISNUMBER(P1090),P1089  <P1090),IF((OFFSET(Q1089,-Q1089,0)>50),SUM(OFFSET(E1089,-Q1089+1,0):E1089),SUM(OFFSET(E1089,-Q1089,0):E1089)),\"\"))","v":{"$error":"#NAME?"}},{"$f":"IF(ISNUMBER(L1089),IF((OFFSET(Q1089,-Q1089,0)>50),SUM(OFFSET(G1089,-Q1089+1,0):G1089),SUM(OFFSET(G1089,-Q1089,0):G1089)),\"\")","v":""},null,null,{"$error":"#NAME?"},{"$error":"#NAME?"}]
["2008-07-02",null,null,null,0,{"$f":"IF(SUM($B$7:$B1090)=0,\"\",IF(A1090<>\"\",IF(A1090<$B$3,\"N\",\"Y\"),\"\"))","v":""},0,{"$f":"IF(A1090<>\"\",11.67,\"\")","v":11.67},0,null,511,{"$f":"IF(AND(ISNUMBER(A1090),NOT(ISNUMBER(A1091))),IF((OFFSET(Q1090,-Q1090,0)>50),SUM(OFFSET(E1090,-Q1090+1,0):E1090),SUM(OFFSET(E1090,-Q1090,0):E1090)),IF(AND(ISNUMBER(P1090),ISNUMBER(P1091),P1090  <P1091),IF((OFFSET(Q1090,-Q1090,0)>50),SUM(OFFSET(E1090,-Q1090+1,0):E1090),SUM(OFFSET(E1090,-Q1090,0):E1090)),\"\"))","v":{"$error":"#NAME?"}},{"$f":"IF(ISNUMBER(L1090),IF((OFFSET(Q1090,-Q1090,0)>50),SUM(OFFSET(G1090,-Q1090+1,0):G1090),SUM(OFFSET(G1090,-Q1090,0):G1090)),\"\")","v":""},{"$f":"IF(B1090>0,IF(P1090  = $P$6,E1090-O1090,\"\"),\"\")","v":""},{"$f":"IF(B1090>0,'Tax Scales'!U1090-D1090,\"\")","v":""},{"$f":"IF(ISNUMBER(A1090),FinYear(A1090),\"\")","v":{"$error":"#NAME?"}},{"$f":"IF(ISNUMBER(A1090),ROUND((A1090-StartOfFinYear(P1090))/7,0),\"\")","v":{"$error":"#NAME?"}},{"$f":"IF(ISNUMBER(G1090),IF(G1090>0,'Tax Scales'!AQ1090,\"\"),\"\")","v":""}]
["2008-07-09",null,null,null,0,{"$f":"IF(SUM($B$7:$B1091)=0,\"\",IF(A1091<>\"\",IF(A1091<$B$3,\"N\",\"Y\"),\"\"))","v":""},0,{"$f":"IF(A1091<>\"\",11.67,\"\")","v":11.67},0,null,510,{"$f":"IF(AND(ISNUMBER(A1091),NOT(ISNUMBER(A1092))),IF((OFFSET(Q1091,-Q1091,0)>50),SUM(OFFSET(E1091,-Q1091+1,0):E1091),SUM(OFFSET(E1091,-Q1091,0):E1091)),IF(AND(ISNUMBER(P1091),ISNUMBER(P1092),P1091  <P1092),IF((OFFSET(Q1091,-Q1091,0)>50),SUM(OFFSET(E1091,-Q1091+1,0):E1091),SUM(OFFSET(E1091,-Q1091,0):E1091)),\"\"))","v":{"$error":"#NAME?"}},{"$f":"IF(ISNUMBER(L1091),IF((OFFSET(Q1091,-Q1091,0)>50),SUM(OFFSET(G1091,-Q1091+1,0):G1091),SUM(OFFSET(G1091,-Q1091,0):G1091)),\"\")","v":""},"",{"$f":"IF(B1091>0,'Tax Scales'!U1091-D1091,\"\")","v":""},{"$error":"#NAME?"},{"$error":"#NAME?"},{"$f":"IF(ISNUMBER(G1091),IF(G1091>0,'Tax Scales'!AQ1091,\"\"),\"\")","v":""}]
["2008-07-16",null,null,null,0,{"$f":"IF(SUM($B$7:$B1092)=0,\"\",IF(A1092<>\"\",IF(A1092<$B$3,\"N\",\"Y\"),\"\"))","v":""},0,11.67,0,null,509,{"$f":"IF(AND(ISNUMBER(A1092),NOT(ISNUMBER(A1093))),IF((OFFSET(Q1092,-Q1092,0)>50),SUM(OFFSET(E1092,-Q1092+1,0):E1092),SUM(OFFSET(E1092,-Q1092,0):E1092)),IF(AND(ISNUMBER(P1092),ISNUMBER(P1093),P1092  <P1093),IF((OFFSET(Q1092,-Q1092,0)>50),SUM(OFFSET(E1092,-Q1092+1,0):E1092),SUM(OFFSET(E1092,-Q1092,0):E1092)),\"\"))","v":{"$error":"#NAME?"}},{"$f":"IF(ISNUMBER(L1092),IF((OFFSET(Q1092,-Q1092,0)>50),SUM(OFFSET(G1092,-Q1092+1,0):G1092),SUM(OFFSET(G1092,-Q1092,0):G1092)),\"\")","v":""},"",{"$f":"IF(B1092>0,'Tax Scales'!U1092-D1092,\"\")","v":""},{"$error":"#NAME?"},{"$error":"#NAME?"},{"$f":"IF(ISNUMBER(G1092),IF(G1092>0,'Tax Scales'!AQ1092,\"\"),\"\")","v":""}]
["2008-07-23",null,null,null,0,{"$f":"IF(SUM($B$7:$B1093)=0,\"\",IF(A1093<>\"\",IF(A1093<$B$3,\"N\",\"Y\"),\"\"))","v":""},0,11.67,0,null,508,{"$f":"IF(AND(ISNUMBER(A1093),NOT(ISNUMBER(A1094))),IF((OFFSET(Q1093,-Q1093,0)>50),SUM(OFFSET(E1093,-Q1093+1,0):E1093),SUM(OFFSET(E1093,-Q1093,0):E1093)),IF(AND(ISNUMBER(P1093),ISNUMBER(P1094),P1093  <P1094),IF((OFFSET(Q1093,-Q1093,0)>50),SUM(OFFSET(E1093,-Q1093+1,0):E1093),SUM(OFFSET(E1093,-Q1093,0):E1093)),\"\"))","v":{"$error":"#NAME?"}},{"$f":"IF(ISNUMBER(L1093),IF((OFFSET(Q1093,-Q1093,0)>50),SUM(OFFSET(G1093,-Q1093+1,0):G1093),SUM(OFFSET(G1093,-Q1093,0):G1093)),\"\")","v":""},"",{"$f":"IF(B1093>0,'Tax Scales'!U1093-D1093,\"\")","v":""},{"$error":"#NAME?"},{"$error":"#NAME?"},{"$f":"IF(ISNUMBER(G1093),IF(G1093>0,'Tax Scales'!AQ1093,\"\"),\"\")","v":""}]
["2008-07-30",null,null,null,0,{"$f":"IF(SUM($B$7:$B1094)=0,\"\",IF(A1094<>\"\",IF(A1094<$B$3,\"N\",\"Y\"),\"\"))","v":""},0,11.67,0,null,507,{"$f":"IF(AND(ISNUMBER(A1094),NOT(ISNUMBER(A1095))),IF((OFFSET(Q1094,-Q1094,0)>50),SUM(OFFSET(E1094,-Q1094+1,0):E1094),SUM(OFFSET(E1094,-Q1094,0):E1094)),IF(AND(ISNUMBER(P1094),ISNUMBER(P1095),P1094  <P1095),IF((OFFSET(Q1094,-Q1094,0)>50),SUM(OFFSET(E1094,-Q1094+1,0):E1094),SUM(OFFSET(E1094,-Q1094,0):E1094)),\"\"))","v":{"$error":"#NAME?"}},{"$f":"IF(ISNUMBER(L1094),IF((OFFSET(Q1094,-Q1094,0)>50),SUM(OFFSET(G1094,-Q1094+1,0):G1094),SUM(OFFSET(G1094,-Q1094,0):G1094)),\"\")","v":""},"",{"$f":"IF(B1094>0,'Tax Scales'!U1094-D1094,\"\")","v":""},{"$error":"#NAME?"},{"$error":"#NAME?"},{"$f":"IF(ISNUMBER(G1094),IF(G1094>0,'Tax Scales'!AQ1094,\"\"),\"\")","v":""}]
["2008-08-06",null,null,null,0,{"$f":"IF(SUM($B$7:$B1095)=0,\"\",IF(A1095<>\"\",IF(A1095<$B$3,\"N\",\"Y\"),\"\"))","v":""},0,11.67,0,null,506,{"$f":"IF(AND(ISNUMBER(A1095),NOT(ISNUMBER(A1096))),IF((OFFSET(Q1095,-Q1095,0)>50),SUM(OFFSET(E1095,-Q1095+1,0):E1095),SUM(OFFSET(E1095,-Q1095,0):E1095)),IF(AND(ISNUMBER(P1095),ISNUMBER(P1096),P1095  <P1096),IF((OFFSET(Q1095,-Q1095,0)>50),SUM(OFFSET(E1095,-Q1095+1,0):E1095),SUM(OFFSET(E1095,-Q1095,0):E1095)),\"\"))","v":{"$error":"#NAME?"}},{"$f":"IF(ISNUMBER(L1095),IF((OFFSET(Q1095,-Q1095,0)>50),SUM(OFFSET(G1095,-Q1095+1,0):G1095),SUM(OFFSET(G1095,-Q1095,0):G1095)),\"\")","v":""},"",{"$f":"IF(B1095>0,'Tax Scales'!U1095-D1095,\"\")","v":""},{"$error":"#NAME?"},{"$error":"#NAME?"},{"$f":"IF(ISNUMBER(G1095),IF(G1095>0,'Tax Scales'!AQ1095,\"\"),\"\")","v":""}]
["2008-08-13",null,null,null,0,{"$f":"IF(SUM($B$7:$B1096)=0,\"\",IF(A1096<>\"\",IF(A1096<$B$3,\"N\",\"Y\"),\"\"))","v":""},0,11.67,0,null,505,{"$f":"IF(AND(ISNUMBER(A1096),NOT(ISNUMBER(A1097))),IF((OFFSET(Q1096,-Q1096,0)>50),SUM(OFFSET(E1096,-Q1096+1,0):E1096),SUM(OFFSET(E1096,-Q1096,0):E1096)),IF(AND(ISNUMBER(P1096),ISNUMBER(P1097),P1096  <P1097),IF((OFFSET(Q1096,-Q1096,0)>50),SUM(OFFSET(E1096,-Q1096+1,0):E1096),SUM(OFFSET(E1096,-Q1096,0):E1096)),\"\"))","v":{"$error":"#NAME?"}},{"$f":"IF(ISNUMBER(L1096),IF((OFFSET(Q1096,-Q1096,0)>50),SUM(OFFSET(G1096,-Q1096+1,0):G1096),SUM(OFFSET(G1096,-Q1096,0):G1096)),\"\")","v":""},"",{"$f":"IF(B1096>0,'Tax Scales'!U1096-D1096,\"\")","v":""},{"$error":"#NAME?"},{"$error":"#NAME?"},{"$f":"IF(ISNUMBER(G1096),IF(G1096>0,'Tax Scales'!AQ1096,\"\"),\"\")","v":""}]
["2008-08-20",null,null,null,0,{"$f":"IF(SUM($B$7:$B1097)=0,\"\",IF(A1097<>\"\",IF(A1097<$B$3,\"N\",\"Y\"),\"\"))","v":""},{"$f":"IF(F1097=\"N\",0,IF(A1097<>\"\",IF(K1097>=0,((E1097+I1096)*(1+(H1097/52)/100)-E1097-I1096),0),\"\"))","v":0},11.67,{"$f":"IF(A1097<>\"\",I1096+E1097+G1097,\"\")","v":0},null,504,{"$f":"IF(AND(ISNUMBER(A1097),NOT(ISNUMBER(A1098))),IF((OFFSET(Q1097,-Q1097,0)>50),SUM(OFFSET(E1097,-Q1097+1,0):E1097),SUM(OFFSET(E1097,-Q1097,0):E1097)),IF(AND(ISNUMBER(P1097),ISNUMBER(P1098),P1097  <P1098),IF((OFFSET(Q1097,-Q1097,0)>50),SUM(OFFSET(E1097,-Q1097+1,0):E1097),SUM(OFFSET(E1097,-Q1097,0):E1097)),\"\"))","v":{"$error":"#NAME?"}},{"$f":"IF(ISNUMBER(L1097),IF((OFFSET(Q1097,-Q1097,0)>50),SUM(OFFSET(G1097,-Q1097+1,0):G1097),SUM(OFFSET(G1097,-Q1097,0):G1097)),\"\")","v":""},"",{"$f":"IF(B1097>0,'Tax Scales'!U1097-D1097,\"\")","v":""},{"$error":"#NAME?"},{"$error":"#NAME?"},{"$f":"IF(ISNUMBER(G1097),IF(G1097>0,'Tax Scales'!AQ1097,\"\"),\"\")","v":""}]
[{"$f":"IF(A1097<>\"\",IF(A1097+12<=TODAY(),+A1097+7,\"\"),\"\")","v":"2008-08-27"},null,null,null,0,{"$f":"IF(SUM($B$7:$B1098)=0,\"\",IF(A1098<>\"\",IF(A1098<$B$3,\"N\",\"Y\"),\"\"))","v":""},0,11.67,0,null,503,{"$f":"IF(AND(ISNUMBER(A1098),NOT(ISNUMBER(A1099))),IF((OFFSET(Q1098,-Q1098,0)>50),SUM(OFFSET(E1098,-Q1098+1,0):E1098),SUM(OFFSET(E1098,-Q1098,0):E1098)),IF(AND(ISNUMBER(P1098),ISNUMBER(P1099),P1098  <P1099),IF((OFFSET(Q1098,-Q1098,0)>50),SUM(OFFSET(E1098,-Q1098+1,0):E1098),SUM(OFFSET(E1098,-Q1098,0):E1098)),\"\"))","v":{"$error":"#NAME?"}},{"$f":"IF(ISNUMBER(L1098),IF((OFFSET(Q1098,-Q1098,0)>50),SUM(OFFSET(G1098,-Q1098+1,0):G1098),SUM(OFFSET(G1098,-Q1098,0):G1098)),\"\")","v":""},"",{"$f":"IF(B1098>0,'Tax Scales'!U1098-D1098,\"\")","v":""},{"$error":"#NAME?"},{"$error":"#NAME?"},{"$f":"IF(ISNUMBER(G1098),IF(G1098>0,'Tax Scales'!AQ1098,\"\"),\"\")","v":""}]
["2008-09-03",null,null,null,0,{"$f":"IF(SUM($B$7:$B1099)=0,\"\",IF(A1099<>\"\",IF(A1099<$B$3,\"N\",\"Y\"),\"\"))","v":""},0,11.67,0,null,502,{"$f":"IF(AND(ISNUMBER(A1099),NOT(ISNUMBER(A1100))),IF((OFFSET(Q1099,-Q1099,0)>50),SUM(OFFSET(E1099,-Q1099+1,0):E1099),SUM(OFFSET(E1099,-Q1099,0):E1099)),IF(AND(ISNUMBER(P1099),ISNUMBER(P1100),P1099  <P1100),IF((OFFSET(Q1099,-Q1099,0)>50),SUM(OFFSET(E1099,-Q1099+1,0):E1099),SUM(OFFSET(E1099,-Q1099,0):E1099)),\"\"))","v":{"$error":"#NAME?"}},{"$f":"IF(ISNUMBER(L1099),IF((OFFSET(Q1099,-Q1099,0)>50),SUM(OFFSET(G1099,-Q1099+1,0):G1099),SUM(OFFSET(G1099,-Q1099,0):G1099)),\"\")","v":""},"",{"$f":"IF(B1099>0,'Tax Scales'!U1099-D1099,\"\")","v":""},{"$error":"#NAME?"},{"$error":"#NAME?"},{"$f":"IF(ISNUMBER(G1099),IF(G1099>0,'Tax Scales'!AQ1099,\"\"),\"\")","v":""}]
["2008-09-10",null,null,null,0,{"$f":"IF(SUM($B$7:$B1100)=0,\"\",IF(A1100<>\"\",IF(A1100<$B$3,\"N\",\"Y\"),\"\"))","v":""},0,11.67,0,null,501,{"$f":"IF(AND(ISNUMBER(A1100),NOT(ISNUMBER(A1101))),IF((OFFSET(Q1100,-Q1100,0)>50),SUM(OFFSET(E1100,-Q1100+1,0):E1100),SUM(OFFSET(E1100,-Q1100,0):E1100)),IF(AND(ISNUMBER(P1100),ISNUMBER(P1101),P1100  <P1101),IF((OFFSET(Q1100,-Q1100,0)>50),SUM(OFFSET(E1100,-Q1100+1,0):E1100),SUM(OFFSET(E1100,-Q1100,0):E1100)),\"\"))","v":{"$error":"#NAME?"}},{"$f":"IF(ISNUMBER(L1100),IF((OFFSET(Q1100,-Q1100,0)>50),SUM(OFFSET(G1100,-Q1100+1,0):G1100),SUM(OFFSET(G1100,-Q1100,0):G1100)),\"\")","v":""},"",{"$f":"IF(B1100>0,'Tax Scales'!U1100-D1100,\"\")","v":""},{"$error":"#NAME?"},{"$error":"#NAME?"},{"$f":"IF(ISNUMBER(G1100),IF(G1100>0,'Tax Scales'!AQ1100,\"\"),\"\")","v":""}]
["2008-09-17",null,null,null,0,{"$f":"IF(SUM($B$7:$B1101)=0,\"\",IF(A1101<>\"\",IF(A1101<$B$3,\"N\",\"Y\"),\"\"))","v":""},0,11.67,0,null,500,{"$f":"IF(AND(ISNUMBER(A1101),NOT(ISNUMBER(A1102))),IF((OFFSET(Q1101,-Q1101,0)>50),SUM(OFFSET(E1101,-Q1101+1,0):E1101),SUM(OFFSET(E1101,-Q1101,0):E1101)),IF(AND(ISNUMBER(P1101),ISNUMBER(P1102),P1101  <P1102),IF((OFFSET(Q1101,-Q1101,0)>50),SUM(OFFSET(E1101,-Q1101+1,0):E1101),SUM(OFFSET(E1101,-Q1101,0):E1101)),\"\"))","v":{"$error":"#NAME?"}},{"$f":"IF(ISNUMBER(L1101),IF((OFFSET(Q1101,-Q1101,0)>50),SUM(OFFSET(G1101,-Q1101+1,0):G1101),SUM(OFFSET(G1101,-Q1101,0):G1101)),\"\")","v":""},"",{"$f":"IF(B1101>0,'Tax Scales'!U1101-D1101,\"\")","v":""},{"$error":"#NAME?"},{"$error":"#NAME?"},{"$f":"IF(ISNUMBER(G1101),IF(G1101>0,'Tax Scales'!AQ1101,\"\"),\"\")","v":""}]
["2008-09-24",null,null,null,0,{"$f":"IF(SUM($B$7:$B1102)=0,\"\",IF(A1102<>\"\",IF(A1102<$B$3,\"N\",\"Y\"),\"\"))","v":""},0,11.67,0,null,499,{"$f":"IF(AND(ISNUMBER(A1102),NOT(ISNUMBER(A1103))),IF((OFFSET(Q1102,-Q1102,0)>50),SUM(OFFSET(E1102,-Q1102+1,0):E1102),SUM(OFFSET(E1102,-Q1102,0):E1102)),IF(AND(ISNUMBER(P1102),ISNUMBER(P1103),P1102  <P1103),IF((OFFSET(Q1102,-Q1102,0)>50),SUM(OFFSET(E1102,-Q1102+1,0):E1102),SUM(OFFSET(E1102,-Q1102,0):E1102)),\"\"))","v":{"$error":"#NAME?"}},{"$f":"IF(ISNUMBER(L1102),IF((OFFSET(Q1102,-Q1102,0)>50),SUM(OFFSET(G1102,-Q1102+1,0):G1102),SUM(OFFSET(G1102,-Q1102,0):G1102)),\"\")","v":""},"",{"$f":"IF(B1102>0,'Tax Scales'!U1102-D1102,\"\")","v":""},{"$f":"IF(ISNUMBER(A1102),FinYear(A1102),\"\")","v":{"$error":"#NAME?"}},{"$error":"#NAME?"},{"$f":"IF(ISNUMBER(G1102),IF(G1102>0,'Tax Scales'!AQ1102,\"\"),\"\")","v":""}]
["2008-10-01",null,null,null,{"$f":"IF(A1103<>\"\",IF(B1103-C1103>=0,B1103-C1103,0),\"\")","v":0},{"$f":"IF(SUM($B$7:$B1103)=0,\"\",IF(A1103<>\"\",IF(A1103<$B$3,\"N\",\"Y\"),\"\"))","v":""},0,11.67,0,null,498,{"$f":"IF(AND(ISNUMBER(A1103),NOT(ISNUMBER(A1104))),IF((OFFSET(Q1103,-Q1103,0)>50),SUM(OFFSET(E1103,-Q1103+1,0):E1103),SUM(OFFSET(E1103,-Q1103,0):E1103)),IF(AND(ISNUMBER(P1103),ISNUMBER(P1104),P1103  <P1104),IF((OFFSET(Q1103,-Q1103,0)>50),SUM(OFFSET(E1103,-Q1103+1,0):E1103),SUM(OFFSET(E1103,-Q1103,0):E1103)),\"\"))","v":{"$error":"#NAME?"}},{"$f":"IF(ISNUMBER(L1103),IF((OFFSET(Q1103,-Q1103,0)>50),SUM(OFFSET(G1103,-Q1103+1,0):G1103),SUM(OFFSET(G1103,-Q1103,0):G1103)),\"\")","v":""},"",{"$f":"IF(B1103>0,'Tax Scales'!U1103-D1103,\"\")","v":""},{"$error":"#NAME?"},{"$f":"IF(ISNUMBER(A1103),ROUND((A1103-StartOfFinYear(P1103))/7,0),\"\")","v":{"$error":"#NAME?"}},{"$f":"IF(ISNUMBER(G1103),IF(G1103>0,'Tax Scales'!AQ1103,\"\"),\"\")","v":""}]
["2008-10-08",null,null,null,0,{"$f":"IF(SUM($B$7:$B1104)=0,\"\",IF(A1104<>\"\",IF(A1104<$B$3,\"N\",\"Y\"),\"\"))","v":""},0,11.67,0,null,497,{"$f":"IF(AND(ISNUMBER(A1104),NOT(ISNUMBER(A1105))),IF((OFFSET(Q1104,-Q1104,0)>50),SUM(OFFSET(E1104,-Q1104+1,0):E1104),SUM(OFFSET(E1104,-Q1104,0):E1104)),IF(AND(ISNUMBER(P1104),ISNUMBER(P1105),P1104  <P1105),IF((OFFSET(Q1104,-Q1104,0)>50),SUM(OFFSET(E1104,-Q1104+1,0):E1104),SUM(OFFSET(E1104,-Q1104,0):E1104)),\"\"))","v":{"$error":"#NAME?"}},{"$f":"IF(ISNUMBER(L1104),IF((OFFSET(Q1104,-Q1104,0)>50),SUM(OFFSET(G1104,-Q1104+1,0):G1104),SUM(OFFSET(G1104,-Q1104,0):G1104)),\"\")","v":""},"",{"$f":"IF(B1104>0,'Tax Scales'!U1104-D1104,\"\")","v":""},{"$error":"#NAME?"},{"$error":"#NAME?"},{"$f":"IF(ISNUMBER(G1104),IF(G1104>0,'Tax Scales'!AQ1104,\"\"),\"\")","v":""}]
["2008-10-15",null,null,null,0,{"$f":"IF(SUM($B$7:$B1105)=0,\"\",IF(A1105<>\"\",IF(A1105<$B$3,\"N\",\"Y\"),\"\"))","v":""},0,11.67,0,null,496,{"$f":"IF(AND(ISNUMBER(A1105),NOT(ISNUMBER(A1106))),IF((OFFSET(Q1105,-Q1105,0)>50),SUM(OFFSET(E1105,-Q1105+1,0):E1105),SUM(OFFSET(E1105,-Q1105,0):E1105)),IF(AND(ISNUMBER(P1105),ISNUMBER(P1106),P1105  <P1106),IF((OFFSET(Q1105,-Q1105,0)>50),SUM(OFFSET(E1105,-Q1105+1,0):E1105),SUM(OFFSET(E1105,-Q1105,0):E1105)),\"\"))","v":{"$error":"#NAME?"}},{"$f":"IF(ISNUMBER(L1105),IF((OFFSET(Q1105,-Q1105,0)>50),SUM(OFFSET(G1105,-Q1105+1,0):G1105),SUM(OFFSET(G1105,-Q1105,0):G1105)),\"\")","v":""},"",{"$f":"IF(B1105>0,'Tax Scales'!U1105-D1105,\"\")","v":""},{"$error":"#NAME?"},{"$error":"#NAME?"},{"$f":"IF(ISNUMBER(G1105),IF(G1105>0,'Tax Scales'!AQ1105,\"\"),\"\")","v":""}]
["2008-10-22",null,null,null,0,{"$f":"IF(SUM($B$7:$B1106)=0,\"\",IF(A1106<>\"\",IF(A1106<$B$3,\"N\",\"Y\"),\"\"))","v":""},0,11.67,0,null,495,{"$f":"IF(AND(ISNUMBER(A1106),NOT(ISNUMBER(A1107))),IF((OFFSET(Q1106,-Q1106,0)>50),SUM(OFFSET(E1106,-Q1106+1,0):E1106),SUM(OFFSET(E1106,-Q1106,0):E1106)),IF(AND(ISNUMBER(P1106),ISNUMBER(P1107),P1106  <P1107),IF((OFFSET(Q1106,-Q1106,0)>50),SUM(OFFSET(E1106,-Q1106+1,0):E1106),SUM(OFFSET(E1106,-Q1106,0):E1106)),\"\"))","v":{"$error":"#NAME?"}},{"$f":"IF(ISNUMBER(L1106),IF((OFFSET(Q1106,-Q1106,0)>50),SUM(OFFSET(G1106,-Q1106+1,0):G1106),SUM(OFFSET(G1106,-Q1106,0):G1106)),\"\")","v":""},"",{"$f":"IF(B1106>0,'Tax Scales'!U1106-D1106,\"\")","v":""},{"$error":"#NAME?"},{"$error":"#NAME?"},{"$f":"IF(ISNUMBER(G1106),IF(G1106>0,'Tax Scales'!AQ1106,\"\"),\"\")","v":""}]
["2008-10-29",null,null,null,0,{"$f":"IF(SUM($B$7:$B1107)=0,\"\",IF(A1107<>\"\",IF(A1107<$B$3,\"N\",\"Y\"),\"\"))","v":""},0,11.67,0,null,494,{"$f":"IF(AND(ISNUMBER(A1107),NOT(ISNUMBER(A1108))),IF((OFFSET(Q1107,-Q1107,0)>50),SUM(OFFSET(E1107,-Q1107+1,0):E1107),SUM(OFFSET(E1107,-Q1107,0):E1107)),IF(AND(ISNUMBER(P1107),ISNUMBER(P1108),P1107  <P1108),IF((OFFSET(Q1107,-Q1107,0)>50),SUM(OFFSET(E1107,-Q1107+1,0):E1107),SUM(OFFSET(E1107,-Q1107,0):E1107)),\"\"))","v":{"$error":"#NAME?"}},{"$f":"IF(ISNUMBER(L1107),IF((OFFSET(Q1107,-Q1107,0)>50),SUM(OFFSET(G1107,-Q1107+1,0):G1107),SUM(OFFSET(G1107,-Q1107,0):G1107)),\"\")","v":""},"",{"$f":"IF(B1107>0,'Tax Scales'!U1107-D1107,\"\")","v":""},{"$error":"#NAME?"},{"$error":"#NAME?"},{"$f":"IF(ISNUMBER(G1107),IF(G1107>0,'Tax Scales'!AQ1107,\"\"),\"\")","v":""}]
["2008-11-05",null,null,null,0,{"$f":"IF(SUM($B$7:$B1108)=0,\"\",IF(A1108<>\"\",IF(A1108<$B$3,\"N\",\"Y\"),\"\"))","v":""},0,11.67,0,null,493,{"$f":"IF(AND(ISNUMBER(A1108),NOT(ISNUMBER(A1109))),IF((OFFSET(Q1108,-Q1108,0)>50),SUM(OFFSET(E1108,-Q1108+1,0):E1108),SUM(OFFSET(E1108,-Q1108,0):E1108)),IF(AND(ISNUMBER(P1108),ISNUMBER(P1109),P1108  <P1109),IF((OFFSET(Q1108,-Q1108,0)>50),SUM(OFFSET(E1108,-Q1108+1,0):E1108),SUM(OFFSET(E1108,-Q1108,0):E1108)),\"\"))","v":{"$error":"#NAME?"}},{"$f":"IF(ISNUMBER(L1108),IF((OFFSET(Q1108,-Q1108,0)>50),SUM(OFFSET(G1108,-Q1108+1,0):G1108),SUM(OFFSET(G1108,-Q1108,0):G1108)),\"\")","v":""},"",{"$f":"IF(B1108>0,'Tax Scales'!U1108-D1108,\"\")","v":""},{"$error":"#NAME?"},{"$error":"#NAME?"},{"$f":"IF(ISNUMBER(G1108),IF(G1108>0,'Tax Scales'!AQ1108,\"\"),\"\")","v":""}]
["2008-11-12",null,null,null,0,{"$f":"IF(SUM($B$7:$B1109)=0,\"\",IF(A1109<>\"\",IF(A1109<$B$3,\"N\",\"Y\"),\"\"))","v":""},0,11.67,0,null,492,{"$f":"IF(AND(ISNUMBER(A1109),NOT(ISNUMBER(A1110))),IF((OFFSET(Q1109,-Q1109,0)>50),SUM(OFFSET(E1109,-Q1109+1,0):E1109),SUM(OFFSET(E1109,-Q1109,0):E1109)),IF(AND(ISNUMBER(P1109),ISNUMBER(P1110),P1109  <P1110),IF((OFFSET(Q1109,-Q1109,0)>50),SUM(OFFSET(E1109,-Q1109+1,0):E1109),SUM(OFFSET(E1109,-Q1109,0):E1109)),\"\"))","v":{"$error":"#NAME?"}},{"$f":"IF(ISNUMBER(L1109),IF((OFFSET(Q1109,-Q1109,0)>50),SUM(OFFSET(G1109,-Q1109+1,0):G1109),SUM(OFFSET(G1109,-Q1109,0):G1109)),\"\")","v":""},"",{"$f":"IF(B1109>0,'Tax Scales'!U1109-D1109,\"\")","v":""},{"$error":"#NAME?"},{"$error":"#NAME?"},{"$f":"IF(ISNUMBER(G1109),IF(G1109>0,'Tax Scales'!AQ1109,\"\"),\"\")","v":""}]
["2008-11-19",null,null,null,0,{"$f":"IF(SUM($B$7:$B1110)=0,\"\",IF(A1110<>\"\",IF(A1110<$B$3,\"N\",\"Y\"),\"\"))","v":""},0,11.67,0,null,491,{"$f":"IF(AND(ISNUMBER(A1110),NOT(ISNUMBER(A1111))),IF((OFFSET(Q1110,-Q1110,0)>50),SUM(OFFSET(E1110,-Q1110+1,0):E1110),SUM(OFFSET(E1110,-Q1110,0):E1110)),IF(AND(ISNUMBER(P1110),ISNUMBER(P1111),P1110  <P1111),IF((OFFSET(Q1110,-Q1110,0)>50),SUM(OFFSET(E1110,-Q1110+1,0):E1110),SUM(OFFSET(E1110,-Q1110,0):E1110)),\"\"))","v":{"$error":"#NAME?"}},{"$f":"IF(ISNUMBER(L1110),IF((OFFSET(Q1110,-Q1110,0)>50),SUM(OFFSET(G1110,-Q1110+1,0):G1110),SUM(OFFSET(G1110,-Q1110,0):G1110)),\"\")","v":""},"",{"$f":"IF(B1110>0,'Tax Scales'!U1110-D1110,\"\")","v":""},{"$error":"#NAME?"},{"$error":"#NAME?"},{"$f":"IF(ISNUMBER(G1110),IF(G1110>0,'Tax Scales'!AQ1110,\"\"),\"\")","v":""}]
["2008-11-26",null,null,null,0,{"$f":"IF(SUM($B$7:$B1111)=0,\"\",IF(A1111<>\"\",IF(A1111<$B$3,\"N\",\"Y\"),\"\"))","v":""},0,11.67,0,null,490,{"$f":"IF(AND(ISNUMBER(A1111),NOT(ISNUMBER(A1112))),IF((OFFSET(Q1111,-Q1111,0)>50),SUM(OFFSET(E1111,-Q1111+1,0):E1111),SUM(OFFSET(E1111,-Q1111,0):E1111)),IF(AND(ISNUMBER(P1111),ISNUMBER(P1112),P1111  <P1112),IF((OFFSET(Q1111,-Q1111,0)>50),SUM(OFFSET(E1111,-Q1111+1,0):E1111),SUM(OFFSET(E1111,-Q1111,0):E1111)),\"\"))","v":{"$error":"#NAME?"}},{"$f":"IF(ISNUMBER(L1111),IF((OFFSET(Q1111,-Q1111,0)>50),SUM(OFFSET(G1111,-Q1111+1,0):G1111),SUM(OFFSET(G1111,-Q1111,0):G1111)),\"\")","v":""},"",{"$f":"IF(B1111>0,'Tax Scales'!U1111-D1111,\"\")","v":""},{"$error":"#NAME?"},{"$error":"#NAME?"},{"$f":"IF(ISNUMBER(G1111),IF(G1111>0,'Tax Scales'!AQ1111,\"\"),\"\")","v":""}]
["2008-12-03",null,null,null,0,{"$f":"IF(SUM($B$7:$B1112)=0,\"\",IF(A1112<>\"\",IF(A1112<$B$3,\"N\",\"Y\"),\"\"))","v":""},0,11.67,0,null,489,{"$f":"IF(AND(ISNUMBER(A1112),NOT(ISNUMBER(A1113))),IF((OFFSET(Q1112,-Q1112,0)>50),SUM(OFFSET(E1112,-Q1112+1,0):E1112),SUM(OFFSET(E1112,-Q1112,0):E1112)),IF(AND(ISNUMBER(P1112),ISNUMBER(P1113),P1112  <P1113),IF((OFFSET(Q1112,-Q1112,0)>50),SUM(OFFSET(E1112,-Q1112+1,0):E1112),SUM(OFFSET(E1112,-Q1112,0):E1112)),\"\"))","v":{"$error":"#NAME?"}},{"$f":"IF(ISNUMBER(L1112),IF((OFFSET(Q1112,-Q1112,0)>50),SUM(OFFSET(G1112,-Q1112+1,0):G1112),SUM(OFFSET(G1112,-Q1112,0):G1112)),\"\")","v":""},"",{"$f":"IF(B1112>0,'Tax Scales'!U1112-D1112,\"\")","v":""},{"$error":"#NAME?"},{"$error":"#NAME?"},{"$f":"IF(ISNUMBER(G1112),IF(G1112>0,'Tax Scales'!AQ1112,\"\"),\"\")","v":""}]
["2008-12-10",null,null,null,0,{"$f":"IF(SUM($B$7:$B1113)=0,\"\",IF(A1113<>\"\",IF(A1113<$B$3,\"N\",\"Y\"),\"\"))","v":""},0,11.67,0,null,488,{"$f":"IF(AND(ISNUMBER(A1113),NOT(ISNUMBER(A1114))),IF((OFFSET(Q1113,-Q1113,0)>50),SUM(OFFSET(E1113,-Q1113+1,0):E1113),SUM(OFFSET(E1113,-Q1113,0):E1113)),IF(AND(ISNUMBER(P1113),ISNUMBER(P1114),P1113  <P1114),IF((OFFSET(Q1113,-Q1113,0)>50),SUM(OFFSET(E1113,-Q1113+1,0):E1113),SUM(OFFSET(E1113,-Q1113,0):E1113)),\"\"))","v":{"$error":"#NAME?"}},{"$f":"IF(ISNUMBER(L1113),IF((OFFSET(Q1113,-Q1113,0)>50),SUM(OFFSET(G1113,-Q1113+1,0):G1113),SUM(OFFSET(G1113,-Q1113,0):G1113)),\"\")","v":""},"",{"$f":"IF(B1113>0,'Tax Scales'!U1113-D1113,\"\")","v":""},{"$error":"#NAME?"},{"$error":"#NAME?"},{"$f":"IF(ISNUMBER(G1113),IF(G1113>0,'Tax Scales'!AQ1113,\"\"),\"\")","v":""}]
["2008-12-17",null,null,null,0,{"$f":"IF(SUM($B$7:$B1114)=0,\"\",IF(A1114<>\"\",IF(A1114<$B$3,\"N\",\"Y\"),\"\"))","v":""},0,11.67,0,null,487,{"$f":"IF(AND(ISNUMBER(A1114),NOT(ISNUMBER(A1115))),IF((OFFSET(Q1114,-Q1114,0)>50),SUM(OFFSET(E1114,-Q1114+1,0):E1114),SUM(OFFSET(E1114,-Q1114,0):E1114)),IF(AND(ISNUMBER(P1114),ISNUMBER(P1115),P1114  <P1115),IF((OFFSET(Q1114,-Q1114,0)>50),SUM(OFFSET(E1114,-Q1114+1,0):E1114),SUM(OFFSET(E1114,-Q1114,0):E1114)),\"\"))","v":{"$error":"#NAME?"}},{"$f":"IF(ISNUMBER(L1114),IF((OFFSET(Q1114,-Q1114,0)>50),SUM(OFFSET(G1114,-Q1114+1,0):G1114),SUM(OFFSET(G1114,-Q1114,0):G1114)),\"\")","v":""},"",{"$f":"IF(B1114>0,'Tax Scales'!U1114-D1114,\"\")","v":""},{"$error":"#NAME?"},{"$error":"#NAME?"},{"$f":"IF(ISNUMBER(G1114),IF(G1114>0,'Tax Scales'!AQ1114,\"\"),\"\")","v":""}]
["2008-12-24",null,null,null,0,{"$f":"IF(SUM($B$7:$B1115)=0,\"\",IF(A1115<>\"\",IF(A1115<$B$3,\"N\",\"Y\"),\"\"))","v":""},0,11.67,0,null,486,{"$f":"IF(AND(ISNUMBER(A1115),NOT(ISNUMBER(A1116))),IF((OFFSET(Q1115,-Q1115,0)>50),SUM(OFFSET(E1115,-Q1115+1,0):E1115),SUM(OFFSET(E1115,-Q1115,0):E1115)),IF(AND(ISNUMBER(P1115),ISNUMBER(P1116),P1115  <P1116),IF((OFFSET(Q1115,-Q1115,0)>50),SUM(OFFSET(E1115,-Q1115+1,0):E1115),SUM(OFFSET(E1115,-Q1115,0):E1115)),\"\"))","v":{"$error":"#NAME?"}},{"$f":"IF(ISNUMBER(L1115),IF((OFFSET(Q1115,-Q1115,0)>50),SUM(OFFSET(G1115,-Q1115+1,0):G1115),SUM(OFFSET(G1115,-Q1115,0):G1115)),\"\")","v":""},"",{"$f":"IF(B1115>0,'Tax Scales'!U1115-D1115,\"\")","v":""},{"$error":"#NAME?"},{"$error":"#NAME?"},{"$f":"IF(ISNUMBER(G1115),IF(G1115>0,'Tax Scales'!AQ1115,\"\"),\"\")","v":""}]
["2008-12-31",null,null,null,0,{"$f":"IF(SUM($B$7:$B1116)=0,\"\",IF(A1116<>\"\",IF(A1116<$B$3,\"N\",\"Y\"),\"\"))","v":""},0,11.67,0,null,485,{"$f":"IF(AND(ISNUMBER(A1116),NOT(ISNUMBER(A1117))),IF((OFFSET(Q1116,-Q1116,0)>50),SUM(OFFSET(E1116,-Q1116+1,0):E1116),SUM(OFFSET(E1116,-Q1116,0):E1116)),IF(AND(ISNUMBER(P1116),ISNUMBER(P1117),P1116  <P1117),IF((OFFSET(Q1116,-Q1116,0)>50),SUM(OFFSET(E1116,-Q1116+1,0):E1116),SUM(OFFSET(E1116,-Q1116,0):E1116)),\"\"))","v":{"$error":"#NAME?"}},{"$f":"IF(ISNUMBER(L1116),IF((OFFSET(Q1116,-Q1116,0)>50),SUM(OFFSET(G1116,-Q1116+1,0):G1116),SUM(OFFSET(G1116,-Q1116,0):G1116)),\"\")","v":""},"",{"$f":"IF(B1116>0,'Tax Scales'!U1116-D1116,\"\")","v":""},{"$error":"#NAME?"},{"$error":"#NAME?"},{"$f":"IF(ISNUMBER(G1116),IF(G1116>0,'Tax Scales'!AQ1116,\"\"),\"\")","v":""}]
["2009-01-07",null,null,null,0,{"$f":"IF(SUM($B$7:$B1117)=0,\"\",IF(A1117<>\"\",IF(A1117<$B$3,\"N\",\"Y\"),\"\"))","v":""},0,11.67,0,null,484,{"$f":"IF(AND(ISNUMBER(A1117),NOT(ISNUMBER(A1118))),IF((OFFSET(Q1117,-Q1117,0)>50),SUM(OFFSET(E1117,-Q1117+1,0):E1117),SUM(OFFSET(E1117,-Q1117,0):E1117)),IF(AND(ISNUMBER(P1117),ISNUMBER(P1118),P1117  <P1118),IF((OFFSET(Q1117,-Q1117,0)>50),SUM(OFFSET(E1117,-Q1117+1,0):E1117),SUM(OFFSET(E1117,-Q1117,0):E1117)),\"\"))","v":{"$error":"#NAME?"}},{"$f":"IF(ISNUMBER(L1117),IF((OFFSET(Q1117,-Q1117,0)>50),SUM(OFFSET(G1117,-Q1117+1,0):G1117),SUM(OFFSET(G1117,-Q1117,0):G1117)),\"\")","v":""},"",{"$f":"IF(B1117>0,'Tax Scales'!U1117-D1117,\"\")","v":""},{"$error":"#NAME?"},{"$error":"#NAME?"},{"$f":"IF(ISNUMBER(G1117),IF(G1117>0,'Tax Scales'!AQ1117,\"\"),\"\")","v":""}]
["2009-01-14",null,null,null,0,{"$f":"IF(SUM($B$7:$B1118)=0,\"\",IF(A1118<>\"\",IF(A1118<$B$3,\"N\",\"Y\"),\"\"))","v":""},0,11.67,0,null,483,{"$f":"IF(AND(ISNUMBER(A1118),NOT(ISNUMBER(A1119))),IF((OFFSET(Q1118,-Q1118,0)>50),SUM(OFFSET(E1118,-Q1118+1,0):E1118),SUM(OFFSET(E1118,-Q1118,0):E1118)),IF(AND(ISNUMBER(P1118),ISNUMBER(P1119),P1118  <P1119),IF((OFFSET(Q1118,-Q1118,0)>50),SUM(OFFSET(E1118,-Q1118+1,0):E1118),SUM(OFFSET(E1118,-Q1118,0):E1118)),\"\"))","v":{"$error":"#NAME?"}},{"$f":"IF(ISNUMBER(L1118),IF((OFFSET(Q1118,-Q1118,0)>50),SUM(OFFSET(G1118,-Q1118+1,0):G1118),SUM(OFFSET(G1118,-Q1118,0):G1118)),\"\")","v":""},"",{"$f":"IF(B1118>0,'Tax Scales'!U1118-D1118,\"\")","v":""},{"$error":"#NAME?"},{"$error":"#NAME?"},{"$f":"IF(ISNUMBER(G1118),IF(G1118>0,'Tax Scales'!AQ1118,\"\"),\"\")","v":""}]
["2009-01-21",null,null,null,0,{"$f":"IF(SUM($B$7:$B1119)=0,\"\",IF(A1119<>\"\",IF(A1119<$B$3,\"N\",\"Y\"),\"\"))","v":""},0,11.67,0,null,482,{"$f":"IF(AND(ISNUMBER(A1119),NOT(ISNUMBER(A1120))),IF((OFFSET(Q1119,-Q1119,0)>50),SUM(OFFSET(E1119,-Q1119+1,0):E1119),SUM(OFFSET(E1119,-Q1119,0):E1119)),IF(AND(ISNUMBER(P1119),ISNUMBER(P1120),P1119  <P1120),IF((OFFSET(Q1119,-Q1119,0)>50),SUM(OFFSET(E1119,-Q1119+1,0):E1119),SUM(OFFSET(E1119,-Q1119,0):E1119)),\"\"))","v":{"$error":"#NAME?"}},{"$f":"IF(ISNUMBER(L1119),IF((OFFSET(Q1119,-Q1119,0)>50),SUM(OFFSET(G1119,-Q1119+1,0):G1119),SUM(OFFSET(G1119,-Q1119,0):G1119)),\"\")","v":""},"",{"$f":"IF(B1119>0,'Tax Scales'!U1119-D1119,\"\")","v":""},{"$error":"#NAME?"},{"$error":"#NAME?"},{"$f":"IF(ISNUMBER(G1119),IF(G1119>0,'Tax Scales'!AQ1119,\"\"),\"\")","v":""}]
["2009-01-28",null,null,null,0,{"$f":"IF(SUM($B$7:$B1120)=0,\"\",IF(A1120<>\"\",IF(A1120<$B$3,\"N\",\"Y\"),\"\"))","v":""},0,11.67,0,null,481,{"$f":"IF(AND(ISNUMBER(A1120),NOT(ISNUMBER(A1121))),IF((OFFSET(Q1120,-Q1120,0)>50),SUM(OFFSET(E1120,-Q1120+1,0):E1120),SUM(OFFSET(E1120,-Q1120,0):E1120)),IF(AND(ISNUMBER(P1120),ISNUMBER(P1121),P1120  <P1121),IF((OFFSET(Q1120,-Q1120,0)>50),SUM(OFFSET(E1120,-Q1120+1,0):E1120),SUM(OFFSET(E1120,-Q1120,0):E1120)),\"\"))","v":{"$error":"#NAME?"}},{"$f":"IF(ISNUMBER(L1120),IF((OFFSET(Q1120,-Q1120,0)>50),SUM(OFFSET(G1120,-Q1120+1,0):G1120),SUM(OFFSET(G1120,-Q1120,0):G1120)),\"\")","v":""},"",{"$f":"IF(B1120>0,'Tax Scales'!U1120-D1120,\"\")","v":""},{"$error":"#NAME?"},{"$error":"#NAME?"},{"$f":"IF(ISNUMBER(G1120),IF(G1120>0,'Tax Scales'!AQ1120,\"\"),\"\")","v":""}]
["2009-02-04",null,null,null,0,{"$f":"IF(SUM($B$7:$B1121)=0,\"\",IF(A1121<>\"\",IF(A1121<$B$3,\"N\",\"Y\"),\"\"))","v":""},0,11.67,0,null,480,{"$f":"IF(AND(ISNUMBER(A1121),NOT(ISNUMBER(A1122))),IF((OFFSET(Q1121,-Q1121,0)>50),SUM(OFFSET(E1121,-Q1121+1,0):E1121),SUM(OFFSET(E1121,-Q1121,0):E1121)),IF(AND(ISNUMBER(P1121),ISNUMBER(P1122),P1121  <P1122),IF((OFFSET(Q1121,-Q1121,0)>50),SUM(OFFSET(E1121,-Q1121+1,0):E1121),SUM(OFFSET(E1121,-Q1121,0):E1121)),\"\"))","v":{"$error":"#NAME?"}},{"$f":"IF(ISNUMBER(L1121),IF((OFFSET(Q1121,-Q1121,0)>50),SUM(OFFSET(G1121,-Q1121+1,0):G1121),SUM(OFFSET(G1121,-Q1121,0):G1121)),\"\")","v":""},"",{"$f":"IF(B1121>0,'Tax Scales'!U1121-D1121,\"\")","v":""},{"$error":"#NAME?"},{"$error":"#NAME?"},{"$f":"IF(ISNUMBER(G1121),IF(G1121>0,'Tax Scales'!AQ1121,\"\"),\"\")","v":""}]
["2009-02-11",null,null,null,0,{"$f":"IF(SUM($B$7:$B1122)=0,\"\",IF(A1122<>\"\",IF(A1122<$B$3,\"N\",\"Y\"),\"\"))","v":""},0,11.67,0,null,{"$f":"IF(A1122<>\"\",IF((TODAY()-A1122)/7>=0,INT((TODAY()-A1122)/7),0),\"\")","v":479},{"$f":"IF(AND(ISNUMBER(A1122),NOT(ISNUMBER(A1123))),IF((OFFSET(Q1122,-Q1122,0)>50),SUM(OFFSET(E1122,-Q1122+1,0):E1122),SUM(OFFSET(E1122,-Q1122,0):E1122)),IF(AND(ISNUMBER(P1122),ISNUMBER(P1123),P1122  <P1123),IF((OFFSET(Q1122,-Q1122,0)>50),SUM(OFFSET(E1122,-Q1122+1,0):E1122),SUM(OFFSET(E1122,-Q1122,0):E1122)),\"\"))","v":{"$error":"#NAME?"}},{"$f":"IF(ISNUMBER(L1122),IF((OFFSET(Q1122,-Q1122,0)>50),SUM(OFFSET(G1122,-Q1122+1,0):G1122),SUM(OFFSET(G1122,-Q1122,0):G1122)),\"\")","v":""},{"$f":"IF(B1122>0,IF(P1122  = $P$6,E1122-O1122,\"\"),\"\")","v":""},{"$f":"IF(B1122>0,'Tax Scales'!U1122-D1122,\"\")","v":""},{"$error":"#NAME?"},{"$error":"#NAME?"},{"$f":"IF(ISNUMBER(G1122),IF(G1122>0,'Tax Scales'!AQ1122,\"\"),\"\")","v":""}]
["2009-02-18",null,null,null,0,{"$f":"IF(SUM($B$7:$B1123)=0,\"\",IF(A1123<>\"\",IF(A1123<$B$3,\"N\",\"Y\"),\"\"))","v":""},0,11.67,0,null,478,{"$f":"IF(AND(ISNUMBER(A1123),NOT(ISNUMBER(A1124))),IF((OFFSET(Q1123,-Q1123,0)>50),SUM(OFFSET(E1123,-Q1123+1,0):E1123),SUM(OFFSET(E1123,-Q1123,0):E1123)),IF(AND(ISNUMBER(P1123),ISNUMBER(P1124),P1123  <P1124),IF((OFFSET(Q1123,-Q1123,0)>50),SUM(OFFSET(E1123,-Q1123+1,0):E1123),SUM(OFFSET(E1123,-Q1123,0):E1123)),\"\"))","v":{"$error":"#NAME?"}},{"$f":"IF(ISNUMBER(L1123),IF((OFFSET(Q1123,-Q1123,0)>50),SUM(OFFSET(G1123,-Q1123+1,0):G1123),SUM(OFFSET(G1123,-Q1123,0):G1123)),\"\")","v":""},"",{"$f":"IF(B1123>0,'Tax Scales'!U1123-D1123,\"\")","v":""},{"$error":"#NAME?"},{"$error":"#NAME?"},{"$f":"IF(ISNUMBER(G1123),IF(G1123>0,'Tax Scales'!AQ1123,\"\"),\"\")","v":""}]
["2009-02-25",null,null,null,0,{"$f":"IF(SUM($B$7:$B1124)=0,\"\",IF(A1124<>\"\",IF(A1124<$B$3,\"N\",\"Y\"),\"\"))","v":""},0,11.67,0,null,477,{"$f":"IF(AND(ISNUMBER(A1124),NOT(ISNUMBER(A1125))),IF((OFFSET(Q1124,-Q1124,0)>50),SUM(OFFSET(E1124,-Q1124+1,0):E1124),SUM(OFFSET(E1124,-Q1124,0):E1124)),IF(AND(ISNUMBER(P1124),ISNUMBER(P1125),P1124  <P1125),IF((OFFSET(Q1124,-Q1124,0)>50),SUM(OFFSET(E1124,-Q1124+1,0):E1124),SUM(OFFSET(E1124,-Q1124,0):E1124)),\"\"))","v":{"$error":"#NAME?"}},{"$f":"IF(ISNUMBER(L1124),IF((OFFSET(Q1124,-Q1124,0)>50),SUM(OFFSET(G1124,-Q1124+1,0):G1124),SUM(OFFSET(G1124,-Q1124,0):G1124)),\"\")","v":""},"",{"$f":"IF(B1124>0,'Tax Scales'!U1124-D1124,\"\")","v":""},{"$error":"#NAME?"},{"$error":"#NAME?"},{"$f":"IF(ISNUMBER(G1124),IF(G1124>0,'Tax Scales'!AQ1124,\"\"),\"\")","v":""}]
["2009-03-04",null,null,null,0,{"$f":"IF(SUM($B$7:$B1125)=0,\"\",IF(A1125<>\"\",IF(A1125<$B$3,\"N\",\"Y\"),\"\"))","v":""},0,11.67,0,null,476,{"$f":"IF(AND(ISNUMBER(A1125),NOT(ISNUMBER(A1126))),IF((OFFSET(Q1125,-Q1125,0)>50),SUM(OFFSET(E1125,-Q1125+1,0):E1125),SUM(OFFSET(E1125,-Q1125,0):E1125)),IF(AND(ISNUMBER(P1125),ISNUMBER(P1126),P1125  <P1126),IF((OFFSET(Q1125,-Q1125,0)>50),SUM(OFFSET(E1125,-Q1125+1,0):E1125),SUM(OFFSET(E1125,-Q1125,0):E1125)),\"\"))","v":{"$error":"#NAME?"}},{"$f":"IF(ISNUMBER(L1125),IF((OFFSET(Q1125,-Q1125,0)>50),SUM(OFFSET(G1125,-Q1125+1,0):G1125),SUM(OFFSET(G1125,-Q1125,0):G1125)),\"\")","v":""},"",{"$f":"IF(B1125>0,'Tax Scales'!U1125-D1125,\"\")","v":""},{"$error":"#NAME?"},{"$error":"#NAME?"},{"$f":"IF(ISNUMBER(G1125),IF(G1125>0,'Tax Scales'!AQ1125,\"\"),\"\")","v":""}]
["2009-03-11",null,null,null,0,{"$f":"IF(SUM($B$7:$B1126)=0,\"\",IF(A1126<>\"\",IF(A1126<$B$3,\"N\",\"Y\"),\"\"))","v":""},0,11.67,0,null,475,{"$f":"IF(AND(ISNUMBER(A1126),NOT(ISNUMBER(A1127))),IF((OFFSET(Q1126,-Q1126,0)>50),SUM(OFFSET(E1126,-Q1126+1,0):E1126),SUM(OFFSET(E1126,-Q1126,0):E1126)),IF(AND(ISNUMBER(P1126),ISNUMBER(P1127),P1126  <P1127),IF((OFFSET(Q1126,-Q1126,0)>50),SUM(OFFSET(E1126,-Q1126+1,0):E1126),SUM(OFFSET(E1126,-Q1126,0):E1126)),\"\"))","v":{"$error":"#NAME?"}},{"$f":"IF(ISNUMBER(L1126),IF((OFFSET(Q1126,-Q1126,0)>50),SUM(OFFSET(G1126,-Q1126+1,0):G1126),SUM(OFFSET(G1126,-Q1126,0):G1126)),\"\")","v":""},"",{"$f":"IF(B1126>0,'Tax Scales'!U1126-D1126,\"\")","v":""},{"$error":"#NAME?"},{"$error":"#NAME?"},{"$f":"IF(ISNUMBER(G1126),IF(G1126>0,'Tax Scales'!AQ1126,\"\"),\"\")","v":""}]
["2009-03-18",null,null,null,0,{"$f":"IF(SUM($B$7:$B1127)=0,\"\",IF(A1127<>\"\",IF(A1127<$B$3,\"N\",\"Y\"),\"\"))","v":""},0,11.67,0,null,474,{"$f":"IF(AND(ISNUMBER(A1127),NOT(ISNUMBER(A1128))),IF((OFFSET(Q1127,-Q1127,0)>50),SUM(OFFSET(E1127,-Q1127+1,0):E1127),SUM(OFFSET(E1127,-Q1127,0):E1127)),IF(AND(ISNUMBER(P1127),ISNUMBER(P1128),P1127  <P1128),IF((OFFSET(Q1127,-Q1127,0)>50),SUM(OFFSET(E1127,-Q1127+1,0):E1127),SUM(OFFSET(E1127,-Q1127,0):E1127)),\"\"))","v":{"$error":"#NAME?"}},{"$f":"IF(ISNUMBER(L1127),IF((OFFSET(Q1127,-Q1127,0)>50),SUM(OFFSET(G1127,-Q1127+1,0):G1127),SUM(OFFSET(G1127,-Q1127,0):G1127)),\"\")","v":""},"",{"$f":"IF(B1127>0,'Tax Scales'!U1127-D1127,\"\")","v":""},{"$error":"#NAME?"},{"$error":"#NAME?"},{"$f":"IF(ISNUMBER(G1127),IF(G1127>0,'Tax Scales'!AQ1127,\"\"),\"\")","v":""}]
["2009-03-25",null,null,null,0,{"$f":"IF(SUM($B$7:$B1128)=0,\"\",IF(A1128<>\"\",IF(A1128<$B$3,\"N\",\"Y\"),\"\"))","v":""},0,11.67,0,null,473,{"$f":"IF(AND(ISNUMBER(A1128),NOT(ISNUMBER(A1129))),IF((OFFSET(Q1128,-Q1128,0)>50),SUM(OFFSET(E1128,-Q1128+1,0):E1128),SUM(OFFSET(E1128,-Q1128,0):E1128)),IF(AND(ISNUMBER(P1128),ISNUMBER(P1129),P1128  <P1129),IF((OFFSET(Q1128,-Q1128,0)>50),SUM(OFFSET(E1128,-Q1128+1,0):E1128),SUM(OFFSET(E1128,-Q1128,0):E1128)),\"\"))","v":{"$error":"#NAME?"}},{"$f":"IF(ISNUMBER(L1128),IF((OFFSET(Q1128,-Q1128,0)>50),SUM(OFFSET(G1128,-Q1128+1,0):G1128),SUM(OFFSET(G1128,-Q1128,0):G1128)),\"\")","v":""},"",{"$f":"IF(B1128>0,'Tax Scales'!U1128-D1128,\"\")","v":""},{"$error":"#NAME?"},{"$error":"#NAME?"},{"$f":"IF(ISNUMBER(G1128),IF(G1128>0,'Tax Scales'!AQ1128,\"\"),\"\")","v":""}]
["2009-04-01",null,null,null,0,{"$f":"IF(SUM($B$7:$B1129)=0,\"\",IF(A1129<>\"\",IF(A1129<$B$3,\"N\",\"Y\"),\"\"))","v":""},0,11.67,0,null,472,{"$f":"IF(AND(ISNUMBER(A1129),NOT(ISNUMBER(A1130))),IF((OFFSET(Q1129,-Q1129,0)>50),SUM(OFFSET(E1129,-Q1129+1,0):E1129),SUM(OFFSET(E1129,-Q1129,0):E1129)),IF(AND(ISNUMBER(P1129),ISNUMBER(P1130),P1129  <P1130),IF((OFFSET(Q1129,-Q1129,0)>50),SUM(OFFSET(E1129,-Q1129+1,0):E1129),SUM(OFFSET(E1129,-Q1129,0):E1129)),\"\"))","v":{"$error":"#NAME?"}},{"$f":"IF(ISNUMBER(L1129),IF((OFFSET(Q1129,-Q1129,0)>50),SUM(OFFSET(G1129,-Q1129+1,0):G1129),SUM(OFFSET(G1129,-Q1129,0):G1129)),\"\")","v":""},"",{"$f":"IF(B1129>0,'Tax Scales'!U1129-D1129,\"\")","v":""},{"$error":"#NAME?"},{"$error":"#NAME?"},{"$f":"IF(ISNUMBER(G1129),IF(G1129>0,'Tax Scales'!AQ1129,\"\"),\"\")","v":""}]
["2009-04-08",null,null,null,0,{"$f":"IF(SUM($B$7:$B1130)=0,\"\",IF(A1130<>\"\",IF(A1130<$B$3,\"N\",\"Y\"),\"\"))","v":""},0,11.67,0,null,471,{"$f":"IF(AND(ISNUMBER(A1130),NOT(ISNUMBER(A1131))),IF((OFFSET(Q1130,-Q1130,0)>50),SUM(OFFSET(E1130,-Q1130+1,0):E1130),SUM(OFFSET(E1130,-Q1130,0):E1130)),IF(AND(ISNUMBER(P1130),ISNUMBER(P1131),P1130  <P1131),IF((OFFSET(Q1130,-Q1130,0)>50),SUM(OFFSET(E1130,-Q1130+1,0):E1130),SUM(OFFSET(E1130,-Q1130,0):E1130)),\"\"))","v":{"$error":"#NAME?"}},{"$f":"IF(ISNUMBER(L1130),IF((OFFSET(Q1130,-Q1130,0)>50),SUM(OFFSET(G1130,-Q1130+1,0):G1130),SUM(OFFSET(G1130,-Q1130,0):G1130)),\"\")","v":""},"",{"$f":"IF(B1130>0,'Tax Scales'!U1130-D1130,\"\")","v":""},{"$error":"#NAME?"},{"$error":"#NAME?"},{"$f":"IF(ISNUMBER(G1130),IF(G1130>0,'Tax Scales'!AQ1130,\"\"),\"\")","v":""}]
["2009-04-15",null,null,null,0,{"$f":"IF(SUM($B$7:$B1131)=0,\"\",IF(A1131<>\"\",IF(A1131<$B$3,\"N\",\"Y\"),\"\"))","v":""},0,11.67,0,null,470,{"$f":"IF(AND(ISNUMBER(A1131),NOT(ISNUMBER(A1132))),IF((OFFSET(Q1131,-Q1131,0)>50),SUM(OFFSET(E1131,-Q1131+1,0):E1131),SUM(OFFSET(E1131,-Q1131,0):E1131)),IF(AND(ISNUMBER(P1131),ISNUMBER(P1132),P1131  <P1132),IF((OFFSET(Q1131,-Q1131,0)>50),SUM(OFFSET(E1131,-Q1131+1,0):E1131),SUM(OFFSET(E1131,-Q1131,0):E1131)),\"\"))","v":{"$error":"#NAME?"}},{"$f":"IF(ISNUMBER(L1131),IF((OFFSET(Q1131,-Q1131,0)>50),SUM(OFFSET(G1131,-Q1131+1,0):G1131),SUM(OFFSET(G1131,-Q1131,0):G1131)),\"\")","v":""},"",{"$f":"IF(B1131>0,'Tax Scales'!U1131-D1131,\"\")","v":""},{"$error":"#NAME?"},{"$error":"#NAME?"},{"$f":"IF(ISNUMBER(G1131),IF(G1131>0,'Tax Scales'!AQ1131,\"\"),\"\")","v":""}]
["2009-04-22",null,null,null,0,{"$f":"IF(SUM($B$7:$B1132)=0,\"\",IF(A1132<>\"\",IF(A1132<$B$3,\"N\",\"Y\"),\"\"))","v":""},0,11.67,0,null,469,{"$f":"IF(AND(ISNUMBER(A1132),NOT(ISNUMBER(A1133))),IF((OFFSET(Q1132,-Q1132,0)>50),SUM(OFFSET(E1132,-Q1132+1,0):E1132),SUM(OFFSET(E1132,-Q1132,0):E1132)),IF(AND(ISNUMBER(P1132),ISNUMBER(P1133),P1132  <P1133),IF((OFFSET(Q1132,-Q1132,0)>50),SUM(OFFSET(E1132,-Q1132+1,0):E1132),SUM(OFFSET(E1132,-Q1132,0):E1132)),\"\"))","v":{"$error":"#NAME?"}},{"$f":"IF(ISNUMBER(L1132),IF((OFFSET(Q1132,-Q1132,0)>50),SUM(OFFSET(G1132,-Q1132+1,0):G1132),SUM(OFFSET(G1132,-Q1132,0):G1132)),\"\")","v":""},"",{"$f":"IF(B1132>0,'Tax Scales'!U1132-D1132,\"\")","v":""},{"$error":"#NAME?"},{"$error":"#NAME?"},{"$f":"IF(ISNUMBER(G1132),IF(G1132>0,'Tax Scales'!AQ1132,\"\"),\"\")","v":""}]
["2009-04-29",null,null,null,0,{"$f":"IF(SUM($B$7:$B1133)=0,\"\",IF(A1133<>\"\",IF(A1133<$B$3,\"N\",\"Y\"),\"\"))","v":""},0,11.67,0,null,468,{"$f":"IF(AND(ISNUMBER(A1133),NOT(ISNUMBER(A1134))),IF((OFFSET(Q1133,-Q1133,0)>50),SUM(OFFSET(E1133,-Q1133+1,0):E1133),SUM(OFFSET(E1133,-Q1133,0):E1133)),IF(AND(ISNUMBER(P1133),ISNUMBER(P1134),P1133  <P1134),IF((OFFSET(Q1133,-Q1133,0)>50),SUM(OFFSET(E1133,-Q1133+1,0):E1133),SUM(OFFSET(E1133,-Q1133,0):E1133)),\"\"))","v":{"$error":"#NAME?"}},{"$f":"IF(ISNUMBER(L1133),IF((OFFSET(Q1133,-Q1133,0)>50),SUM(OFFSET(G1133,-Q1133+1,0):G1133),SUM(OFFSET(G1133,-Q1133,0):G1133)),\"\")","v":""},"",{"$f":"IF(B1133>0,'Tax Scales'!U1133-D1133,\"\")","v":""},{"$error":"#NAME?"},{"$error":"#NAME?"},{"$f":"IF(ISNUMBER(G1133),IF(G1133>0,'Tax Scales'!AQ1133,\"\"),\"\")","v":""}]
["2009-05-06",null,null,null,0,{"$f":"IF(SUM($B$7:$B1134)=0,\"\",IF(A1134<>\"\",IF(A1134<$B$3,\"N\",\"Y\"),\"\"))","v":""},0,11.67,0,null,467,{"$f":"IF(AND(ISNUMBER(A1134),NOT(ISNUMBER(A1135))),IF((OFFSET(Q1134,-Q1134,0)>50),SUM(OFFSET(E1134,-Q1134+1,0):E1134),SUM(OFFSET(E1134,-Q1134,0):E1134)),IF(AND(ISNUMBER(P1134),ISNUMBER(P1135),P1134  <P1135),IF((OFFSET(Q1134,-Q1134,0)>50),SUM(OFFSET(E1134,-Q1134+1,0):E1134),SUM(OFFSET(E1134,-Q1134,0):E1134)),\"\"))","v":{"$error":"#NAME?"}},{"$f":"IF(ISNUMBER(L1134),IF((OFFSET(Q1134,-Q1134,0)>50),SUM(OFFSET(G1134,-Q1134+1,0):G1134),SUM(OFFSET(G1134,-Q1134,0):G1134)),\"\")","v":""},"",{"$f":"IF(B1134>0,'Tax Scales'!U1134-D1134,\"\")","v":""},{"$error":"#NAME?"},{"$error":"#NAME?"},{"$f":"IF(ISNUMBER(G1134),IF(G1134>0,'Tax Scales'!AQ1134,\"\"),\"\")","v":""}]
["2009-05-13",null,null,null,0,{"$f":"IF(SUM($B$7:$B1135)=0,\"\",IF(A1135<>\"\",IF(A1135<$B$3,\"N\",\"Y\"),\"\"))","v":""},0,11.67,0,null,466,{"$f":"IF(AND(ISNUMBER(A1135),NOT(ISNUMBER(A1136))),IF((OFFSET(Q1135,-Q1135,0)>50),SUM(OFFSET(E1135,-Q1135+1,0):E1135),SUM(OFFSET(E1135,-Q1135,0):E1135)),IF(AND(ISNUMBER(P1135),ISNUMBER(P1136),P1135  <P1136),IF((OFFSET(Q1135,-Q1135,0)>50),SUM(OFFSET(E1135,-Q1135+1,0):E1135),SUM(OFFSET(E1135,-Q1135,0):E1135)),\"\"))","v":{"$error":"#NAME?"}},{"$f":"IF(ISNUMBER(L1135),IF((OFFSET(Q1135,-Q1135,0)>50),SUM(OFFSET(G1135,-Q1135+1,0):G1135),SUM(OFFSET(G1135,-Q1135,0):G1135)),\"\")","v":""},"",{"$f":"IF(B1135>0,'Tax Scales'!U1135-D1135,\"\")","v":""},{"$error":"#NAME?"},{"$error":"#NAME?"},{"$f":"IF(ISNUMBER(G1135),IF(G1135>0,'Tax Scales'!AQ1135,\"\"),\"\")","v":""}]
["2009-05-20",null,null,null,0,{"$f":"IF(SUM($B$7:$B1136)=0,\"\",IF(A1136<>\"\",IF(A1136<$B$3,\"N\",\"Y\"),\"\"))","v":""},0,11.67,0,null,465,{"$f":"IF(AND(ISNUMBER(A1136),NOT(ISNUMBER(A1137))),IF((OFFSET(Q1136,-Q1136,0)>50),SUM(OFFSET(E1136,-Q1136+1,0):E1136),SUM(OFFSET(E1136,-Q1136,0):E1136)),IF(AND(ISNUMBER(P1136),ISNUMBER(P1137),P1136  <P1137),IF((OFFSET(Q1136,-Q1136,0)>50),SUM(OFFSET(E1136,-Q1136+1,0):E1136),SUM(OFFSET(E1136,-Q1136,0):E1136)),\"\"))","v":{"$error":"#NAME?"}},{"$f":"IF(ISNUMBER(L1136),IF((OFFSET(Q1136,-Q1136,0)>50),SUM(OFFSET(G1136,-Q1136+1,0):G1136),SUM(OFFSET(G1136,-Q1136,0):G1136)),\"\")","v":""},"",{"$f":"IF(B1136>0,'Tax Scales'!U1136-D1136,\"\")","v":""},{"$error":"#NAME?"},{"$error":"#NAME?"},{"$f":"IF(ISNUMBER(G1136),IF(G1136>0,'Tax Scales'!AQ1136,\"\"),\"\")","v":""}]
["2009-05-27",null,null,null,0,{"$f":"IF(SUM($B$7:$B1137)=0,\"\",IF(A1137<>\"\",IF(A1137<$B$3,\"N\",\"Y\"),\"\"))","v":""},0,11.67,0,null,464,{"$f":"IF(AND(ISNUMBER(A1137),NOT(ISNUMBER(A1138))),IF((OFFSET(Q1137,-Q1137,0)>50),SUM(OFFSET(E1137,-Q1137+1,0):E1137),SUM(OFFSET(E1137,-Q1137,0):E1137)),IF(AND(ISNUMBER(P1137),ISNUMBER(P1138),P1137  <P1138),IF((OFFSET(Q1137,-Q1137,0)>50),SUM(OFFSET(E1137,-Q1137+1,0):E1137),SUM(OFFSET(E1137,-Q1137,0):E1137)),\"\"))","v":{"$error":"#NAME?"}},{"$f":"IF(ISNUMBER(L1137),IF((OFFSET(Q1137,-Q1137,0)>50),SUM(OFFSET(G1137,-Q1137+1,0):G1137),SUM(OFFSET(G1137,-Q1137,0):G1137)),\"\")","v":""},"",{"$f":"IF(B1137>0,'Tax Scales'!U1137-D1137,\"\")","v":""},{"$error":"#NAME?"},{"$error":"#NAME?"},{"$f":"IF(ISNUMBER(G1137),IF(G1137>0,'Tax Scales'!AQ1137,\"\"),\"\")","v":""}]
["2009-06-03",null,null,null,0,{"$f":"IF(SUM($B$7:$B1138)=0,\"\",IF(A1138<>\"\",IF(A1138<$B$3,\"N\",\"Y\"),\"\"))","v":""},0,11.67,0,null,463,{"$f":"IF(AND(ISNUMBER(A1138),NOT(ISNUMBER(A1139))),IF((OFFSET(Q1138,-Q1138,0)>50),SUM(OFFSET(E1138,-Q1138+1,0):E1138),SUM(OFFSET(E1138,-Q1138,0):E1138)),IF(AND(ISNUMBER(P1138),ISNUMBER(P1139),P1138  <P1139),IF((OFFSET(Q1138,-Q1138,0)>50),SUM(OFFSET(E1138,-Q1138+1,0):E1138),SUM(OFFSET(E1138,-Q1138,0):E1138)),\"\"))","v":{"$error":"#NAME?"}},{"$f":"IF(ISNUMBER(L1138),IF((OFFSET(Q1138,-Q1138,0)>50),SUM(OFFSET(G1138,-Q1138+1,0):G1138),SUM(OFFSET(G1138,-Q1138,0):G1138)),\"\")","v":""},"",{"$f":"IF(B1138>0,'Tax Scales'!U1138-D1138,\"\")","v":""},{"$error":"#NAME?"},{"$error":"#NAME?"},{"$f":"IF(ISNUMBER(G1138),IF(G1138>0,'Tax Scales'!AQ1138,\"\"),\"\")","v":""}]
["2009-06-10",null,null,null,0,{"$f":"IF(SUM($B$7:$B1139)=0,\"\",IF(A1139<>\"\",IF(A1139<$B$3,\"N\",\"Y\"),\"\"))","v":""},0,11.67,0,null,462,{"$f":"IF(AND(ISNUMBER(A1139),NOT(ISNUMBER(A1140))),IF((OFFSET(Q1139,-Q1139,0)>50),SUM(OFFSET(E1139,-Q1139+1,0):E1139),SUM(OFFSET(E1139,-Q1139,0):E1139)),IF(AND(ISNUMBER(P1139),ISNUMBER(P1140),P1139  <P1140),IF((OFFSET(Q1139,-Q1139,0)>50),SUM(OFFSET(E1139,-Q1139+1,0):E1139),SUM(OFFSET(E1139,-Q1139,0):E1139)),\"\"))","v":{"$error":"#NAME?"}},{"$f":"IF(ISNUMBER(L1139),IF((OFFSET(Q1139,-Q1139,0)>50),SUM(OFFSET(G1139,-Q1139+1,0):G1139),SUM(OFFSET(G1139,-Q1139,0):G1139)),\"\")","v":""},"",{"$f":"IF(B1139>0,'Tax Scales'!U1139-D1139,\"\")","v":""},{"$error":"#NAME?"},{"$error":"#NAME?"},{"$f":"IF(ISNUMBER(G1139),IF(G1139>0,'Tax Scales'!AQ1139,\"\"),\"\")","v":""}]
["2009-06-17",null,null,null,0,{"$f":"IF(SUM($B$7:$B1140)=0,\"\",IF(A1140<>\"\",IF(A1140<$B$3,\"N\",\"Y\"),\"\"))","v":""},0,11.67,0,null,461,{"$f":"IF(AND(ISNUMBER(A1140),NOT(ISNUMBER(A1141))),IF((OFFSET(Q1140,-Q1140,0)>50),SUM(OFFSET(E1140,-Q1140+1,0):E1140),SUM(OFFSET(E1140,-Q1140,0):E1140)),IF(AND(ISNUMBER(P1140),ISNUMBER(P1141),P1140  <P1141),IF((OFFSET(Q1140,-Q1140,0)>50),SUM(OFFSET(E1140,-Q1140+1,0):E1140),SUM(OFFSET(E1140,-Q1140,0):E1140)),\"\"))","v":{"$error":"#NAME?"}},{"$f":"IF(ISNUMBER(L1140),IF((OFFSET(Q1140,-Q1140,0)>50),SUM(OFFSET(G1140,-Q1140+1,0):G1140),SUM(OFFSET(G1140,-Q1140,0):G1140)),\"\")","v":""},"",{"$f":"IF(B1140>0,'Tax Scales'!U1140-D1140,\"\")","v":""},{"$error":"#NAME?"},{"$error":"#NAME?"},{"$f":"IF(ISNUMBER(G1140),IF(G1140>0,'Tax Scales'!AQ1140,\"\"),\"\")","v":""}]
["2009-06-24",null,null,null,0,{"$f":"IF(SUM($B$7:$B1141)=0,\"\",IF(A1141<>\"\",IF(A1141<$B$3,\"N\",\"Y\"),\"\"))","v":""},0,11.67,0,null,460,{"$f":"IF(AND(ISNUMBER(A1141),NOT(ISNUMBER(A1142))),IF((OFFSET(Q1141,-Q1141,0)>50),SUM(OFFSET(E1141,-Q1141+1,0):E1141),SUM(OFFSET(E1141,-Q1141,0):E1141)),IF(AND(ISNUMBER(P1141),ISNUMBER(P1142),P1141  <P1142),IF((OFFSET(Q1141,-Q1141,0)>50),SUM(OFFSET(E1141,-Q1141+1,0):E1141),SUM(OFFSET(E1141,-Q1141,0):E1141)),\"\"))","v":{"$error":"#NAME?"}},{"$f":"IF(ISNUMBER(L1141),IF((OFFSET(Q1141,-Q1141,0)>50),SUM(OFFSET(G1141,-Q1141+1,0):G1141),SUM(OFFSET(G1141,-Q1141,0):G1141)),\"\")","v":""},"",{"$f":"IF(B1141>0,'Tax Scales'!U1141-D1141,\"\")","v":""},{"$error":"#NAME?"},{"$error":"#NAME?"},{"$f":"IF(ISNUMBER(G1141),IF(G1141>0,'Tax Scales'!AQ1141,\"\"),\"\")","v":""}]
["2009-07-01",null,null,null,0,{"$f":"IF(SUM($B$7:$B1142)=0,\"\",IF(A1142<>\"\",IF(A1142<$B$3,\"N\",\"Y\"),\"\"))","v":""},0,{"$f":"IF(A1142<>\"\",9.51,\"\")","v":9.51},0,null,459,{"$f":"IF(AND(ISNUMBER(A1142),NOT(ISNUMBER(A1143))),IF((OFFSET(Q1142,-Q1142,0)>50),SUM(OFFSET(E1142,-Q1142+1,0):E1142),SUM(OFFSET(E1142,-Q1142,0):E1142)),IF(AND(ISNUMBER(P1142),ISNUMBER(P1143),P1142  <P1143),IF((OFFSET(Q1142,-Q1142,0)>50),SUM(OFFSET(E1142,-Q1142+1,0):E1142),SUM(OFFSET(E1142,-Q1142,0):E1142)),\"\"))","v":{"$error":"#NAME?"}},{"$f":"IF(ISNUMBER(L1142),IF((OFFSET(Q1142,-Q1142,0)>50),SUM(OFFSET(G1142,-Q1142+1,0):G1142),SUM(OFFSET(G1142,-Q1142,0):G1142)),\"\")","v":""},"",{"$f":"IF(B1142>0,'Tax Scales'!U1142-D1142,\"\")","v":""},{"$error":"#NAME?"},{"$error":"#NAME?"},{"$f":"IF(ISNUMBER(G1142),IF(G1142>0,'Tax Scales'!AQ1142,\"\"),\"\")","v":""}]
["2009-07-08",null,null,null,0,{"$f":"IF(SUM($B$7:$B1143)=0,\"\",IF(A1143<>\"\",IF(A1143<$B$3,\"N\",\"Y\"),\"\"))","v":""},0,{"$f":"IF(A1143<>\"\",9.51,\"\")","v":9.51},0,null,458,{"$f":"IF(AND(ISNUMBER(A1143),NOT(ISNUMBER(A1144))),IF((OFFSET(Q1143,-Q1143,0)>50),SUM(OFFSET(E1143,-Q1143+1,0):E1143),SUM(OFFSET(E1143,-Q1143,0):E1143)),IF(AND(ISNUMBER(P1143),ISNUMBER(P1144),P1143  <P1144),IF((OFFSET(Q1143,-Q1143,0)>50),SUM(OFFSET(E1143,-Q1143+1,0):E1143),SUM(OFFSET(E1143,-Q1143,0):E1143)),\"\"))","v":{"$error":"#NAME?"}},{"$f":"IF(ISNUMBER(L1143),IF((OFFSET(Q1143,-Q1143,0)>50),SUM(OFFSET(G1143,-Q1143+1,0):G1143),SUM(OFFSET(G1143,-Q1143,0):G1143)),\"\")","v":""},"",{"$f":"IF(B1143>0,'Tax Scales'!U1143-D1143,\"\")","v":""},{"$error":"#NAME?"},{"$error":"#NAME?"},{"$f":"IF(ISNUMBER(G1143),IF(G1143>0,'Tax Scales'!AQ1143,\"\"),\"\")","v":""}]
["2009-07-15",null,null,null,0,{"$f":"IF(SUM($B$7:$B1144)=0,\"\",IF(A1144<>\"\",IF(A1144<$B$3,\"N\",\"Y\"),\"\"))","v":""},0,9.51,0,null,457,{"$f":"IF(AND(ISNUMBER(A1144),NOT(ISNUMBER(A1145))),IF((OFFSET(Q1144,-Q1144,0)>50),SUM(OFFSET(E1144,-Q1144+1,0):E1144),SUM(OFFSET(E1144,-Q1144,0):E1144)),IF(AND(ISNUMBER(P1144),ISNUMBER(P1145),P1144  <P1145),IF((OFFSET(Q1144,-Q1144,0)>50),SUM(OFFSET(E1144,-Q1144+1,0):E1144),SUM(OFFSET(E1144,-Q1144,0):E1144)),\"\"))","v":{"$error":"#NAME?"}},{"$f":"IF(ISNUMBER(L1144),IF((OFFSET(Q1144,-Q1144,0)>50),SUM(OFFSET(G1144,-Q1144+1,0):G1144),SUM(OFFSET(G1144,-Q1144,0):G1144)),\"\")","v":""},"",{"$f":"IF(B1144>0,'Tax Scales'!U1144-D1144,\"\")","v":""},{"$error":"#NAME?"},{"$error":"#NAME?"},{"$f":"IF(ISNUMBER(G1144),IF(G1144>0,'Tax Scales'!AQ1144,\"\"),\"\")","v":""}]
["2009-07-22",null,null,null,0,{"$f":"IF(SUM($B$7:$B1145)=0,\"\",IF(A1145<>\"\",IF(A1145<$B$3,\"N\",\"Y\"),\"\"))","v":""},0,9.51,0,null,456,{"$f":"IF(AND(ISNUMBER(A1145),NOT(ISNUMBER(A1146))),IF((OFFSET(Q1145,-Q1145,0)>50),SUM(OFFSET(E1145,-Q1145+1,0):E1145),SUM(OFFSET(E1145,-Q1145,0):E1145)),IF(AND(ISNUMBER(P1145),ISNUMBER(P1146),P1145  <P1146),IF((OFFSET(Q1145,-Q1145,0)>50),SUM(OFFSET(E1145,-Q1145+1,0):E1145),SUM(OFFSET(E1145,-Q1145,0):E1145)),\"\"))","v":{"$error":"#NAME?"}},{"$f":"IF(ISNUMBER(L1145),IF((OFFSET(Q1145,-Q1145,0)>50),SUM(OFFSET(G1145,-Q1145+1,0):G1145),SUM(OFFSET(G1145,-Q1145,0):G1145)),\"\")","v":""},"",{"$f":"IF(B1145>0,'Tax Scales'!U1145-D1145,\"\")","v":""},{"$error":"#NAME?"},{"$error":"#NAME?"},{"$f":"IF(ISNUMBER(G1145),IF(G1145>0,'Tax Scales'!AQ1145,\"\"),\"\")","v":""}]
["2009-07-29",null,null,null,0,{"$f":"IF(SUM($B$7:$B1146)=0,\"\",IF(A1146<>\"\",IF(A1146<$B$3,\"N\",\"Y\"),\"\"))","v":""},0,9.51,0,null,455,{"$f":"IF(AND(ISNUMBER(A1146),NOT(ISNUMBER(A1147))),IF((OFFSET(Q1146,-Q1146,0)>50),SUM(OFFSET(E1146,-Q1146+1,0):E1146),SUM(OFFSET(E1146,-Q1146,0):E1146)),IF(AND(ISNUMBER(P1146),ISNUMBER(P1147),P1146  <P1147),IF((OFFSET(Q1146,-Q1146,0)>50),SUM(OFFSET(E1146,-Q1146+1,0):E1146),SUM(OFFSET(E1146,-Q1146,0):E1146)),\"\"))","v":{"$error":"#NAME?"}},{"$f":"IF(ISNUMBER(L1146),IF((OFFSET(Q1146,-Q1146,0)>50),SUM(OFFSET(G1146,-Q1146+1,0):G1146),SUM(OFFSET(G1146,-Q1146,0):G1146)),\"\")","v":""},"",{"$f":"IF(B1146>0,'Tax Scales'!U1146-D1146,\"\")","v":""},{"$error":"#NAME?"},{"$error":"#NAME?"},{"$f":"IF(ISNUMBER(G1146),IF(G1146>0,'Tax Scales'!AQ1146,\"\"),\"\")","v":""}]
["2009-08-05",null,null,null,0,{"$f":"IF(SUM($B$7:$B1147)=0,\"\",IF(A1147<>\"\",IF(A1147<$B$3,\"N\",\"Y\"),\"\"))","v":""},0,9.51,0,null,454,{"$f":"IF(AND(ISNUMBER(A1147),NOT(ISNUMBER(A1148))),IF((OFFSET(Q1147,-Q1147,0)>50),SUM(OFFSET(E1147,-Q1147+1,0):E1147),SUM(OFFSET(E1147,-Q1147,0):E1147)),IF(AND(ISNUMBER(P1147),ISNUMBER(P1148),P1147  <P1148),IF((OFFSET(Q1147,-Q1147,0)>50),SUM(OFFSET(E1147,-Q1147+1,0):E1147),SUM(OFFSET(E1147,-Q1147,0):E1147)),\"\"))","v":{"$error":"#NAME?"}},{"$f":"IF(ISNUMBER(L1147),IF((OFFSET(Q1147,-Q1147,0)>50),SUM(OFFSET(G1147,-Q1147+1,0):G1147),SUM(OFFSET(G1147,-Q1147,0):G1147)),\"\")","v":""},"",{"$f":"IF(B1147>0,'Tax Scales'!U1147-D1147,\"\")","v":""},{"$error":"#NAME?"},{"$error":"#NAME?"},{"$f":"IF(ISNUMBER(G1147),IF(G1147>0,'Tax Scales'!AQ1147,\"\"),\"\")","v":""}]
["2009-08-12",null,null,null,0,{"$f":"IF(SUM($B$7:$B1148)=0,\"\",IF(A1148<>\"\",IF(A1148<$B$3,\"N\",\"Y\"),\"\"))","v":""},0,9.51,0,null,453,{"$f":"IF(AND(ISNUMBER(A1148),NOT(ISNUMBER(A1149))),IF((OFFSET(Q1148,-Q1148,0)>50),SUM(OFFSET(E1148,-Q1148+1,0):E1148),SUM(OFFSET(E1148,-Q1148,0):E1148)),IF(AND(ISNUMBER(P1148),ISNUMBER(P1149),P1148  <P1149),IF((OFFSET(Q1148,-Q1148,0)>50),SUM(OFFSET(E1148,-Q1148+1,0):E1148),SUM(OFFSET(E1148,-Q1148,0):E1148)),\"\"))","v":{"$error":"#NAME?"}},{"$f":"IF(ISNUMBER(L1148),IF((OFFSET(Q1148,-Q1148,0)>50),SUM(OFFSET(G1148,-Q1148+1,0):G1148),SUM(OFFSET(G1148,-Q1148,0):G1148)),\"\")","v":""},"",{"$f":"IF(B1148>0,'Tax Scales'!U1148-D1148,\"\")","v":""},{"$error":"#NAME?"},{"$error":"#NAME?"},{"$f":"IF(ISNUMBER(G1148),IF(G1148>0,'Tax Scales'!AQ1148,\"\"),\"\")","v":""}]
["2009-08-19",null,null,null,0,{"$f":"IF(SUM($B$7:$B1149)=0,\"\",IF(A1149<>\"\",IF(A1149<$B$3,\"N\",\"Y\"),\"\"))","v":""},0,9.51,0,null,452,{"$f":"IF(AND(ISNUMBER(A1149),NOT(ISNUMBER(A1150))),IF((OFFSET(Q1149,-Q1149,0)>50),SUM(OFFSET(E1149,-Q1149+1,0):E1149),SUM(OFFSET(E1149,-Q1149,0):E1149)),IF(AND(ISNUMBER(P1149),ISNUMBER(P1150),P1149  <P1150),IF((OFFSET(Q1149,-Q1149,0)>50),SUM(OFFSET(E1149,-Q1149+1,0):E1149),SUM(OFFSET(E1149,-Q1149,0):E1149)),\"\"))","v":{"$error":"#NAME?"}},{"$f":"IF(ISNUMBER(L1149),IF((OFFSET(Q1149,-Q1149,0)>50),SUM(OFFSET(G1149,-Q1149+1,0):G1149),SUM(OFFSET(G1149,-Q1149,0):G1149)),\"\")","v":""},"",{"$f":"IF(B1149>0,'Tax Scales'!U1149-D1149,\"\")","v":""},{"$error":"#NAME?"},{"$error":"#NAME?"},{"$f":"IF(ISNUMBER(G1149),IF(G1149>0,'Tax Scales'!AQ1149,\"\"),\"\")","v":""}]
["2009-08-26",null,null,null,0,{"$f":"IF(SUM($B$7:$B1150)=0,\"\",IF(A1150<>\"\",IF(A1150<$B$3,\"N\",\"Y\"),\"\"))","v":""},0,9.51,0,null,451,{"$f":"IF(AND(ISNUMBER(A1150),NOT(ISNUMBER(A1151))),IF((OFFSET(Q1150,-Q1150,0)>50),SUM(OFFSET(E1150,-Q1150+1,0):E1150),SUM(OFFSET(E1150,-Q1150,0):E1150)),IF(AND(ISNUMBER(P1150),ISNUMBER(P1151),P1150  <P1151),IF((OFFSET(Q1150,-Q1150,0)>50),SUM(OFFSET(E1150,-Q1150+1,0):E1150),SUM(OFFSET(E1150,-Q1150,0):E1150)),\"\"))","v":{"$error":"#NAME?"}},{"$f":"IF(ISNUMBER(L1150),IF((OFFSET(Q1150,-Q1150,0)>50),SUM(OFFSET(G1150,-Q1150+1,0):G1150),SUM(OFFSET(G1150,-Q1150,0):G1150)),\"\")","v":""},"",{"$f":"IF(B1150>0,'Tax Scales'!U1150-D1150,\"\")","v":""},{"$error":"#NAME?"},{"$error":"#NAME?"},{"$f":"IF(ISNUMBER(G1150),IF(G1150>0,'Tax Scales'!AQ1150,\"\"),\"\")","v":""}]
["2009-09-02",null,null,null,0,{"$f":"IF(SUM($B$7:$B1151)=0,\"\",IF(A1151<>\"\",IF(A1151<$B$3,\"N\",\"Y\"),\"\"))","v":""},0,9.51,0,null,450,{"$f":"IF(AND(ISNUMBER(A1151),NOT(ISNUMBER(A1152))),IF((OFFSET(Q1151,-Q1151,0)>50),SUM(OFFSET(E1151,-Q1151+1,0):E1151),SUM(OFFSET(E1151,-Q1151,0):E1151)),IF(AND(ISNUMBER(P1151),ISNUMBER(P1152),P1151  <P1152),IF((OFFSET(Q1151,-Q1151,0)>50),SUM(OFFSET(E1151,-Q1151+1,0):E1151),SUM(OFFSET(E1151,-Q1151,0):E1151)),\"\"))","v":{"$error":"#NAME?"}},{"$f":"IF(ISNUMBER(L1151),IF((OFFSET(Q1151,-Q1151,0)>50),SUM(OFFSET(G1151,-Q1151+1,0):G1151),SUM(OFFSET(G1151,-Q1151,0):G1151)),\"\")","v":""},"",{"$f":"IF(B1151>0,'Tax Scales'!U1151-D1151,\"\")","v":""},{"$error":"#NAME?"},{"$error":"#NAME?"},{"$f":"IF(ISNUMBER(G1151),IF(G1151>0,'Tax Scales'!AQ1151,\"\"),\"\")","v":""}]
["2009-09-09",null,null,null,0,{"$f":"IF(SUM($B$7:$B1152)=0,\"\",IF(A1152<>\"\",IF(A1152<$B$3,\"N\",\"Y\"),\"\"))","v":""},0,9.51,0,null,449,{"$f":"IF(AND(ISNUMBER(A1152),NOT(ISNUMBER(A1153))),IF((OFFSET(Q1152,-Q1152,0)>50),SUM(OFFSET(E1152,-Q1152+1,0):E1152),SUM(OFFSET(E1152,-Q1152,0):E1152)),IF(AND(ISNUMBER(P1152),ISNUMBER(P1153),P1152  <P1153),IF((OFFSET(Q1152,-Q1152,0)>50),SUM(OFFSET(E1152,-Q1152+1,0):E1152),SUM(OFFSET(E1152,-Q1152,0):E1152)),\"\"))","v":{"$error":"#NAME?"}},{"$f":"IF(ISNUMBER(L1152),IF((OFFSET(Q1152,-Q1152,0)>50),SUM(OFFSET(G1152,-Q1152+1,0):G1152),SUM(OFFSET(G1152,-Q1152,0):G1152)),\"\")","v":""},"",{"$f":"IF(B1152>0,'Tax Scales'!U1152-D1152,\"\")","v":""},{"$error":"#NAME?"},{"$error":"#NAME?"},{"$f":"IF(ISNUMBER(G1152),IF(G1152>0,'Tax Scales'!AQ1152,\"\"),\"\")","v":""}]
["2009-09-16",null,null,null,0,{"$f":"IF(SUM($B$7:$B1153)=0,\"\",IF(A1153<>\"\",IF(A1153<$B$3,\"N\",\"Y\"),\"\"))","v":""},0,9.51,0,null,448,{"$f":"IF(AND(ISNUMBER(A1153),NOT(ISNUMBER(A1154))),IF((OFFSET(Q1153,-Q1153,0)>50),SUM(OFFSET(E1153,-Q1153+1,0):E1153),SUM(OFFSET(E1153,-Q1153,0):E1153)),IF(AND(ISNUMBER(P1153),ISNUMBER(P1154),P1153  <P1154),IF((OFFSET(Q1153,-Q1153,0)>50),SUM(OFFSET(E1153,-Q1153+1,0):E1153),SUM(OFFSET(E1153,-Q1153,0):E1153)),\"\"))","v":{"$error":"#NAME?"}},{"$f":"IF(ISNUMBER(L1153),IF((OFFSET(Q1153,-Q1153,0)>50),SUM(OFFSET(G1153,-Q1153+1,0):G1153),SUM(OFFSET(G1153,-Q1153,0):G1153)),\"\")","v":""},"",{"$f":"IF(B1153>0,'Tax Scales'!U1153-D1153,\"\")","v":""},{"$error":"#NAME?"},{"$error":"#NAME?"},{"$f":"IF(ISNUMBER(G1153),IF(G1153>0,'Tax Scales'!AQ1153,\"\"),\"\")","v":""}]
["2009-09-23",null,null,null,0,{"$f":"IF(SUM($B$7:$B1154)=0,\"\",IF(A1154<>\"\",IF(A1154<$B$3,\"N\",\"Y\"),\"\"))","v":""},0,9.51,0,null,447,{"$f":"IF(AND(ISNUMBER(A1154),NOT(ISNUMBER(A1155))),IF((OFFSET(Q1154,-Q1154,0)>50),SUM(OFFSET(E1154,-Q1154+1,0):E1154),SUM(OFFSET(E1154,-Q1154,0):E1154)),IF(AND(ISNUMBER(P1154),ISNUMBER(P1155),P1154  <P1155),IF((OFFSET(Q1154,-Q1154,0)>50),SUM(OFFSET(E1154,-Q1154+1,0):E1154),SUM(OFFSET(E1154,-Q1154,0):E1154)),\"\"))","v":{"$error":"#NAME?"}},{"$f":"IF(ISNUMBER(L1154),IF((OFFSET(Q1154,-Q1154,0)>50),SUM(OFFSET(G1154,-Q1154+1,0):G1154),SUM(OFFSET(G1154,-Q1154,0):G1154)),\"\")","v":""},"",{"$f":"IF(B1154>0,'Tax Scales'!U1154-D1154,\"\")","v":""},{"$error":"#NAME?"},{"$error":"#NAME?"},{"$f":"IF(ISNUMBER(G1154),IF(G1154>0,'Tax Scales'!AQ1154,\"\"),\"\")","v":""}]
["2009-09-30",null,null,null,0,{"$f":"IF(SUM($B$7:$B1155)=0,\"\",IF(A1155<>\"\",IF(A1155<$B$3,\"N\",\"Y\"),\"\"))","v":""},0,9.51,0,null,446,{"$f":"IF(AND(ISNUMBER(A1155),NOT(ISNUMBER(A1156))),IF((OFFSET(Q1155,-Q1155,0)>50),SUM(OFFSET(E1155,-Q1155+1,0):E1155),SUM(OFFSET(E1155,-Q1155,0):E1155)),IF(AND(ISNUMBER(P1155),ISNUMBER(P1156),P1155  <P1156),IF((OFFSET(Q1155,-Q1155,0)>50),SUM(OFFSET(E1155,-Q1155+1,0):E1155),SUM(OFFSET(E1155,-Q1155,0):E1155)),\"\"))","v":{"$error":"#NAME?"}},{"$f":"IF(ISNUMBER(L1155),IF((OFFSET(Q1155,-Q1155,0)>50),SUM(OFFSET(G1155,-Q1155+1,0):G1155),SUM(OFFSET(G1155,-Q1155,0):G1155)),\"\")","v":""},"",{"$f":"IF(B1155>0,'Tax Scales'!U1155-D1155,\"\")","v":""},{"$error":"#NAME?"},{"$error":"#NAME?"},{"$f":"IF(ISNUMBER(G1155),IF(G1155>0,'Tax Scales'!AQ1155,\"\"),\"\")","v":""}]
["2009-10-07",null,null,null,0,{"$f":"IF(SUM($B$7:$B1156)=0,\"\",IF(A1156<>\"\",IF(A1156<$B$3,\"N\",\"Y\"),\"\"))","v":""},0,9.51,0,null,445,{"$f":"IF(AND(ISNUMBER(A1156),NOT(ISNUMBER(A1157))),IF((OFFSET(Q1156,-Q1156,0)>50),SUM(OFFSET(E1156,-Q1156+1,0):E1156),SUM(OFFSET(E1156,-Q1156,0):E1156)),IF(AND(ISNUMBER(P1156),ISNUMBER(P1157),P1156  <P1157),IF((OFFSET(Q1156,-Q1156,0)>50),SUM(OFFSET(E1156,-Q1156+1,0):E1156),SUM(OFFSET(E1156,-Q1156,0):E1156)),\"\"))","v":{"$error":"#NAME?"}},{"$f":"IF(ISNUMBER(L1156),IF((OFFSET(Q1156,-Q1156,0)>50),SUM(OFFSET(G1156,-Q1156+1,0):G1156),SUM(OFFSET(G1156,-Q1156,0):G1156)),\"\")","v":""},"",{"$f":"IF(B1156>0,'Tax Scales'!U1156-D1156,\"\")","v":""},{"$error":"#NAME?"},{"$error":"#NAME?"},{"$f":"IF(ISNUMBER(G1156),IF(G1156>0,'Tax Scales'!AQ1156,\"\"),\"\")","v":""}]
["2009-10-14",null,null,null,0,{"$f":"IF(SUM($B$7:$B1157)=0,\"\",IF(A1157<>\"\",IF(A1157<$B$3,\"N\",\"Y\"),\"\"))","v":""},0,9.51,0,null,444,{"$f":"IF(AND(ISNUMBER(A1157),NOT(ISNUMBER(A1158))),IF((OFFSET(Q1157,-Q1157,0)>50),SUM(OFFSET(E1157,-Q1157+1,0):E1157),SUM(OFFSET(E1157,-Q1157,0):E1157)),IF(AND(ISNUMBER(P1157),ISNUMBER(P1158),P1157  <P1158),IF((OFFSET(Q1157,-Q1157,0)>50),SUM(OFFSET(E1157,-Q1157+1,0):E1157),SUM(OFFSET(E1157,-Q1157,0):E1157)),\"\"))","v":{"$error":"#NAME?"}},{"$f":"IF(ISNUMBER(L1157),IF((OFFSET(Q1157,-Q1157,0)>50),SUM(OFFSET(G1157,-Q1157+1,0):G1157),SUM(OFFSET(G1157,-Q1157,0):G1157)),\"\")","v":""},"",{"$f":"IF(B1157>0,'Tax Scales'!U1157-D1157,\"\")","v":""},{"$error":"#NAME?"},{"$error":"#NAME?"},{"$f":"IF(ISNUMBER(G1157),IF(G1157>0,'Tax Scales'!AQ1157,\"\"),\"\")","v":""}]
["2009-10-21",null,null,null,0,{"$f":"IF(SUM($B$7:$B1158)=0,\"\",IF(A1158<>\"\",IF(A1158<$B$3,\"N\",\"Y\"),\"\"))","v":""},0,9.51,0,null,443,{"$f":"IF(AND(ISNUMBER(A1158),NOT(ISNUMBER(A1159))),IF((OFFSET(Q1158,-Q1158,0)>50),SUM(OFFSET(E1158,-Q1158+1,0):E1158),SUM(OFFSET(E1158,-Q1158,0):E1158)),IF(AND(ISNUMBER(P1158),ISNUMBER(P1159),P1158  <P1159),IF((OFFSET(Q1158,-Q1158,0)>50),SUM(OFFSET(E1158,-Q1158+1,0):E1158),SUM(OFFSET(E1158,-Q1158,0):E1158)),\"\"))","v":{"$error":"#NAME?"}},{"$f":"IF(ISNUMBER(L1158),IF((OFFSET(Q1158,-Q1158,0)>50),SUM(OFFSET(G1158,-Q1158+1,0):G1158),SUM(OFFSET(G1158,-Q1158,0):G1158)),\"\")","v":""},"",{"$f":"IF(B1158>0,'Tax Scales'!U1158-D1158,\"\")","v":""},{"$error":"#NAME?"},{"$error":"#NAME?"},{"$f":"IF(ISNUMBER(G1158),IF(G1158>0,'Tax Scales'!AQ1158,\"\"),\"\")","v":""}]
["2009-10-28",null,null,null,0,{"$f":"IF(SUM($B$7:$B1159)=0,\"\",IF(A1159<>\"\",IF(A1159<$B$3,\"N\",\"Y\"),\"\"))","v":""},0,9.51,0,null,442,{"$f":"IF(AND(ISNUMBER(A1159),NOT(ISNUMBER(A1160))),IF((OFFSET(Q1159,-Q1159,0)>50),SUM(OFFSET(E1159,-Q1159+1,0):E1159),SUM(OFFSET(E1159,-Q1159,0):E1159)),IF(AND(ISNUMBER(P1159),ISNUMBER(P1160),P1159  <P1160),IF((OFFSET(Q1159,-Q1159,0)>50),SUM(OFFSET(E1159,-Q1159+1,0):E1159),SUM(OFFSET(E1159,-Q1159,0):E1159)),\"\"))","v":{"$error":"#NAME?"}},{"$f":"IF(ISNUMBER(L1159),IF((OFFSET(Q1159,-Q1159,0)>50),SUM(OFFSET(G1159,-Q1159+1,0):G1159),SUM(OFFSET(G1159,-Q1159,0):G1159)),\"\")","v":""},"",{"$f":"IF(B1159>0,'Tax Scales'!U1159-D1159,\"\")","v":""},{"$error":"#NAME?"},{"$error":"#NAME?"},{"$f":"IF(ISNUMBER(G1159),IF(G1159>0,'Tax Scales'!AQ1159,\"\"),\"\")","v":""}]
["2009-11-04",null,null,null,0,{"$f":"IF(SUM($B$7:$B1160)=0,\"\",IF(A1160<>\"\",IF(A1160<$B$3,\"N\",\"Y\"),\"\"))","v":""},0,9.51,0,null,441,{"$f":"IF(AND(ISNUMBER(A1160),NOT(ISNUMBER(A1161))),IF((OFFSET(Q1160,-Q1160,0)>50),SUM(OFFSET(E1160,-Q1160+1,0):E1160),SUM(OFFSET(E1160,-Q1160,0):E1160)),IF(AND(ISNUMBER(P1160),ISNUMBER(P1161),P1160  <P1161),IF((OFFSET(Q1160,-Q1160,0)>50),SUM(OFFSET(E1160,-Q1160+1,0):E1160),SUM(OFFSET(E1160,-Q1160,0):E1160)),\"\"))","v":{"$error":"#NAME?"}},{"$f":"IF(ISNUMBER(L1160),IF((OFFSET(Q1160,-Q1160,0)>50),SUM(OFFSET(G1160,-Q1160+1,0):G1160),SUM(OFFSET(G1160,-Q1160,0):G1160)),\"\")","v":""},"",{"$f":"IF(B1160>0,'Tax Scales'!U1160-D1160,\"\")","v":""},{"$error":"#NAME?"},{"$error":"#NAME?"},{"$f":"IF(ISNUMBER(G1160),IF(G1160>0,'Tax Scales'!AQ1160,\"\"),\"\")","v":""}]
["2009-11-11",null,null,null,0,{"$f":"IF(SUM($B$7:$B1161)=0,\"\",IF(A1161<>\"\",IF(A1161<$B$3,\"N\",\"Y\"),\"\"))","v":""},{"$f":"IF(F1161=\"N\",0,IF(A1161<>\"\",IF(K1161>=0,((E1161+I1160)*(1+(H1161/52)/100)-E1161-I1160),0),\"\"))","v":0},9.51,{"$f":"IF(A1161<>\"\",I1160+E1161+G1161,\"\")","v":0},null,440,{"$f":"IF(AND(ISNUMBER(A1161),NOT(ISNUMBER(A1162))),IF((OFFSET(Q1161,-Q1161,0)>50),SUM(OFFSET(E1161,-Q1161+1,0):E1161),SUM(OFFSET(E1161,-Q1161,0):E1161)),IF(AND(ISNUMBER(P1161),ISNUMBER(P1162),P1161  <P1162),IF((OFFSET(Q1161,-Q1161,0)>50),SUM(OFFSET(E1161,-Q1161+1,0):E1161),SUM(OFFSET(E1161,-Q1161,0):E1161)),\"\"))","v":{"$error":"#NAME?"}},{"$f":"IF(ISNUMBER(L1161),IF((OFFSET(Q1161,-Q1161,0)>50),SUM(OFFSET(G1161,-Q1161+1,0):G1161),SUM(OFFSET(G1161,-Q1161,0):G1161)),\"\")","v":""},"",{"$f":"IF(B1161>0,'Tax Scales'!U1161-D1161,\"\")","v":""},{"$error":"#NAME?"},{"$error":"#NAME?"},{"$f":"IF(ISNUMBER(G1161),IF(G1161>0,'Tax Scales'!AQ1161,\"\"),\"\")","v":""}]
[{"$f":"IF(A1161<>\"\",IF(A1161+12<=TODAY(),+A1161+7,\"\"),\"\")","v":"2009-11-18"},null,null,null,0,{"$f":"IF(SUM($B$7:$B1162)=0,\"\",IF(A1162<>\"\",IF(A1162<$B$3,\"N\",\"Y\"),\"\"))","v":""},0,9.51,0,null,439,{"$f":"IF(AND(ISNUMBER(A1162),NOT(ISNUMBER(A1163))),IF((OFFSET(Q1162,-Q1162,0)>50),SUM(OFFSET(E1162,-Q1162+1,0):E1162),SUM(OFFSET(E1162,-Q1162,0):E1162)),IF(AND(ISNUMBER(P1162),ISNUMBER(P1163),P1162  <P1163),IF((OFFSET(Q1162,-Q1162,0)>50),SUM(OFFSET(E1162,-Q1162+1,0):E1162),SUM(OFFSET(E1162,-Q1162,0):E1162)),\"\"))","v":{"$error":"#NAME?"}},{"$f":"IF(ISNUMBER(L1162),IF((OFFSET(Q1162,-Q1162,0)>50),SUM(OFFSET(G1162,-Q1162+1,0):G1162),SUM(OFFSET(G1162,-Q1162,0):G1162)),\"\")","v":""},"",{"$f":"IF(B1162>0,'Tax Scales'!U1162-D1162,\"\")","v":""},{"$error":"#NAME?"},{"$error":"#NAME?"},{"$f":"IF(ISNUMBER(G1162),IF(G1162>0,'Tax Scales'!AQ1162,\"\"),\"\")","v":""}]
["2009-11-25",null,null,null,0,{"$f":"IF(SUM($B$7:$B1163)=0,\"\",IF(A1163<>\"\",IF(A1163<$B$3,\"N\",\"Y\"),\"\"))","v":""},0,9.51,0,null,438,{"$f":"IF(AND(ISNUMBER(A1163),NOT(ISNUMBER(A1164))),IF((OFFSET(Q1163,-Q1163,0)>50),SUM(OFFSET(E1163,-Q1163+1,0):E1163),SUM(OFFSET(E1163,-Q1163,0):E1163)),IF(AND(ISNUMBER(P1163),ISNUMBER(P1164),P1163  <P1164),IF((OFFSET(Q1163,-Q1163,0)>50),SUM(OFFSET(E1163,-Q1163+1,0):E1163),SUM(OFFSET(E1163,-Q1163,0):E1163)),\"\"))","v":{"$error":"#NAME?"}},{"$f":"IF(ISNUMBER(L1163),IF((OFFSET(Q1163,-Q1163,0)>50),SUM(OFFSET(G1163,-Q1163+1,0):G1163),SUM(OFFSET(G1163,-Q1163,0):G1163)),\"\")","v":""},"",{"$f":"IF(B1163>0,'Tax Scales'!U1163-D1163,\"\")","v":""},{"$error":"#NAME?"},{"$error":"#NAME?"},{"$f":"IF(ISNUMBER(G1163),IF(G1163>0,'Tax Scales'!AQ1163,\"\"),\"\")","v":""}]
["2009-12-02",null,null,null,0,{"$f":"IF(SUM($B$7:$B1164)=0,\"\",IF(A1164<>\"\",IF(A1164<$B$3,\"N\",\"Y\"),\"\"))","v":""},0,9.51,0,null,437,{"$f":"IF(AND(ISNUMBER(A1164),NOT(ISNUMBER(A1165))),IF((OFFSET(Q1164,-Q1164,0)>50),SUM(OFFSET(E1164,-Q1164+1,0):E1164),SUM(OFFSET(E1164,-Q1164,0):E1164)),IF(AND(ISNUMBER(P1164),ISNUMBER(P1165),P1164  <P1165),IF((OFFSET(Q1164,-Q1164,0)>50),SUM(OFFSET(E1164,-Q1164+1,0):E1164),SUM(OFFSET(E1164,-Q1164,0):E1164)),\"\"))","v":{"$error":"#NAME?"}},{"$f":"IF(ISNUMBER(L1164),IF((OFFSET(Q1164,-Q1164,0)>50),SUM(OFFSET(G1164,-Q1164+1,0):G1164),SUM(OFFSET(G1164,-Q1164,0):G1164)),\"\")","v":""},"",{"$f":"IF(B1164>0,'Tax Scales'!U1164-D1164,\"\")","v":""},{"$error":"#NAME?"},{"$error":"#NAME?"},{"$f":"IF(ISNUMBER(G1164),IF(G1164>0,'Tax Scales'!AQ1164,\"\"),\"\")","v":""}]
["2009-12-09",null,null,null,0,{"$f":"IF(SUM($B$7:$B1165)=0,\"\",IF(A1165<>\"\",IF(A1165<$B$3,\"N\",\"Y\"),\"\"))","v":""},0,9.51,0,null,436,{"$f":"IF(AND(ISNUMBER(A1165),NOT(ISNUMBER(A1166))),IF((OFFSET(Q1165,-Q1165,0)>50),SUM(OFFSET(E1165,-Q1165+1,0):E1165),SUM(OFFSET(E1165,-Q1165,0):E1165)),IF(AND(ISNUMBER(P1165),ISNUMBER(P1166),P1165  <P1166),IF((OFFSET(Q1165,-Q1165,0)>50),SUM(OFFSET(E1165,-Q1165+1,0):E1165),SUM(OFFSET(E1165,-Q1165,0):E1165)),\"\"))","v":{"$error":"#NAME?"}},{"$f":"IF(ISNUMBER(L1165),IF((OFFSET(Q1165,-Q1165,0)>50),SUM(OFFSET(G1165,-Q1165+1,0):G1165),SUM(OFFSET(G1165,-Q1165,0):G1165)),\"\")","v":""},"",{"$f":"IF(B1165>0,'Tax Scales'!U1165-D1165,\"\")","v":""},{"$error":"#NAME?"},{"$error":"#NAME?"},{"$f":"IF(ISNUMBER(G1165),IF(G1165>0,'Tax Scales'!AQ1165,\"\"),\"\")","v":""}]
["2009-12-16",null,null,null,0,{"$f":"IF(SUM($B$7:$B1166)=0,\"\",IF(A1166<>\"\",IF(A1166<$B$3,\"N\",\"Y\"),\"\"))","v":""},0,9.51,0,null,435,{"$f":"IF(AND(ISNUMBER(A1166),NOT(ISNUMBER(A1167))),IF((OFFSET(Q1166,-Q1166,0)>50),SUM(OFFSET(E1166,-Q1166+1,0):E1166),SUM(OFFSET(E1166,-Q1166,0):E1166)),IF(AND(ISNUMBER(P1166),ISNUMBER(P1167),P1166  <P1167),IF((OFFSET(Q1166,-Q1166,0)>50),SUM(OFFSET(E1166,-Q1166+1,0):E1166),SUM(OFFSET(E1166,-Q1166,0):E1166)),\"\"))","v":{"$error":"#NAME?"}},{"$f":"IF(ISNUMBER(L1166),IF((OFFSET(Q1166,-Q1166,0)>50),SUM(OFFSET(G1166,-Q1166+1,0):G1166),SUM(OFFSET(G1166,-Q1166,0):G1166)),\"\")","v":""},"",{"$f":"IF(B1166>0,'Tax Scales'!U1166-D1166,\"\")","v":""},{"$f":"IF(ISNUMBER(A1166),FinYear(A1166),\"\")","v":{"$error":"#NAME?"}},{"$error":"#NAME?"},{"$f":"IF(ISNUMBER(G1166),IF(G1166>0,'Tax Scales'!AQ1166,\"\"),\"\")","v":""}]
["2009-12-23",null,null,null,{"$f":"IF(A1167<>\"\",IF(B1167-C1167>=0,B1167-C1167,0),\"\")","v":0},{"$f":"IF(SUM($B$7:$B1167)=0,\"\",IF(A1167<>\"\",IF(A1167<$B$3,\"N\",\"Y\"),\"\"))","v":""},0,9.51,0,null,434,{"$f":"IF(AND(ISNUMBER(A1167),NOT(ISNUMBER(A1168))),IF((OFFSET(Q1167,-Q1167,0)>50),SUM(OFFSET(E1167,-Q1167+1,0):E1167),SUM(OFFSET(E1167,-Q1167,0):E1167)),IF(AND(ISNUMBER(P1167),ISNUMBER(P1168),P1167  <P1168),IF((OFFSET(Q1167,-Q1167,0)>50),SUM(OFFSET(E1167,-Q1167+1,0):E1167),SUM(OFFSET(E1167,-Q1167,0):E1167)),\"\"))","v":{"$error":"#NAME?"}},{"$f":"IF(ISNUMBER(L1167),IF((OFFSET(Q1167,-Q1167,0)>50),SUM(OFFSET(G1167,-Q1167+1,0):G1167),SUM(OFFSET(G1167,-Q1167,0):G1167)),\"\")","v":""},"",{"$f":"IF(B1167>0,'Tax Scales'!U1167-D1167,\"\")","v":""},{"$error":"#NAME?"},{"$f":"IF(ISNUMBER(A1167),ROUND((A1167-StartOfFinYear(P1167))/7,0),\"\")","v":{"$error":"#NAME?"}},{"$f":"IF(ISNUMBER(G1167),IF(G1167>0,'Tax Scales'!AQ1167,\"\"),\"\")","v":""}]
["2009-12-30",null,null,null,0,{"$f":"IF(SUM($B$7:$B1168)=0,\"\",IF(A1168<>\"\",IF(A1168<$B$3,\"N\",\"Y\"),\"\"))","v":""},0,9.51,0,null,433,{"$f":"IF(AND(ISNUMBER(A1168),NOT(ISNUMBER(A1169))),IF((OFFSET(Q1168,-Q1168,0)>50),SUM(OFFSET(E1168,-Q1168+1,0):E1168),SUM(OFFSET(E1168,-Q1168,0):E1168)),IF(AND(ISNUMBER(P1168),ISNUMBER(P1169),P1168  <P1169),IF((OFFSET(Q1168,-Q1168,0)>50),SUM(OFFSET(E1168,-Q1168+1,0):E1168),SUM(OFFSET(E1168,-Q1168,0):E1168)),\"\"))","v":{"$error":"#NAME?"}},{"$f":"IF(ISNUMBER(L1168),IF((OFFSET(Q1168,-Q1168,0)>50),SUM(OFFSET(G1168,-Q1168+1,0):G1168),SUM(OFFSET(G1168,-Q1168,0):G1168)),\"\")","v":""},"",{"$f":"IF(B1168>0,'Tax Scales'!U1168-D1168,\"\")","v":""},{"$error":"#NAME?"},{"$error":"#NAME?"},{"$f":"IF(ISNUMBER(G1168),IF(G1168>0,'Tax Scales'!AQ1168,\"\"),\"\")","v":""}]
["2010-01-06",null,null,null,0,{"$f":"IF(SUM($B$7:$B1169)=0,\"\",IF(A1169<>\"\",IF(A1169<$B$3,\"N\",\"Y\"),\"\"))","v":""},0,9.51,0,null,432,{"$f":"IF(AND(ISNUMBER(A1169),NOT(ISNUMBER(A1170))),IF((OFFSET(Q1169,-Q1169,0)>50),SUM(OFFSET(E1169,-Q1169+1,0):E1169),SUM(OFFSET(E1169,-Q1169,0):E1169)),IF(AND(ISNUMBER(P1169),ISNUMBER(P1170),P1169  <P1170),IF((OFFSET(Q1169,-Q1169,0)>50),SUM(OFFSET(E1169,-Q1169+1,0):E1169),SUM(OFFSET(E1169,-Q1169,0):E1169)),\"\"))","v":{"$error":"#NAME?"}},{"$f":"IF(ISNUMBER(L1169),IF((OFFSET(Q1169,-Q1169,0)>50),SUM(OFFSET(G1169,-Q1169+1,0):G1169),SUM(OFFSET(G1169,-Q1169,0):G1169)),\"\")","v":""},"",{"$f":"IF(B1169>0,'Tax Scales'!U1169-D1169,\"\")","v":""},{"$error":"#NAME?"},{"$error":"#NAME?"},{"$f":"IF(ISNUMBER(G1169),IF(G1169>0,'Tax Scales'!AQ1169,\"\"),\"\")","v":""}]
["2010-01-13",null,null,null,0,{"$f":"IF(SUM($B$7:$B1170)=0,\"\",IF(A1170<>\"\",IF(A1170<$B$3,\"N\",\"Y\"),\"\"))","v":""},0,9.51,0,null,431,{"$f":"IF(AND(ISNUMBER(A1170),NOT(ISNUMBER(A1171))),IF((OFFSET(Q1170,-Q1170,0)>50),SUM(OFFSET(E1170,-Q1170+1,0):E1170),SUM(OFFSET(E1170,-Q1170,0):E1170)),IF(AND(ISNUMBER(P1170),ISNUMBER(P1171),P1170  <P1171),IF((OFFSET(Q1170,-Q1170,0)>50),SUM(OFFSET(E1170,-Q1170+1,0):E1170),SUM(OFFSET(E1170,-Q1170,0):E1170)),\"\"))","v":{"$error":"#NAME?"}},{"$f":"IF(ISNUMBER(L1170),IF((OFFSET(Q1170,-Q1170,0)>50),SUM(OFFSET(G1170,-Q1170+1,0):G1170),SUM(OFFSET(G1170,-Q1170,0):G1170)),\"\")","v":""},"",{"$f":"IF(B1170>0,'Tax Scales'!U1170-D1170,\"\")","v":""},{"$error":"#NAME?"},{"$error":"#NAME?"},{"$f":"IF(ISNUMBER(G1170),IF(G1170>0,'Tax Scales'!AQ1170,\"\"),\"\")","v":""}]
["2010-01-20",null,null,null,0,{"$f":"IF(SUM($B$7:$B1171)=0,\"\",IF(A1171<>\"\",IF(A1171<$B$3,\"N\",\"Y\"),\"\"))","v":""},0,9.51,0,null,430,{"$f":"IF(AND(ISNUMBER(A1171),NOT(ISNUMBER(A1172))),IF((OFFSET(Q1171,-Q1171,0)>50),SUM(OFFSET(E1171,-Q1171+1,0):E1171),SUM(OFFSET(E1171,-Q1171,0):E1171)),IF(AND(ISNUMBER(P1171),ISNUMBER(P1172),P1171  <P1172),IF((OFFSET(Q1171,-Q1171,0)>50),SUM(OFFSET(E1171,-Q1171+1,0):E1171),SUM(OFFSET(E1171,-Q1171,0):E1171)),\"\"))","v":{"$error":"#NAME?"}},{"$f":"IF(ISNUMBER(L1171),IF((OFFSET(Q1171,-Q1171,0)>50),SUM(OFFSET(G1171,-Q1171+1,0):G1171),SUM(OFFSET(G1171,-Q1171,0):G1171)),\"\")","v":""},"",{"$f":"IF(B1171>0,'Tax Scales'!U1171-D1171,\"\")","v":""},{"$error":"#NAME?"},{"$error":"#NAME?"},{"$f":"IF(ISNUMBER(G1171),IF(G1171>0,'Tax Scales'!AQ1171,\"\"),\"\")","v":""}]
["2010-01-27",null,null,null,0,{"$f":"IF(SUM($B$7:$B1172)=0,\"\",IF(A1172<>\"\",IF(A1172<$B$3,\"N\",\"Y\"),\"\"))","v":""},0,9.51,0,null,429,{"$f":"IF(AND(ISNUMBER(A1172),NOT(ISNUMBER(A1173))),IF((OFFSET(Q1172,-Q1172,0)>50),SUM(OFFSET(E1172,-Q1172+1,0):E1172),SUM(OFFSET(E1172,-Q1172,0):E1172)),IF(AND(ISNUMBER(P1172),ISNUMBER(P1173),P1172  <P1173),IF((OFFSET(Q1172,-Q1172,0)>50),SUM(OFFSET(E1172,-Q1172+1,0):E1172),SUM(OFFSET(E1172,-Q1172,0):E1172)),\"\"))","v":{"$error":"#NAME?"}},{"$f":"IF(ISNUMBER(L1172),IF((OFFSET(Q1172,-Q1172,0)>50),SUM(OFFSET(G1172,-Q1172+1,0):G1172),SUM(OFFSET(G1172,-Q1172,0):G1172)),\"\")","v":""},"",{"$f":"IF(B1172>0,'Tax Scales'!U1172-D1172,\"\")","v":""},{"$error":"#NAME?"},{"$error":"#NAME?"},{"$f":"IF(ISNUMBER(G1172),IF(G1172>0,'Tax Scales'!AQ1172,\"\"),\"\")","v":""}]
["2010-02-03",null,null,null,0,{"$f":"IF(SUM($B$7:$B1173)=0,\"\",IF(A1173<>\"\",IF(A1173<$B$3,\"N\",\"Y\"),\"\"))","v":""},0,9.51,0,null,428,{"$f":"IF(AND(ISNUMBER(A1173),NOT(ISNUMBER(A1174))),IF((OFFSET(Q1173,-Q1173,0)>50),SUM(OFFSET(E1173,-Q1173+1,0):E1173),SUM(OFFSET(E1173,-Q1173,0):E1173)),IF(AND(ISNUMBER(P1173),ISNUMBER(P1174),P1173  <P1174),IF((OFFSET(Q1173,-Q1173,0)>50),SUM(OFFSET(E1173,-Q1173+1,0):E1173),SUM(OFFSET(E1173,-Q1173,0):E1173)),\"\"))","v":{"$error":"#NAME?"}},{"$f":"IF(ISNUMBER(L1173),IF((OFFSET(Q1173,-Q1173,0)>50),SUM(OFFSET(G1173,-Q1173+1,0):G1173),SUM(OFFSET(G1173,-Q1173,0):G1173)),\"\")","v":""},"",{"$f":"IF(B1173>0,'Tax Scales'!U1173-D1173,\"\")","v":""},{"$error":"#NAME?"},{"$error":"#NAME?"},{"$f":"IF(ISNUMBER(G1173),IF(G1173>0,'Tax Scales'!AQ1173,\"\"),\"\")","v":""}]
["2010-02-10",null,null,null,0,{"$f":"IF(SUM($B$7:$B1174)=0,\"\",IF(A1174<>\"\",IF(A1174<$B$3,\"N\",\"Y\"),\"\"))","v":""},0,9.51,0,null,427,{"$f":"IF(AND(ISNUMBER(A1174),NOT(ISNUMBER(A1175))),IF((OFFSET(Q1174,-Q1174,0)>50),SUM(OFFSET(E1174,-Q1174+1,0):E1174),SUM(OFFSET(E1174,-Q1174,0):E1174)),IF(AND(ISNUMBER(P1174),ISNUMBER(P1175),P1174  <P1175),IF((OFFSET(Q1174,-Q1174,0)>50),SUM(OFFSET(E1174,-Q1174+1,0):E1174),SUM(OFFSET(E1174,-Q1174,0):E1174)),\"\"))","v":{"$error":"#NAME?"}},{"$f":"IF(ISNUMBER(L1174),IF((OFFSET(Q1174,-Q1174,0)>50),SUM(OFFSET(G1174,-Q1174+1,0):G1174),SUM(OFFSET(G1174,-Q1174,0):G1174)),\"\")","v":""},"",{"$f":"IF(B1174>0,'Tax Scales'!U1174-D1174,\"\")","v":""},{"$error":"#NAME?"},{"$error":"#NAME?"},{"$f":"IF(ISNUMBER(G1174),IF(G1174>0,'Tax Scales'!AQ1174,\"\"),\"\")","v":""}]
["2010-02-17",null,null,null,0,{"$f":"IF(SUM($B$7:$B1175)=0,\"\",IF(A1175<>\"\",IF(A1175<$B$3,\"N\",\"Y\"),\"\"))","v":""},0,9.51,0,null,426,{"$f":"IF(AND(ISNUMBER(A1175),NOT(ISNUMBER(A1176))),IF((OFFSET(Q1175,-Q1175,0)>50),SUM(OFFSET(E1175,-Q1175+1,0):E1175),SUM(OFFSET(E1175,-Q1175,0):E1175)),IF(AND(ISNUMBER(P1175),ISNUMBER(P1176),P1175  <P1176),IF((OFFSET(Q1175,-Q1175,0)>50),SUM(OFFSET(E1175,-Q1175+1,0):E1175),SUM(OFFSET(E1175,-Q1175,0):E1175)),\"\"))","v":{"$error":"#NAME?"}},{"$f":"IF(ISNUMBER(L1175),IF((OFFSET(Q1175,-Q1175,0)>50),SUM(OFFSET(G1175,-Q1175+1,0):G1175),SUM(OFFSET(G1175,-Q1175,0):G1175)),\"\")","v":""},"",{"$f":"IF(B1175>0,'Tax Scales'!U1175-D1175,\"\")","v":""},{"$error":"#NAME?"},{"$error":"#NAME?"},{"$f":"IF(ISNUMBER(G1175),IF(G1175>0,'Tax Scales'!AQ1175,\"\"),\"\")","v":""}]
["2010-02-24",null,null,null,0,{"$f":"IF(SUM($B$7:$B1176)=0,\"\",IF(A1176<>\"\",IF(A1176<$B$3,\"N\",\"Y\"),\"\"))","v":""},0,9.51,0,null,425,{"$f":"IF(AND(ISNUMBER(A1176),NOT(ISNUMBER(A1177))),IF((OFFSET(Q1176,-Q1176,0)>50),SUM(OFFSET(E1176,-Q1176+1,0):E1176),SUM(OFFSET(E1176,-Q1176,0):E1176)),IF(AND(ISNUMBER(P1176),ISNUMBER(P1177),P1176  <P1177),IF((OFFSET(Q1176,-Q1176,0)>50),SUM(OFFSET(E1176,-Q1176+1,0):E1176),SUM(OFFSET(E1176,-Q1176,0):E1176)),\"\"))","v":{"$error":"#NAME?"}},{"$f":"IF(ISNUMBER(L1176),IF((OFFSET(Q1176,-Q1176,0)>50),SUM(OFFSET(G1176,-Q1176+1,0):G1176),SUM(OFFSET(G1176,-Q1176,0):G1176)),\"\")","v":""},"",{"$f":"IF(B1176>0,'Tax Scales'!U1176-D1176,\"\")","v":""},{"$error":"#NAME?"},{"$error":"#NAME?"},{"$f":"IF(ISNUMBER(G1176),IF(G1176>0,'Tax Scales'!AQ1176,\"\"),\"\")","v":""}]
["2010-03-03",null,null,null,0,{"$f":"IF(SUM($B$7:$B1177)=0,\"\",IF(A1177<>\"\",IF(A1177<$B$3,\"N\",\"Y\"),\"\"))","v":""},0,9.51,0,null,424,{"$f":"IF(AND(ISNUMBER(A1177),NOT(ISNUMBER(A1178))),IF((OFFSET(Q1177,-Q1177,0)>50),SUM(OFFSET(E1177,-Q1177+1,0):E1177),SUM(OFFSET(E1177,-Q1177,0):E1177)),IF(AND(ISNUMBER(P1177),ISNUMBER(P1178),P1177  <P1178),IF((OFFSET(Q1177,-Q1177,0)>50),SUM(OFFSET(E1177,-Q1177+1,0):E1177),SUM(OFFSET(E1177,-Q1177,0):E1177)),\"\"))","v":{"$error":"#NAME?"}},{"$f":"IF(ISNUMBER(L1177),IF((OFFSET(Q1177,-Q1177,0)>50),SUM(OFFSET(G1177,-Q1177+1,0):G1177),SUM(OFFSET(G1177,-Q1177,0):G1177)),\"\")","v":""},"",{"$f":"IF(B1177>0,'Tax Scales'!U1177-D1177,\"\")","v":""},{"$error":"#NAME?"},{"$error":"#NAME?"},{"$f":"IF(ISNUMBER(G1177),IF(G1177>0,'Tax Scales'!AQ1177,\"\"),\"\")","v":""}]
["2010-03-10",null,null,null,0,{"$f":"IF(SUM($B$7:$B1178)=0,\"\",IF(A1178<>\"\",IF(A1178<$B$3,\"N\",\"Y\"),\"\"))","v":""},0,9.51,0,null,423,{"$f":"IF(AND(ISNUMBER(A1178),NOT(ISNUMBER(A1179))),IF((OFFSET(Q1178,-Q1178,0)>50),SUM(OFFSET(E1178,-Q1178+1,0):E1178),SUM(OFFSET(E1178,-Q1178,0):E1178)),IF(AND(ISNUMBER(P1178),ISNUMBER(P1179),P1178  <P1179),IF((OFFSET(Q1178,-Q1178,0)>50),SUM(OFFSET(E1178,-Q1178+1,0):E1178),SUM(OFFSET(E1178,-Q1178,0):E1178)),\"\"))","v":{"$error":"#NAME?"}},{"$f":"IF(ISNUMBER(L1178),IF((OFFSET(Q1178,-Q1178,0)>50),SUM(OFFSET(G1178,-Q1178+1,0):G1178),SUM(OFFSET(G1178,-Q1178,0):G1178)),\"\")","v":""},"",{"$f":"IF(B1178>0,'Tax Scales'!U1178-D1178,\"\")","v":""},{"$error":"#NAME?"},{"$error":"#NAME?"},{"$f":"IF(ISNUMBER(G1178),IF(G1178>0,'Tax Scales'!AQ1178,\"\"),\"\")","v":""}]
["2010-03-17",null,null,null,0,{"$f":"IF(SUM($B$7:$B1179)=0,\"\",IF(A1179<>\"\",IF(A1179<$B$3,\"N\",\"Y\"),\"\"))","v":""},0,9.51,0,null,422,{"$f":"IF(AND(ISNUMBER(A1179),NOT(ISNUMBER(A1180))),IF((OFFSET(Q1179,-Q1179,0)>50),SUM(OFFSET(E1179,-Q1179+1,0):E1179),SUM(OFFSET(E1179,-Q1179,0):E1179)),IF(AND(ISNUMBER(P1179),ISNUMBER(P1180),P1179  <P1180),IF((OFFSET(Q1179,-Q1179,0)>50),SUM(OFFSET(E1179,-Q1179+1,0):E1179),SUM(OFFSET(E1179,-Q1179,0):E1179)),\"\"))","v":{"$error":"#NAME?"}},{"$f":"IF(ISNUMBER(L1179),IF((OFFSET(Q1179,-Q1179,0)>50),SUM(OFFSET(G1179,-Q1179+1,0):G1179),SUM(OFFSET(G1179,-Q1179,0):G1179)),\"\")","v":""},"",{"$f":"IF(B1179>0,'Tax Scales'!U1179-D1179,\"\")","v":""},{"$error":"#NAME?"},{"$error":"#NAME?"},{"$f":"IF(ISNUMBER(G1179),IF(G1179>0,'Tax Scales'!AQ1179,\"\"),\"\")","v":""}]
["2010-03-24",null,null,null,0,{"$f":"IF(SUM($B$7:$B1180)=0,\"\",IF(A1180<>\"\",IF(A1180<$B$3,\"N\",\"Y\"),\"\"))","v":""},0,9.51,0,null,421,{"$f":"IF(AND(ISNUMBER(A1180),NOT(ISNUMBER(A1181))),IF((OFFSET(Q1180,-Q1180,0)>50),SUM(OFFSET(E1180,-Q1180+1,0):E1180),SUM(OFFSET(E1180,-Q1180,0):E1180)),IF(AND(ISNUMBER(P1180),ISNUMBER(P1181),P1180  <P1181),IF((OFFSET(Q1180,-Q1180,0)>50),SUM(OFFSET(E1180,-Q1180+1,0):E1180),SUM(OFFSET(E1180,-Q1180,0):E1180)),\"\"))","v":{"$error":"#NAME?"}},{"$f":"IF(ISNUMBER(L1180),IF((OFFSET(Q1180,-Q1180,0)>50),SUM(OFFSET(G1180,-Q1180+1,0):G1180),SUM(OFFSET(G1180,-Q1180,0):G1180)),\"\")","v":""},"",{"$f":"IF(B1180>0,'Tax Scales'!U1180-D1180,\"\")","v":""},{"$error":"#NAME?"},{"$error":"#NAME?"},{"$f":"IF(ISNUMBER(G1180),IF(G1180>0,'Tax Scales'!AQ1180,\"\"),\"\")","v":""}]
["2010-03-31",null,null,null,0,{"$f":"IF(SUM($B$7:$B1181)=0,\"\",IF(A1181<>\"\",IF(A1181<$B$3,\"N\",\"Y\"),\"\"))","v":""},0,9.51,0,null,420,{"$f":"IF(AND(ISNUMBER(A1181),NOT(ISNUMBER(A1182))),IF((OFFSET(Q1181,-Q1181,0)>50),SUM(OFFSET(E1181,-Q1181+1,0):E1181),SUM(OFFSET(E1181,-Q1181,0):E1181)),IF(AND(ISNUMBER(P1181),ISNUMBER(P1182),P1181  <P1182),IF((OFFSET(Q1181,-Q1181,0)>50),SUM(OFFSET(E1181,-Q1181+1,0):E1181),SUM(OFFSET(E1181,-Q1181,0):E1181)),\"\"))","v":{"$error":"#NAME?"}},{"$f":"IF(ISNUMBER(L1181),IF((OFFSET(Q1181,-Q1181,0)>50),SUM(OFFSET(G1181,-Q1181+1,0):G1181),SUM(OFFSET(G1181,-Q1181,0):G1181)),\"\")","v":""},"",{"$f":"IF(B1181>0,'Tax Scales'!U1181-D1181,\"\")","v":""},{"$error":"#NAME?"},{"$error":"#NAME?"},{"$f":"IF(ISNUMBER(G1181),IF(G1181>0,'Tax Scales'!AQ1181,\"\"),\"\")","v":""}]
["2010-04-07",null,null,null,0,{"$f":"IF(SUM($B$7:$B1182)=0,\"\",IF(A1182<>\"\",IF(A1182<$B$3,\"N\",\"Y\"),\"\"))","v":""},0,9.51,0,null,419,{"$f":"IF(AND(ISNUMBER(A1182),NOT(ISNUMBER(A1183))),IF((OFFSET(Q1182,-Q1182,0)>50),SUM(OFFSET(E1182,-Q1182+1,0):E1182),SUM(OFFSET(E1182,-Q1182,0):E1182)),IF(AND(ISNUMBER(P1182),ISNUMBER(P1183),P1182  <P1183),IF((OFFSET(Q1182,-Q1182,0)>50),SUM(OFFSET(E1182,-Q1182+1,0):E1182),SUM(OFFSET(E1182,-Q1182,0):E1182)),\"\"))","v":{"$error":"#NAME?"}},{"$f":"IF(ISNUMBER(L1182),IF((OFFSET(Q1182,-Q1182,0)>50),SUM(OFFSET(G1182,-Q1182+1,0):G1182),SUM(OFFSET(G1182,-Q1182,0):G1182)),\"\")","v":""},"",{"$f":"IF(B1182>0,'Tax Scales'!U1182-D1182,\"\")","v":""},{"$error":"#NAME?"},{"$error":"#NAME?"},{"$f":"IF(ISNUMBER(G1182),IF(G1182>0,'Tax Scales'!AQ1182,\"\"),\"\")","v":""}]
["2010-04-14",null,null,null,0,{"$f":"IF(SUM($B$7:$B1183)=0,\"\",IF(A1183<>\"\",IF(A1183<$B$3,\"N\",\"Y\"),\"\"))","v":""},0,9.51,0,null,418,{"$f":"IF(AND(ISNUMBER(A1183),NOT(ISNUMBER(A1184))),IF((OFFSET(Q1183,-Q1183,0)>50),SUM(OFFSET(E1183,-Q1183+1,0):E1183),SUM(OFFSET(E1183,-Q1183,0):E1183)),IF(AND(ISNUMBER(P1183),ISNUMBER(P1184),P1183  <P1184),IF((OFFSET(Q1183,-Q1183,0)>50),SUM(OFFSET(E1183,-Q1183+1,0):E1183),SUM(OFFSET(E1183,-Q1183,0):E1183)),\"\"))","v":{"$error":"#NAME?"}},{"$f":"IF(ISNUMBER(L1183),IF((OFFSET(Q1183,-Q1183,0)>50),SUM(OFFSET(G1183,-Q1183+1,0):G1183),SUM(OFFSET(G1183,-Q1183,0):G1183)),\"\")","v":""},"",{"$f":"IF(B1183>0,'Tax Scales'!U1183-D1183,\"\")","v":""},{"$error":"#NAME?"},{"$error":"#NAME?"},{"$f":"IF(ISNUMBER(G1183),IF(G1183>0,'Tax Scales'!AQ1183,\"\"),\"\")","v":""}]
["2010-04-21",null,null,null,0,{"$f":"IF(SUM($B$7:$B1184)=0,\"\",IF(A1184<>\"\",IF(A1184<$B$3,\"N\",\"Y\"),\"\"))","v":""},0,9.51,0,null,417,{"$f":"IF(AND(ISNUMBER(A1184),NOT(ISNUMBER(A1185))),IF((OFFSET(Q1184,-Q1184,0)>50),SUM(OFFSET(E1184,-Q1184+1,0):E1184),SUM(OFFSET(E1184,-Q1184,0):E1184)),IF(AND(ISNUMBER(P1184),ISNUMBER(P1185),P1184  <P1185),IF((OFFSET(Q1184,-Q1184,0)>50),SUM(OFFSET(E1184,-Q1184+1,0):E1184),SUM(OFFSET(E1184,-Q1184,0):E1184)),\"\"))","v":{"$error":"#NAME?"}},{"$f":"IF(ISNUMBER(L1184),IF((OFFSET(Q1184,-Q1184,0)>50),SUM(OFFSET(G1184,-Q1184+1,0):G1184),SUM(OFFSET(G1184,-Q1184,0):G1184)),\"\")","v":""},"",{"$f":"IF(B1184>0,'Tax Scales'!U1184-D1184,\"\")","v":""},{"$error":"#NAME?"},{"$error":"#NAME?"},{"$f":"IF(ISNUMBER(G1184),IF(G1184>0,'Tax Scales'!AQ1184,\"\"),\"\")","v":""}]
["2010-04-28",null,null,null,0,{"$f":"IF(SUM($B$7:$B1185)=0,\"\",IF(A1185<>\"\",IF(A1185<$B$3,\"N\",\"Y\"),\"\"))","v":""},0,9.51,0,null,416,{"$f":"IF(AND(ISNUMBER(A1185),NOT(ISNUMBER(A1186))),IF((OFFSET(Q1185,-Q1185,0)>50),SUM(OFFSET(E1185,-Q1185+1,0):E1185),SUM(OFFSET(E1185,-Q1185,0):E1185)),IF(AND(ISNUMBER(P1185),ISNUMBER(P1186),P1185  <P1186),IF((OFFSET(Q1185,-Q1185,0)>50),SUM(OFFSET(E1185,-Q1185+1,0):E1185),SUM(OFFSET(E1185,-Q1185,0):E1185)),\"\"))","v":{"$error":"#NAME?"}},{"$f":"IF(ISNUMBER(L1185),IF((OFFSET(Q1185,-Q1185,0)>50),SUM(OFFSET(G1185,-Q1185+1,0):G1185),SUM(OFFSET(G1185,-Q1185,0):G1185)),\"\")","v":""},"",{"$f":"IF(B1185>0,'Tax Scales'!U1185-D1185,\"\")","v":""},{"$error":"#NAME?"},{"$error":"#NAME?"},{"$f":"IF(ISNUMBER(G1185),IF(G1185>0,'Tax Scales'!AQ1185,\"\"),\"\")","v":""}]
["2010-05-05",null,null,null,0,{"$f":"IF(SUM($B$7:$B1186)=0,\"\",IF(A1186<>\"\",IF(A1186<$B$3,\"N\",\"Y\"),\"\"))","v":""},0,9.51,0,null,{"$f":"IF(A1186<>\"\",IF((TODAY()-A1186)/7>=0,INT((TODAY()-A1186)/7),0),\"\")","v":415},{"$f":"IF(AND(ISNUMBER(A1186),NOT(ISNUMBER(A1187))),IF((OFFSET(Q1186,-Q1186,0)>50),SUM(OFFSET(E1186,-Q1186+1,0):E1186),SUM(OFFSET(E1186,-Q1186,0):E1186)),IF(AND(ISNUMBER(P1186),ISNUMBER(P1187),P1186  <P1187),IF((OFFSET(Q1186,-Q1186,0)>50),SUM(OFFSET(E1186,-Q1186+1,0):E1186),SUM(OFFSET(E1186,-Q1186,0):E1186)),\"\"))","v":{"$error":"#NAME?"}},{"$f":"IF(ISNUMBER(L1186),IF((OFFSET(Q1186,-Q1186,0)>50),SUM(OFFSET(G1186,-Q1186+1,0):G1186),SUM(OFFSET(G1186,-Q1186,0):G1186)),\"\")","v":""},{"$f":"IF(B1186>0,IF(P1186  = $P$6,E1186-O1186,\"\"),\"\")","v":""},{"$f":"IF(B1186>0,'Tax Scales'!U1186-D1186,\"\")","v":""},{"$error":"#NAME?"},{"$error":"#NAME?"},{"$f":"IF(ISNUMBER(G1186),IF(G1186>0,'Tax Scales'!AQ1186,\"\"),\"\")","v":""}]
["2010-05-12",null,null,null,0,{"$f":"IF(SUM($B$7:$B1187)=0,\"\",IF(A1187<>\"\",IF(A1187<$B$3,\"N\",\"Y\"),\"\"))","v":""},0,9.51,0,null,414,{"$f":"IF(AND(ISNUMBER(A1187),NOT(ISNUMBER(A1188))),IF((OFFSET(Q1187,-Q1187,0)>50),SUM(OFFSET(E1187,-Q1187+1,0):E1187),SUM(OFFSET(E1187,-Q1187,0):E1187)),IF(AND(ISNUMBER(P1187),ISNUMBER(P1188),P1187  <P1188),IF((OFFSET(Q1187,-Q1187,0)>50),SUM(OFFSET(E1187,-Q1187+1,0):E1187),SUM(OFFSET(E1187,-Q1187,0):E1187)),\"\"))","v":{"$error":"#NAME?"}},{"$f":"IF(ISNUMBER(L1187),IF((OFFSET(Q1187,-Q1187,0)>50),SUM(OFFSET(G1187,-Q1187+1,0):G1187),SUM(OFFSET(G1187,-Q1187,0):G1187)),\"\")","v":""},"",{"$f":"IF(B1187>0,'Tax Scales'!U1187-D1187,\"\")","v":""},{"$error":"#NAME?"},{"$error":"#NAME?"},{"$f":"IF(ISNUMBER(G1187),IF(G1187>0,'Tax Scales'!AQ1187,\"\"),\"\")","v":""}]
["2010-05-19",null,null,null,0,{"$f":"IF(SUM($B$7:$B1188)=0,\"\",IF(A1188<>\"\",IF(A1188<$B$3,\"N\",\"Y\"),\"\"))","v":""},0,9.51,0,null,413,{"$f":"IF(AND(ISNUMBER(A1188),NOT(ISNUMBER(A1189))),IF((OFFSET(Q1188,-Q1188,0)>50),SUM(OFFSET(E1188,-Q1188+1,0):E1188),SUM(OFFSET(E1188,-Q1188,0):E1188)),IF(AND(ISNUMBER(P1188),ISNUMBER(P1189),P1188  <P1189),IF((OFFSET(Q1188,-Q1188,0)>50),SUM(OFFSET(E1188,-Q1188+1,0):E1188),SUM(OFFSET(E1188,-Q1188,0):E1188)),\"\"))","v":{"$error":"#NAME?"}},{"$f":"IF(ISNUMBER(L1188),IF((OFFSET(Q1188,-Q1188,0)>50),SUM(OFFSET(G1188,-Q1188+1,0):G1188),SUM(OFFSET(G1188,-Q1188,0):G1188)),\"\")","v":""},"",{"$f":"IF(B1188>0,'Tax Scales'!U1188-D1188,\"\")","v":""},{"$error":"#NAME?"},{"$error":"#NAME?"},{"$f":"IF(ISNUMBER(G1188),IF(G1188>0,'Tax Scales'!AQ1188,\"\"),\"\")","v":""}]
["2010-05-26",null,null,null,0,{"$f":"IF(SUM($B$7:$B1189)=0,\"\",IF(A1189<>\"\",IF(A1189<$B$3,\"N\",\"Y\"),\"\"))","v":""},0,9.51,0,null,412,{"$f":"IF(AND(ISNUMBER(A1189),NOT(ISNUMBER(A1190))),IF((OFFSET(Q1189,-Q1189,0)>50),SUM(OFFSET(E1189,-Q1189+1,0):E1189),SUM(OFFSET(E1189,-Q1189,0):E1189)),IF(AND(ISNUMBER(P1189),ISNUMBER(P1190),P1189  <P1190),IF((OFFSET(Q1189,-Q1189,0)>50),SUM(OFFSET(E1189,-Q1189+1,0):E1189),SUM(OFFSET(E1189,-Q1189,0):E1189)),\"\"))","v":{"$error":"#NAME?"}},{"$f":"IF(ISNUMBER(L1189),IF((OFFSET(Q1189,-Q1189,0)>50),SUM(OFFSET(G1189,-Q1189+1,0):G1189),SUM(OFFSET(G1189,-Q1189,0):G1189)),\"\")","v":""},"",{"$f":"IF(B1189>0,'Tax Scales'!U1189-D1189,\"\")","v":""},{"$error":"#NAME?"},{"$error":"#NAME?"},{"$f":"IF(ISNUMBER(G1189),IF(G1189>0,'Tax Scales'!AQ1189,\"\"),\"\")","v":""}]
["2010-06-02",null,null,null,0,{"$f":"IF(SUM($B$7:$B1190)=0,\"\",IF(A1190<>\"\",IF(A1190<$B$3,\"N\",\"Y\"),\"\"))","v":""},0,9.51,0,null,411,{"$f":"IF(AND(ISNUMBER(A1190),NOT(ISNUMBER(A1191))),IF((OFFSET(Q1190,-Q1190,0)>50),SUM(OFFSET(E1190,-Q1190+1,0):E1190),SUM(OFFSET(E1190,-Q1190,0):E1190)),IF(AND(ISNUMBER(P1190),ISNUMBER(P1191),P1190  <P1191),IF((OFFSET(Q1190,-Q1190,0)>50),SUM(OFFSET(E1190,-Q1190+1,0):E1190),SUM(OFFSET(E1190,-Q1190,0):E1190)),\"\"))","v":{"$error":"#NAME?"}},{"$f":"IF(ISNUMBER(L1190),IF((OFFSET(Q1190,-Q1190,0)>50),SUM(OFFSET(G1190,-Q1190+1,0):G1190),SUM(OFFSET(G1190,-Q1190,0):G1190)),\"\")","v":""},"",{"$f":"IF(B1190>0,'Tax Scales'!U1190-D1190,\"\")","v":""},{"$error":"#NAME?"},{"$error":"#NAME?"},{"$f":"IF(ISNUMBER(G1190),IF(G1190>0,'Tax Scales'!AQ1190,\"\"),\"\")","v":""}]
["2010-06-09",null,null,null,0,{"$f":"IF(SUM($B$7:$B1191)=0,\"\",IF(A1191<>\"\",IF(A1191<$B$3,\"N\",\"Y\"),\"\"))","v":""},0,9.51,0,null,410,{"$f":"IF(AND(ISNUMBER(A1191),NOT(ISNUMBER(A1192))),IF((OFFSET(Q1191,-Q1191,0)>50),SUM(OFFSET(E1191,-Q1191+1,0):E1191),SUM(OFFSET(E1191,-Q1191,0):E1191)),IF(AND(ISNUMBER(P1191),ISNUMBER(P1192),P1191  <P1192),IF((OFFSET(Q1191,-Q1191,0)>50),SUM(OFFSET(E1191,-Q1191+1,0):E1191),SUM(OFFSET(E1191,-Q1191,0):E1191)),\"\"))","v":{"$error":"#NAME?"}},{"$f":"IF(ISNUMBER(L1191),IF((OFFSET(Q1191,-Q1191,0)>50),SUM(OFFSET(G1191,-Q1191+1,0):G1191),SUM(OFFSET(G1191,-Q1191,0):G1191)),\"\")","v":""},"",{"$f":"IF(B1191>0,'Tax Scales'!U1191-D1191,\"\")","v":""},{"$error":"#NAME?"},{"$error":"#NAME?"},{"$f":"IF(ISNUMBER(G1191),IF(G1191>0,'Tax Scales'!AQ1191,\"\"),\"\")","v":""}]
["2010-06-16",null,null,null,0,{"$f":"IF(SUM($B$7:$B1192)=0,\"\",IF(A1192<>\"\",IF(A1192<$B$3,\"N\",\"Y\"),\"\"))","v":""},0,9.51,0,null,409,{"$f":"IF(AND(ISNUMBER(A1192),NOT(ISNUMBER(A1193))),IF((OFFSET(Q1192,-Q1192,0)>50),SUM(OFFSET(E1192,-Q1192+1,0):E1192),SUM(OFFSET(E1192,-Q1192,0):E1192)),IF(AND(ISNUMBER(P1192),ISNUMBER(P1193),P1192  <P1193),IF((OFFSET(Q1192,-Q1192,0)>50),SUM(OFFSET(E1192,-Q1192+1,0):E1192),SUM(OFFSET(E1192,-Q1192,0):E1192)),\"\"))","v":{"$error":"#NAME?"}},{"$f":"IF(ISNUMBER(L1192),IF((OFFSET(Q1192,-Q1192,0)>50),SUM(OFFSET(G1192,-Q1192+1,0):G1192),SUM(OFFSET(G1192,-Q1192,0):G1192)),\"\")","v":""},"",{"$f":"IF(B1192>0,'Tax Scales'!U1192-D1192,\"\")","v":""},{"$error":"#NAME?"},{"$error":"#NAME?"},{"$f":"IF(ISNUMBER(G1192),IF(G1192>0,'Tax Scales'!AQ1192,\"\"),\"\")","v":""}]
["2010-06-23",null,null,null,0,{"$f":"IF(SUM($B$7:$B1193)=0,\"\",IF(A1193<>\"\",IF(A1193<$B$3,\"N\",\"Y\"),\"\"))","v":""},0,9.51,0,null,408,{"$f":"IF(AND(ISNUMBER(A1193),NOT(ISNUMBER(A1194))),IF((OFFSET(Q1193,-Q1193,0)>50),SUM(OFFSET(E1193,-Q1193+1,0):E1193),SUM(OFFSET(E1193,-Q1193,0):E1193)),IF(AND(ISNUMBER(P1193),ISNUMBER(P1194),P1193  <P1194),IF((OFFSET(Q1193,-Q1193,0)>50),SUM(OFFSET(E1193,-Q1193+1,0):E1193),SUM(OFFSET(E1193,-Q1193,0):E1193)),\"\"))","v":{"$error":"#NAME?"}},{"$f":"IF(ISNUMBER(L1193),IF((OFFSET(Q1193,-Q1193,0)>50),SUM(OFFSET(G1193,-Q1193+1,0):G1193),SUM(OFFSET(G1193,-Q1193,0):G1193)),\"\")","v":""},"",{"$f":"IF(B1193>0,'Tax Scales'!U1193-D1193,\"\")","v":""},{"$error":"#NAME?"},{"$error":"#NAME?"},{"$f":"IF(ISNUMBER(G1193),IF(G1193>0,'Tax Scales'!AQ1193,\"\"),\"\")","v":""}]
["2010-06-30",null,null,null,0,{"$f":"IF(SUM($B$7:$B1194)=0,\"\",IF(A1194<>\"\",IF(A1194<$B$3,\"N\",\"Y\"),\"\"))","v":""},0,9.51,0,null,407,{"$f":"IF(AND(ISNUMBER(A1194),NOT(ISNUMBER(A1195))),IF((OFFSET(Q1194,-Q1194,0)>50),SUM(OFFSET(E1194,-Q1194+1,0):E1194),SUM(OFFSET(E1194,-Q1194,0):E1194)),IF(AND(ISNUMBER(P1194),ISNUMBER(P1195),P1194  <P1195),IF((OFFSET(Q1194,-Q1194,0)>50),SUM(OFFSET(E1194,-Q1194+1,0):E1194),SUM(OFFSET(E1194,-Q1194,0):E1194)),\"\"))","v":{"$error":"#NAME?"}},{"$f":"IF(ISNUMBER(L1194),IF((OFFSET(Q1194,-Q1194,0)>50),SUM(OFFSET(G1194,-Q1194+1,0):G1194),SUM(OFFSET(G1194,-Q1194,0):G1194)),\"\")","v":""},"",{"$f":"IF(B1194>0,'Tax Scales'!U1194-D1194,\"\")","v":""},{"$error":"#NAME?"},{"$error":"#NAME?"},{"$f":"IF(ISNUMBER(G1194),IF(G1194>0,'Tax Scales'!AQ1194,\"\"),\"\")","v":""}]
["2010-07-07",null,null,null,{"$f":"IF(A1195<>\"\",IF(B1195-C1195>=0,B1195-C1195,0),\"\")","v":0},{"$f":"IF(SUM($B$7:$B1195)=0,\"\",IF(A1195<>\"\",IF(A1195<$B$3,\"N\",\"Y\"),\"\"))","v":""},0,{"$f":"IF(A1195<>\"\",11.41,\"\")","v":11.41},{"$f":"IF(A1195<>\"\",I1194+E1195+G1195,\"\")","v":0},null,{"$f":"IF(A1195<>\"\",IF((TODAY()-A1195)/7>=0,INT((TODAY()-A1195)/7),0),\"\")","v":406},{"$f":"IF(AND(ISNUMBER(A1195),NOT(ISNUMBER(A1196))),IF((OFFSET(Q1195,-Q1195,0)>50),SUM(OFFSET(E1195,-Q1195+1,0):E1195),SUM(OFFSET(E1195,-Q1195,0):E1195)),IF(AND(ISNUMBER(P1195),ISNUMBER(P1196),P1195  <P1196),IF((OFFSET(Q1195,-Q1195,0)>50),SUM(OFFSET(E1195,-Q1195+1,0):E1195),SUM(OFFSET(E1195,-Q1195,0):E1195)),\"\"))","v":{"$error":"#NAME?"}},{"$f":"IF(ISNUMBER(L1195),IF((OFFSET(Q1195,-Q1195,0)>50),SUM(OFFSET(G1195,-Q1195+1,0):G1195),SUM(OFFSET(G1195,-Q1195,0):G1195)),\"\")","v":""},{"$f":"IF(B1195>0,IF(P1195  = $P$6,E1195-O1195,\"\"),\"\")","v":""},{"$f":"IF(B1195>0,'Tax Scales'!U1195-D1195,\"\")","v":""},{"$f":"IF(ISNUMBER(A1195),FinYear(A1195),\"\")","v":{"$error":"#NAME?"}},{"$f":"IF(ISNUMBER(A1195),ROUND((A1195-StartOfFinYear(P1195))/7,0),\"\")","v":{"$error":"#NAME?"}},{"$f":"IF(ISNUMBER(G1195),IF(G1195>0,'Tax Scales'!AQ1195,\"\"),\"\")","v":""}]
["2010-07-14",null,null,null,0,{"$f":"IF(SUM($B$7:$B1196)=0,\"\",IF(A1196<>\"\",IF(A1196<$B$3,\"N\",\"Y\"),\"\"))","v":""},0,{"$f":"IF(A1196<>\"\",11.41,\"\")","v":11.41},0,null,405,{"$f":"IF(AND(ISNUMBER(A1196),NOT(ISNUMBER(A1197))),IF((OFFSET(Q1196,-Q1196,0)>50),SUM(OFFSET(E1196,-Q1196+1,0):E1196),SUM(OFFSET(E1196,-Q1196,0):E1196)),IF(AND(ISNUMBER(P1196),ISNUMBER(P1197),P1196  <P1197),IF((OFFSET(Q1196,-Q1196,0)>50),SUM(OFFSET(E1196,-Q1196+1,0):E1196),SUM(OFFSET(E1196,-Q1196,0):E1196)),\"\"))","v":{"$error":"#NAME?"}},{"$f":"IF(ISNUMBER(L1196),IF((OFFSET(Q1196,-Q1196,0)>50),SUM(OFFSET(G1196,-Q1196+1,0):G1196),SUM(OFFSET(G1196,-Q1196,0):G1196)),\"\")","v":""},"",{"$f":"IF(B1196>0,'Tax Scales'!U1196-D1196,\"\")","v":""},{"$error":"#NAME?"},{"$error":"#NAME?"},{"$f":"IF(ISNUMBER(G1196),IF(G1196>0,'Tax Scales'!AQ1196,\"\"),\"\")","v":""}]
["2010-07-21",null,null,null,0,{"$f":"IF(SUM($B$7:$B1197)=0,\"\",IF(A1197<>\"\",IF(A1197<$B$3,\"N\",\"Y\"),\"\"))","v":""},0,11.41,0,null,404,{"$f":"IF(AND(ISNUMBER(A1197),NOT(ISNUMBER(A1198))),IF((OFFSET(Q1197,-Q1197,0)>50),SUM(OFFSET(E1197,-Q1197+1,0):E1197),SUM(OFFSET(E1197,-Q1197,0):E1197)),IF(AND(ISNUMBER(P1197),ISNUMBER(P1198),P1197  <P1198),IF((OFFSET(Q1197,-Q1197,0)>50),SUM(OFFSET(E1197,-Q1197+1,0):E1197),SUM(OFFSET(E1197,-Q1197,0):E1197)),\"\"))","v":{"$error":"#NAME?"}},{"$f":"IF(ISNUMBER(L1197),IF((OFFSET(Q1197,-Q1197,0)>50),SUM(OFFSET(G1197,-Q1197+1,0):G1197),SUM(OFFSET(G1197,-Q1197,0):G1197)),\"\")","v":""},"",{"$f":"IF(B1197>0,'Tax Scales'!U1197-D1197,\"\")","v":""},{"$error":"#NAME?"},{"$error":"#NAME?"},{"$f":"IF(ISNUMBER(G1197),IF(G1197>0,'Tax Scales'!AQ1197,\"\"),\"\")","v":""}]
["2010-07-28",null,null,null,0,{"$f":"IF(SUM($B$7:$B1198)=0,\"\",IF(A1198<>\"\",IF(A1198<$B$3,\"N\",\"Y\"),\"\"))","v":""},0,11.41,0,null,403,{"$f":"IF(AND(ISNUMBER(A1198),NOT(ISNUMBER(A1199))),IF((OFFSET(Q1198,-Q1198,0)>50),SUM(OFFSET(E1198,-Q1198+1,0):E1198),SUM(OFFSET(E1198,-Q1198,0):E1198)),IF(AND(ISNUMBER(P1198),ISNUMBER(P1199),P1198  <P1199),IF((OFFSET(Q1198,-Q1198,0)>50),SUM(OFFSET(E1198,-Q1198+1,0):E1198),SUM(OFFSET(E1198,-Q1198,0):E1198)),\"\"))","v":{"$error":"#NAME?"}},{"$f":"IF(ISNUMBER(L1198),IF((OFFSET(Q1198,-Q1198,0)>50),SUM(OFFSET(G1198,-Q1198+1,0):G1198),SUM(OFFSET(G1198,-Q1198,0):G1198)),\"\")","v":""},"",{"$f":"IF(B1198>0,'Tax Scales'!U1198-D1198,\"\")","v":""},{"$error":"#NAME?"},{"$error":"#NAME?"},{"$f":"IF(ISNUMBER(G1198),IF(G1198>0,'Tax Scales'!AQ1198,\"\"),\"\")","v":""}]
["2010-08-04",null,null,null,0,{"$f":"IF(SUM($B$7:$B1199)=0,\"\",IF(A1199<>\"\",IF(A1199<$B$3,\"N\",\"Y\"),\"\"))","v":""},0,11.41,0,null,402,{"$f":"IF(AND(ISNUMBER(A1199),NOT(ISNUMBER(A1200))),IF((OFFSET(Q1199,-Q1199,0)>50),SUM(OFFSET(E1199,-Q1199+1,0):E1199),SUM(OFFSET(E1199,-Q1199,0):E1199)),IF(AND(ISNUMBER(P1199),ISNUMBER(P1200),P1199  <P1200),IF((OFFSET(Q1199,-Q1199,0)>50),SUM(OFFSET(E1199,-Q1199+1,0):E1199),SUM(OFFSET(E1199,-Q1199,0):E1199)),\"\"))","v":{"$error":"#NAME?"}},{"$f":"IF(ISNUMBER(L1199),IF((OFFSET(Q1199,-Q1199,0)>50),SUM(OFFSET(G1199,-Q1199+1,0):G1199),SUM(OFFSET(G1199,-Q1199,0):G1199)),\"\")","v":""},"",{"$f":"IF(B1199>0,'Tax Scales'!U1199-D1199,\"\")","v":""},{"$error":"#NAME?"},{"$error":"#NAME?"},{"$f":"IF(ISNUMBER(G1199),IF(G1199>0,'Tax Scales'!AQ1199,\"\"),\"\")","v":""}]
["2010-08-11",null,null,null,0,{"$f":"IF(SUM($B$7:$B1200)=0,\"\",IF(A1200<>\"\",IF(A1200<$B$3,\"N\",\"Y\"),\"\"))","v":""},0,11.41,0,null,401,{"$f":"IF(AND(ISNUMBER(A1200),NOT(ISNUMBER(A1201))),IF((OFFSET(Q1200,-Q1200,0)>50),SUM(OFFSET(E1200,-Q1200+1,0):E1200),SUM(OFFSET(E1200,-Q1200,0):E1200)),IF(AND(ISNUMBER(P1200),ISNUMBER(P1201),P1200  <P1201),IF((OFFSET(Q1200,-Q1200,0)>50),SUM(OFFSET(E1200,-Q1200+1,0):E1200),SUM(OFFSET(E1200,-Q1200,0):E1200)),\"\"))","v":{"$error":"#NAME?"}},{"$f":"IF(ISNUMBER(L1200),IF((OFFSET(Q1200,-Q1200,0)>50),SUM(OFFSET(G1200,-Q1200+1,0):G1200),SUM(OFFSET(G1200,-Q1200,0):G1200)),\"\")","v":""},"",{"$f":"IF(B1200>0,'Tax Scales'!U1200-D1200,\"\")","v":""},{"$error":"#NAME?"},{"$error":"#NAME?"},{"$f":"IF(ISNUMBER(G1200),IF(G1200>0,'Tax Scales'!AQ1200,\"\"),\"\")","v":""}]
["2010-08-18",null,null,null,0,{"$f":"IF(SUM($B$7:$B1201)=0,\"\",IF(A1201<>\"\",IF(A1201<$B$3,\"N\",\"Y\"),\"\"))","v":""},0,11.41,0,null,400,{"$f":"IF(AND(ISNUMBER(A1201),NOT(ISNUMBER(A1202))),IF((OFFSET(Q1201,-Q1201,0)>50),SUM(OFFSET(E1201,-Q1201+1,0):E1201),SUM(OFFSET(E1201,-Q1201,0):E1201)),IF(AND(ISNUMBER(P1201),ISNUMBER(P1202),P1201  <P1202),IF((OFFSET(Q1201,-Q1201,0)>50),SUM(OFFSET(E1201,-Q1201+1,0):E1201),SUM(OFFSET(E1201,-Q1201,0):E1201)),\"\"))","v":{"$error":"#NAME?"}},{"$f":"IF(ISNUMBER(L1201),IF((OFFSET(Q1201,-Q1201,0)>50),SUM(OFFSET(G1201,-Q1201+1,0):G1201),SUM(OFFSET(G1201,-Q1201,0):G1201)),\"\")","v":""},"",{"$f":"IF(B1201>0,'Tax Scales'!U1201-D1201,\"\")","v":""},{"$error":"#NAME?"},{"$error":"#NAME?"},{"$f":"IF(ISNUMBER(G1201),IF(G1201>0,'Tax Scales'!AQ1201,\"\"),\"\")","v":""}]
["2010-08-25",null,null,null,0,{"$f":"IF(SUM($B$7:$B1202)=0,\"\",IF(A1202<>\"\",IF(A1202<$B$3,\"N\",\"Y\"),\"\"))","v":""},0,11.41,0,null,399,{"$f":"IF(AND(ISNUMBER(A1202),NOT(ISNUMBER(A1203))),IF((OFFSET(Q1202,-Q1202,0)>50),SUM(OFFSET(E1202,-Q1202+1,0):E1202),SUM(OFFSET(E1202,-Q1202,0):E1202)),IF(AND(ISNUMBER(P1202),ISNUMBER(P1203),P1202  <P1203),IF((OFFSET(Q1202,-Q1202,0)>50),SUM(OFFSET(E1202,-Q1202+1,0):E1202),SUM(OFFSET(E1202,-Q1202,0):E1202)),\"\"))","v":{"$error":"#NAME?"}},{"$f":"IF(ISNUMBER(L1202),IF((OFFSET(Q1202,-Q1202,0)>50),SUM(OFFSET(G1202,-Q1202+1,0):G1202),SUM(OFFSET(G1202,-Q1202,0):G1202)),\"\")","v":""},"",{"$f":"IF(B1202>0,'Tax Scales'!U1202-D1202,\"\")","v":""},{"$error":"#NAME?"},{"$error":"#NAME?"},{"$f":"IF(ISNUMBER(G1202),IF(G1202>0,'Tax Scales'!AQ1202,\"\"),\"\")","v":""}]
["2010-09-01",null,null,null,0,{"$f":"IF(SUM($B$7:$B1203)=0,\"\",IF(A1203<>\"\",IF(A1203<$B$3,\"N\",\"Y\"),\"\"))","v":""},0,11.41,0,null,398,{"$f":"IF(AND(ISNUMBER(A1203),NOT(ISNUMBER(A1204))),IF((OFFSET(Q1203,-Q1203,0)>50),SUM(OFFSET(E1203,-Q1203+1,0):E1203),SUM(OFFSET(E1203,-Q1203,0):E1203)),IF(AND(ISNUMBER(P1203),ISNUMBER(P1204),P1203  <P1204),IF((OFFSET(Q1203,-Q1203,0)>50),SUM(OFFSET(E1203,-Q1203+1,0):E1203),SUM(OFFSET(E1203,-Q1203,0):E1203)),\"\"))","v":{"$error":"#NAME?"}},{"$f":"IF(ISNUMBER(L1203),IF((OFFSET(Q1203,-Q1203,0)>50),SUM(OFFSET(G1203,-Q1203+1,0):G1203),SUM(OFFSET(G1203,-Q1203,0):G1203)),\"\")","v":""},"",{"$f":"IF(B1203>0,'Tax Scales'!U1203-D1203,\"\")","v":""},{"$error":"#NAME?"},{"$error":"#NAME?"},{"$f":"IF(ISNUMBER(G1203),IF(G1203>0,'Tax Scales'!AQ1203,\"\"),\"\")","v":""}]
["2010-09-08",null,null,null,0,{"$f":"IF(SUM($B$7:$B1204)=0,\"\",IF(A1204<>\"\",IF(A1204<$B$3,\"N\",\"Y\"),\"\"))","v":""},0,11.41,0,null,397,{"$f":"IF(AND(ISNUMBER(A1204),NOT(ISNUMBER(A1205))),IF((OFFSET(Q1204,-Q1204,0)>50),SUM(OFFSET(E1204,-Q1204+1,0):E1204),SUM(OFFSET(E1204,-Q1204,0):E1204)),IF(AND(ISNUMBER(P1204),ISNUMBER(P1205),P1204  <P1205),IF((OFFSET(Q1204,-Q1204,0)>50),SUM(OFFSET(E1204,-Q1204+1,0):E1204),SUM(OFFSET(E1204,-Q1204,0):E1204)),\"\"))","v":{"$error":"#NAME?"}},{"$f":"IF(ISNUMBER(L1204),IF((OFFSET(Q1204,-Q1204,0)>50),SUM(OFFSET(G1204,-Q1204+1,0):G1204),SUM(OFFSET(G1204,-Q1204,0):G1204)),\"\")","v":""},"",{"$f":"IF(B1204>0,'Tax Scales'!U1204-D1204,\"\")","v":""},{"$error":"#NAME?"},{"$error":"#NAME?"},{"$f":"IF(ISNUMBER(G1204),IF(G1204>0,'Tax Scales'!AQ1204,\"\"),\"\")","v":""}]
["2010-09-15",null,null,null,0,{"$f":"IF(SUM($B$7:$B1205)=0,\"\",IF(A1205<>\"\",IF(A1205<$B$3,\"N\",\"Y\"),\"\"))","v":""},0,11.41,0,null,396,{"$f":"IF(AND(ISNUMBER(A1205),NOT(ISNUMBER(A1206))),IF((OFFSET(Q1205,-Q1205,0)>50),SUM(OFFSET(E1205,-Q1205+1,0):E1205),SUM(OFFSET(E1205,-Q1205,0):E1205)),IF(AND(ISNUMBER(P1205),ISNUMBER(P1206),P1205  <P1206),IF((OFFSET(Q1205,-Q1205,0)>50),SUM(OFFSET(E1205,-Q1205+1,0):E1205),SUM(OFFSET(E1205,-Q1205,0):E1205)),\"\"))","v":{"$error":"#NAME?"}},{"$f":"IF(ISNUMBER(L1205),IF((OFFSET(Q1205,-Q1205,0)>50),SUM(OFFSET(G1205,-Q1205+1,0):G1205),SUM(OFFSET(G1205,-Q1205,0):G1205)),\"\")","v":""},"",{"$f":"IF(B1205>0,'Tax Scales'!U1205-D1205,\"\")","v":""},{"$error":"#NAME?"},{"$error":"#NAME?"},{"$f":"IF(ISNUMBER(G1205),IF(G1205>0,'Tax Scales'!AQ1205,\"\"),\"\")","v":""}]
["2010-09-22",null,null,null,0,{"$f":"IF(SUM($B$7:$B1206)=0,\"\",IF(A1206<>\"\",IF(A1206<$B$3,\"N\",\"Y\"),\"\"))","v":""},0,11.41,0,null,395,{"$f":"IF(AND(ISNUMBER(A1206),NOT(ISNUMBER(A1207))),IF((OFFSET(Q1206,-Q1206,0)>50),SUM(OFFSET(E1206,-Q1206+1,0):E1206),SUM(OFFSET(E1206,-Q1206,0):E1206)),IF(AND(ISNUMBER(P1206),ISNUMBER(P1207),P1206  <P1207),IF((OFFSET(Q1206,-Q1206,0)>50),SUM(OFFSET(E1206,-Q1206+1,0):E1206),SUM(OFFSET(E1206,-Q1206,0):E1206)),\"\"))","v":{"$error":"#NAME?"}},{"$f":"IF(ISNUMBER(L1206),IF((OFFSET(Q1206,-Q1206,0)>50),SUM(OFFSET(G1206,-Q1206+1,0):G1206),SUM(OFFSET(G1206,-Q1206,0):G1206)),\"\")","v":""},"",{"$f":"IF(B1206>0,'Tax Scales'!U1206-D1206,\"\")","v":""},{"$error":"#NAME?"},{"$error":"#NAME?"},{"$f":"IF(ISNUMBER(G1206),IF(G1206>0,'Tax Scales'!AQ1206,\"\"),\"\")","v":""}]
["2010-09-29",null,null,null,0,{"$f":"IF(SUM($B$7:$B1207)=0,\"\",IF(A1207<>\"\",IF(A1207<$B$3,\"N\",\"Y\"),\"\"))","v":""},0,11.41,0,null,394,{"$f":"IF(AND(ISNUMBER(A1207),NOT(ISNUMBER(A1208))),IF((OFFSET(Q1207,-Q1207,0)>50),SUM(OFFSET(E1207,-Q1207+1,0):E1207),SUM(OFFSET(E1207,-Q1207,0):E1207)),IF(AND(ISNUMBER(P1207),ISNUMBER(P1208),P1207  <P1208),IF((OFFSET(Q1207,-Q1207,0)>50),SUM(OFFSET(E1207,-Q1207+1,0):E1207),SUM(OFFSET(E1207,-Q1207,0):E1207)),\"\"))","v":{"$error":"#NAME?"}},{"$f":"IF(ISNUMBER(L1207),IF((OFFSET(Q1207,-Q1207,0)>50),SUM(OFFSET(G1207,-Q1207+1,0):G1207),SUM(OFFSET(G1207,-Q1207,0):G1207)),\"\")","v":""},"",{"$f":"IF(B1207>0,'Tax Scales'!U1207-D1207,\"\")","v":""},{"$error":"#NAME?"},{"$error":"#NAME?"},{"$f":"IF(ISNUMBER(G1207),IF(G1207>0,'Tax Scales'!AQ1207,\"\"),\"\")","v":""}]
["2010-10-06",null,null,null,0,{"$f":"IF(SUM($B$7:$B1208)=0,\"\",IF(A1208<>\"\",IF(A1208<$B$3,\"N\",\"Y\"),\"\"))","v":""},0,11.41,0,null,393,{"$f":"IF(AND(ISNUMBER(A1208),NOT(ISNUMBER(A1209))),IF((OFFSET(Q1208,-Q1208,0)>50),SUM(OFFSET(E1208,-Q1208+1,0):E1208),SUM(OFFSET(E1208,-Q1208,0):E1208)),IF(AND(ISNUMBER(P1208),ISNUMBER(P1209),P1208  <P1209),IF((OFFSET(Q1208,-Q1208,0)>50),SUM(OFFSET(E1208,-Q1208+1,0):E1208),SUM(OFFSET(E1208,-Q1208,0):E1208)),\"\"))","v":{"$error":"#NAME?"}},{"$f":"IF(ISNUMBER(L1208),IF((OFFSET(Q1208,-Q1208,0)>50),SUM(OFFSET(G1208,-Q1208+1,0):G1208),SUM(OFFSET(G1208,-Q1208,0):G1208)),\"\")","v":""},"",{"$f":"IF(B1208>0,'Tax Scales'!U1208-D1208,\"\")","v":""},{"$error":"#NAME?"},{"$error":"#NAME?"},{"$f":"IF(ISNUMBER(G1208),IF(G1208>0,'Tax Scales'!AQ1208,\"\"),\"\")","v":""}]
["2010-10-13",null,null,null,0,{"$f":"IF(SUM($B$7:$B1209)=0,\"\",IF(A1209<>\"\",IF(A1209<$B$3,\"N\",\"Y\"),\"\"))","v":""},0,11.41,0,null,392,{"$f":"IF(AND(ISNUMBER(A1209),NOT(ISNUMBER(A1210))),IF((OFFSET(Q1209,-Q1209,0)>50),SUM(OFFSET(E1209,-Q1209+1,0):E1209),SUM(OFFSET(E1209,-Q1209,0):E1209)),IF(AND(ISNUMBER(P1209),ISNUMBER(P1210),P1209  <P1210),IF((OFFSET(Q1209,-Q1209,0)>50),SUM(OFFSET(E1209,-Q1209+1,0):E1209),SUM(OFFSET(E1209,-Q1209,0):E1209)),\"\"))","v":{"$error":"#NAME?"}},{"$f":"IF(ISNUMBER(L1209),IF((OFFSET(Q1209,-Q1209,0)>50),SUM(OFFSET(G1209,-Q1209+1,0):G1209),SUM(OFFSET(G1209,-Q1209,0):G1209)),\"\")","v":""},"",{"$f":"IF(B1209>0,'Tax Scales'!U1209-D1209,\"\")","v":""},{"$error":"#NAME?"},{"$error":"#NAME?"},{"$f":"IF(ISNUMBER(G1209),IF(G1209>0,'Tax Scales'!AQ1209,\"\"),\"\")","v":""}]
["2010-10-20",null,null,null,0,{"$f":"IF(SUM($B$7:$B1210)=0,\"\",IF(A1210<>\"\",IF(A1210<$B$3,\"N\",\"Y\"),\"\"))","v":""},0,11.41,0,null,391,{"$f":"IF(AND(ISNUMBER(A1210),NOT(ISNUMBER(A1211))),IF((OFFSET(Q1210,-Q1210,0)>50),SUM(OFFSET(E1210,-Q1210+1,0):E1210),SUM(OFFSET(E1210,-Q1210,0):E1210)),IF(AND(ISNUMBER(P1210),ISNUMBER(P1211),P1210  <P1211),IF((OFFSET(Q1210,-Q1210,0)>50),SUM(OFFSET(E1210,-Q1210+1,0):E1210),SUM(OFFSET(E1210,-Q1210,0):E1210)),\"\"))","v":{"$error":"#NAME?"}},{"$f":"IF(ISNUMBER(L1210),IF((OFFSET(Q1210,-Q1210,0)>50),SUM(OFFSET(G1210,-Q1210+1,0):G1210),SUM(OFFSET(G1210,-Q1210,0):G1210)),\"\")","v":""},"",{"$f":"IF(B1210>0,'Tax Scales'!U1210-D1210,\"\")","v":""},{"$error":"#NAME?"},{"$error":"#NAME?"},{"$f":"IF(ISNUMBER(G1210),IF(G1210>0,'Tax Scales'!AQ1210,\"\"),\"\")","v":""}]
["2010-10-27",null,null,null,0,{"$f":"IF(SUM($B$7:$B1211)=0,\"\",IF(A1211<>\"\",IF(A1211<$B$3,\"N\",\"Y\"),\"\"))","v":""},0,11.41,0,null,390,{"$f":"IF(AND(ISNUMBER(A1211),NOT(ISNUMBER(A1212))),IF((OFFSET(Q1211,-Q1211,0)>50),SUM(OFFSET(E1211,-Q1211+1,0):E1211),SUM(OFFSET(E1211,-Q1211,0):E1211)),IF(AND(ISNUMBER(P1211),ISNUMBER(P1212),P1211  <P1212),IF((OFFSET(Q1211,-Q1211,0)>50),SUM(OFFSET(E1211,-Q1211+1,0):E1211),SUM(OFFSET(E1211,-Q1211,0):E1211)),\"\"))","v":{"$error":"#NAME?"}},{"$f":"IF(ISNUMBER(L1211),IF((OFFSET(Q1211,-Q1211,0)>50),SUM(OFFSET(G1211,-Q1211+1,0):G1211),SUM(OFFSET(G1211,-Q1211,0):G1211)),\"\")","v":""},"",{"$f":"IF(B1211>0,'Tax Scales'!U1211-D1211,\"\")","v":""},{"$error":"#NAME?"},{"$error":"#NAME?"},{"$f":"IF(ISNUMBER(G1211),IF(G1211>0,'Tax Scales'!AQ1211,\"\"),\"\")","v":""}]
["2010-11-03",null,null,null,0,{"$f":"IF(SUM($B$7:$B1212)=0,\"\",IF(A1212<>\"\",IF(A1212<$B$3,\"N\",\"Y\"),\"\"))","v":""},0,11.41,0,null,389,{"$f":"IF(AND(ISNUMBER(A1212),NOT(ISNUMBER(A1213))),IF((OFFSET(Q1212,-Q1212,0)>50),SUM(OFFSET(E1212,-Q1212+1,0):E1212),SUM(OFFSET(E1212,-Q1212,0):E1212)),IF(AND(ISNUMBER(P1212),ISNUMBER(P1213),P1212  <P1213),IF((OFFSET(Q1212,-Q1212,0)>50),SUM(OFFSET(E1212,-Q1212+1,0):E1212),SUM(OFFSET(E1212,-Q1212,0):E1212)),\"\"))","v":{"$error":"#NAME?"}},{"$f":"IF(ISNUMBER(L1212),IF((OFFSET(Q1212,-Q1212,0)>50),SUM(OFFSET(G1212,-Q1212+1,0):G1212),SUM(OFFSET(G1212,-Q1212,0):G1212)),\"\")","v":""},"",{"$f":"IF(B1212>0,'Tax Scales'!U1212-D1212,\"\")","v":""},{"$error":"#NAME?"},{"$error":"#NAME?"},{"$f":"IF(ISNUMBER(G1212),IF(G1212>0,'Tax Scales'!AQ1212,\"\"),\"\")","v":""}]
["2010-11-10",null,null,null,0,{"$f":"IF(SUM($B$7:$B1213)=0,\"\",IF(A1213<>\"\",IF(A1213<$B$3,\"N\",\"Y\"),\"\"))","v":""},0,11.41,0,null,388,{"$f":"IF(AND(ISNUMBER(A1213),NOT(ISNUMBER(A1214))),IF((OFFSET(Q1213,-Q1213,0)>50),SUM(OFFSET(E1213,-Q1213+1,0):E1213),SUM(OFFSET(E1213,-Q1213,0):E1213)),IF(AND(ISNUMBER(P1213),ISNUMBER(P1214),P1213  <P1214),IF((OFFSET(Q1213,-Q1213,0)>50),SUM(OFFSET(E1213,-Q1213+1,0):E1213),SUM(OFFSET(E1213,-Q1213,0):E1213)),\"\"))","v":{"$error":"#NAME?"}},{"$f":"IF(ISNUMBER(L1213),IF((OFFSET(Q1213,-Q1213,0)>50),SUM(OFFSET(G1213,-Q1213+1,0):G1213),SUM(OFFSET(G1213,-Q1213,0):G1213)),\"\")","v":""},"",{"$f":"IF(B1213>0,'Tax Scales'!U1213-D1213,\"\")","v":""},{"$error":"#NAME?"},{"$error":"#NAME?"},{"$f":"IF(ISNUMBER(G1213),IF(G1213>0,'Tax Scales'!AQ1213,\"\"),\"\")","v":""}]
["2010-11-17",null,null,null,0,{"$f":"IF(SUM($B$7:$B1214)=0,\"\",IF(A1214<>\"\",IF(A1214<$B$3,\"N\",\"Y\"),\"\"))","v":""},0,11.41,0,null,387,{"$f":"IF(AND(ISNUMBER(A1214),NOT(ISNUMBER(A1215))),IF((OFFSET(Q1214,-Q1214,0)>50),SUM(OFFSET(E1214,-Q1214+1,0):E1214),SUM(OFFSET(E1214,-Q1214,0):E1214)),IF(AND(ISNUMBER(P1214),ISNUMBER(P1215),P1214  <P1215),IF((OFFSET(Q1214,-Q1214,0)>50),SUM(OFFSET(E1214,-Q1214+1,0):E1214),SUM(OFFSET(E1214,-Q1214,0):E1214)),\"\"))","v":{"$error":"#NAME?"}},{"$f":"IF(ISNUMBER(L1214),IF((OFFSET(Q1214,-Q1214,0)>50),SUM(OFFSET(G1214,-Q1214+1,0):G1214),SUM(OFFSET(G1214,-Q1214,0):G1214)),\"\")","v":""},"",{"$f":"IF(B1214>0,'Tax Scales'!U1214-D1214,\"\")","v":""},{"$error":"#NAME?"},{"$error":"#NAME?"},{"$f":"IF(ISNUMBER(G1214),IF(G1214>0,'Tax Scales'!AQ1214,\"\"),\"\")","v":""}]
["2010-11-24",null,null,null,0,{"$f":"IF(SUM($B$7:$B1215)=0,\"\",IF(A1215<>\"\",IF(A1215<$B$3,\"N\",\"Y\"),\"\"))","v":""},0,11.41,0,null,386,{"$f":"IF(AND(ISNUMBER(A1215),NOT(ISNUMBER(A1216))),IF((OFFSET(Q1215,-Q1215,0)>50),SUM(OFFSET(E1215,-Q1215+1,0):E1215),SUM(OFFSET(E1215,-Q1215,0):E1215)),IF(AND(ISNUMBER(P1215),ISNUMBER(P1216),P1215  <P1216),IF((OFFSET(Q1215,-Q1215,0)>50),SUM(OFFSET(E1215,-Q1215+1,0):E1215),SUM(OFFSET(E1215,-Q1215,0):E1215)),\"\"))","v":{"$error":"#NAME?"}},{"$f":"IF(ISNUMBER(L1215),IF((OFFSET(Q1215,-Q1215,0)>50),SUM(OFFSET(G1215,-Q1215+1,0):G1215),SUM(OFFSET(G1215,-Q1215,0):G1215)),\"\")","v":""},"",{"$f":"IF(B1215>0,'Tax Scales'!U1215-D1215,\"\")","v":""},{"$error":"#NAME?"},{"$error":"#NAME?"},{"$f":"IF(ISNUMBER(G1215),IF(G1215>0,'Tax Scales'!AQ1215,\"\"),\"\")","v":""}]
["2010-12-01",null,null,null,0,{"$f":"IF(SUM($B$7:$B1216)=0,\"\",IF(A1216<>\"\",IF(A1216<$B$3,\"N\",\"Y\"),\"\"))","v":""},0,11.41,0,null,385,{"$f":"IF(AND(ISNUMBER(A1216),NOT(ISNUMBER(A1217))),IF((OFFSET(Q1216,-Q1216,0)>50),SUM(OFFSET(E1216,-Q1216+1,0):E1216),SUM(OFFSET(E1216,-Q1216,0):E1216)),IF(AND(ISNUMBER(P1216),ISNUMBER(P1217),P1216  <P1217),IF((OFFSET(Q1216,-Q1216,0)>50),SUM(OFFSET(E1216,-Q1216+1,0):E1216),SUM(OFFSET(E1216,-Q1216,0):E1216)),\"\"))","v":{"$error":"#NAME?"}},{"$f":"IF(ISNUMBER(L1216),IF((OFFSET(Q1216,-Q1216,0)>50),SUM(OFFSET(G1216,-Q1216+1,0):G1216),SUM(OFFSET(G1216,-Q1216,0):G1216)),\"\")","v":""},"",{"$f":"IF(B1216>0,'Tax Scales'!U1216-D1216,\"\")","v":""},{"$error":"#NAME?"},{"$error":"#NAME?"},{"$f":"IF(ISNUMBER(G1216),IF(G1216>0,'Tax Scales'!AQ1216,\"\"),\"\")","v":""}]
["2010-12-08",null,null,null,0,{"$f":"IF(SUM($B$7:$B1217)=0,\"\",IF(A1217<>\"\",IF(A1217<$B$3,\"N\",\"Y\"),\"\"))","v":""},0,11.41,0,null,384,{"$f":"IF(AND(ISNUMBER(A1217),NOT(ISNUMBER(A1218))),IF((OFFSET(Q1217,-Q1217,0)>50),SUM(OFFSET(E1217,-Q1217+1,0):E1217),SUM(OFFSET(E1217,-Q1217,0):E1217)),IF(AND(ISNUMBER(P1217),ISNUMBER(P1218),P1217  <P1218),IF((OFFSET(Q1217,-Q1217,0)>50),SUM(OFFSET(E1217,-Q1217+1,0):E1217),SUM(OFFSET(E1217,-Q1217,0):E1217)),\"\"))","v":{"$error":"#NAME?"}},{"$f":"IF(ISNUMBER(L1217),IF((OFFSET(Q1217,-Q1217,0)>50),SUM(OFFSET(G1217,-Q1217+1,0):G1217),SUM(OFFSET(G1217,-Q1217,0):G1217)),\"\")","v":""},"",{"$f":"IF(B1217>0,'Tax Scales'!U1217-D1217,\"\")","v":""},{"$error":"#NAME?"},{"$error":"#NAME?"},{"$f":"IF(ISNUMBER(G1217),IF(G1217>0,'Tax Scales'!AQ1217,\"\"),\"\")","v":""}]
["2010-12-15",null,null,null,0,{"$f":"IF(SUM($B$7:$B1218)=0,\"\",IF(A1218<>\"\",IF(A1218<$B$3,\"N\",\"Y\"),\"\"))","v":""},0,11.41,0,null,383,{"$f":"IF(AND(ISNUMBER(A1218),NOT(ISNUMBER(A1219))),IF((OFFSET(Q1218,-Q1218,0)>50),SUM(OFFSET(E1218,-Q1218+1,0):E1218),SUM(OFFSET(E1218,-Q1218,0):E1218)),IF(AND(ISNUMBER(P1218),ISNUMBER(P1219),P1218  <P1219),IF((OFFSET(Q1218,-Q1218,0)>50),SUM(OFFSET(E1218,-Q1218+1,0):E1218),SUM(OFFSET(E1218,-Q1218,0):E1218)),\"\"))","v":{"$error":"#NAME?"}},{"$f":"IF(ISNUMBER(L1218),IF((OFFSET(Q1218,-Q1218,0)>50),SUM(OFFSET(G1218,-Q1218+1,0):G1218),SUM(OFFSET(G1218,-Q1218,0):G1218)),\"\")","v":""},"",{"$f":"IF(B1218>0,'Tax Scales'!U1218-D1218,\"\")","v":""},{"$error":"#NAME?"},{"$error":"#NAME?"},{"$f":"IF(ISNUMBER(G1218),IF(G1218>0,'Tax Scales'!AQ1218,\"\"),\"\")","v":""}]
["2010-12-22",null,null,null,0,{"$f":"IF(SUM($B$7:$B1219)=0,\"\",IF(A1219<>\"\",IF(A1219<$B$3,\"N\",\"Y\"),\"\"))","v":""},0,11.41,0,null,382,{"$f":"IF(AND(ISNUMBER(A1219),NOT(ISNUMBER(A1220))),IF((OFFSET(Q1219,-Q1219,0)>50),SUM(OFFSET(E1219,-Q1219+1,0):E1219),SUM(OFFSET(E1219,-Q1219,0):E1219)),IF(AND(ISNUMBER(P1219),ISNUMBER(P1220),P1219  <P1220),IF((OFFSET(Q1219,-Q1219,0)>50),SUM(OFFSET(E1219,-Q1219+1,0):E1219),SUM(OFFSET(E1219,-Q1219,0):E1219)),\"\"))","v":{"$error":"#NAME?"}},{"$f":"IF(ISNUMBER(L1219),IF((OFFSET(Q1219,-Q1219,0)>50),SUM(OFFSET(G1219,-Q1219+1,0):G1219),SUM(OFFSET(G1219,-Q1219,0):G1219)),\"\")","v":""},"",{"$f":"IF(B1219>0,'Tax Scales'!U1219-D1219,\"\")","v":""},{"$error":"#NAME?"},{"$error":"#NAME?"},{"$f":"IF(ISNUMBER(G1219),IF(G1219>0,'Tax Scales'!AQ1219,\"\"),\"\")","v":""}]
["2010-12-29",null,null,null,0,{"$f":"IF(SUM($B$7:$B1220)=0,\"\",IF(A1220<>\"\",IF(A1220<$B$3,\"N\",\"Y\"),\"\"))","v":""},0,11.41,0,null,381,{"$f":"IF(AND(ISNUMBER(A1220),NOT(ISNUMBER(A1221))),IF((OFFSET(Q1220,-Q1220,0)>50),SUM(OFFSET(E1220,-Q1220+1,0):E1220),SUM(OFFSET(E1220,-Q1220,0):E1220)),IF(AND(ISNUMBER(P1220),ISNUMBER(P1221),P1220  <P1221),IF((OFFSET(Q1220,-Q1220,0)>50),SUM(OFFSET(E1220,-Q1220+1,0):E1220),SUM(OFFSET(E1220,-Q1220,0):E1220)),\"\"))","v":{"$error":"#NAME?"}},{"$f":"IF(ISNUMBER(L1220),IF((OFFSET(Q1220,-Q1220,0)>50),SUM(OFFSET(G1220,-Q1220+1,0):G1220),SUM(OFFSET(G1220,-Q1220,0):G1220)),\"\")","v":""},"",{"$f":"IF(B1220>0,'Tax Scales'!U1220-D1220,\"\")","v":""},{"$error":"#NAME?"},{"$error":"#NAME?"},{"$f":"IF(ISNUMBER(G1220),IF(G1220>0,'Tax Scales'!AQ1220,\"\"),\"\")","v":""}]
["2011-01-05",null,null,null,0,{"$f":"IF(SUM($B$7:$B1221)=0,\"\",IF(A1221<>\"\",IF(A1221<$B$3,\"N\",\"Y\"),\"\"))","v":""},0,11.41,0,null,380,{"$f":"IF(AND(ISNUMBER(A1221),NOT(ISNUMBER(A1222))),IF((OFFSET(Q1221,-Q1221,0)>50),SUM(OFFSET(E1221,-Q1221+1,0):E1221),SUM(OFFSET(E1221,-Q1221,0):E1221)),IF(AND(ISNUMBER(P1221),ISNUMBER(P1222),P1221  <P1222),IF((OFFSET(Q1221,-Q1221,0)>50),SUM(OFFSET(E1221,-Q1221+1,0):E1221),SUM(OFFSET(E1221,-Q1221,0):E1221)),\"\"))","v":{"$error":"#NAME?"}},{"$f":"IF(ISNUMBER(L1221),IF((OFFSET(Q1221,-Q1221,0)>50),SUM(OFFSET(G1221,-Q1221+1,0):G1221),SUM(OFFSET(G1221,-Q1221,0):G1221)),\"\")","v":""},"",{"$f":"IF(B1221>0,'Tax Scales'!U1221-D1221,\"\")","v":""},{"$error":"#NAME?"},{"$error":"#NAME?"},{"$f":"IF(ISNUMBER(G1221),IF(G1221>0,'Tax Scales'!AQ1221,\"\"),\"\")","v":""}]
["2011-01-12",null,null,null,0,{"$f":"IF(SUM($B$7:$B1222)=0,\"\",IF(A1222<>\"\",IF(A1222<$B$3,\"N\",\"Y\"),\"\"))","v":""},0,11.41,0,null,379,{"$f":"IF(AND(ISNUMBER(A1222),NOT(ISNUMBER(A1223))),IF((OFFSET(Q1222,-Q1222,0)>50),SUM(OFFSET(E1222,-Q1222+1,0):E1222),SUM(OFFSET(E1222,-Q1222,0):E1222)),IF(AND(ISNUMBER(P1222),ISNUMBER(P1223),P1222  <P1223),IF((OFFSET(Q1222,-Q1222,0)>50),SUM(OFFSET(E1222,-Q1222+1,0):E1222),SUM(OFFSET(E1222,-Q1222,0):E1222)),\"\"))","v":{"$error":"#NAME?"}},{"$f":"IF(ISNUMBER(L1222),IF((OFFSET(Q1222,-Q1222,0)>50),SUM(OFFSET(G1222,-Q1222+1,0):G1222),SUM(OFFSET(G1222,-Q1222,0):G1222)),\"\")","v":""},"",{"$f":"IF(B1222>0,'Tax Scales'!U1222-D1222,\"\")","v":""},{"$error":"#NAME?"},{"$error":"#NAME?"},{"$f":"IF(ISNUMBER(G1222),IF(G1222>0,'Tax Scales'!AQ1222,\"\"),\"\")","v":""}]
["2011-01-19",null,null,null,0,{"$f":"IF(SUM($B$7:$B1223)=0,\"\",IF(A1223<>\"\",IF(A1223<$B$3,\"N\",\"Y\"),\"\"))","v":""},0,11.41,0,null,378,{"$f":"IF(AND(ISNUMBER(A1223),NOT(ISNUMBER(A1224))),IF((OFFSET(Q1223,-Q1223,0)>50),SUM(OFFSET(E1223,-Q1223+1,0):E1223),SUM(OFFSET(E1223,-Q1223,0):E1223)),IF(AND(ISNUMBER(P1223),ISNUMBER(P1224),P1223  <P1224),IF((OFFSET(Q1223,-Q1223,0)>50),SUM(OFFSET(E1223,-Q1223+1,0):E1223),SUM(OFFSET(E1223,-Q1223,0):E1223)),\"\"))","v":{"$error":"#NAME?"}},{"$f":"IF(ISNUMBER(L1223),IF((OFFSET(Q1223,-Q1223,0)>50),SUM(OFFSET(G1223,-Q1223+1,0):G1223),SUM(OFFSET(G1223,-Q1223,0):G1223)),\"\")","v":""},"",{"$f":"IF(B1223>0,'Tax Scales'!U1223-D1223,\"\")","v":""},{"$error":"#NAME?"},{"$error":"#NAME?"},{"$f":"IF(ISNUMBER(G1223),IF(G1223>0,'Tax Scales'!AQ1223,\"\"),\"\")","v":""}]
["2011-01-26",null,null,null,0,{"$f":"IF(SUM($B$7:$B1224)=0,\"\",IF(A1224<>\"\",IF(A1224<$B$3,\"N\",\"Y\"),\"\"))","v":""},0,11.41,0,null,377,{"$f":"IF(AND(ISNUMBER(A1224),NOT(ISNUMBER(A1225))),IF((OFFSET(Q1224,-Q1224,0)>50),SUM(OFFSET(E1224,-Q1224+1,0):E1224),SUM(OFFSET(E1224,-Q1224,0):E1224)),IF(AND(ISNUMBER(P1224),ISNUMBER(P1225),P1224  <P1225),IF((OFFSET(Q1224,-Q1224,0)>50),SUM(OFFSET(E1224,-Q1224+1,0):E1224),SUM(OFFSET(E1224,-Q1224,0):E1224)),\"\"))","v":{"$error":"#NAME?"}},{"$f":"IF(ISNUMBER(L1224),IF((OFFSET(Q1224,-Q1224,0)>50),SUM(OFFSET(G1224,-Q1224+1,0):G1224),SUM(OFFSET(G1224,-Q1224,0):G1224)),\"\")","v":""},"",{"$f":"IF(B1224>0,'Tax Scales'!U1224-D1224,\"\")","v":""},{"$error":"#NAME?"},{"$error":"#NAME?"},{"$f":"IF(ISNUMBER(G1224),IF(G1224>0,'Tax Scales'!AQ1224,\"\"),\"\")","v":""}]
["2011-02-02",null,null,null,0,{"$f":"IF(SUM($B$7:$B1225)=0,\"\",IF(A1225<>\"\",IF(A1225<$B$3,\"N\",\"Y\"),\"\"))","v":""},{"$f":"IF(F1225=\"N\",0,IF(A1225<>\"\",IF(K1225>=0,((E1225+I1224)*(1+(H1225/52)/100)-E1225-I1224),0),\"\"))","v":0},11.41,0,null,376,{"$f":"IF(AND(ISNUMBER(A1225),NOT(ISNUMBER(A1226))),IF((OFFSET(Q1225,-Q1225,0)>50),SUM(OFFSET(E1225,-Q1225+1,0):E1225),SUM(OFFSET(E1225,-Q1225,0):E1225)),IF(AND(ISNUMBER(P1225),ISNUMBER(P1226),P1225  <P1226),IF((OFFSET(Q1225,-Q1225,0)>50),SUM(OFFSET(E1225,-Q1225+1,0):E1225),SUM(OFFSET(E1225,-Q1225,0):E1225)),\"\"))","v":{"$error":"#NAME?"}},{"$f":"IF(ISNUMBER(L1225),IF((OFFSET(Q1225,-Q1225,0)>50),SUM(OFFSET(G1225,-Q1225+1,0):G1225),SUM(OFFSET(G1225,-Q1225,0):G1225)),\"\")","v":""},"",{"$f":"IF(B1225>0,'Tax Scales'!U1225-D1225,\"\")","v":""},{"$error":"#NAME?"},{"$error":"#NAME?"},{"$f":"IF(ISNUMBER(G1225),IF(G1225>0,'Tax Scales'!AQ1225,\"\"),\"\")","v":""}]
[{"$f":"IF(A1225<>\"\",IF(A1225+12<=TODAY(),+A1225+7,\"\"),\"\")","v":"2011-02-09"},null,null,null,0,{"$f":"IF(SUM($B$7:$B1226)=0,\"\",IF(A1226<>\"\",IF(A1226<$B$3,\"N\",\"Y\"),\"\"))","v":""},0,11.41,0,null,375,{"$f":"IF(AND(ISNUMBER(A1226),NOT(ISNUMBER(A1227))),IF((OFFSET(Q1226,-Q1226,0)>50),SUM(OFFSET(E1226,-Q1226+1,0):E1226),SUM(OFFSET(E1226,-Q1226,0):E1226)),IF(AND(ISNUMBER(P1226),ISNUMBER(P1227),P1226  <P1227),IF((OFFSET(Q1226,-Q1226,0)>50),SUM(OFFSET(E1226,-Q1226+1,0):E1226),SUM(OFFSET(E1226,-Q1226,0):E1226)),\"\"))","v":{"$error":"#NAME?"}},{"$f":"IF(ISNUMBER(L1226),IF((OFFSET(Q1226,-Q1226,0)>50),SUM(OFFSET(G1226,-Q1226+1,0):G1226),SUM(OFFSET(G1226,-Q1226,0):G1226)),\"\")","v":""},"",{"$f":"IF(B1226>0,'Tax Scales'!U1226-D1226,\"\")","v":""},{"$error":"#NAME?"},{"$error":"#NAME?"},{"$f":"IF(ISNUMBER(G1226),IF(G1226>0,'Tax Scales'!AQ1226,\"\"),\"\")","v":""}]
["2011-02-16",null,null,null,0,{"$f":"IF(SUM($B$7:$B1227)=0,\"\",IF(A1227<>\"\",IF(A1227<$B$3,\"N\",\"Y\"),\"\"))","v":""},0,11.41,0,null,374,{"$f":"IF(AND(ISNUMBER(A1227),NOT(ISNUMBER(A1228))),IF((OFFSET(Q1227,-Q1227,0)>50),SUM(OFFSET(E1227,-Q1227+1,0):E1227),SUM(OFFSET(E1227,-Q1227,0):E1227)),IF(AND(ISNUMBER(P1227),ISNUMBER(P1228),P1227  <P1228),IF((OFFSET(Q1227,-Q1227,0)>50),SUM(OFFSET(E1227,-Q1227+1,0):E1227),SUM(OFFSET(E1227,-Q1227,0):E1227)),\"\"))","v":{"$error":"#NAME?"}},{"$f":"IF(ISNUMBER(L1227),IF((OFFSET(Q1227,-Q1227,0)>50),SUM(OFFSET(G1227,-Q1227+1,0):G1227),SUM(OFFSET(G1227,-Q1227,0):G1227)),\"\")","v":""},"",{"$f":"IF(B1227>0,'Tax Scales'!U1227-D1227,\"\")","v":""},{"$error":"#NAME?"},{"$error":"#NAME?"},{"$f":"IF(ISNUMBER(G1227),IF(G1227>0,'Tax Scales'!AQ1227,\"\"),\"\")","v":""}]
["2011-02-23",null,null,null,0,{"$f":"IF(SUM($B$7:$B1228)=0,\"\",IF(A1228<>\"\",IF(A1228<$B$3,\"N\",\"Y\"),\"\"))","v":""},0,11.41,0,null,373,{"$f":"IF(AND(ISNUMBER(A1228),NOT(ISNUMBER(A1229))),IF((OFFSET(Q1228,-Q1228,0)>50),SUM(OFFSET(E1228,-Q1228+1,0):E1228),SUM(OFFSET(E1228,-Q1228,0):E1228)),IF(AND(ISNUMBER(P1228),ISNUMBER(P1229),P1228  <P1229),IF((OFFSET(Q1228,-Q1228,0)>50),SUM(OFFSET(E1228,-Q1228+1,0):E1228),SUM(OFFSET(E1228,-Q1228,0):E1228)),\"\"))","v":{"$error":"#NAME?"}},{"$f":"IF(ISNUMBER(L1228),IF((OFFSET(Q1228,-Q1228,0)>50),SUM(OFFSET(G1228,-Q1228+1,0):G1228),SUM(OFFSET(G1228,-Q1228,0):G1228)),\"\")","v":""},"",{"$f":"IF(B1228>0,'Tax Scales'!U1228-D1228,\"\")","v":""},{"$error":"#NAME?"},{"$error":"#NAME?"},{"$f":"IF(ISNUMBER(G1228),IF(G1228>0,'Tax Scales'!AQ1228,\"\"),\"\")","v":""}]
["2011-03-02",null,null,null,0,{"$f":"IF(SUM($B$7:$B1229)=0,\"\",IF(A1229<>\"\",IF(A1229<$B$3,\"N\",\"Y\"),\"\"))","v":""},0,11.41,0,null,372,{"$f":"IF(AND(ISNUMBER(A1229),NOT(ISNUMBER(A1230))),IF((OFFSET(Q1229,-Q1229,0)>50),SUM(OFFSET(E1229,-Q1229+1,0):E1229),SUM(OFFSET(E1229,-Q1229,0):E1229)),IF(AND(ISNUMBER(P1229),ISNUMBER(P1230),P1229  <P1230),IF((OFFSET(Q1229,-Q1229,0)>50),SUM(OFFSET(E1229,-Q1229+1,0):E1229),SUM(OFFSET(E1229,-Q1229,0):E1229)),\"\"))","v":{"$error":"#NAME?"}},{"$f":"IF(ISNUMBER(L1229),IF((OFFSET(Q1229,-Q1229,0)>50),SUM(OFFSET(G1229,-Q1229+1,0):G1229),SUM(OFFSET(G1229,-Q1229,0):G1229)),\"\")","v":""},"",{"$f":"IF(B1229>0,'Tax Scales'!U1229-D1229,\"\")","v":""},{"$error":"#NAME?"},{"$error":"#NAME?"},{"$f":"IF(ISNUMBER(G1229),IF(G1229>0,'Tax Scales'!AQ1229,\"\"),\"\")","v":""}]
["2011-03-09",null,null,null,0,{"$f":"IF(SUM($B$7:$B1230)=0,\"\",IF(A1230<>\"\",IF(A1230<$B$3,\"N\",\"Y\"),\"\"))","v":""},0,11.41,0,null,371,{"$f":"IF(AND(ISNUMBER(A1230),NOT(ISNUMBER(A1231))),IF((OFFSET(Q1230,-Q1230,0)>50),SUM(OFFSET(E1230,-Q1230+1,0):E1230),SUM(OFFSET(E1230,-Q1230,0):E1230)),IF(AND(ISNUMBER(P1230),ISNUMBER(P1231),P1230  <P1231),IF((OFFSET(Q1230,-Q1230,0)>50),SUM(OFFSET(E1230,-Q1230+1,0):E1230),SUM(OFFSET(E1230,-Q1230,0):E1230)),\"\"))","v":{"$error":"#NAME?"}},{"$f":"IF(ISNUMBER(L1230),IF((OFFSET(Q1230,-Q1230,0)>50),SUM(OFFSET(G1230,-Q1230+1,0):G1230),SUM(OFFSET(G1230,-Q1230,0):G1230)),\"\")","v":""},"",{"$f":"IF(B1230>0,'Tax Scales'!U1230-D1230,\"\")","v":""},{"$error":"#NAME?"},{"$error":"#NAME?"},{"$f":"IF(ISNUMBER(G1230),IF(G1230>0,'Tax Scales'!AQ1230,\"\"),\"\")","v":""}]
["2011-03-16",null,null,null,0,{"$f":"IF(SUM($B$7:$B1231)=0,\"\",IF(A1231<>\"\",IF(A1231<$B$3,\"N\",\"Y\"),\"\"))","v":""},0,11.41,0,null,370,{"$f":"IF(AND(ISNUMBER(A1231),NOT(ISNUMBER(A1232))),IF((OFFSET(Q1231,-Q1231,0)>50),SUM(OFFSET(E1231,-Q1231+1,0):E1231),SUM(OFFSET(E1231,-Q1231,0):E1231)),IF(AND(ISNUMBER(P1231),ISNUMBER(P1232),P1231  <P1232),IF((OFFSET(Q1231,-Q1231,0)>50),SUM(OFFSET(E1231,-Q1231+1,0):E1231),SUM(OFFSET(E1231,-Q1231,0):E1231)),\"\"))","v":{"$error":"#NAME?"}},{"$f":"IF(ISNUMBER(L1231),IF((OFFSET(Q1231,-Q1231,0)>50),SUM(OFFSET(G1231,-Q1231+1,0):G1231),SUM(OFFSET(G1231,-Q1231,0):G1231)),\"\")","v":""},"",{"$f":"IF(B1231>0,'Tax Scales'!U1231-D1231,\"\")","v":""},{"$error":"#NAME?"},{"$error":"#NAME?"},{"$f":"IF(ISNUMBER(G1231),IF(G1231>0,'Tax Scales'!AQ1231,\"\"),\"\")","v":""}]
["2011-03-23",null,null,null,0,{"$f":"IF(SUM($B$7:$B1232)=0,\"\",IF(A1232<>\"\",IF(A1232<$B$3,\"N\",\"Y\"),\"\"))","v":""},0,11.41,0,null,369,{"$f":"IF(AND(ISNUMBER(A1232),NOT(ISNUMBER(A1233))),IF((OFFSET(Q1232,-Q1232,0)>50),SUM(OFFSET(E1232,-Q1232+1,0):E1232),SUM(OFFSET(E1232,-Q1232,0):E1232)),IF(AND(ISNUMBER(P1232),ISNUMBER(P1233),P1232  <P1233),IF((OFFSET(Q1232,-Q1232,0)>50),SUM(OFFSET(E1232,-Q1232+1,0):E1232),SUM(OFFSET(E1232,-Q1232,0):E1232)),\"\"))","v":{"$error":"#NAME?"}},{"$f":"IF(ISNUMBER(L1232),IF((OFFSET(Q1232,-Q1232,0)>50),SUM(OFFSET(G1232,-Q1232+1,0):G1232),SUM(OFFSET(G1232,-Q1232,0):G1232)),\"\")","v":""},"",{"$f":"IF(B1232>0,'Tax Scales'!U1232-D1232,\"\")","v":""},{"$error":"#NAME?"},{"$error":"#NAME?"},{"$f":"IF(ISNUMBER(G1232),IF(G1232>0,'Tax Scales'!AQ1232,\"\"),\"\")","v":""}]
["2011-03-30",null,null,null,0,{"$f":"IF(SUM($B$7:$B1233)=0,\"\",IF(A1233<>\"\",IF(A1233<$B$3,\"N\",\"Y\"),\"\"))","v":""},0,11.41,0,null,368,{"$f":"IF(AND(ISNUMBER(A1233),NOT(ISNUMBER(A1234))),IF((OFFSET(Q1233,-Q1233,0)>50),SUM(OFFSET(E1233,-Q1233+1,0):E1233),SUM(OFFSET(E1233,-Q1233,0):E1233)),IF(AND(ISNUMBER(P1233),ISNUMBER(P1234),P1233  <P1234),IF((OFFSET(Q1233,-Q1233,0)>50),SUM(OFFSET(E1233,-Q1233+1,0):E1233),SUM(OFFSET(E1233,-Q1233,0):E1233)),\"\"))","v":{"$error":"#NAME?"}},{"$f":"IF(ISNUMBER(L1233),IF((OFFSET(Q1233,-Q1233,0)>50),SUM(OFFSET(G1233,-Q1233+1,0):G1233),SUM(OFFSET(G1233,-Q1233,0):G1233)),\"\")","v":""},"",{"$f":"IF(B1233>0,'Tax Scales'!U1233-D1233,\"\")","v":""},{"$error":"#NAME?"},{"$error":"#NAME?"},{"$f":"IF(ISNUMBER(G1233),IF(G1233>0,'Tax Scales'!AQ1233,\"\"),\"\")","v":""}]
["2011-04-06",null,null,null,0,{"$f":"IF(SUM($B$7:$B1234)=0,\"\",IF(A1234<>\"\",IF(A1234<$B$3,\"N\",\"Y\"),\"\"))","v":""},0,11.41,0,null,367,{"$f":"IF(AND(ISNUMBER(A1234),NOT(ISNUMBER(A1235))),IF((OFFSET(Q1234,-Q1234,0)>50),SUM(OFFSET(E1234,-Q1234+1,0):E1234),SUM(OFFSET(E1234,-Q1234,0):E1234)),IF(AND(ISNUMBER(P1234),ISNUMBER(P1235),P1234  <P1235),IF((OFFSET(Q1234,-Q1234,0)>50),SUM(OFFSET(E1234,-Q1234+1,0):E1234),SUM(OFFSET(E1234,-Q1234,0):E1234)),\"\"))","v":{"$error":"#NAME?"}},{"$f":"IF(ISNUMBER(L1234),IF((OFFSET(Q1234,-Q1234,0)>50),SUM(OFFSET(G1234,-Q1234+1,0):G1234),SUM(OFFSET(G1234,-Q1234,0):G1234)),\"\")","v":""},"",{"$f":"IF(B1234>0,'Tax Scales'!U1234-D1234,\"\")","v":""},{"$error":"#NAME?"},{"$error":"#NAME?"},{"$f":"IF(ISNUMBER(G1234),IF(G1234>0,'Tax Scales'!AQ1234,\"\"),\"\")","v":""}]
["2011-04-13",null,null,null,0,{"$f":"IF(SUM($B$7:$B1235)=0,\"\",IF(A1235<>\"\",IF(A1235<$B$3,\"N\",\"Y\"),\"\"))","v":""},0,11.41,0,null,366,{"$f":"IF(AND(ISNUMBER(A1235),NOT(ISNUMBER(A1236))),IF((OFFSET(Q1235,-Q1235,0)>50),SUM(OFFSET(E1235,-Q1235+1,0):E1235),SUM(OFFSET(E1235,-Q1235,0):E1235)),IF(AND(ISNUMBER(P1235),ISNUMBER(P1236),P1235  <P1236),IF((OFFSET(Q1235,-Q1235,0)>50),SUM(OFFSET(E1235,-Q1235+1,0):E1235),SUM(OFFSET(E1235,-Q1235,0):E1235)),\"\"))","v":{"$error":"#NAME?"}},{"$f":"IF(ISNUMBER(L1235),IF((OFFSET(Q1235,-Q1235,0)>50),SUM(OFFSET(G1235,-Q1235+1,0):G1235),SUM(OFFSET(G1235,-Q1235,0):G1235)),\"\")","v":""},"",{"$f":"IF(B1235>0,'Tax Scales'!U1235-D1235,\"\")","v":""},{"$error":"#NAME?"},{"$error":"#NAME?"},{"$f":"IF(ISNUMBER(G1235),IF(G1235>0,'Tax Scales'!AQ1235,\"\"),\"\")","v":""}]
["2011-04-20",null,null,null,0,{"$f":"IF(SUM($B$7:$B1236)=0,\"\",IF(A1236<>\"\",IF(A1236<$B$3,\"N\",\"Y\"),\"\"))","v":""},0,11.41,0,null,365,{"$f":"IF(AND(ISNUMBER(A1236),NOT(ISNUMBER(A1237))),IF((OFFSET(Q1236,-Q1236,0)>50),SUM(OFFSET(E1236,-Q1236+1,0):E1236),SUM(OFFSET(E1236,-Q1236,0):E1236)),IF(AND(ISNUMBER(P1236),ISNUMBER(P1237),P1236  <P1237),IF((OFFSET(Q1236,-Q1236,0)>50),SUM(OFFSET(E1236,-Q1236+1,0):E1236),SUM(OFFSET(E1236,-Q1236,0):E1236)),\"\"))","v":{"$error":"#NAME?"}},{"$f":"IF(ISNUMBER(L1236),IF((OFFSET(Q1236,-Q1236,0)>50),SUM(OFFSET(G1236,-Q1236+1,0):G1236),SUM(OFFSET(G1236,-Q1236,0):G1236)),\"\")","v":""},"",{"$f":"IF(B1236>0,'Tax Scales'!U1236-D1236,\"\")","v":""},{"$error":"#NAME?"},{"$error":"#NAME?"},{"$f":"IF(ISNUMBER(G1236),IF(G1236>0,'Tax Scales'!AQ1236,\"\"),\"\")","v":""}]
["2011-04-27",null,null,null,0,{"$f":"IF(SUM($B$7:$B1237)=0,\"\",IF(A1237<>\"\",IF(A1237<$B$3,\"N\",\"Y\"),\"\"))","v":""},0,11.41,0,null,364,{"$f":"IF(AND(ISNUMBER(A1237),NOT(ISNUMBER(A1238))),IF((OFFSET(Q1237,-Q1237,0)>50),SUM(OFFSET(E1237,-Q1237+1,0):E1237),SUM(OFFSET(E1237,-Q1237,0):E1237)),IF(AND(ISNUMBER(P1237),ISNUMBER(P1238),P1237  <P1238),IF((OFFSET(Q1237,-Q1237,0)>50),SUM(OFFSET(E1237,-Q1237+1,0):E1237),SUM(OFFSET(E1237,-Q1237,0):E1237)),\"\"))","v":{"$error":"#NAME?"}},{"$f":"IF(ISNUMBER(L1237),IF((OFFSET(Q1237,-Q1237,0)>50),SUM(OFFSET(G1237,-Q1237+1,0):G1237),SUM(OFFSET(G1237,-Q1237,0):G1237)),\"\")","v":""},"",{"$f":"IF(B1237>0,'Tax Scales'!U1237-D1237,\"\")","v":""},{"$error":"#NAME?"},{"$error":"#NAME?"},{"$f":"IF(ISNUMBER(G1237),IF(G1237>0,'Tax Scales'!AQ1237,\"\"),\"\")","v":""}]
["2011-05-04",null,null,null,0,{"$f":"IF(SUM($B$7:$B1238)=0,\"\",IF(A1238<>\"\",IF(A1238<$B$3,\"N\",\"Y\"),\"\"))","v":""},0,11.41,0,null,363,{"$f":"IF(AND(ISNUMBER(A1238),NOT(ISNUMBER(A1239))),IF((OFFSET(Q1238,-Q1238,0)>50),SUM(OFFSET(E1238,-Q1238+1,0):E1238),SUM(OFFSET(E1238,-Q1238,0):E1238)),IF(AND(ISNUMBER(P1238),ISNUMBER(P1239),P1238  <P1239),IF((OFFSET(Q1238,-Q1238,0)>50),SUM(OFFSET(E1238,-Q1238+1,0):E1238),SUM(OFFSET(E1238,-Q1238,0):E1238)),\"\"))","v":{"$error":"#NAME?"}},{"$f":"IF(ISNUMBER(L1238),IF((OFFSET(Q1238,-Q1238,0)>50),SUM(OFFSET(G1238,-Q1238+1,0):G1238),SUM(OFFSET(G1238,-Q1238,0):G1238)),\"\")","v":""},"",{"$f":"IF(B1238>0,'Tax Scales'!U1238-D1238,\"\")","v":""},{"$error":"#NAME?"},{"$error":"#NAME?"},{"$f":"IF(ISNUMBER(G1238),IF(G1238>0,'Tax Scales'!AQ1238,\"\"),\"\")","v":""}]
["2011-05-11",null,null,null,0,{"$f":"IF(SUM($B$7:$B1239)=0,\"\",IF(A1239<>\"\",IF(A1239<$B$3,\"N\",\"Y\"),\"\"))","v":""},0,11.41,0,null,362,{"$f":"IF(AND(ISNUMBER(A1239),NOT(ISNUMBER(A1240))),IF((OFFSET(Q1239,-Q1239,0)>50),SUM(OFFSET(E1239,-Q1239+1,0):E1239),SUM(OFFSET(E1239,-Q1239,0):E1239)),IF(AND(ISNUMBER(P1239),ISNUMBER(P1240),P1239  <P1240),IF((OFFSET(Q1239,-Q1239,0)>50),SUM(OFFSET(E1239,-Q1239+1,0):E1239),SUM(OFFSET(E1239,-Q1239,0):E1239)),\"\"))","v":{"$error":"#NAME?"}},{"$f":"IF(ISNUMBER(L1239),IF((OFFSET(Q1239,-Q1239,0)>50),SUM(OFFSET(G1239,-Q1239+1,0):G1239),SUM(OFFSET(G1239,-Q1239,0):G1239)),\"\")","v":""},"",{"$f":"IF(B1239>0,'Tax Scales'!U1239-D1239,\"\")","v":""},{"$error":"#NAME?"},{"$error":"#NAME?"},{"$f":"IF(ISNUMBER(G1239),IF(G1239>0,'Tax Scales'!AQ1239,\"\"),\"\")","v":""}]
["2011-05-18",null,null,null,0,{"$f":"IF(SUM($B$7:$B1240)=0,\"\",IF(A1240<>\"\",IF(A1240<$B$3,\"N\",\"Y\"),\"\"))","v":""},0,11.41,0,null,361,{"$f":"IF(AND(ISNUMBER(A1240),NOT(ISNUMBER(A1241))),IF((OFFSET(Q1240,-Q1240,0)>50),SUM(OFFSET(E1240,-Q1240+1,0):E1240),SUM(OFFSET(E1240,-Q1240,0):E1240)),IF(AND(ISNUMBER(P1240),ISNUMBER(P1241),P1240  <P1241),IF((OFFSET(Q1240,-Q1240,0)>50),SUM(OFFSET(E1240,-Q1240+1,0):E1240),SUM(OFFSET(E1240,-Q1240,0):E1240)),\"\"))","v":{"$error":"#NAME?"}},{"$f":"IF(ISNUMBER(L1240),IF((OFFSET(Q1240,-Q1240,0)>50),SUM(OFFSET(G1240,-Q1240+1,0):G1240),SUM(OFFSET(G1240,-Q1240,0):G1240)),\"\")","v":""},"",{"$f":"IF(B1240>0,'Tax Scales'!U1240-D1240,\"\")","v":""},{"$error":"#NAME?"},{"$error":"#NAME?"},{"$f":"IF(ISNUMBER(G1240),IF(G1240>0,'Tax Scales'!AQ1240,\"\"),\"\")","v":""}]
["2011-05-25",null,null,null,0,{"$f":"IF(SUM($B$7:$B1241)=0,\"\",IF(A1241<>\"\",IF(A1241<$B$3,\"N\",\"Y\"),\"\"))","v":""},0,11.41,0,null,360,{"$f":"IF(AND(ISNUMBER(A1241),NOT(ISNUMBER(A1242))),IF((OFFSET(Q1241,-Q1241,0)>50),SUM(OFFSET(E1241,-Q1241+1,0):E1241),SUM(OFFSET(E1241,-Q1241,0):E1241)),IF(AND(ISNUMBER(P1241),ISNUMBER(P1242),P1241  <P1242),IF((OFFSET(Q1241,-Q1241,0)>50),SUM(OFFSET(E1241,-Q1241+1,0):E1241),SUM(OFFSET(E1241,-Q1241,0):E1241)),\"\"))","v":{"$error":"#NAME?"}},{"$f":"IF(ISNUMBER(L1241),IF((OFFSET(Q1241,-Q1241,0)>50),SUM(OFFSET(G1241,-Q1241+1,0):G1241),SUM(OFFSET(G1241,-Q1241,0):G1241)),\"\")","v":""},"",{"$f":"IF(B1241>0,'Tax Scales'!U1241-D1241,\"\")","v":""},{"$error":"#NAME?"},{"$error":"#NAME?"},{"$f":"IF(ISNUMBER(G1241),IF(G1241>0,'Tax Scales'!AQ1241,\"\"),\"\")","v":""}]
["2011-06-01",null,null,null,0,{"$f":"IF(SUM($B$7:$B1242)=0,\"\",IF(A1242<>\"\",IF(A1242<$B$3,\"N\",\"Y\"),\"\"))","v":""},0,11.41,0,null,359,{"$f":"IF(AND(ISNUMBER(A1242),NOT(ISNUMBER(A1243))),IF((OFFSET(Q1242,-Q1242,0)>50),SUM(OFFSET(E1242,-Q1242+1,0):E1242),SUM(OFFSET(E1242,-Q1242,0):E1242)),IF(AND(ISNUMBER(P1242),ISNUMBER(P1243),P1242  <P1243),IF((OFFSET(Q1242,-Q1242,0)>50),SUM(OFFSET(E1242,-Q1242+1,0):E1242),SUM(OFFSET(E1242,-Q1242,0):E1242)),\"\"))","v":{"$error":"#NAME?"}},{"$f":"IF(ISNUMBER(L1242),IF((OFFSET(Q1242,-Q1242,0)>50),SUM(OFFSET(G1242,-Q1242+1,0):G1242),SUM(OFFSET(G1242,-Q1242,0):G1242)),\"\")","v":""},"",{"$f":"IF(B1242>0,'Tax Scales'!U1242-D1242,\"\")","v":""},{"$error":"#NAME?"},{"$error":"#NAME?"},{"$f":"IF(ISNUMBER(G1242),IF(G1242>0,'Tax Scales'!AQ1242,\"\"),\"\")","v":""}]
["2011-06-08",null,null,null,0,{"$f":"IF(SUM($B$7:$B1243)=0,\"\",IF(A1243<>\"\",IF(A1243<$B$3,\"N\",\"Y\"),\"\"))","v":""},0,11.41,0,null,358,{"$f":"IF(AND(ISNUMBER(A1243),NOT(ISNUMBER(A1244))),IF((OFFSET(Q1243,-Q1243,0)>50),SUM(OFFSET(E1243,-Q1243+1,0):E1243),SUM(OFFSET(E1243,-Q1243,0):E1243)),IF(AND(ISNUMBER(P1243),ISNUMBER(P1244),P1243  <P1244),IF((OFFSET(Q1243,-Q1243,0)>50),SUM(OFFSET(E1243,-Q1243+1,0):E1243),SUM(OFFSET(E1243,-Q1243,0):E1243)),\"\"))","v":{"$error":"#NAME?"}},{"$f":"IF(ISNUMBER(L1243),IF((OFFSET(Q1243,-Q1243,0)>50),SUM(OFFSET(G1243,-Q1243+1,0):G1243),SUM(OFFSET(G1243,-Q1243,0):G1243)),\"\")","v":""},"",{"$f":"IF(B1243>0,'Tax Scales'!U1243-D1243,\"\")","v":""},{"$error":"#NAME?"},{"$error":"#NAME?"},{"$f":"IF(ISNUMBER(G1243),IF(G1243>0,'Tax Scales'!AQ1243,\"\"),\"\")","v":""}]
["2011-06-15",null,null,null,0,{"$f":"IF(SUM($B$7:$B1244)=0,\"\",IF(A1244<>\"\",IF(A1244<$B$3,\"N\",\"Y\"),\"\"))","v":""},0,11.41,0,null,357,{"$f":"IF(AND(ISNUMBER(A1244),NOT(ISNUMBER(A1245))),IF((OFFSET(Q1244,-Q1244,0)>50),SUM(OFFSET(E1244,-Q1244+1,0):E1244),SUM(OFFSET(E1244,-Q1244,0):E1244)),IF(AND(ISNUMBER(P1244),ISNUMBER(P1245),P1244  <P1245),IF((OFFSET(Q1244,-Q1244,0)>50),SUM(OFFSET(E1244,-Q1244+1,0):E1244),SUM(OFFSET(E1244,-Q1244,0):E1244)),\"\"))","v":{"$error":"#NAME?"}},{"$f":"IF(ISNUMBER(L1244),IF((OFFSET(Q1244,-Q1244,0)>50),SUM(OFFSET(G1244,-Q1244+1,0):G1244),SUM(OFFSET(G1244,-Q1244,0):G1244)),\"\")","v":""},"",{"$f":"IF(B1244>0,'Tax Scales'!U1244-D1244,\"\")","v":""},{"$error":"#NAME?"},{"$error":"#NAME?"},{"$f":"IF(ISNUMBER(G1244),IF(G1244>0,'Tax Scales'!AQ1244,\"\"),\"\")","v":""}]
["2011-06-22",null,null,null,0,{"$f":"IF(SUM($B$7:$B1245)=0,\"\",IF(A1245<>\"\",IF(A1245<$B$3,\"N\",\"Y\"),\"\"))","v":""},0,11.41,0,null,356,{"$f":"IF(AND(ISNUMBER(A1245),NOT(ISNUMBER(A1246))),IF((OFFSET(Q1245,-Q1245,0)>50),SUM(OFFSET(E1245,-Q1245+1,0):E1245),SUM(OFFSET(E1245,-Q1245,0):E1245)),IF(AND(ISNUMBER(P1245),ISNUMBER(P1246),P1245  <P1246),IF((OFFSET(Q1245,-Q1245,0)>50),SUM(OFFSET(E1245,-Q1245+1,0):E1245),SUM(OFFSET(E1245,-Q1245,0):E1245)),\"\"))","v":{"$error":"#NAME?"}},{"$f":"IF(ISNUMBER(L1245),IF((OFFSET(Q1245,-Q1245,0)>50),SUM(OFFSET(G1245,-Q1245+1,0):G1245),SUM(OFFSET(G1245,-Q1245,0):G1245)),\"\")","v":""},"",{"$f":"IF(B1245>0,'Tax Scales'!U1245-D1245,\"\")","v":""},{"$error":"#NAME?"},{"$error":"#NAME?"},{"$f":"IF(ISNUMBER(G1245),IF(G1245>0,'Tax Scales'!AQ1245,\"\"),\"\")","v":""}]
["2011-06-29",null,null,null,0,{"$f":"IF(SUM($B$7:$B1246)=0,\"\",IF(A1246<>\"\",IF(A1246<$B$3,\"N\",\"Y\"),\"\"))","v":""},0,11.41,0,null,355,{"$f":"IF(AND(ISNUMBER(A1246),NOT(ISNUMBER(A1247))),IF((OFFSET(Q1246,-Q1246,0)>50),SUM(OFFSET(E1246,-Q1246+1,0):E1246),SUM(OFFSET(E1246,-Q1246,0):E1246)),IF(AND(ISNUMBER(P1246),ISNUMBER(P1247),P1246  <P1247),IF((OFFSET(Q1246,-Q1246,0)>50),SUM(OFFSET(E1246,-Q1246+1,0):E1246),SUM(OFFSET(E1246,-Q1246,0):E1246)),\"\"))","v":{"$error":"#NAME?"}},{"$f":"IF(ISNUMBER(L1246),IF((OFFSET(Q1246,-Q1246,0)>50),SUM(OFFSET(G1246,-Q1246+1,0):G1246),SUM(OFFSET(G1246,-Q1246,0):G1246)),\"\")","v":""},"",{"$f":"IF(B1246>0,'Tax Scales'!U1246-D1246,\"\")","v":""},{"$error":"#NAME?"},{"$error":"#NAME?"},{"$f":"IF(ISNUMBER(G1246),IF(G1246>0,'Tax Scales'!AQ1246,\"\"),\"\")","v":""}]
["2011-07-06",null,null,null,0,{"$f":"IF(SUM($B$7:$B1247)=0,\"\",IF(A1247<>\"\",IF(A1247<$B$3,\"N\",\"Y\"),\"\"))","v":""},0,{"$f":"IF(A1247<>\"\",11.26,\"\")","v":11.26},0,null,354,{"$f":"IF(AND(ISNUMBER(A1247),NOT(ISNUMBER(A1248))),IF((OFFSET(Q1247,-Q1247,0)>50),SUM(OFFSET(E1247,-Q1247+1,0):E1247),SUM(OFFSET(E1247,-Q1247,0):E1247)),IF(AND(ISNUMBER(P1247),ISNUMBER(P1248),P1247  <P1248),IF((OFFSET(Q1247,-Q1247,0)>50),SUM(OFFSET(E1247,-Q1247+1,0):E1247),SUM(OFFSET(E1247,-Q1247,0):E1247)),\"\"))","v":{"$error":"#NAME?"}},{"$f":"IF(ISNUMBER(L1247),IF((OFFSET(Q1247,-Q1247,0)>50),SUM(OFFSET(G1247,-Q1247+1,0):G1247),SUM(OFFSET(G1247,-Q1247,0):G1247)),\"\")","v":""},"",{"$f":"IF(B1247>0,'Tax Scales'!U1247-D1247,\"\")","v":""},{"$error":"#NAME?"},{"$error":"#NAME?"},{"$f":"IF(ISNUMBER(G1247),IF(G1247>0,'Tax Scales'!AQ1247,\"\"),\"\")","v":""}]
["2011-07-13",null,null,null,0,{"$f":"IF(SUM($B$7:$B1248)=0,\"\",IF(A1248<>\"\",IF(A1248<$B$3,\"N\",\"Y\"),\"\"))","v":""},0,{"$f":"IF(A1248<>\"\",11.26,\"\")","v":11.26},0,null,353,{"$f":"IF(AND(ISNUMBER(A1248),NOT(ISNUMBER(A1249))),IF((OFFSET(Q1248,-Q1248,0)>50),SUM(OFFSET(E1248,-Q1248+1,0):E1248),SUM(OFFSET(E1248,-Q1248,0):E1248)),IF(AND(ISNUMBER(P1248),ISNUMBER(P1249),P1248  <P1249),IF((OFFSET(Q1248,-Q1248,0)>50),SUM(OFFSET(E1248,-Q1248+1,0):E1248),SUM(OFFSET(E1248,-Q1248,0):E1248)),\"\"))","v":{"$error":"#NAME?"}},{"$f":"IF(ISNUMBER(L1248),IF((OFFSET(Q1248,-Q1248,0)>50),SUM(OFFSET(G1248,-Q1248+1,0):G1248),SUM(OFFSET(G1248,-Q1248,0):G1248)),\"\")","v":""},"",{"$f":"IF(B1248>0,'Tax Scales'!U1248-D1248,\"\")","v":""},{"$error":"#NAME?"},{"$error":"#NAME?"},{"$f":"IF(ISNUMBER(G1248),IF(G1248>0,'Tax Scales'!AQ1248,\"\"),\"\")","v":""}]
["2011-07-20",null,null,null,0,{"$f":"IF(SUM($B$7:$B1249)=0,\"\",IF(A1249<>\"\",IF(A1249<$B$3,\"N\",\"Y\"),\"\"))","v":""},0,11.26,0,null,352,{"$f":"IF(AND(ISNUMBER(A1249),NOT(ISNUMBER(A1250))),IF((OFFSET(Q1249,-Q1249,0)>50),SUM(OFFSET(E1249,-Q1249+1,0):E1249),SUM(OFFSET(E1249,-Q1249,0):E1249)),IF(AND(ISNUMBER(P1249),ISNUMBER(P1250),P1249  <P1250),IF((OFFSET(Q1249,-Q1249,0)>50),SUM(OFFSET(E1249,-Q1249+1,0):E1249),SUM(OFFSET(E1249,-Q1249,0):E1249)),\"\"))","v":{"$error":"#NAME?"}},{"$f":"IF(ISNUMBER(L1249),IF((OFFSET(Q1249,-Q1249,0)>50),SUM(OFFSET(G1249,-Q1249+1,0):G1249),SUM(OFFSET(G1249,-Q1249,0):G1249)),\"\")","v":""},"",{"$f":"IF(B1249>0,'Tax Scales'!U1249-D1249,\"\")","v":""},{"$error":"#NAME?"},{"$error":"#NAME?"},{"$f":"IF(ISNUMBER(G1249),IF(G1249>0,'Tax Scales'!AQ1249,\"\"),\"\")","v":""}]
["2011-07-27",null,null,null,0,{"$f":"IF(SUM($B$7:$B1250)=0,\"\",IF(A1250<>\"\",IF(A1250<$B$3,\"N\",\"Y\"),\"\"))","v":""},0,11.26,0,null,351,{"$f":"IF(AND(ISNUMBER(A1250),NOT(ISNUMBER(A1251))),IF((OFFSET(Q1250,-Q1250,0)>50),SUM(OFFSET(E1250,-Q1250+1,0):E1250),SUM(OFFSET(E1250,-Q1250,0):E1250)),IF(AND(ISNUMBER(P1250),ISNUMBER(P1251),P1250  <P1251),IF((OFFSET(Q1250,-Q1250,0)>50),SUM(OFFSET(E1250,-Q1250+1,0):E1250),SUM(OFFSET(E1250,-Q1250,0):E1250)),\"\"))","v":{"$error":"#NAME?"}},{"$f":"IF(ISNUMBER(L1250),IF((OFFSET(Q1250,-Q1250,0)>50),SUM(OFFSET(G1250,-Q1250+1,0):G1250),SUM(OFFSET(G1250,-Q1250,0):G1250)),\"\")","v":""},"",{"$f":"IF(B1250>0,'Tax Scales'!U1250-D1250,\"\")","v":""},{"$error":"#NAME?"},{"$error":"#NAME?"},{"$f":"IF(ISNUMBER(G1250),IF(G1250>0,'Tax Scales'!AQ1250,\"\"),\"\")","v":""}]
["2011-08-03",null,null,null,0,{"$f":"IF(SUM($B$7:$B1251)=0,\"\",IF(A1251<>\"\",IF(A1251<$B$3,\"N\",\"Y\"),\"\"))","v":""},0,11.26,0,null,350,{"$f":"IF(AND(ISNUMBER(A1251),NOT(ISNUMBER(A1252))),IF((OFFSET(Q1251,-Q1251,0)>50),SUM(OFFSET(E1251,-Q1251+1,0):E1251),SUM(OFFSET(E1251,-Q1251,0):E1251)),IF(AND(ISNUMBER(P1251),ISNUMBER(P1252),P1251  <P1252),IF((OFFSET(Q1251,-Q1251,0)>50),SUM(OFFSET(E1251,-Q1251+1,0):E1251),SUM(OFFSET(E1251,-Q1251,0):E1251)),\"\"))","v":{"$error":"#NAME?"}},{"$f":"IF(ISNUMBER(L1251),IF((OFFSET(Q1251,-Q1251,0)>50),SUM(OFFSET(G1251,-Q1251+1,0):G1251),SUM(OFFSET(G1251,-Q1251,0):G1251)),\"\")","v":""},"",{"$f":"IF(B1251>0,'Tax Scales'!U1251-D1251,\"\")","v":""},{"$error":"#NAME?"},{"$error":"#NAME?"},{"$f":"IF(ISNUMBER(G1251),IF(G1251>0,'Tax Scales'!AQ1251,\"\"),\"\")","v":""}]
["2011-08-10",null,null,null,0,{"$f":"IF(SUM($B$7:$B1252)=0,\"\",IF(A1252<>\"\",IF(A1252<$B$3,\"N\",\"Y\"),\"\"))","v":""},0,11.26,0,null,349,{"$f":"IF(AND(ISNUMBER(A1252),NOT(ISNUMBER(A1253))),IF((OFFSET(Q1252,-Q1252,0)>50),SUM(OFFSET(E1252,-Q1252+1,0):E1252),SUM(OFFSET(E1252,-Q1252,0):E1252)),IF(AND(ISNUMBER(P1252),ISNUMBER(P1253),P1252  <P1253),IF((OFFSET(Q1252,-Q1252,0)>50),SUM(OFFSET(E1252,-Q1252+1,0):E1252),SUM(OFFSET(E1252,-Q1252,0):E1252)),\"\"))","v":{"$error":"#NAME?"}},{"$f":"IF(ISNUMBER(L1252),IF((OFFSET(Q1252,-Q1252,0)>50),SUM(OFFSET(G1252,-Q1252+1,0):G1252),SUM(OFFSET(G1252,-Q1252,0):G1252)),\"\")","v":""},"",{"$f":"IF(B1252>0,'Tax Scales'!U1252-D1252,\"\")","v":""},{"$error":"#NAME?"},{"$error":"#NAME?"},{"$f":"IF(ISNUMBER(G1252),IF(G1252>0,'Tax Scales'!AQ1252,\"\"),\"\")","v":""}]
["2011-08-17",null,null,null,0,{"$f":"IF(SUM($B$7:$B1253)=0,\"\",IF(A1253<>\"\",IF(A1253<$B$3,\"N\",\"Y\"),\"\"))","v":""},0,11.26,0,null,348,{"$f":"IF(AND(ISNUMBER(A1253),NOT(ISNUMBER(A1254))),IF((OFFSET(Q1253,-Q1253,0)>50),SUM(OFFSET(E1253,-Q1253+1,0):E1253),SUM(OFFSET(E1253,-Q1253,0):E1253)),IF(AND(ISNUMBER(P1253),ISNUMBER(P1254),P1253  <P1254),IF((OFFSET(Q1253,-Q1253,0)>50),SUM(OFFSET(E1253,-Q1253+1,0):E1253),SUM(OFFSET(E1253,-Q1253,0):E1253)),\"\"))","v":{"$error":"#NAME?"}},{"$f":"IF(ISNUMBER(L1253),IF((OFFSET(Q1253,-Q1253,0)>50),SUM(OFFSET(G1253,-Q1253+1,0):G1253),SUM(OFFSET(G1253,-Q1253,0):G1253)),\"\")","v":""},"",{"$f":"IF(B1253>0,'Tax Scales'!U1253-D1253,\"\")","v":""},{"$error":"#NAME?"},{"$error":"#NAME?"},{"$f":"IF(ISNUMBER(G1253),IF(G1253>0,'Tax Scales'!AQ1253,\"\"),\"\")","v":""}]
["2011-08-24",null,null,null,0,{"$f":"IF(SUM($B$7:$B1254)=0,\"\",IF(A1254<>\"\",IF(A1254<$B$3,\"N\",\"Y\"),\"\"))","v":""},0,11.26,0,null,347,{"$f":"IF(AND(ISNUMBER(A1254),NOT(ISNUMBER(A1255))),IF((OFFSET(Q1254,-Q1254,0)>50),SUM(OFFSET(E1254,-Q1254+1,0):E1254),SUM(OFFSET(E1254,-Q1254,0):E1254)),IF(AND(ISNUMBER(P1254),ISNUMBER(P1255),P1254  <P1255),IF((OFFSET(Q1254,-Q1254,0)>50),SUM(OFFSET(E1254,-Q1254+1,0):E1254),SUM(OFFSET(E1254,-Q1254,0):E1254)),\"\"))","v":{"$error":"#NAME?"}},{"$f":"IF(ISNUMBER(L1254),IF((OFFSET(Q1254,-Q1254,0)>50),SUM(OFFSET(G1254,-Q1254+1,0):G1254),SUM(OFFSET(G1254,-Q1254,0):G1254)),\"\")","v":""},"",{"$f":"IF(B1254>0,'Tax Scales'!U1254-D1254,\"\")","v":""},{"$error":"#NAME?"},{"$error":"#NAME?"},{"$f":"IF(ISNUMBER(G1254),IF(G1254>0,'Tax Scales'!AQ1254,\"\"),\"\")","v":""}]
["2011-08-31",null,null,null,0,{"$f":"IF(SUM($B$7:$B1255)=0,\"\",IF(A1255<>\"\",IF(A1255<$B$3,\"N\",\"Y\"),\"\"))","v":""},0,11.26,0,null,346,{"$f":"IF(AND(ISNUMBER(A1255),NOT(ISNUMBER(A1256))),IF((OFFSET(Q1255,-Q1255,0)>50),SUM(OFFSET(E1255,-Q1255+1,0):E1255),SUM(OFFSET(E1255,-Q1255,0):E1255)),IF(AND(ISNUMBER(P1255),ISNUMBER(P1256),P1255  <P1256),IF((OFFSET(Q1255,-Q1255,0)>50),SUM(OFFSET(E1255,-Q1255+1,0):E1255),SUM(OFFSET(E1255,-Q1255,0):E1255)),\"\"))","v":{"$error":"#NAME?"}},{"$f":"IF(ISNUMBER(L1255),IF((OFFSET(Q1255,-Q1255,0)>50),SUM(OFFSET(G1255,-Q1255+1,0):G1255),SUM(OFFSET(G1255,-Q1255,0):G1255)),\"\")","v":""},"",{"$f":"IF(B1255>0,'Tax Scales'!U1255-D1255,\"\")","v":""},{"$error":"#NAME?"},{"$error":"#NAME?"},{"$f":"IF(ISNUMBER(G1255),IF(G1255>0,'Tax Scales'!AQ1255,\"\"),\"\")","v":""}]
["2011-09-07",null,null,null,0,{"$f":"IF(SUM($B$7:$B1256)=0,\"\",IF(A1256<>\"\",IF(A1256<$B$3,\"N\",\"Y\"),\"\"))","v":""},0,11.26,0,null,345,{"$f":"IF(AND(ISNUMBER(A1256),NOT(ISNUMBER(A1257))),IF((OFFSET(Q1256,-Q1256,0)>50),SUM(OFFSET(E1256,-Q1256+1,0):E1256),SUM(OFFSET(E1256,-Q1256,0):E1256)),IF(AND(ISNUMBER(P1256),ISNUMBER(P1257),P1256  <P1257),IF((OFFSET(Q1256,-Q1256,0)>50),SUM(OFFSET(E1256,-Q1256+1,0):E1256),SUM(OFFSET(E1256,-Q1256,0):E1256)),\"\"))","v":{"$error":"#NAME?"}},{"$f":"IF(ISNUMBER(L1256),IF((OFFSET(Q1256,-Q1256,0)>50),SUM(OFFSET(G1256,-Q1256+1,0):G1256),SUM(OFFSET(G1256,-Q1256,0):G1256)),\"\")","v":""},"",{"$f":"IF(B1256>0,'Tax Scales'!U1256-D1256,\"\")","v":""},{"$error":"#NAME?"},{"$error":"#NAME?"},{"$f":"IF(ISNUMBER(G1256),IF(G1256>0,'Tax Scales'!AQ1256,\"\"),\"\")","v":""}]
["2011-09-14",null,null,null,0,{"$f":"IF(SUM($B$7:$B1257)=0,\"\",IF(A1257<>\"\",IF(A1257<$B$3,\"N\",\"Y\"),\"\"))","v":""},0,11.26,0,null,344,{"$f":"IF(AND(ISNUMBER(A1257),NOT(ISNUMBER(A1258))),IF((OFFSET(Q1257,-Q1257,0)>50),SUM(OFFSET(E1257,-Q1257+1,0):E1257),SUM(OFFSET(E1257,-Q1257,0):E1257)),IF(AND(ISNUMBER(P1257),ISNUMBER(P1258),P1257  <P1258),IF((OFFSET(Q1257,-Q1257,0)>50),SUM(OFFSET(E1257,-Q1257+1,0):E1257),SUM(OFFSET(E1257,-Q1257,0):E1257)),\"\"))","v":{"$error":"#NAME?"}},{"$f":"IF(ISNUMBER(L1257),IF((OFFSET(Q1257,-Q1257,0)>50),SUM(OFFSET(G1257,-Q1257+1,0):G1257),SUM(OFFSET(G1257,-Q1257,0):G1257)),\"\")","v":""},"",{"$f":"IF(B1257>0,'Tax Scales'!U1257-D1257,\"\")","v":""},{"$error":"#NAME?"},{"$error":"#NAME?"},{"$f":"IF(ISNUMBER(G1257),IF(G1257>0,'Tax Scales'!AQ1257,\"\"),\"\")","v":""}]
["2011-09-21",null,null,null,0,{"$f":"IF(SUM($B$7:$B1258)=0,\"\",IF(A1258<>\"\",IF(A1258<$B$3,\"N\",\"Y\"),\"\"))","v":""},0,11.26,0,null,343,{"$f":"IF(AND(ISNUMBER(A1258),NOT(ISNUMBER(A1259))),IF((OFFSET(Q1258,-Q1258,0)>50),SUM(OFFSET(E1258,-Q1258+1,0):E1258),SUM(OFFSET(E1258,-Q1258,0):E1258)),IF(AND(ISNUMBER(P1258),ISNUMBER(P1259),P1258  <P1259),IF((OFFSET(Q1258,-Q1258,0)>50),SUM(OFFSET(E1258,-Q1258+1,0):E1258),SUM(OFFSET(E1258,-Q1258,0):E1258)),\"\"))","v":{"$error":"#NAME?"}},{"$f":"IF(ISNUMBER(L1258),IF((OFFSET(Q1258,-Q1258,0)>50),SUM(OFFSET(G1258,-Q1258+1,0):G1258),SUM(OFFSET(G1258,-Q1258,0):G1258)),\"\")","v":""},"",{"$f":"IF(B1258>0,'Tax Scales'!U1258-D1258,\"\")","v":""},{"$error":"#NAME?"},{"$error":"#NAME?"},{"$f":"IF(ISNUMBER(G1258),IF(G1258>0,'Tax Scales'!AQ1258,\"\"),\"\")","v":""}]
["2011-09-28",null,null,null,{"$f":"IF(A1259<>\"\",IF(B1259-C1259>=0,B1259-C1259,0),\"\")","v":0},{"$f":"IF(SUM($B$7:$B1259)=0,\"\",IF(A1259<>\"\",IF(A1259<$B$3,\"N\",\"Y\"),\"\"))","v":""},0,11.26,{"$f":"IF(A1259<>\"\",I1258+E1259+G1259,\"\")","v":0},null,{"$f":"IF(A1259<>\"\",IF((TODAY()-A1259)/7>=0,INT((TODAY()-A1259)/7),0),\"\")","v":342},{"$f":"IF(AND(ISNUMBER(A1259),NOT(ISNUMBER(A1260))),IF((OFFSET(Q1259,-Q1259,0)>50),SUM(OFFSET(E1259,-Q1259+1,0):E1259),SUM(OFFSET(E1259,-Q1259,0):E1259)),IF(AND(ISNUMBER(P1259),ISNUMBER(P1260),P1259  <P1260),IF((OFFSET(Q1259,-Q1259,0)>50),SUM(OFFSET(E1259,-Q1259+1,0):E1259),SUM(OFFSET(E1259,-Q1259,0):E1259)),\"\"))","v":{"$error":"#NAME?"}},{"$f":"IF(ISNUMBER(L1259),IF((OFFSET(Q1259,-Q1259,0)>50),SUM(OFFSET(G1259,-Q1259+1,0):G1259),SUM(OFFSET(G1259,-Q1259,0):G1259)),\"\")","v":""},{"$f":"IF(B1259>0,IF(P1259  = $P$6,E1259-O1259,\"\"),\"\")","v":""},{"$f":"IF(B1259>0,'Tax Scales'!U1259-D1259,\"\")","v":""},{"$f":"IF(ISNUMBER(A1259),FinYear(A1259),\"\")","v":{"$error":"#NAME?"}},{"$f":"IF(ISNUMBER(A1259),ROUND((A1259-StartOfFinYear(P1259))/7,0),\"\")","v":{"$error":"#NAME?"}},{"$f":"IF(ISNUMBER(G1259),IF(G1259>0,'Tax Scales'!AQ1259,\"\"),\"\")","v":""}]
["2011-10-05",null,null,null,0,{"$f":"IF(SUM($B$7:$B1260)=0,\"\",IF(A1260<>\"\",IF(A1260<$B$3,\"N\",\"Y\"),\"\"))","v":""},0,11.26,0,null,341,{"$f":"IF(AND(ISNUMBER(A1260),NOT(ISNUMBER(A1261))),IF((OFFSET(Q1260,-Q1260,0)>50),SUM(OFFSET(E1260,-Q1260+1,0):E1260),SUM(OFFSET(E1260,-Q1260,0):E1260)),IF(AND(ISNUMBER(P1260),ISNUMBER(P1261),P1260  <P1261),IF((OFFSET(Q1260,-Q1260,0)>50),SUM(OFFSET(E1260,-Q1260+1,0):E1260),SUM(OFFSET(E1260,-Q1260,0):E1260)),\"\"))","v":{"$error":"#NAME?"}},{"$f":"IF(ISNUMBER(L1260),IF((OFFSET(Q1260,-Q1260,0)>50),SUM(OFFSET(G1260,-Q1260+1,0):G1260),SUM(OFFSET(G1260,-Q1260,0):G1260)),\"\")","v":""},"",{"$f":"IF(B1260>0,'Tax Scales'!U1260-D1260,\"\")","v":""},{"$error":"#NAME?"},{"$error":"#NAME?"},{"$f":"IF(ISNUMBER(G1260),IF(G1260>0,'Tax Scales'!AQ1260,\"\"),\"\")","v":""}]
["2011-10-12",null,null,null,0,{"$f":"IF(SUM($B$7:$B1261)=0,\"\",IF(A1261<>\"\",IF(A1261<$B$3,\"N\",\"Y\"),\"\"))","v":""},0,11.26,0,null,340,{"$f":"IF(AND(ISNUMBER(A1261),NOT(ISNUMBER(A1262))),IF((OFFSET(Q1261,-Q1261,0)>50),SUM(OFFSET(E1261,-Q1261+1,0):E1261),SUM(OFFSET(E1261,-Q1261,0):E1261)),IF(AND(ISNUMBER(P1261),ISNUMBER(P1262),P1261  <P1262),IF((OFFSET(Q1261,-Q1261,0)>50),SUM(OFFSET(E1261,-Q1261+1,0):E1261),SUM(OFFSET(E1261,-Q1261,0):E1261)),\"\"))","v":{"$error":"#NAME?"}},{"$f":"IF(ISNUMBER(L1261),IF((OFFSET(Q1261,-Q1261,0)>50),SUM(OFFSET(G1261,-Q1261+1,0):G1261),SUM(OFFSET(G1261,-Q1261,0):G1261)),\"\")","v":""},"",{"$f":"IF(B1261>0,'Tax Scales'!U1261-D1261,\"\")","v":""},{"$error":"#NAME?"},{"$error":"#NAME?"},{"$f":"IF(ISNUMBER(G1261),IF(G1261>0,'Tax Scales'!AQ1261,\"\"),\"\")","v":""}]
["2011-10-19",null,null,null,0,{"$f":"IF(SUM($B$7:$B1262)=0,\"\",IF(A1262<>\"\",IF(A1262<$B$3,\"N\",\"Y\"),\"\"))","v":""},0,11.26,0,null,339,{"$f":"IF(AND(ISNUMBER(A1262),NOT(ISNUMBER(A1263))),IF((OFFSET(Q1262,-Q1262,0)>50),SUM(OFFSET(E1262,-Q1262+1,0):E1262),SUM(OFFSET(E1262,-Q1262,0):E1262)),IF(AND(ISNUMBER(P1262),ISNUMBER(P1263),P1262  <P1263),IF((OFFSET(Q1262,-Q1262,0)>50),SUM(OFFSET(E1262,-Q1262+1,0):E1262),SUM(OFFSET(E1262,-Q1262,0):E1262)),\"\"))","v":{"$error":"#NAME?"}},{"$f":"IF(ISNUMBER(L1262),IF((OFFSET(Q1262,-Q1262,0)>50),SUM(OFFSET(G1262,-Q1262+1,0):G1262),SUM(OFFSET(G1262,-Q1262,0):G1262)),\"\")","v":""},"",{"$f":"IF(B1262>0,'Tax Scales'!U1262-D1262,\"\")","v":""},{"$error":"#NAME?"},{"$error":"#NAME?"},{"$f":"IF(ISNUMBER(G1262),IF(G1262>0,'Tax Scales'!AQ1262,\"\"),\"\")","v":""}]
["2011-10-26",null,null,null,0,{"$f":"IF(SUM($B$7:$B1263)=0,\"\",IF(A1263<>\"\",IF(A1263<$B$3,\"N\",\"Y\"),\"\"))","v":""},0,11.26,0,null,338,{"$f":"IF(AND(ISNUMBER(A1263),NOT(ISNUMBER(A1264))),IF((OFFSET(Q1263,-Q1263,0)>50),SUM(OFFSET(E1263,-Q1263+1,0):E1263),SUM(OFFSET(E1263,-Q1263,0):E1263)),IF(AND(ISNUMBER(P1263),ISNUMBER(P1264),P1263  <P1264),IF((OFFSET(Q1263,-Q1263,0)>50),SUM(OFFSET(E1263,-Q1263+1,0):E1263),SUM(OFFSET(E1263,-Q1263,0):E1263)),\"\"))","v":{"$error":"#NAME?"}},{"$f":"IF(ISNUMBER(L1263),IF((OFFSET(Q1263,-Q1263,0)>50),SUM(OFFSET(G1263,-Q1263+1,0):G1263),SUM(OFFSET(G1263,-Q1263,0):G1263)),\"\")","v":""},"",{"$f":"IF(B1263>0,'Tax Scales'!U1263-D1263,\"\")","v":""},{"$error":"#NAME?"},{"$error":"#NAME?"},{"$f":"IF(ISNUMBER(G1263),IF(G1263>0,'Tax Scales'!AQ1263,\"\"),\"\")","v":""}]
["2011-11-02",null,null,null,0,{"$f":"IF(SUM($B$7:$B1264)=0,\"\",IF(A1264<>\"\",IF(A1264<$B$3,\"N\",\"Y\"),\"\"))","v":""},0,11.26,0,null,337,{"$f":"IF(AND(ISNUMBER(A1264),NOT(ISNUMBER(A1265))),IF((OFFSET(Q1264,-Q1264,0)>50),SUM(OFFSET(E1264,-Q1264+1,0):E1264),SUM(OFFSET(E1264,-Q1264,0):E1264)),IF(AND(ISNUMBER(P1264),ISNUMBER(P1265),P1264  <P1265),IF((OFFSET(Q1264,-Q1264,0)>50),SUM(OFFSET(E1264,-Q1264+1,0):E1264),SUM(OFFSET(E1264,-Q1264,0):E1264)),\"\"))","v":{"$error":"#NAME?"}},{"$f":"IF(ISNUMBER(L1264),IF((OFFSET(Q1264,-Q1264,0)>50),SUM(OFFSET(G1264,-Q1264+1,0):G1264),SUM(OFFSET(G1264,-Q1264,0):G1264)),\"\")","v":""},"",{"$f":"IF(B1264>0,'Tax Scales'!U1264-D1264,\"\")","v":""},{"$error":"#NAME?"},{"$error":"#NAME?"},{"$f":"IF(ISNUMBER(G1264),IF(G1264>0,'Tax Scales'!AQ1264,\"\"),\"\")","v":""}]
["2011-11-09",null,null,null,0,{"$f":"IF(SUM($B$7:$B1265)=0,\"\",IF(A1265<>\"\",IF(A1265<$B$3,\"N\",\"Y\"),\"\"))","v":""},0,11.26,0,null,336,{"$f":"IF(AND(ISNUMBER(A1265),NOT(ISNUMBER(A1266))),IF((OFFSET(Q1265,-Q1265,0)>50),SUM(OFFSET(E1265,-Q1265+1,0):E1265),SUM(OFFSET(E1265,-Q1265,0):E1265)),IF(AND(ISNUMBER(P1265),ISNUMBER(P1266),P1265  <P1266),IF((OFFSET(Q1265,-Q1265,0)>50),SUM(OFFSET(E1265,-Q1265+1,0):E1265),SUM(OFFSET(E1265,-Q1265,0):E1265)),\"\"))","v":{"$error":"#NAME?"}},{"$f":"IF(ISNUMBER(L1265),IF((OFFSET(Q1265,-Q1265,0)>50),SUM(OFFSET(G1265,-Q1265+1,0):G1265),SUM(OFFSET(G1265,-Q1265,0):G1265)),\"\")","v":""},"",{"$f":"IF(B1265>0,'Tax Scales'!U1265-D1265,\"\")","v":""},{"$error":"#NAME?"},{"$error":"#NAME?"},{"$f":"IF(ISNUMBER(G1265),IF(G1265>0,'Tax Scales'!AQ1265,\"\"),\"\")","v":""}]
["2011-11-16",null,null,null,0,{"$f":"IF(SUM($B$7:$B1266)=0,\"\",IF(A1266<>\"\",IF(A1266<$B$3,\"N\",\"Y\"),\"\"))","v":""},0,11.26,0,null,335,{"$f":"IF(AND(ISNUMBER(A1266),NOT(ISNUMBER(A1267))),IF((OFFSET(Q1266,-Q1266,0)>50),SUM(OFFSET(E1266,-Q1266+1,0):E1266),SUM(OFFSET(E1266,-Q1266,0):E1266)),IF(AND(ISNUMBER(P1266),ISNUMBER(P1267),P1266  <P1267),IF((OFFSET(Q1266,-Q1266,0)>50),SUM(OFFSET(E1266,-Q1266+1,0):E1266),SUM(OFFSET(E1266,-Q1266,0):E1266)),\"\"))","v":{"$error":"#NAME?"}},{"$f":"IF(ISNUMBER(L1266),IF((OFFSET(Q1266,-Q1266,0)>50),SUM(OFFSET(G1266,-Q1266+1,0):G1266),SUM(OFFSET(G1266,-Q1266,0):G1266)),\"\")","v":""},"",{"$f":"IF(B1266>0,'Tax Scales'!U1266-D1266,\"\")","v":""},{"$error":"#NAME?"},{"$error":"#NAME?"},{"$f":"IF(ISNUMBER(G1266),IF(G1266>0,'Tax Scales'!AQ1266,\"\"),\"\")","v":""}]
["2011-11-23",null,null,null,0,{"$f":"IF(SUM($B$7:$B1267)=0,\"\",IF(A1267<>\"\",IF(A1267<$B$3,\"N\",\"Y\"),\"\"))","v":""},0,11.26,0,null,334,{"$f":"IF(AND(ISNUMBER(A1267),NOT(ISNUMBER(A1268))),IF((OFFSET(Q1267,-Q1267,0)>50),SUM(OFFSET(E1267,-Q1267+1,0):E1267),SUM(OFFSET(E1267,-Q1267,0):E1267)),IF(AND(ISNUMBER(P1267),ISNUMBER(P1268),P1267  <P1268),IF((OFFSET(Q1267,-Q1267,0)>50),SUM(OFFSET(E1267,-Q1267+1,0):E1267),SUM(OFFSET(E1267,-Q1267,0):E1267)),\"\"))","v":{"$error":"#NAME?"}},{"$f":"IF(ISNUMBER(L1267),IF((OFFSET(Q1267,-Q1267,0)>50),SUM(OFFSET(G1267,-Q1267+1,0):G1267),SUM(OFFSET(G1267,-Q1267,0):G1267)),\"\")","v":""},"",{"$f":"IF(B1267>0,'Tax Scales'!U1267-D1267,\"\")","v":""},{"$error":"#NAME?"},{"$error":"#NAME?"},{"$f":"IF(ISNUMBER(G1267),IF(G1267>0,'Tax Scales'!AQ1267,\"\"),\"\")","v":""}]
["2011-11-30",null,null,null,0,{"$f":"IF(SUM($B$7:$B1268)=0,\"\",IF(A1268<>\"\",IF(A1268<$B$3,\"N\",\"Y\"),\"\"))","v":""},0,11.26,0,null,333,{"$f":"IF(AND(ISNUMBER(A1268),NOT(ISNUMBER(A1269))),IF((OFFSET(Q1268,-Q1268,0)>50),SUM(OFFSET(E1268,-Q1268+1,0):E1268),SUM(OFFSET(E1268,-Q1268,0):E1268)),IF(AND(ISNUMBER(P1268),ISNUMBER(P1269),P1268  <P1269),IF((OFFSET(Q1268,-Q1268,0)>50),SUM(OFFSET(E1268,-Q1268+1,0):E1268),SUM(OFFSET(E1268,-Q1268,0):E1268)),\"\"))","v":{"$error":"#NAME?"}},{"$f":"IF(ISNUMBER(L1268),IF((OFFSET(Q1268,-Q1268,0)>50),SUM(OFFSET(G1268,-Q1268+1,0):G1268),SUM(OFFSET(G1268,-Q1268,0):G1268)),\"\")","v":""},"",{"$f":"IF(B1268>0,'Tax Scales'!U1268-D1268,\"\")","v":""},{"$error":"#NAME?"},{"$error":"#NAME?"},{"$f":"IF(ISNUMBER(G1268),IF(G1268>0,'Tax Scales'!AQ1268,\"\"),\"\")","v":""}]
["2011-12-07",null,null,null,0,{"$f":"IF(SUM($B$7:$B1269)=0,\"\",IF(A1269<>\"\",IF(A1269<$B$3,\"N\",\"Y\"),\"\"))","v":""},0,11.26,0,null,332,{"$f":"IF(AND(ISNUMBER(A1269),NOT(ISNUMBER(A1270))),IF((OFFSET(Q1269,-Q1269,0)>50),SUM(OFFSET(E1269,-Q1269+1,0):E1269),SUM(OFFSET(E1269,-Q1269,0):E1269)),IF(AND(ISNUMBER(P1269),ISNUMBER(P1270),P1269  <P1270),IF((OFFSET(Q1269,-Q1269,0)>50),SUM(OFFSET(E1269,-Q1269+1,0):E1269),SUM(OFFSET(E1269,-Q1269,0):E1269)),\"\"))","v":{"$error":"#NAME?"}},{"$f":"IF(ISNUMBER(L1269),IF((OFFSET(Q1269,-Q1269,0)>50),SUM(OFFSET(G1269,-Q1269+1,0):G1269),SUM(OFFSET(G1269,-Q1269,0):G1269)),\"\")","v":""},"",{"$f":"IF(B1269>0,'Tax Scales'!U1269-D1269,\"\")","v":""},{"$error":"#NAME?"},{"$error":"#NAME?"},{"$f":"IF(ISNUMBER(G1269),IF(G1269>0,'Tax Scales'!AQ1269,\"\"),\"\")","v":""}]
["2011-12-14",null,null,null,0,{"$f":"IF(SUM($B$7:$B1270)=0,\"\",IF(A1270<>\"\",IF(A1270<$B$3,\"N\",\"Y\"),\"\"))","v":""},0,11.26,0,null,331,{"$f":"IF(AND(ISNUMBER(A1270),NOT(ISNUMBER(A1271))),IF((OFFSET(Q1270,-Q1270,0)>50),SUM(OFFSET(E1270,-Q1270+1,0):E1270),SUM(OFFSET(E1270,-Q1270,0):E1270)),IF(AND(ISNUMBER(P1270),ISNUMBER(P1271),P1270  <P1271),IF((OFFSET(Q1270,-Q1270,0)>50),SUM(OFFSET(E1270,-Q1270+1,0):E1270),SUM(OFFSET(E1270,-Q1270,0):E1270)),\"\"))","v":{"$error":"#NAME?"}},{"$f":"IF(ISNUMBER(L1270),IF((OFFSET(Q1270,-Q1270,0)>50),SUM(OFFSET(G1270,-Q1270+1,0):G1270),SUM(OFFSET(G1270,-Q1270,0):G1270)),\"\")","v":""},"",{"$f":"IF(B1270>0,'Tax Scales'!U1270-D1270,\"\")","v":""},{"$error":"#NAME?"},{"$error":"#NAME?"},{"$f":"IF(ISNUMBER(G1270),IF(G1270>0,'Tax Scales'!AQ1270,\"\"),\"\")","v":""}]
["2011-12-21",null,null,null,0,{"$f":"IF(SUM($B$7:$B1271)=0,\"\",IF(A1271<>\"\",IF(A1271<$B$3,\"N\",\"Y\"),\"\"))","v":""},0,11.26,0,null,330,{"$f":"IF(AND(ISNUMBER(A1271),NOT(ISNUMBER(A1272))),IF((OFFSET(Q1271,-Q1271,0)>50),SUM(OFFSET(E1271,-Q1271+1,0):E1271),SUM(OFFSET(E1271,-Q1271,0):E1271)),IF(AND(ISNUMBER(P1271),ISNUMBER(P1272),P1271  <P1272),IF((OFFSET(Q1271,-Q1271,0)>50),SUM(OFFSET(E1271,-Q1271+1,0):E1271),SUM(OFFSET(E1271,-Q1271,0):E1271)),\"\"))","v":{"$error":"#NAME?"}},{"$f":"IF(ISNUMBER(L1271),IF((OFFSET(Q1271,-Q1271,0)>50),SUM(OFFSET(G1271,-Q1271+1,0):G1271),SUM(OFFSET(G1271,-Q1271,0):G1271)),\"\")","v":""},"",{"$f":"IF(B1271>0,'Tax Scales'!U1271-D1271,\"\")","v":""},{"$error":"#NAME?"},{"$error":"#NAME?"},{"$f":"IF(ISNUMBER(G1271),IF(G1271>0,'Tax Scales'!AQ1271,\"\"),\"\")","v":""}]
["2011-12-28",null,null,null,0,{"$f":"IF(SUM($B$7:$B1272)=0,\"\",IF(A1272<>\"\",IF(A1272<$B$3,\"N\",\"Y\"),\"\"))","v":""},0,11.26,0,null,329,{"$f":"IF(AND(ISNUMBER(A1272),NOT(ISNUMBER(A1273))),IF((OFFSET(Q1272,-Q1272,0)>50),SUM(OFFSET(E1272,-Q1272+1,0):E1272),SUM(OFFSET(E1272,-Q1272,0):E1272)),IF(AND(ISNUMBER(P1272),ISNUMBER(P1273),P1272  <P1273),IF((OFFSET(Q1272,-Q1272,0)>50),SUM(OFFSET(E1272,-Q1272+1,0):E1272),SUM(OFFSET(E1272,-Q1272,0):E1272)),\"\"))","v":{"$error":"#NAME?"}},{"$f":"IF(ISNUMBER(L1272),IF((OFFSET(Q1272,-Q1272,0)>50),SUM(OFFSET(G1272,-Q1272+1,0):G1272),SUM(OFFSET(G1272,-Q1272,0):G1272)),\"\")","v":""},"",{"$f":"IF(B1272>0,'Tax Scales'!U1272-D1272,\"\")","v":""},{"$error":"#NAME?"},{"$error":"#NAME?"},{"$f":"IF(ISNUMBER(G1272),IF(G1272>0,'Tax Scales'!AQ1272,\"\"),\"\")","v":""}]
["2012-01-04",null,null,null,0,{"$f":"IF(SUM($B$7:$B1273)=0,\"\",IF(A1273<>\"\",IF(A1273<$B$3,\"N\",\"Y\"),\"\"))","v":""},0,11.26,0,null,328,{"$f":"IF(AND(ISNUMBER(A1273),NOT(ISNUMBER(A1274))),IF((OFFSET(Q1273,-Q1273,0)>50),SUM(OFFSET(E1273,-Q1273+1,0):E1273),SUM(OFFSET(E1273,-Q1273,0):E1273)),IF(AND(ISNUMBER(P1273),ISNUMBER(P1274),P1273  <P1274),IF((OFFSET(Q1273,-Q1273,0)>50),SUM(OFFSET(E1273,-Q1273+1,0):E1273),SUM(OFFSET(E1273,-Q1273,0):E1273)),\"\"))","v":{"$error":"#NAME?"}},{"$f":"IF(ISNUMBER(L1273),IF((OFFSET(Q1273,-Q1273,0)>50),SUM(OFFSET(G1273,-Q1273+1,0):G1273),SUM(OFFSET(G1273,-Q1273,0):G1273)),\"\")","v":""},"",{"$f":"IF(B1273>0,'Tax Scales'!U1273-D1273,\"\")","v":""},{"$error":"#NAME?"},{"$error":"#NAME?"},{"$f":"IF(ISNUMBER(G1273),IF(G1273>0,'Tax Scales'!AQ1273,\"\"),\"\")","v":""}]
["2012-01-11",null,null,null,0,{"$f":"IF(SUM($B$7:$B1274)=0,\"\",IF(A1274<>\"\",IF(A1274<$B$3,\"N\",\"Y\"),\"\"))","v":""},0,11.26,0,null,327,{"$f":"IF(AND(ISNUMBER(A1274),NOT(ISNUMBER(A1275))),SUM(OFFSET(E1274,-Q1274,0):E1274),IF(AND(ISNUMBER(P1274),ISNUMBER(P1275),P1274  <P1275),SUM(OFFSET(E1274,-Q1274,0):E1274),\"\"))","v":{"$error":"#NAME?"}},{"$f":"IF(ISNUMBER(L1274),SUM(OFFSET(G1274,-Q1274,0):G1274),\"\")","v":""},"",{"$f":"IF(B1274>0,'Tax Scales'!U1274-D1274,\"\")","v":""},{"$error":"#NAME?"},{"$error":"#NAME?"},{"$f":"IF(ISNUMBER(G1274),IF(G1274>0,'Tax Scales'!AQ1274,\"\"),\"\")","v":""}]
["2012-01-18",null,null,null,0,{"$f":"IF(SUM($B$7:$B1275)=0,\"\",IF(A1275<>\"\",IF(A1275<$B$3,\"N\",\"Y\"),\"\"))","v":""},0,11.26,0,null,326,{"$f":"IF(AND(ISNUMBER(A1275),NOT(ISNUMBER(A1276))),SUM(OFFSET(E1275,-Q1275,0):E1275),IF(AND(ISNUMBER(P1275),ISNUMBER(P1276),P1275  <P1276),SUM(OFFSET(E1275,-Q1275,0):E1275),\"\"))","v":{"$error":"#NAME?"}},{"$f":"IF(ISNUMBER(L1275),SUM(OFFSET(G1275,-Q1275,0):G1275),\"\")","v":""},"",{"$f":"IF(B1275>0,'Tax Scales'!U1275-D1275,\"\")","v":""},{"$error":"#NAME?"},{"$error":"#NAME?"},{"$f":"IF(ISNUMBER(G1275),IF(G1275>0,'Tax Scales'!AQ1275,\"\"),\"\")","v":""}]
["2012-01-25",null,null,null,0,{"$f":"IF(SUM($B$7:$B1276)=0,\"\",IF(A1276<>\"\",IF(A1276<$B$3,\"N\",\"Y\"),\"\"))","v":""},0,11.26,0,null,325,{"$f":"IF(AND(ISNUMBER(A1276),NOT(ISNUMBER(A1277))),SUM(OFFSET(E1276,-Q1276,0):E1276),IF(AND(ISNUMBER(P1276),ISNUMBER(P1277),P1276  <P1277),SUM(OFFSET(E1276,-Q1276,0):E1276),\"\"))","v":{"$error":"#NAME?"}},{"$f":"IF(ISNUMBER(L1276),SUM(OFFSET(G1276,-Q1276,0):G1276),\"\")","v":""},"",{"$f":"IF(B1276>0,'Tax Scales'!U1276-D1276,\"\")","v":""},{"$error":"#NAME?"},{"$error":"#NAME?"},{"$f":"IF(ISNUMBER(G1276),IF(G1276>0,'Tax Scales'!AQ1276,\"\"),\"\")","v":""}]
["2012-02-01",null,null,null,0,{"$f":"IF(SUM($B$7:$B1277)=0,\"\",IF(A1277<>\"\",IF(A1277<$B$3,\"N\",\"Y\"),\"\"))","v":""},0,11.26,0,null,324,{"$f":"IF(AND(ISNUMBER(A1277),NOT(ISNUMBER(A1278))),SUM(OFFSET(E1277,-Q1277,0):E1277),IF(AND(ISNUMBER(P1277),ISNUMBER(P1278),P1277  <P1278),SUM(OFFSET(E1277,-Q1277,0):E1277),\"\"))","v":{"$error":"#NAME?"}},{"$f":"IF(ISNUMBER(L1277),SUM(OFFSET(G1277,-Q1277,0):G1277),\"\")","v":""},"",{"$f":"IF(B1277>0,'Tax Scales'!U1277-D1277,\"\")","v":""},{"$error":"#NAME?"},{"$error":"#NAME?"},{"$f":"IF(ISNUMBER(G1277),IF(G1277>0,'Tax Scales'!AQ1277,\"\"),\"\")","v":""}]
["2012-02-08",null,null,null,0,{"$f":"IF(SUM($B$7:$B1278)=0,\"\",IF(A1278<>\"\",IF(A1278<$B$3,\"N\",\"Y\"),\"\"))","v":""},0,11.26,0,null,323,{"$f":"IF(AND(ISNUMBER(A1278),NOT(ISNUMBER(A1279))),SUM(OFFSET(E1278,-Q1278,0):E1278),IF(AND(ISNUMBER(P1278),ISNUMBER(P1279),P1278  <P1279),SUM(OFFSET(E1278,-Q1278,0):E1278),\"\"))","v":{"$error":"#NAME?"}},{"$f":"IF(ISNUMBER(L1278),SUM(OFFSET(G1278,-Q1278,0):G1278),\"\")","v":""},"",{"$f":"IF(B1278>0,'Tax Scales'!U1278-D1278,\"\")","v":""},{"$error":"#NAME?"},{"$error":"#NAME?"},{"$f":"IF(ISNUMBER(G1278),IF(G1278>0,'Tax Scales'!AQ1278,\"\"),\"\")","v":""}]
["2012-02-15",null,null,null,0,{"$f":"IF(SUM($B$7:$B1279)=0,\"\",IF(A1279<>\"\",IF(A1279<$B$3,\"N\",\"Y\"),\"\"))","v":""},0,11.26,0,null,322,{"$f":"IF(AND(ISNUMBER(A1279),NOT(ISNUMBER(A1280))),SUM(OFFSET(E1279,-Q1279,0):E1279),IF(AND(ISNUMBER(P1279),ISNUMBER(P1280),P1279  <P1280),SUM(OFFSET(E1279,-Q1279,0):E1279),\"\"))","v":{"$error":"#NAME?"}},{"$f":"IF(ISNUMBER(L1279),SUM(OFFSET(G1279,-Q1279,0):G1279),\"\")","v":""},"",{"$f":"IF(B1279>0,'Tax Scales'!U1279-D1279,\"\")","v":""},{"$error":"#NAME?"},{"$error":"#NAME?"},{"$f":"IF(ISNUMBER(G1279),IF(G1279>0,'Tax Scales'!AQ1279,\"\"),\"\")","v":""}]
["2012-02-22",null,null,null,0,{"$f":"IF(SUM($B$7:$B1280)=0,\"\",IF(A1280<>\"\",IF(A1280<$B$3,\"N\",\"Y\"),\"\"))","v":""},0,11.26,0,null,321,{"$f":"IF(AND(ISNUMBER(A1280),NOT(ISNUMBER(A1281))),SUM(OFFSET(E1280,-Q1280,0):E1280),IF(AND(ISNUMBER(P1280),ISNUMBER(P1281),P1280  <P1281),SUM(OFFSET(E1280,-Q1280,0):E1280),\"\"))","v":{"$error":"#NAME?"}},{"$f":"IF(ISNUMBER(L1280),SUM(OFFSET(G1280,-Q1280,0):G1280),\"\")","v":""},"",{"$f":"IF(B1280>0,'Tax Scales'!U1280-D1280,\"\")","v":""},{"$error":"#NAME?"},{"$error":"#NAME?"},{"$f":"IF(ISNUMBER(G1280),IF(G1280>0,'Tax Scales'!AQ1280,\"\"),\"\")","v":""}]
["2012-02-29",null,null,null,0,{"$f":"IF(SUM($B$7:$B1281)=0,\"\",IF(A1281<>\"\",IF(A1281<$B$3,\"N\",\"Y\"),\"\"))","v":""},0,11.26,0,null,320,{"$f":"IF(AND(ISNUMBER(A1281),NOT(ISNUMBER(A1282))),SUM(OFFSET(E1281,-Q1281,0):E1281),IF(AND(ISNUMBER(P1281),ISNUMBER(P1282),P1281  <P1282),SUM(OFFSET(E1281,-Q1281,0):E1281),\"\"))","v":{"$error":"#NAME?"}},{"$f":"IF(ISNUMBER(L1281),SUM(OFFSET(G1281,-Q1281,0):G1281),\"\")","v":""},"",{"$f":"IF(B1281>0,'Tax Scales'!U1281-D1281,\"\")","v":""},{"$error":"#NAME?"},{"$error":"#NAME?"},{"$f":"IF(ISNUMBER(G1281),IF(G1281>0,'Tax Scales'!AQ1281,\"\"),\"\")","v":""}]
["2012-03-07",null,null,null,0,{"$f":"IF(SUM($B$7:$B1282)=0,\"\",IF(A1282<>\"\",IF(A1282<$B$3,\"N\",\"Y\"),\"\"))","v":""},0,11.26,0,null,319,{"$f":"IF(AND(ISNUMBER(A1282),NOT(ISNUMBER(A1283))),SUM(OFFSET(E1282,-Q1282,0):E1282),IF(AND(ISNUMBER(P1282),ISNUMBER(P1283),P1282  <P1283),SUM(OFFSET(E1282,-Q1282,0):E1282),\"\"))","v":{"$error":"#NAME?"}},{"$f":"IF(ISNUMBER(L1282),SUM(OFFSET(G1282,-Q1282,0):G1282),\"\")","v":""},"",{"$f":"IF(B1282>0,'Tax Scales'!U1282-D1282,\"\")","v":""},{"$error":"#NAME?"},{"$error":"#NAME?"},{"$f":"IF(ISNUMBER(G1282),IF(G1282>0,'Tax Scales'!AQ1282,\"\"),\"\")","v":""}]
["2012-03-14",null,null,null,0,{"$f":"IF(SUM($B$7:$B1283)=0,\"\",IF(A1283<>\"\",IF(A1283<$B$3,\"N\",\"Y\"),\"\"))","v":""},0,11.26,0,null,318,{"$f":"IF(AND(ISNUMBER(A1283),NOT(ISNUMBER(A1284))),SUM(OFFSET(E1283,-Q1283,0):E1283),IF(AND(ISNUMBER(P1283),ISNUMBER(P1284),P1283  <P1284),SUM(OFFSET(E1283,-Q1283,0):E1283),\"\"))","v":{"$error":"#NAME?"}},{"$f":"IF(ISNUMBER(L1283),SUM(OFFSET(G1283,-Q1283,0):G1283),\"\")","v":""},"",{"$f":"IF(B1283>0,'Tax Scales'!U1283-D1283,\"\")","v":""},{"$error":"#NAME?"},{"$error":"#NAME?"},{"$f":"IF(ISNUMBER(G1283),IF(G1283>0,'Tax Scales'!AQ1283,\"\"),\"\")","v":""}]
["2012-03-21",null,null,null,0,{"$f":"IF(SUM($B$7:$B1284)=0,\"\",IF(A1284<>\"\",IF(A1284<$B$3,\"N\",\"Y\"),\"\"))","v":""},0,11.26,0,null,317,{"$f":"IF(AND(ISNUMBER(A1284),NOT(ISNUMBER(A1285))),SUM(OFFSET(E1284,-Q1284,0):E1284),IF(AND(ISNUMBER(P1284),ISNUMBER(P1285),P1284  <P1285),SUM(OFFSET(E1284,-Q1284,0):E1284),\"\"))","v":{"$error":"#NAME?"}},{"$f":"IF(ISNUMBER(L1284),SUM(OFFSET(G1284,-Q1284,0):G1284),\"\")","v":""},"",{"$f":"IF(B1284>0,'Tax Scales'!U1284-D1284,\"\")","v":""},{"$error":"#NAME?"},{"$error":"#NAME?"},{"$f":"IF(ISNUMBER(G1284),IF(G1284>0,'Tax Scales'!AQ1284,\"\"),\"\")","v":""}]
["2012-03-28",null,null,null,0,{"$f":"IF(SUM($B$7:$B1285)=0,\"\",IF(A1285<>\"\",IF(A1285<$B$3,\"N\",\"Y\"),\"\"))","v":""},0,11.26,0,null,316,{"$f":"IF(AND(ISNUMBER(A1285),NOT(ISNUMBER(A1286))),SUM(OFFSET(E1285,-Q1285,0):E1285),IF(AND(ISNUMBER(P1285),ISNUMBER(P1286),P1285  <P1286),SUM(OFFSET(E1285,-Q1285,0):E1285),\"\"))","v":{"$error":"#NAME?"}},{"$f":"IF(ISNUMBER(L1285),SUM(OFFSET(G1285,-Q1285,0):G1285),\"\")","v":""},"",{"$f":"IF(B1285>0,'Tax Scales'!U1285-D1285,\"\")","v":""},{"$error":"#NAME?"},{"$error":"#NAME?"},{"$f":"IF(ISNUMBER(G1285),IF(G1285>0,'Tax Scales'!AQ1285,\"\"),\"\")","v":""}]
["2012-04-04",null,null,null,0,{"$f":"IF(SUM($B$7:$B1286)=0,\"\",IF(A1286<>\"\",IF(A1286<$B$3,\"N\",\"Y\"),\"\"))","v":""},0,11.26,0,null,315,{"$f":"IF(AND(ISNUMBER(A1286),NOT(ISNUMBER(A1287))),SUM(OFFSET(E1286,-Q1286,0):E1286),IF(AND(ISNUMBER(P1286),ISNUMBER(P1287),P1286  <P1287),SUM(OFFSET(E1286,-Q1286,0):E1286),\"\"))","v":{"$error":"#NAME?"}},{"$f":"IF(ISNUMBER(L1286),SUM(OFFSET(G1286,-Q1286,0):G1286),\"\")","v":""},"",{"$f":"IF(B1286>0,'Tax Scales'!U1286-D1286,\"\")","v":""},{"$error":"#NAME?"},{"$error":"#NAME?"},{"$f":"IF(ISNUMBER(G1286),IF(G1286>0,'Tax Scales'!AQ1286,\"\"),\"\")","v":""}]
["2012-04-11",null,null,null,0,{"$f":"IF(SUM($B$7:$B1287)=0,\"\",IF(A1287<>\"\",IF(A1287<$B$3,\"N\",\"Y\"),\"\"))","v":""},0,11.26,0,null,314,{"$f":"IF(AND(ISNUMBER(A1287),NOT(ISNUMBER(A1288))),SUM(OFFSET(E1287,-Q1287,0):E1287),IF(AND(ISNUMBER(P1287),ISNUMBER(P1288),P1287  <P1288),SUM(OFFSET(E1287,-Q1287,0):E1287),\"\"))","v":{"$error":"#NAME?"}},{"$f":"IF(ISNUMBER(L1287),SUM(OFFSET(G1287,-Q1287,0):G1287),\"\")","v":""},"",{"$f":"IF(B1287>0,'Tax Scales'!U1287-D1287,\"\")","v":""},{"$error":"#NAME?"},{"$error":"#NAME?"},{"$f":"IF(ISNUMBER(G1287),IF(G1287>0,'Tax Scales'!AQ1287,\"\"),\"\")","v":""}]
["2012-04-18",null,null,null,0,{"$f":"IF(SUM($B$7:$B1288)=0,\"\",IF(A1288<>\"\",IF(A1288<$B$3,\"N\",\"Y\"),\"\"))","v":""},0,11.26,0,null,313,{"$f":"IF(AND(ISNUMBER(A1288),NOT(ISNUMBER(A1289))),SUM(OFFSET(E1288,-Q1288,0):E1288),IF(AND(ISNUMBER(P1288),ISNUMBER(P1289),P1288  <P1289),SUM(OFFSET(E1288,-Q1288,0):E1288),\"\"))","v":{"$error":"#NAME?"}},{"$f":"IF(ISNUMBER(L1288),SUM(OFFSET(G1288,-Q1288,0):G1288),\"\")","v":""},"",{"$f":"IF(B1288>0,'Tax Scales'!U1288-D1288,\"\")","v":""},{"$error":"#NAME?"},{"$error":"#NAME?"},{"$f":"IF(ISNUMBER(G1288),IF(G1288>0,'Tax Scales'!AQ1288,\"\"),\"\")","v":""}]
["2012-04-25",null,null,null,0,{"$f":"IF(SUM($B$7:$B1289)=0,\"\",IF(A1289<>\"\",IF(A1289<$B$3,\"N\",\"Y\"),\"\"))","v":""},{"$f":"IF(F1289=\"N\",0,IF(A1289<>\"\",IF(K1289>=0,((E1289+I1288)*(1+(H1289/52)/100)-E1289-I1288),0),\"\"))","v":0},11.26,0,null,312,{"$f":"IF(AND(ISNUMBER(A1289),NOT(ISNUMBER(A1290))),SUM(OFFSET(E1289,-Q1289,0):E1289),IF(AND(ISNUMBER(P1289),ISNUMBER(P1290),P1289  <P1290),SUM(OFFSET(E1289,-Q1289,0):E1289),\"\"))","v":{"$error":"#NAME?"}},{"$f":"IF(ISNUMBER(L1289),SUM(OFFSET(G1289,-Q1289,0):G1289),\"\")","v":""},"",{"$f":"IF(B1289>0,'Tax Scales'!U1289-D1289,\"\")","v":""},{"$error":"#NAME?"},{"$error":"#NAME?"},{"$f":"IF(ISNUMBER(G1289),IF(G1289>0,'Tax Scales'!AQ1289,\"\"),\"\")","v":""}]
[{"$f":"IF(A1289<>\"\",IF(A1289+12<=TODAY(),+A1289+7,\"\"),\"\")","v":"2012-05-02"},null,null,null,0,{"$f":"IF(SUM($B$7:$B1290)=0,\"\",IF(A1290<>\"\",IF(A1290<$B$3,\"N\",\"Y\"),\"\"))","v":""},0,11.26,0,null,311,{"$f":"IF(AND(ISNUMBER(A1290),NOT(ISNUMBER(A1291))),SUM(OFFSET(E1290,-Q1290,0):E1290),IF(AND(ISNUMBER(P1290),ISNUMBER(P1291),P1290  <P1291),SUM(OFFSET(E1290,-Q1290,0):E1290),\"\"))","v":{"$error":"#NAME?"}},{"$f":"IF(ISNUMBER(L1290),SUM(OFFSET(G1290,-Q1290,0):G1290),\"\")","v":""},"",{"$f":"IF(B1290>0,'Tax Scales'!U1290-D1290,\"\")","v":""},{"$error":"#NAME?"},{"$error":"#NAME?"},{"$f":"IF(ISNUMBER(G1290),IF(G1290>0,'Tax Scales'!AQ1290,\"\"),\"\")","v":""}]
["2012-05-09",null,null,null,0,{"$f":"IF(SUM($B$7:$B1291)=0,\"\",IF(A1291<>\"\",IF(A1291<$B$3,\"N\",\"Y\"),\"\"))","v":""},0,11.26,0,null,310,{"$f":"IF(AND(ISNUMBER(A1291),NOT(ISNUMBER(A1292))),SUM(OFFSET(E1291,-Q1291,0):E1291),IF(AND(ISNUMBER(P1291),ISNUMBER(P1292),P1291  <P1292),SUM(OFFSET(E1291,-Q1291,0):E1291),\"\"))","v":{"$error":"#NAME?"}},{"$f":"IF(ISNUMBER(L1291),SUM(OFFSET(G1291,-Q1291,0):G1291),\"\")","v":""},"",{"$f":"IF(B1291>0,'Tax Scales'!U1291-D1291,\"\")","v":""},{"$error":"#NAME?"},{"$error":"#NAME?"},{"$f":"IF(ISNUMBER(G1291),IF(G1291>0,'Tax Scales'!AQ1291,\"\"),\"\")","v":""}]
["2012-05-16",null,null,null,0,{"$f":"IF(SUM($B$7:$B1292)=0,\"\",IF(A1292<>\"\",IF(A1292<$B$3,\"N\",\"Y\"),\"\"))","v":""},0,11.26,0,null,309,{"$f":"IF(AND(ISNUMBER(A1292),NOT(ISNUMBER(A1293))),SUM(OFFSET(E1292,-Q1292,0):E1292),IF(AND(ISNUMBER(P1292),ISNUMBER(P1293),P1292  <P1293),SUM(OFFSET(E1292,-Q1292,0):E1292),\"\"))","v":{"$error":"#NAME?"}},{"$f":"IF(ISNUMBER(L1292),SUM(OFFSET(G1292,-Q1292,0):G1292),\"\")","v":""},"",{"$f":"IF(B1292>0,'Tax Scales'!U1292-D1292,\"\")","v":""},{"$error":"#NAME?"},{"$error":"#NAME?"},{"$f":"IF(ISNUMBER(G1292),IF(G1292>0,'Tax Scales'!AQ1292,\"\"),\"\")","v":""}]
["2012-05-23",null,null,null,0,{"$f":"IF(SUM($B$7:$B1293)=0,\"\",IF(A1293<>\"\",IF(A1293<$B$3,\"N\",\"Y\"),\"\"))","v":""},0,11.26,0,null,308,{"$f":"IF(AND(ISNUMBER(A1293),NOT(ISNUMBER(A1294))),SUM(OFFSET(E1293,-Q1293,0):E1293),IF(AND(ISNUMBER(P1293),ISNUMBER(P1294),P1293  <P1294),SUM(OFFSET(E1293,-Q1293,0):E1293),\"\"))","v":{"$error":"#NAME?"}},{"$f":"IF(ISNUMBER(L1293),SUM(OFFSET(G1293,-Q1293,0):G1293),\"\")","v":""},"",{"$f":"IF(B1293>0,'Tax Scales'!U1293-D1293,\"\")","v":""},{"$error":"#NAME?"},{"$error":"#NAME?"},{"$f":"IF(ISNUMBER(G1293),IF(G1293>0,'Tax Scales'!AQ1293,\"\"),\"\")","v":""}]
["2012-05-30",null,null,null,0,{"$f":"IF(SUM($B$7:$B1294)=0,\"\",IF(A1294<>\"\",IF(A1294<$B$3,\"N\",\"Y\"),\"\"))","v":""},0,11.26,0,null,307,{"$f":"IF(AND(ISNUMBER(A1294),NOT(ISNUMBER(A1295))),SUM(OFFSET(E1294,-Q1294,0):E1294),IF(AND(ISNUMBER(P1294),ISNUMBER(P1295),P1294  <P1295),SUM(OFFSET(E1294,-Q1294,0):E1294),\"\"))","v":{"$error":"#NAME?"}},{"$f":"IF(ISNUMBER(L1294),SUM(OFFSET(G1294,-Q1294,0):G1294),\"\")","v":""},"",{"$f":"IF(B1294>0,'Tax Scales'!U1294-D1294,\"\")","v":""},{"$error":"#NAME?"},{"$error":"#NAME?"},{"$f":"IF(ISNUMBER(G1294),IF(G1294>0,'Tax Scales'!AQ1294,\"\"),\"\")","v":""}]
["2012-06-06",null,null,null,0,{"$f":"IF(SUM($B$7:$B1295)=0,\"\",IF(A1295<>\"\",IF(A1295<$B$3,\"N\",\"Y\"),\"\"))","v":""},0,11.26,0,null,306,{"$f":"IF(AND(ISNUMBER(A1295),NOT(ISNUMBER(A1296))),SUM(OFFSET(E1295,-Q1295,0):E1295),IF(AND(ISNUMBER(P1295),ISNUMBER(P1296),P1295  <P1296),SUM(OFFSET(E1295,-Q1295,0):E1295),\"\"))","v":{"$error":"#NAME?"}},{"$f":"IF(ISNUMBER(L1295),SUM(OFFSET(G1295,-Q1295,0):G1295),\"\")","v":""},"",{"$f":"IF(B1295>0,'Tax Scales'!U1295-D1295,\"\")","v":""},{"$error":"#NAME?"},{"$error":"#NAME?"},{"$f":"IF(ISNUMBER(G1295),IF(G1295>0,'Tax Scales'!AQ1295,\"\"),\"\")","v":""}]
["2012-06-13",null,null,null,0,{"$f":"IF(SUM($B$7:$B1296)=0,\"\",IF(A1296<>\"\",IF(A1296<$B$3,\"N\",\"Y\"),\"\"))","v":""},0,11.26,0,null,305,{"$f":"IF(AND(ISNUMBER(A1296),NOT(ISNUMBER(A1297))),SUM(OFFSET(E1296,-Q1296,0):E1296),IF(AND(ISNUMBER(P1296),ISNUMBER(P1297),P1296  <P1297),SUM(OFFSET(E1296,-Q1296,0):E1296),\"\"))","v":{"$error":"#NAME?"}},{"$f":"IF(ISNUMBER(L1296),SUM(OFFSET(G1296,-Q1296,0):G1296),\"\")","v":""},"",{"$f":"IF(B1296>0,'Tax Scales'!U1296-D1296,\"\")","v":""},{"$error":"#NAME?"},{"$error":"#NAME?"},{"$f":"IF(ISNUMBER(G1296),IF(G1296>0,'Tax Scales'!AQ1296,\"\"),\"\")","v":""}]
["2012-06-20",null,null,null,0,{"$f":"IF(SUM($B$7:$B1297)=0,\"\",IF(A1297<>\"\",IF(A1297<$B$3,\"N\",\"Y\"),\"\"))","v":""},0,11.26,0,null,304,{"$f":"IF(AND(ISNUMBER(A1297),NOT(ISNUMBER(A1298))),SUM(OFFSET(E1297,-Q1297,0):E1297),IF(AND(ISNUMBER(P1297),ISNUMBER(P1298),P1297  <P1298),SUM(OFFSET(E1297,-Q1297,0):E1297),\"\"))","v":{"$error":"#NAME?"}},{"$f":"IF(ISNUMBER(L1297),SUM(OFFSET(G1297,-Q1297,0):G1297),\"\")","v":""},"",{"$f":"IF(B1297>0,'Tax Scales'!U1297-D1297,\"\")","v":""},{"$error":"#NAME?"},{"$error":"#NAME?"},{"$f":"IF(ISNUMBER(G1297),IF(G1297>0,'Tax Scales'!AQ1297,\"\"),\"\")","v":""}]
["2012-06-27",null,null,null,{"$f":"IF(A1298<>\"\",IF(B1298-C1298>=0,B1298-C1298,0),\"\")","v":0},{"$f":"IF(SUM($B$7:$B1298)=0,\"\",IF(A1298<>\"\",IF(A1298<$B$3,\"N\",\"Y\"),\"\"))","v":""},0,11.26,{"$f":"IF(A1298<>\"\",I1297+E1298+G1298,\"\")","v":0},null,{"$f":"IF(A1298<>\"\",IF((TODAY()-A1298)/7>=0,INT((TODAY()-A1298)/7),0),\"\")","v":303},{"$f":"IF(AND(ISNUMBER(A1298),NOT(ISNUMBER(A1299))),SUM(OFFSET(E1298,-Q1298,0):E1298),IF(AND(ISNUMBER(P1298),ISNUMBER(P1299),P1298  <P1299),SUM(OFFSET(E1298,-Q1298,0):E1298),\"\"))","v":{"$error":"#NAME?"}},{"$f":"IF(ISNUMBER(L1298),SUM(OFFSET(G1298,-Q1298,0):G1298),\"\")","v":""},{"$f":"IF(B1298>0,IF(P1298  = $P$6,E1298-O1298,\"\"),\"\")","v":""},{"$f":"IF(B1298>0,'Tax Scales'!U1298-D1298,\"\")","v":""},{"$f":"IF(ISNUMBER(A1298),FinYear(A1298),\"\")","v":{"$error":"#NAME?"}},{"$f":"IF(ISNUMBER(A1298),ROUND((A1298-StartOfFinYear(P1298))/7,0),\"\")","v":{"$error":"#NAME?"}},{"$f":"IF(ISNUMBER(G1298),IF(G1298>0,'Tax Scales'!AQ1298,\"\"),\"\")","v":""}]
["2012-07-04",null,null,null,0,{"$f":"IF(SUM($B$7:$B1299)=0,\"\",IF(A1299<>\"\",IF(A1299<$B$3,\"N\",\"Y\"),\"\"))","v":""},0,{"$f":"IF(A1299<>\"\",10.5,\"\")","v":10.5},0,null,302,{"$f":"IF(AND(ISNUMBER(A1299),NOT(ISNUMBER(A1300))),SUM(OFFSET(E1299,-Q1299,0):E1299),IF(AND(ISNUMBER(P1299),ISNUMBER(P1300),P1299  <P1300),SUM(OFFSET(E1299,-Q1299,0):E1299),\"\"))","v":{"$error":"#NAME?"}},{"$f":"IF(ISNUMBER(L1299),SUM(OFFSET(G1299,-Q1299,0):G1299),\"\")","v":""},"",{"$f":"IF(B1299>0,'Tax Scales'!U1299-D1299,\"\")","v":""},{"$error":"#NAME?"},{"$error":"#NAME?"},{"$f":"IF(ISNUMBER(G1299),IF(G1299>0,'Tax Scales'!AQ1299,\"\"),\"\")","v":""}]
["2012-07-11",null,null,null,0,{"$f":"IF(SUM($B$7:$B1300)=0,\"\",IF(A1300<>\"\",IF(A1300<$B$3,\"N\",\"Y\"),\"\"))","v":""},0,{"$f":"IF(A1300<>\"\",10.5,\"\")","v":10.5},0,null,301,{"$f":"IF(AND(ISNUMBER(A1300),NOT(ISNUMBER(A1301))),SUM(OFFSET(E1300,-Q1300,0):E1300),IF(AND(ISNUMBER(P1300),ISNUMBER(P1301),P1300  <P1301),SUM(OFFSET(E1300,-Q1300,0):E1300),\"\"))","v":{"$error":"#NAME?"}},{"$f":"IF(ISNUMBER(L1300),SUM(OFFSET(G1300,-Q1300,0):G1300),\"\")","v":""},"",{"$f":"IF(B1300>0,'Tax Scales'!U1300-D1300,\"\")","v":""},{"$error":"#NAME?"},{"$error":"#NAME?"},{"$f":"IF(ISNUMBER(G1300),IF(G1300>0,'Tax Scales'!AQ1300,\"\"),\"\")","v":""}]
["2012-07-18",null,null,null,0,{"$f":"IF(SUM($B$7:$B1301)=0,\"\",IF(A1301<>\"\",IF(A1301<$B$3,\"N\",\"Y\"),\"\"))","v":""},0,10.5,0,null,300,{"$f":"IF(AND(ISNUMBER(A1301),NOT(ISNUMBER(A1302))),SUM(OFFSET(E1301,-Q1301,0):E1301),IF(AND(ISNUMBER(P1301),ISNUMBER(P1302),P1301  <P1302),SUM(OFFSET(E1301,-Q1301,0):E1301),\"\"))","v":{"$error":"#NAME?"}},{"$f":"IF(ISNUMBER(L1301),SUM(OFFSET(G1301,-Q1301,0):G1301),\"\")","v":""},"",{"$f":"IF(B1301>0,'Tax Scales'!U1301-D1301,\"\")","v":""},{"$error":"#NAME?"},{"$error":"#NAME?"},{"$f":"IF(ISNUMBER(G1301),IF(G1301>0,'Tax Scales'!AQ1301,\"\"),\"\")","v":""}]
["2012-07-25",null,null,null,0,{"$f":"IF(SUM($B$7:$B1302)=0,\"\",IF(A1302<>\"\",IF(A1302<$B$3,\"N\",\"Y\"),\"\"))","v":""},0,10.5,0,null,299,{"$f":"IF(AND(ISNUMBER(A1302),NOT(ISNUMBER(A1303))),SUM(OFFSET(E1302,-Q1302,0):E1302),IF(AND(ISNUMBER(P1302),ISNUMBER(P1303),P1302  <P1303),SUM(OFFSET(E1302,-Q1302,0):E1302),\"\"))","v":{"$error":"#NAME?"}},{"$f":"IF(ISNUMBER(L1302),SUM(OFFSET(G1302,-Q1302,0):G1302),\"\")","v":""},"",{"$f":"IF(B1302>0,'Tax Scales'!U1302-D1302,\"\")","v":""},{"$error":"#NAME?"},{"$error":"#NAME?"},{"$f":"IF(ISNUMBER(G1302),IF(G1302>0,'Tax Scales'!AQ1302,\"\"),\"\")","v":""}]
["2012-08-01",null,null,null,0,{"$f":"IF(SUM($B$7:$B1303)=0,\"\",IF(A1303<>\"\",IF(A1303<$B$3,\"N\",\"Y\"),\"\"))","v":""},0,10.5,0,null,298,{"$f":"IF(AND(ISNUMBER(A1303),NOT(ISNUMBER(A1304))),SUM(OFFSET(E1303,-Q1303,0):E1303),IF(AND(ISNUMBER(P1303),ISNUMBER(P1304),P1303  <P1304),SUM(OFFSET(E1303,-Q1303,0):E1303),\"\"))","v":{"$error":"#NAME?"}},{"$f":"IF(ISNUMBER(L1303),SUM(OFFSET(G1303,-Q1303,0):G1303),\"\")","v":""},"",{"$f":"IF(B1303>0,'Tax Scales'!U1303-D1303,\"\")","v":""},{"$error":"#NAME?"},{"$error":"#NAME?"},{"$f":"IF(ISNUMBER(G1303),IF(G1303>0,'Tax Scales'!AQ1303,\"\"),\"\")","v":""}]
["2012-08-08",null,null,null,0,{"$f":"IF(SUM($B$7:$B1304)=0,\"\",IF(A1304<>\"\",IF(A1304<$B$3,\"N\",\"Y\"),\"\"))","v":""},0,10.5,0,null,297,{"$f":"IF(AND(ISNUMBER(A1304),NOT(ISNUMBER(A1305))),SUM(OFFSET(E1304,-Q1304,0):E1304),IF(AND(ISNUMBER(P1304),ISNUMBER(P1305),P1304  <P1305),SUM(OFFSET(E1304,-Q1304,0):E1304),\"\"))","v":{"$error":"#NAME?"}},{"$f":"IF(ISNUMBER(L1304),SUM(OFFSET(G1304,-Q1304,0):G1304),\"\")","v":""},"",{"$f":"IF(B1304>0,'Tax Scales'!U1304-D1304,\"\")","v":""},{"$error":"#NAME?"},{"$error":"#NAME?"},{"$f":"IF(ISNUMBER(G1304),IF(G1304>0,'Tax Scales'!AQ1304,\"\"),\"\")","v":""}]
["2012-08-15",null,null,null,0,{"$f":"IF(SUM($B$7:$B1305)=0,\"\",IF(A1305<>\"\",IF(A1305<$B$3,\"N\",\"Y\"),\"\"))","v":""},0,10.5,0,null,296,{"$f":"IF(AND(ISNUMBER(A1305),NOT(ISNUMBER(A1306))),SUM(OFFSET(E1305,-Q1305,0):E1305),IF(AND(ISNUMBER(P1305),ISNUMBER(P1306),P1305  <P1306),SUM(OFFSET(E1305,-Q1305,0):E1305),\"\"))","v":{"$error":"#NAME?"}},{"$f":"IF(ISNUMBER(L1305),SUM(OFFSET(G1305,-Q1305,0):G1305),\"\")","v":""},"",{"$f":"IF(B1305>0,'Tax Scales'!U1305-D1305,\"\")","v":""},{"$error":"#NAME?"},{"$error":"#NAME?"},{"$f":"IF(ISNUMBER(G1305),IF(G1305>0,'Tax Scales'!AQ1305,\"\"),\"\")","v":""}]
["2012-08-22",null,null,null,0,{"$f":"IF(SUM($B$7:$B1306)=0,\"\",IF(A1306<>\"\",IF(A1306<$B$3,\"N\",\"Y\"),\"\"))","v":""},0,10.5,0,null,295,{"$f":"IF(AND(ISNUMBER(A1306),NOT(ISNUMBER(A1307))),SUM(OFFSET(E1306,-Q1306,0):E1306),IF(AND(ISNUMBER(P1306),ISNUMBER(P1307),P1306  <P1307),SUM(OFFSET(E1306,-Q1306,0):E1306),\"\"))","v":{"$error":"#NAME?"}},{"$f":"IF(ISNUMBER(L1306),SUM(OFFSET(G1306,-Q1306,0):G1306),\"\")","v":""},"",{"$f":"IF(B1306>0,'Tax Scales'!U1306-D1306,\"\")","v":""},{"$error":"#NAME?"},{"$error":"#NAME?"},{"$f":"IF(ISNUMBER(G1306),IF(G1306>0,'Tax Scales'!AQ1306,\"\"),\"\")","v":""}]
["2012-08-29",null,null,null,0,{"$f":"IF(SUM($B$7:$B1307)=0,\"\",IF(A1307<>\"\",IF(A1307<$B$3,\"N\",\"Y\"),\"\"))","v":""},0,10.5,0,null,294,{"$f":"IF(AND(ISNUMBER(A1307),NOT(ISNUMBER(A1308))),SUM(OFFSET(E1307,-Q1307,0):E1307),IF(AND(ISNUMBER(P1307),ISNUMBER(P1308),P1307  <P1308),SUM(OFFSET(E1307,-Q1307,0):E1307),\"\"))","v":{"$error":"#NAME?"}},{"$f":"IF(ISNUMBER(L1307),SUM(OFFSET(G1307,-Q1307,0):G1307),\"\")","v":""},"",{"$f":"IF(B1307>0,'Tax Scales'!U1307-D1307,\"\")","v":""},{"$error":"#NAME?"},{"$error":"#NAME?"},{"$f":"IF(ISNUMBER(G1307),IF(G1307>0,'Tax Scales'!AQ1307,\"\"),\"\")","v":""}]
["2012-09-05",null,null,null,0,{"$f":"IF(SUM($B$7:$B1308)=0,\"\",IF(A1308<>\"\",IF(A1308<$B$3,\"N\",\"Y\"),\"\"))","v":""},0,10.5,0,null,293,{"$f":"IF(AND(ISNUMBER(A1308),NOT(ISNUMBER(A1309))),SUM(OFFSET(E1308,-Q1308,0):E1308),IF(AND(ISNUMBER(P1308),ISNUMBER(P1309),P1308  <P1309),SUM(OFFSET(E1308,-Q1308,0):E1308),\"\"))","v":{"$error":"#NAME?"}},{"$f":"IF(ISNUMBER(L1308),SUM(OFFSET(G1308,-Q1308,0):G1308),\"\")","v":""},"",{"$f":"IF(B1308>0,'Tax Scales'!U1308-D1308,\"\")","v":""},{"$error":"#NAME?"},{"$error":"#NAME?"},{"$f":"IF(ISNUMBER(G1308),IF(G1308>0,'Tax Scales'!AQ1308,\"\"),\"\")","v":""}]
["2012-09-12",null,null,null,0,{"$f":"IF(SUM($B$7:$B1309)=0,\"\",IF(A1309<>\"\",IF(A1309<$B$3,\"N\",\"Y\"),\"\"))","v":""},0,10.5,0,null,292,{"$f":"IF(AND(ISNUMBER(A1309),NOT(ISNUMBER(A1310))),SUM(OFFSET(E1309,-Q1309,0):E1309),IF(AND(ISNUMBER(P1309),ISNUMBER(P1310),P1309  <P1310),SUM(OFFSET(E1309,-Q1309,0):E1309),\"\"))","v":{"$error":"#NAME?"}},{"$f":"IF(ISNUMBER(L1309),SUM(OFFSET(G1309,-Q1309,0):G1309),\"\")","v":""},"",{"$f":"IF(B1309>0,'Tax Scales'!U1309-D1309,\"\")","v":""},{"$error":"#NAME?"},{"$error":"#NAME?"},{"$f":"IF(ISNUMBER(G1309),IF(G1309>0,'Tax Scales'!AQ1309,\"\"),\"\")","v":""}]
["2012-09-19",null,null,null,0,{"$f":"IF(SUM($B$7:$B1310)=0,\"\",IF(A1310<>\"\",IF(A1310<$B$3,\"N\",\"Y\"),\"\"))","v":""},0,10.5,0,null,291,{"$f":"IF(AND(ISNUMBER(A1310),NOT(ISNUMBER(A1311))),SUM(OFFSET(E1310,-Q1310,0):E1310),IF(AND(ISNUMBER(P1310),ISNUMBER(P1311),P1310  <P1311),SUM(OFFSET(E1310,-Q1310,0):E1310),\"\"))","v":{"$error":"#NAME?"}},{"$f":"IF(ISNUMBER(L1310),SUM(OFFSET(G1310,-Q1310,0):G1310),\"\")","v":""},"",{"$f":"IF(B1310>0,'Tax Scales'!U1310-D1310,\"\")","v":""},{"$error":"#NAME?"},{"$error":"#NAME?"},{"$f":"IF(ISNUMBER(G1310),IF(G1310>0,'Tax Scales'!AQ1310,\"\"),\"\")","v":""}]
["2012-09-26",null,null,null,0,{"$f":"IF(SUM($B$7:$B1311)=0,\"\",IF(A1311<>\"\",IF(A1311<$B$3,\"N\",\"Y\"),\"\"))","v":""},0,10.5,0,null,290,{"$f":"IF(AND(ISNUMBER(A1311),NOT(ISNUMBER(A1312))),SUM(OFFSET(E1311,-Q1311,0):E1311),IF(AND(ISNUMBER(P1311),ISNUMBER(P1312),P1311  <P1312),SUM(OFFSET(E1311,-Q1311,0):E1311),\"\"))","v":{"$error":"#NAME?"}},{"$f":"IF(ISNUMBER(L1311),SUM(OFFSET(G1311,-Q1311,0):G1311),\"\")","v":""},"",{"$f":"IF(B1311>0,'Tax Scales'!U1311-D1311,\"\")","v":""},{"$error":"#NAME?"},{"$error":"#NAME?"},{"$f":"IF(ISNUMBER(G1311),IF(G1311>0,'Tax Scales'!AQ1311,\"\"),\"\")","v":""}]
["2012-10-03",null,null,null,0,{"$f":"IF(SUM($B$7:$B1312)=0,\"\",IF(A1312<>\"\",IF(A1312<$B$3,\"N\",\"Y\"),\"\"))","v":""},0,10.5,0,null,289,{"$f":"IF(AND(ISNUMBER(A1312),NOT(ISNUMBER(A1313))),SUM(OFFSET(E1312,-Q1312,0):E1312),IF(AND(ISNUMBER(P1312),ISNUMBER(P1313),P1312  <P1313),SUM(OFFSET(E1312,-Q1312,0):E1312),\"\"))","v":{"$error":"#NAME?"}},{"$f":"IF(ISNUMBER(L1312),SUM(OFFSET(G1312,-Q1312,0):G1312),\"\")","v":""},"",{"$f":"IF(B1312>0,'Tax Scales'!U1312-D1312,\"\")","v":""},{"$error":"#NAME?"},{"$error":"#NAME?"},{"$f":"IF(ISNUMBER(G1312),IF(G1312>0,'Tax Scales'!AQ1312,\"\"),\"\")","v":""}]
["2012-10-10",null,null,null,0,{"$f":"IF(SUM($B$7:$B1313)=0,\"\",IF(A1313<>\"\",IF(A1313<$B$3,\"N\",\"Y\"),\"\"))","v":""},0,10.5,0,null,288,{"$f":"IF(AND(ISNUMBER(A1313),NOT(ISNUMBER(A1314))),SUM(OFFSET(E1313,-Q1313,0):E1313),IF(AND(ISNUMBER(P1313),ISNUMBER(P1314),P1313  <P1314),SUM(OFFSET(E1313,-Q1313,0):E1313),\"\"))","v":{"$error":"#NAME?"}},{"$f":"IF(ISNUMBER(L1313),SUM(OFFSET(G1313,-Q1313,0):G1313),\"\")","v":""},"",{"$f":"IF(B1313>0,'Tax Scales'!U1313-D1313,\"\")","v":""},{"$error":"#NAME?"},{"$error":"#NAME?"},{"$f":"IF(ISNUMBER(G1313),IF(G1313>0,'Tax Scales'!AQ1313,\"\"),\"\")","v":""}]
["2012-10-17",null,null,null,0,{"$f":"IF(SUM($B$7:$B1314)=0,\"\",IF(A1314<>\"\",IF(A1314<$B$3,\"N\",\"Y\"),\"\"))","v":""},0,10.5,0,null,287,{"$f":"IF(AND(ISNUMBER(A1314),NOT(ISNUMBER(A1315))),SUM(OFFSET(E1314,-Q1314,0):E1314),IF(AND(ISNUMBER(P1314),ISNUMBER(P1315),P1314  <P1315),SUM(OFFSET(E1314,-Q1314,0):E1314),\"\"))","v":{"$error":"#NAME?"}},{"$f":"IF(ISNUMBER(L1314),SUM(OFFSET(G1314,-Q1314,0):G1314),\"\")","v":""},"",{"$f":"IF(B1314>0,'Tax Scales'!U1314-D1314,\"\")","v":""},{"$error":"#NAME?"},{"$error":"#NAME?"},{"$f":"IF(ISNUMBER(G1314),IF(G1314>0,'Tax Scales'!AQ1314,\"\"),\"\")","v":""}]
["2012-10-24",null,null,null,0,{"$f":"IF(SUM($B$7:$B1315)=0,\"\",IF(A1315<>\"\",IF(A1315<$B$3,\"N\",\"Y\"),\"\"))","v":""},0,10.5,0,null,286,{"$f":"IF(AND(ISNUMBER(A1315),NOT(ISNUMBER(A1316))),SUM(OFFSET(E1315,-Q1315,0):E1315),IF(AND(ISNUMBER(P1315),ISNUMBER(P1316),P1315  <P1316),SUM(OFFSET(E1315,-Q1315,0):E1315),\"\"))","v":{"$error":"#NAME?"}},{"$f":"IF(ISNUMBER(L1315),SUM(OFFSET(G1315,-Q1315,0):G1315),\"\")","v":""},"",{"$f":"IF(B1315>0,'Tax Scales'!U1315-D1315,\"\")","v":""},{"$error":"#NAME?"},{"$error":"#NAME?"},{"$f":"IF(ISNUMBER(G1315),IF(G1315>0,'Tax Scales'!AQ1315,\"\"),\"\")","v":""}]
["2012-10-31",null,null,null,0,{"$f":"IF(SUM($B$7:$B1316)=0,\"\",IF(A1316<>\"\",IF(A1316<$B$3,\"N\",\"Y\"),\"\"))","v":""},0,10.5,0,null,285,{"$f":"IF(AND(ISNUMBER(A1316),NOT(ISNUMBER(A1317))),SUM(OFFSET(E1316,-Q1316,0):E1316),IF(AND(ISNUMBER(P1316),ISNUMBER(P1317),P1316  <P1317),SUM(OFFSET(E1316,-Q1316,0):E1316),\"\"))","v":{"$error":"#NAME?"}},{"$f":"IF(ISNUMBER(L1316),SUM(OFFSET(G1316,-Q1316,0):G1316),\"\")","v":""},"",{"$f":"IF(B1316>0,'Tax Scales'!U1316-D1316,\"\")","v":""},{"$error":"#NAME?"},{"$error":"#NAME?"},{"$f":"IF(ISNUMBER(G1316),IF(G1316>0,'Tax Scales'!AQ1316,\"\"),\"\")","v":""}]
["2012-11-07",null,null,null,0,{"$f":"IF(SUM($B$7:$B1317)=0,\"\",IF(A1317<>\"\",IF(A1317<$B$3,\"N\",\"Y\"),\"\"))","v":""},0,10.5,0,null,284,{"$f":"IF(AND(ISNUMBER(A1317),NOT(ISNUMBER(A1318))),SUM(OFFSET(E1317,-Q1317,0):E1317),IF(AND(ISNUMBER(P1317),ISNUMBER(P1318),P1317  <P1318),SUM(OFFSET(E1317,-Q1317,0):E1317),\"\"))","v":{"$error":"#NAME?"}},{"$f":"IF(ISNUMBER(L1317),SUM(OFFSET(G1317,-Q1317,0):G1317),\"\")","v":""},"",{"$f":"IF(B1317>0,'Tax Scales'!U1317-D1317,\"\")","v":""},{"$error":"#NAME?"},{"$error":"#NAME?"},{"$f":"IF(ISNUMBER(G1317),IF(G1317>0,'Tax Scales'!AQ1317,\"\"),\"\")","v":""}]
["2012-11-14",null,null,null,0,{"$f":"IF(SUM($B$7:$B1318)=0,\"\",IF(A1318<>\"\",IF(A1318<$B$3,\"N\",\"Y\"),\"\"))","v":""},0,10.5,0,null,283,{"$f":"IF(AND(ISNUMBER(A1318),NOT(ISNUMBER(A1319))),SUM(OFFSET(E1318,-Q1318,0):E1318),IF(AND(ISNUMBER(P1318),ISNUMBER(P1319),P1318  <P1319),SUM(OFFSET(E1318,-Q1318,0):E1318),\"\"))","v":{"$error":"#NAME?"}},{"$f":"IF(ISNUMBER(L1318),SUM(OFFSET(G1318,-Q1318,0):G1318),\"\")","v":""},"",{"$f":"IF(B1318>0,'Tax Scales'!U1318-D1318,\"\")","v":""},{"$error":"#NAME?"},{"$error":"#NAME?"},{"$f":"IF(ISNUMBER(G1318),IF(G1318>0,'Tax Scales'!AQ1318,\"\"),\"\")","v":""}]
["2012-11-21",null,null,null,0,{"$f":"IF(SUM($B$7:$B1319)=0,\"\",IF(A1319<>\"\",IF(A1319<$B$3,\"N\",\"Y\"),\"\"))","v":""},0,10.5,0,null,282,{"$f":"IF(AND(ISNUMBER(A1319),NOT(ISNUMBER(A1320))),SUM(OFFSET(E1319,-Q1319,0):E1319),IF(AND(ISNUMBER(P1319),ISNUMBER(P1320),P1319  <P1320),SUM(OFFSET(E1319,-Q1319,0):E1319),\"\"))","v":{"$error":"#NAME?"}},{"$f":"IF(ISNUMBER(L1319),SUM(OFFSET(G1319,-Q1319,0):G1319),\"\")","v":""},"",{"$f":"IF(B1319>0,'Tax Scales'!U1319-D1319,\"\")","v":""},{"$error":"#NAME?"},{"$error":"#NAME?"},{"$f":"IF(ISNUMBER(G1319),IF(G1319>0,'Tax Scales'!AQ1319,\"\"),\"\")","v":""}]
["2012-11-28",null,null,null,0,{"$f":"IF(SUM($B$7:$B1320)=0,\"\",IF(A1320<>\"\",IF(A1320<$B$3,\"N\",\"Y\"),\"\"))","v":""},0,10.5,0,null,281,{"$f":"IF(AND(ISNUMBER(A1320),NOT(ISNUMBER(A1321))),SUM(OFFSET(E1320,-Q1320,0):E1320),IF(AND(ISNUMBER(P1320),ISNUMBER(P1321),P1320  <P1321),SUM(OFFSET(E1320,-Q1320,0):E1320),\"\"))","v":{"$error":"#NAME?"}},{"$f":"IF(ISNUMBER(L1320),SUM(OFFSET(G1320,-Q1320,0):G1320),\"\")","v":""},"",{"$f":"IF(B1320>0,'Tax Scales'!U1320-D1320,\"\")","v":""},{"$error":"#NAME?"},{"$error":"#NAME?"},{"$f":"IF(ISNUMBER(G1320),IF(G1320>0,'Tax Scales'!AQ1320,\"\"),\"\")","v":""}]
["2012-12-05",null,null,null,0,{"$f":"IF(SUM($B$7:$B1321)=0,\"\",IF(A1321<>\"\",IF(A1321<$B$3,\"N\",\"Y\"),\"\"))","v":""},0,10.5,0,null,280,{"$f":"IF(AND(ISNUMBER(A1321),NOT(ISNUMBER(A1322))),SUM(OFFSET(E1321,-Q1321,0):E1321),IF(AND(ISNUMBER(P1321),ISNUMBER(P1322),P1321  <P1322),SUM(OFFSET(E1321,-Q1321,0):E1321),\"\"))","v":{"$error":"#NAME?"}},{"$f":"IF(ISNUMBER(L1321),SUM(OFFSET(G1321,-Q1321,0):G1321),\"\")","v":""},"",{"$f":"IF(B1321>0,'Tax Scales'!U1321-D1321,\"\")","v":""},{"$error":"#NAME?"},{"$error":"#NAME?"},{"$f":"IF(ISNUMBER(G1321),IF(G1321>0,'Tax Scales'!AQ1321,\"\"),\"\")","v":""}]
["2012-12-12",null,null,null,0,{"$f":"IF(SUM($B$7:$B1322)=0,\"\",IF(A1322<>\"\",IF(A1322<$B$3,\"N\",\"Y\"),\"\"))","v":""},0,10.5,0,null,279,{"$f":"IF(AND(ISNUMBER(A1322),NOT(ISNUMBER(A1323))),SUM(OFFSET(E1322,-Q1322,0):E1322),IF(AND(ISNUMBER(P1322),ISNUMBER(P1323),P1322  <P1323),SUM(OFFSET(E1322,-Q1322,0):E1322),\"\"))","v":{"$error":"#NAME?"}},{"$f":"IF(ISNUMBER(L1322),SUM(OFFSET(G1322,-Q1322,0):G1322),\"\")","v":""},"",{"$f":"IF(B1322>0,'Tax Scales'!U1322-D1322,\"\")","v":""},{"$error":"#NAME?"},{"$error":"#NAME?"},{"$f":"IF(ISNUMBER(G1322),IF(G1322>0,'Tax Scales'!AQ1322,\"\"),\"\")","v":""}]
["2012-12-19",null,null,null,0,{"$f":"IF(SUM($B$7:$B1323)=0,\"\",IF(A1323<>\"\",IF(A1323<$B$3,\"N\",\"Y\"),\"\"))","v":""},0,10.5,0,null,278,{"$f":"IF(AND(ISNUMBER(A1323),NOT(ISNUMBER(A1324))),SUM(OFFSET(E1323,-Q1323,0):E1323),IF(AND(ISNUMBER(P1323),ISNUMBER(P1324),P1323  <P1324),SUM(OFFSET(E1323,-Q1323,0):E1323),\"\"))","v":{"$error":"#NAME?"}},{"$f":"IF(ISNUMBER(L1323),SUM(OFFSET(G1323,-Q1323,0):G1323),\"\")","v":""},"",{"$f":"IF(B1323>0,'Tax Scales'!U1323-D1323,\"\")","v":""},{"$error":"#NAME?"},{"$error":"#NAME?"},{"$f":"IF(ISNUMBER(G1323),IF(G1323>0,'Tax Scales'!AQ1323,\"\"),\"\")","v":""}]
["2012-12-26",null,null,null,0,{"$f":"IF(SUM($B$7:$B1324)=0,\"\",IF(A1324<>\"\",IF(A1324<$B$3,\"N\",\"Y\"),\"\"))","v":""},0,10.5,0,null,277,{"$f":"IF(AND(ISNUMBER(A1324),NOT(ISNUMBER(A1325))),SUM(OFFSET(E1324,-Q1324,0):E1324),IF(AND(ISNUMBER(P1324),ISNUMBER(P1325),P1324  <P1325),SUM(OFFSET(E1324,-Q1324,0):E1324),\"\"))","v":{"$error":"#NAME?"}},{"$f":"IF(ISNUMBER(L1324),SUM(OFFSET(G1324,-Q1324,0):G1324),\"\")","v":""},"",{"$f":"IF(B1324>0,'Tax Scales'!U1324-D1324,\"\")","v":""},{"$error":"#NAME?"},{"$error":"#NAME?"},{"$f":"IF(ISNUMBER(G1324),IF(G1324>0,'Tax Scales'!AQ1324,\"\"),\"\")","v":""}]
["2013-01-02",null,null,null,0,{"$f":"IF(SUM($B$7:$B1325)=0,\"\",IF(A1325<>\"\",IF(A1325<$B$3,\"N\",\"Y\"),\"\"))","v":""},0,10.5,0,null,276,{"$f":"IF(AND(ISNUMBER(A1325),NOT(ISNUMBER(A1326))),SUM(OFFSET(E1325,-Q1325,0):E1325),IF(AND(ISNUMBER(P1325),ISNUMBER(P1326),P1325  <P1326),SUM(OFFSET(E1325,-Q1325,0):E1325),\"\"))","v":{"$error":"#NAME?"}},{"$f":"IF(ISNUMBER(L1325),SUM(OFFSET(G1325,-Q1325,0):G1325),\"\")","v":""},"",{"$f":"IF(B1325>0,'Tax Scales'!U1325-D1325,\"\")","v":""},{"$error":"#NAME?"},{"$error":"#NAME?"},{"$f":"IF(ISNUMBER(G1325),IF(G1325>0,'Tax Scales'!AQ1325,\"\"),\"\")","v":""}]
["2013-01-09",null,null,null,0,{"$f":"IF(SUM($B$7:$B1326)=0,\"\",IF(A1326<>\"\",IF(A1326<$B$3,\"N\",\"Y\"),\"\"))","v":""},0,10.5,0,null,275,{"$f":"IF(AND(ISNUMBER(A1326),NOT(ISNUMBER(A1327))),SUM(OFFSET(E1326,-Q1326,0):E1326),IF(AND(ISNUMBER(P1326),ISNUMBER(P1327),P1326  <P1327),SUM(OFFSET(E1326,-Q1326,0):E1326),\"\"))","v":{"$error":"#NAME?"}},{"$f":"IF(ISNUMBER(L1326),SUM(OFFSET(G1326,-Q1326,0):G1326),\"\")","v":""},"",{"$f":"IF(B1326>0,'Tax Scales'!U1326-D1326,\"\")","v":""},{"$error":"#NAME?"},{"$error":"#NAME?"},{"$f":"IF(ISNUMBER(G1326),IF(G1326>0,'Tax Scales'!AQ1326,\"\"),\"\")","v":""}]
["2013-01-16",null,null,null,0,{"$f":"IF(SUM($B$7:$B1327)=0,\"\",IF(A1327<>\"\",IF(A1327<$B$3,\"N\",\"Y\"),\"\"))","v":""},0,10.5,0,null,274,{"$f":"IF(AND(ISNUMBER(A1327),NOT(ISNUMBER(A1328))),SUM(OFFSET(E1327,-Q1327,0):E1327),IF(AND(ISNUMBER(P1327),ISNUMBER(P1328),P1327  <P1328),SUM(OFFSET(E1327,-Q1327,0):E1327),\"\"))","v":{"$error":"#NAME?"}},{"$f":"IF(ISNUMBER(L1327),SUM(OFFSET(G1327,-Q1327,0):G1327),\"\")","v":""},"",{"$f":"IF(B1327>0,'Tax Scales'!U1327-D1327,\"\")","v":""},{"$error":"#NAME?"},{"$error":"#NAME?"},{"$f":"IF(ISNUMBER(G1327),IF(G1327>0,'Tax Scales'!AQ1327,\"\"),\"\")","v":""}]
["2013-01-23",null,null,null,0,{"$f":"IF(SUM($B$7:$B1328)=0,\"\",IF(A1328<>\"\",IF(A1328<$B$3,\"N\",\"Y\"),\"\"))","v":""},0,10.5,0,null,273,{"$f":"IF(AND(ISNUMBER(A1328),NOT(ISNUMBER(A1329))),SUM(OFFSET(E1328,-Q1328,0):E1328),IF(AND(ISNUMBER(P1328),ISNUMBER(P1329),P1328  <P1329),SUM(OFFSET(E1328,-Q1328,0):E1328),\"\"))","v":{"$error":"#NAME?"}},{"$f":"IF(ISNUMBER(L1328),SUM(OFFSET(G1328,-Q1328,0):G1328),\"\")","v":""},"",{"$f":"IF(B1328>0,'Tax Scales'!U1328-D1328,\"\")","v":""},{"$error":"#NAME?"},{"$error":"#NAME?"},{"$f":"IF(ISNUMBER(G1328),IF(G1328>0,'Tax Scales'!AQ1328,\"\"),\"\")","v":""}]
["2013-01-30",null,null,null,0,{"$f":"IF(SUM($B$7:$B1329)=0,\"\",IF(A1329<>\"\",IF(A1329<$B$3,\"N\",\"Y\"),\"\"))","v":""},0,10.5,0,null,272,{"$f":"IF(AND(ISNUMBER(A1329),NOT(ISNUMBER(A1330))),SUM(OFFSET(E1329,-Q1329,0):E1329),IF(AND(ISNUMBER(P1329),ISNUMBER(P1330),P1329  <P1330),SUM(OFFSET(E1329,-Q1329,0):E1329),\"\"))","v":{"$error":"#NAME?"}},{"$f":"IF(ISNUMBER(L1329),SUM(OFFSET(G1329,-Q1329,0):G1329),\"\")","v":""},"",{"$f":"IF(B1329>0,'Tax Scales'!U1329-D1329,\"\")","v":""},{"$error":"#NAME?"},{"$error":"#NAME?"},{"$f":"IF(ISNUMBER(G1329),IF(G1329>0,'Tax Scales'!AQ1329,\"\"),\"\")","v":""}]
["2013-02-06",null,null,null,0,{"$f":"IF(SUM($B$7:$B1330)=0,\"\",IF(A1330<>\"\",IF(A1330<$B$3,\"N\",\"Y\"),\"\"))","v":""},0,10.5,0,null,271,{"$f":"IF(AND(ISNUMBER(A1330),NOT(ISNUMBER(A1331))),SUM(OFFSET(E1330,-Q1330,0):E1330),IF(AND(ISNUMBER(P1330),ISNUMBER(P1331),P1330  <P1331),SUM(OFFSET(E1330,-Q1330,0):E1330),\"\"))","v":{"$error":"#NAME?"}},{"$f":"IF(ISNUMBER(L1330),SUM(OFFSET(G1330,-Q1330,0):G1330),\"\")","v":""},"",{"$f":"IF(B1330>0,'Tax Scales'!U1330-D1330,\"\")","v":""},{"$error":"#NAME?"},{"$error":"#NAME?"},{"$f":"IF(ISNUMBER(G1330),IF(G1330>0,'Tax Scales'!AQ1330,\"\"),\"\")","v":""}]
["2013-02-13",null,null,null,0,{"$f":"IF(SUM($B$7:$B1331)=0,\"\",IF(A1331<>\"\",IF(A1331<$B$3,\"N\",\"Y\"),\"\"))","v":""},0,10.5,0,null,270,{"$f":"IF(AND(ISNUMBER(A1331),NOT(ISNUMBER(A1332))),SUM(OFFSET(E1331,-Q1331,0):E1331),IF(AND(ISNUMBER(P1331),ISNUMBER(P1332),P1331  <P1332),SUM(OFFSET(E1331,-Q1331,0):E1331),\"\"))","v":{"$error":"#NAME?"}},{"$f":"IF(ISNUMBER(L1331),SUM(OFFSET(G1331,-Q1331,0):G1331),\"\")","v":""},"",{"$f":"IF(B1331>0,'Tax Scales'!U1331-D1331,\"\")","v":""},{"$error":"#NAME?"},{"$error":"#NAME?"},{"$f":"IF(ISNUMBER(G1331),IF(G1331>0,'Tax Scales'!AQ1331,\"\"),\"\")","v":""}]
["2013-02-20",null,null,null,0,{"$f":"IF(SUM($B$7:$B1332)=0,\"\",IF(A1332<>\"\",IF(A1332<$B$3,\"N\",\"Y\"),\"\"))","v":""},0,10.5,0,null,269,{"$f":"IF(AND(ISNUMBER(A1332),NOT(ISNUMBER(A1333))),SUM(OFFSET(E1332,-Q1332,0):E1332),IF(AND(ISNUMBER(P1332),ISNUMBER(P1333),P1332  <P1333),SUM(OFFSET(E1332,-Q1332,0):E1332),\"\"))","v":{"$error":"#NAME?"}},{"$f":"IF(ISNUMBER(L1332),SUM(OFFSET(G1332,-Q1332,0):G1332),\"\")","v":""},"",{"$f":"IF(B1332>0,'Tax Scales'!U1332-D1332,\"\")","v":""},{"$error":"#NAME?"},{"$error":"#NAME?"},{"$f":"IF(ISNUMBER(G1332),IF(G1332>0,'Tax Scales'!AQ1332,\"\"),\"\")","v":""}]
["2013-02-27",null,null,null,0,{"$f":"IF(SUM($B$7:$B1333)=0,\"\",IF(A1333<>\"\",IF(A1333<$B$3,\"N\",\"Y\"),\"\"))","v":""},0,10.5,0,null,268,{"$f":"IF(AND(ISNUMBER(A1333),NOT(ISNUMBER(A1334))),SUM(OFFSET(E1333,-Q1333,0):E1333),IF(AND(ISNUMBER(P1333),ISNUMBER(P1334),P1333  <P1334),SUM(OFFSET(E1333,-Q1333,0):E1333),\"\"))","v":{"$error":"#NAME?"}},{"$f":"IF(ISNUMBER(L1333),SUM(OFFSET(G1333,-Q1333,0):G1333),\"\")","v":""},"",{"$f":"IF(B1333>0,'Tax Scales'!U1333-D1333,\"\")","v":""},{"$error":"#NAME?"},{"$error":"#NAME?"},{"$f":"IF(ISNUMBER(G1333),IF(G1333>0,'Tax Scales'!AQ1333,\"\"),\"\")","v":""}]
["2013-03-06",null,null,null,0,{"$f":"IF(SUM($B$7:$B1334)=0,\"\",IF(A1334<>\"\",IF(A1334<$B$3,\"N\",\"Y\"),\"\"))","v":""},0,10.5,0,null,267,{"$f":"IF(AND(ISNUMBER(A1334),NOT(ISNUMBER(A1335))),SUM(OFFSET(E1334,-Q1334,0):E1334),IF(AND(ISNUMBER(P1334),ISNUMBER(P1335),P1334  <P1335),SUM(OFFSET(E1334,-Q1334,0):E1334),\"\"))","v":{"$error":"#NAME?"}},{"$f":"IF(ISNUMBER(L1334),SUM(OFFSET(G1334,-Q1334,0):G1334),\"\")","v":""},"",{"$f":"IF(B1334>0,'Tax Scales'!U1334-D1334,\"\")","v":""},{"$error":"#NAME?"},{"$error":"#NAME?"},{"$f":"IF(ISNUMBER(G1334),IF(G1334>0,'Tax Scales'!AQ1334,\"\"),\"\")","v":""}]
["2013-03-13",null,null,null,0,{"$f":"IF(SUM($B$7:$B1335)=0,\"\",IF(A1335<>\"\",IF(A1335<$B$3,\"N\",\"Y\"),\"\"))","v":""},0,10.5,0,null,266,{"$f":"IF(AND(ISNUMBER(A1335),NOT(ISNUMBER(A1336))),SUM(OFFSET(E1335,-Q1335,0):E1335),IF(AND(ISNUMBER(P1335),ISNUMBER(P1336),P1335  <P1336),SUM(OFFSET(E1335,-Q1335,0):E1335),\"\"))","v":{"$error":"#NAME?"}},{"$f":"IF(ISNUMBER(L1335),SUM(OFFSET(G1335,-Q1335,0):G1335),\"\")","v":""},"",{"$f":"IF(B1335>0,'Tax Scales'!U1335-D1335,\"\")","v":""},{"$error":"#NAME?"},{"$error":"#NAME?"},{"$f":"IF(ISNUMBER(G1335),IF(G1335>0,'Tax Scales'!AQ1335,\"\"),\"\")","v":""}]
["2013-03-20",null,null,null,0,{"$f":"IF(SUM($B$7:$B1336)=0,\"\",IF(A1336<>\"\",IF(A1336<$B$3,\"N\",\"Y\"),\"\"))","v":""},0,10.5,0,null,265,{"$f":"IF(AND(ISNUMBER(A1336),NOT(ISNUMBER(A1337))),SUM(OFFSET(E1336,-Q1336,0):E1336),IF(AND(ISNUMBER(P1336),ISNUMBER(P1337),P1336  <P1337),SUM(OFFSET(E1336,-Q1336,0):E1336),\"\"))","v":{"$error":"#NAME?"}},{"$f":"IF(ISNUMBER(L1336),SUM(OFFSET(G1336,-Q1336,0):G1336),\"\")","v":""},"",{"$f":"IF(B1336>0,'Tax Scales'!U1336-D1336,\"\")","v":""},{"$error":"#NAME?"},{"$error":"#NAME?"},{"$f":"IF(ISNUMBER(G1336),IF(G1336>0,'Tax Scales'!AQ1336,\"\"),\"\")","v":""}]
["2013-03-27",null,null,null,0,{"$f":"IF(SUM($B$7:$B1337)=0,\"\",IF(A1337<>\"\",IF(A1337<$B$3,\"N\",\"Y\"),\"\"))","v":""},0,10.5,0,null,264,{"$f":"IF(AND(ISNUMBER(A1337),NOT(ISNUMBER(A1338))),SUM(OFFSET(E1337,-Q1337,0):E1337),IF(AND(ISNUMBER(P1337),ISNUMBER(P1338),P1337  <P1338),SUM(OFFSET(E1337,-Q1337,0):E1337),\"\"))","v":{"$error":"#NAME?"}},{"$f":"IF(ISNUMBER(L1337),SUM(OFFSET(G1337,-Q1337,0):G1337),\"\")","v":""},"",{"$f":"IF(B1337>0,'Tax Scales'!U1337-D1337,\"\")","v":""},{"$error":"#NAME?"},{"$error":"#NAME?"},{"$f":"IF(ISNUMBER(G1337),IF(G1337>0,'Tax Scales'!AQ1337,\"\"),\"\")","v":""}]
["2013-04-03",null,null,null,0,{"$f":"IF(SUM($B$7:$B1338)=0,\"\",IF(A1338<>\"\",IF(A1338<$B$3,\"N\",\"Y\"),\"\"))","v":""},0,10.5,0,null,263,{"$f":"IF(AND(ISNUMBER(A1338),NOT(ISNUMBER(A1339))),SUM(OFFSET(E1338,-Q1338,0):E1338),IF(AND(ISNUMBER(P1338),ISNUMBER(P1339),P1338  <P1339),SUM(OFFSET(E1338,-Q1338,0):E1338),\"\"))","v":{"$error":"#NAME?"}},{"$f":"IF(ISNUMBER(L1338),SUM(OFFSET(G1338,-Q1338,0):G1338),\"\")","v":""},"",{"$f":"IF(B1338>0,'Tax Scales'!U1338-D1338,\"\")","v":""},{"$error":"#NAME?"},{"$error":"#NAME?"},{"$f":"IF(ISNUMBER(G1338),IF(G1338>0,'Tax Scales'!AQ1338,\"\"),\"\")","v":""}]
["2013-04-10",null,null,null,0,{"$f":"IF(SUM($B$7:$B1339)=0,\"\",IF(A1339<>\"\",IF(A1339<$B$3,\"N\",\"Y\"),\"\"))","v":""},0,10.5,0,null,262,{"$f":"IF(AND(ISNUMBER(A1339),NOT(ISNUMBER(A1340))),SUM(OFFSET(E1339,-Q1339,0):E1339),IF(AND(ISNUMBER(P1339),ISNUMBER(P1340),P1339  <P1340),SUM(OFFSET(E1339,-Q1339,0):E1339),\"\"))","v":{"$error":"#NAME?"}},{"$f":"IF(ISNUMBER(L1339),SUM(OFFSET(G1339,-Q1339,0):G1339),\"\")","v":""},"",{"$f":"IF(B1339>0,'Tax Scales'!U1339-D1339,\"\")","v":""},{"$error":"#NAME?"},{"$error":"#NAME?"},{"$f":"IF(ISNUMBER(G1339),IF(G1339>0,'Tax Scales'!AQ1339,\"\"),\"\")","v":""}]
["2013-04-17",null,null,null,0,{"$f":"IF(SUM($B$7:$B1340)=0,\"\",IF(A1340<>\"\",IF(A1340<$B$3,\"N\",\"Y\"),\"\"))","v":""},0,10.5,0,null,261,{"$f":"IF(AND(ISNUMBER(A1340),NOT(ISNUMBER(A1341))),SUM(OFFSET(E1340,-Q1340,0):E1340),IF(AND(ISNUMBER(P1340),ISNUMBER(P1341),P1340  <P1341),SUM(OFFSET(E1340,-Q1340,0):E1340),\"\"))","v":{"$error":"#NAME?"}},{"$f":"IF(ISNUMBER(L1340),SUM(OFFSET(G1340,-Q1340,0):G1340),\"\")","v":""},"",{"$f":"IF(B1340>0,'Tax Scales'!U1340-D1340,\"\")","v":""},{"$error":"#NAME?"},{"$error":"#NAME?"},{"$f":"IF(ISNUMBER(G1340),IF(G1340>0,'Tax Scales'!AQ1340,\"\"),\"\")","v":""}]
["2013-04-24",null,null,null,0,{"$f":"IF(SUM($B$7:$B1341)=0,\"\",IF(A1341<>\"\",IF(A1341<$B$3,\"N\",\"Y\"),\"\"))","v":""},0,10.5,0,null,260,{"$f":"IF(AND(ISNUMBER(A1341),NOT(ISNUMBER(A1342))),SUM(OFFSET(E1341,-Q1341,0):E1341),IF(AND(ISNUMBER(P1341),ISNUMBER(P1342),P1341  <P1342),SUM(OFFSET(E1341,-Q1341,0):E1341),\"\"))","v":{"$error":"#NAME?"}},{"$f":"IF(ISNUMBER(L1341),SUM(OFFSET(G1341,-Q1341,0):G1341),\"\")","v":""},"",{"$f":"IF(B1341>0,'Tax Scales'!U1341-D1341,\"\")","v":""},{"$error":"#NAME?"},{"$error":"#NAME?"},{"$f":"IF(ISNUMBER(G1341),IF(G1341>0,'Tax Scales'!AQ1341,\"\"),\"\")","v":""}]
["2013-05-01",null,null,null,0,{"$f":"IF(SUM($B$7:$B1342)=0,\"\",IF(A1342<>\"\",IF(A1342<$B$3,\"N\",\"Y\"),\"\"))","v":""},0,10.5,0,null,259,{"$f":"IF(AND(ISNUMBER(A1342),NOT(ISNUMBER(A1343))),SUM(OFFSET(E1342,-Q1342,0):E1342),IF(AND(ISNUMBER(P1342),ISNUMBER(P1343),P1342  <P1343),SUM(OFFSET(E1342,-Q1342,0):E1342),\"\"))","v":{"$error":"#NAME?"}},{"$f":"IF(ISNUMBER(L1342),SUM(OFFSET(G1342,-Q1342,0):G1342),\"\")","v":""},"",{"$f":"IF(B1342>0,'Tax Scales'!U1342-D1342,\"\")","v":""},{"$error":"#NAME?"},{"$error":"#NAME?"},{"$f":"IF(ISNUMBER(G1342),IF(G1342>0,'Tax Scales'!AQ1342,\"\"),\"\")","v":""}]
["2013-05-08",null,null,null,0,{"$f":"IF(SUM($B$7:$B1343)=0,\"\",IF(A1343<>\"\",IF(A1343<$B$3,\"N\",\"Y\"),\"\"))","v":""},0,10.5,0,null,258,{"$f":"IF(AND(ISNUMBER(A1343),NOT(ISNUMBER(A1344))),SUM(OFFSET(E1343,-Q1343,0):E1343),IF(AND(ISNUMBER(P1343),ISNUMBER(P1344),P1343  <P1344),SUM(OFFSET(E1343,-Q1343,0):E1343),\"\"))","v":{"$error":"#NAME?"}},{"$f":"IF(ISNUMBER(L1343),SUM(OFFSET(G1343,-Q1343,0):G1343),\"\")","v":""},"",{"$f":"IF(B1343>0,'Tax Scales'!U1343-D1343,\"\")","v":""},{"$error":"#NAME?"},{"$error":"#NAME?"},{"$f":"IF(ISNUMBER(G1343),IF(G1343>0,'Tax Scales'!AQ1343,\"\"),\"\")","v":""}]
["2013-05-15",null,null,null,0,{"$f":"IF(SUM($B$7:$B1344)=0,\"\",IF(A1344<>\"\",IF(A1344<$B$3,\"N\",\"Y\"),\"\"))","v":""},0,10.5,0,null,257,{"$f":"IF(AND(ISNUMBER(A1344),NOT(ISNUMBER(A1345))),SUM(OFFSET(E1344,-Q1344,0):E1344),IF(AND(ISNUMBER(P1344),ISNUMBER(P1345),P1344  <P1345),SUM(OFFSET(E1344,-Q1344,0):E1344),\"\"))","v":{"$error":"#NAME?"}},{"$f":"IF(ISNUMBER(L1344),SUM(OFFSET(G1344,-Q1344,0):G1344),\"\")","v":""},"",{"$f":"IF(B1344>0,'Tax Scales'!U1344-D1344,\"\")","v":""},{"$error":"#NAME?"},{"$error":"#NAME?"},{"$f":"IF(ISNUMBER(G1344),IF(G1344>0,'Tax Scales'!AQ1344,\"\"),\"\")","v":""}]
["2013-05-22",null,null,null,0,{"$f":"IF(SUM($B$7:$B1345)=0,\"\",IF(A1345<>\"\",IF(A1345<$B$3,\"N\",\"Y\"),\"\"))","v":""},0,10.5,0,null,256,{"$f":"IF(AND(ISNUMBER(A1345),NOT(ISNUMBER(A1346))),SUM(OFFSET(E1345,-Q1345,0):E1345),IF(AND(ISNUMBER(P1345),ISNUMBER(P1346),P1345  <P1346),SUM(OFFSET(E1345,-Q1345,0):E1345),\"\"))","v":{"$error":"#NAME?"}},{"$f":"IF(ISNUMBER(L1345),SUM(OFFSET(G1345,-Q1345,0):G1345),\"\")","v":""},"",{"$f":"IF(B1345>0,'Tax Scales'!U1345-D1345,\"\")","v":""},{"$error":"#NAME?"},{"$error":"#NAME?"},{"$f":"IF(ISNUMBER(G1345),IF(G1345>0,'Tax Scales'!AQ1345,\"\"),\"\")","v":""}]
["2013-05-29",null,null,null,0,{"$f":"IF(SUM($B$7:$B1346)=0,\"\",IF(A1346<>\"\",IF(A1346<$B$3,\"N\",\"Y\"),\"\"))","v":""},0,10.5,0,null,255,{"$f":"IF(AND(ISNUMBER(A1346),NOT(ISNUMBER(A1347))),SUM(OFFSET(E1346,-Q1346,0):E1346),IF(AND(ISNUMBER(P1346),ISNUMBER(P1347),P1346  <P1347),SUM(OFFSET(E1346,-Q1346,0):E1346),\"\"))","v":{"$error":"#NAME?"}},{"$f":"IF(ISNUMBER(L1346),SUM(OFFSET(G1346,-Q1346,0):G1346),\"\")","v":""},"",{"$f":"IF(B1346>0,'Tax Scales'!U1346-D1346,\"\")","v":""},{"$error":"#NAME?"},{"$error":"#NAME?"},{"$f":"IF(ISNUMBER(G1346),IF(G1346>0,'Tax Scales'!AQ1346,\"\"),\"\")","v":""}]
["2013-06-05",null,null,null,0,{"$f":"IF(SUM($B$7:$B1347)=0,\"\",IF(A1347<>\"\",IF(A1347<$B$3,\"N\",\"Y\"),\"\"))","v":""},0,10.5,0,null,254,{"$f":"IF(AND(ISNUMBER(A1347),NOT(ISNUMBER(A1348))),SUM(OFFSET(E1347,-Q1347,0):E1347),IF(AND(ISNUMBER(P1347),ISNUMBER(P1348),P1347  <P1348),SUM(OFFSET(E1347,-Q1347,0):E1347),\"\"))","v":{"$error":"#NAME?"}},{"$f":"IF(ISNUMBER(L1347),SUM(OFFSET(G1347,-Q1347,0):G1347),\"\")","v":""},"",{"$f":"IF(B1347>0,'Tax Scales'!U1347-D1347,\"\")","v":""},{"$error":"#NAME?"},{"$error":"#NAME?"},{"$f":"IF(ISNUMBER(G1347),IF(G1347>0,'Tax Scales'!AQ1347,\"\"),\"\")","v":""}]
["2013-06-12",null,null,null,0,{"$f":"IF(SUM($B$7:$B1348)=0,\"\",IF(A1348<>\"\",IF(A1348<$B$3,\"N\",\"Y\"),\"\"))","v":""},0,10.5,0,null,253,{"$f":"IF(AND(ISNUMBER(A1348),NOT(ISNUMBER(A1349))),SUM(OFFSET(E1348,-Q1348,0):E1348),IF(AND(ISNUMBER(P1348),ISNUMBER(P1349),P1348  <P1349),SUM(OFFSET(E1348,-Q1348,0):E1348),\"\"))","v":{"$error":"#NAME?"}},{"$f":"IF(ISNUMBER(L1348),SUM(OFFSET(G1348,-Q1348,0):G1348),\"\")","v":""},"",{"$f":"IF(B1348>0,'Tax Scales'!U1348-D1348,\"\")","v":""},{"$error":"#NAME?"},{"$error":"#NAME?"},{"$f":"IF(ISNUMBER(G1348),IF(G1348>0,'Tax Scales'!AQ1348,\"\"),\"\")","v":""}]
["2013-06-19",null,null,null,0,{"$f":"IF(SUM($B$7:$B1349)=0,\"\",IF(A1349<>\"\",IF(A1349<$B$3,\"N\",\"Y\"),\"\"))","v":""},0,10.5,0,null,252,{"$f":"IF(AND(ISNUMBER(A1349),NOT(ISNUMBER(A1350))),SUM(OFFSET(E1349,-Q1349,0):E1349),IF(AND(ISNUMBER(P1349),ISNUMBER(P1350),P1349  <P1350),SUM(OFFSET(E1349,-Q1349,0):E1349),\"\"))","v":{"$error":"#NAME?"}},{"$f":"IF(ISNUMBER(L1349),SUM(OFFSET(G1349,-Q1349,0):G1349),\"\")","v":""},"",{"$f":"IF(B1349>0,'Tax Scales'!U1349-D1349,\"\")","v":""},{"$error":"#NAME?"},{"$error":"#NAME?"},{"$f":"IF(ISNUMBER(G1349),IF(G1349>0,'Tax Scales'!AQ1349,\"\"),\"\")","v":""}]
["2013-06-26",null,null,null,0,{"$f":"IF(SUM($B$7:$B1350)=0,\"\",IF(A1350<>\"\",IF(A1350<$B$3,\"N\",\"Y\"),\"\"))","v":""},0,10.5,0,null,251,{"$f":"IF(AND(ISNUMBER(A1350),NOT(ISNUMBER(A1351))),SUM(OFFSET(E1350,-Q1350,0):E1350),IF(AND(ISNUMBER(P1350),ISNUMBER(P1351),P1350  <P1351),SUM(OFFSET(E1350,-Q1350,0):E1350),\"\"))","v":{"$error":"#NAME?"}},{"$f":"IF(ISNUMBER(L1350),SUM(OFFSET(G1350,-Q1350,0):G1350),\"\")","v":""},"",{"$f":"IF(B1350>0,'Tax Scales'!U1350-D1350,\"\")","v":""},{"$error":"#NAME?"},{"$error":"#NAME?"},{"$f":"IF(ISNUMBER(G1350),IF(G1350>0,'Tax Scales'!AQ1350,\"\"),\"\")","v":""}]
["2013-07-03",null,null,null,0,{"$f":"IF(SUM($B$7:$B1351)=0,\"\",IF(A1351<>\"\",IF(A1351<$B$3,\"N\",\"Y\"),\"\"))","v":""},0,{"$f":"IF(A1351<>\"\",10.1,\"\")","v":10.1},0,null,250,{"$f":"IF(AND(ISNUMBER(A1351),NOT(ISNUMBER(A1352))),SUM(OFFSET(E1351,-Q1351,0):E1351),IF(AND(ISNUMBER(P1351),ISNUMBER(P1352),P1351  <P1352),SUM(OFFSET(E1351,-Q1351,0):E1351),\"\"))","v":{"$error":"#NAME?"}},{"$f":"IF(ISNUMBER(L1351),SUM(OFFSET(G1351,-Q1351,0):G1351),\"\")","v":""},"",{"$f":"IF(B1351>0,'Tax Scales'!U1351-D1351,\"\")","v":""},{"$error":"#NAME?"},{"$error":"#NAME?"},{"$f":"IF(ISNUMBER(G1351),IF(G1351>0,'Tax Scales'!AQ1351,\"\"),\"\")","v":""}]
["2013-07-10",null,null,null,0,{"$f":"IF(SUM($B$7:$B1352)=0,\"\",IF(A1352<>\"\",IF(A1352<$B$3,\"N\",\"Y\"),\"\"))","v":""},0,{"$f":"IF(A1352<>\"\",10.1,\"\")","v":10.1},0,null,249,{"$f":"IF(AND(ISNUMBER(A1352),NOT(ISNUMBER(A1353))),SUM(OFFSET(E1352,-Q1352,0):E1352),IF(AND(ISNUMBER(P1352),ISNUMBER(P1353),P1352  <P1353),SUM(OFFSET(E1352,-Q1352,0):E1352),\"\"))","v":{"$error":"#NAME?"}},{"$f":"IF(ISNUMBER(L1352),SUM(OFFSET(G1352,-Q1352,0):G1352),\"\")","v":""},"",{"$f":"IF(B1352>0,'Tax Scales'!U1352-D1352,\"\")","v":""},{"$error":"#NAME?"},{"$error":"#NAME?"},{"$f":"IF(ISNUMBER(G1352),IF(G1352>0,'Tax Scales'!AQ1352,\"\"),\"\")","v":""}]
["2013-07-17",null,null,null,0,{"$f":"IF(SUM($B$7:$B1353)=0,\"\",IF(A1353<>\"\",IF(A1353<$B$3,\"N\",\"Y\"),\"\"))","v":""},{"$f":"IF(F1353=\"N\",0,IF(A1353<>\"\",IF(K1353>=0,((E1353+I1352)*(1+(H1353/52)/100)-E1353-I1352),0),\"\"))","v":0},{"$f":"IF(A1353<>\"\",10.1,\"\")","v":10.1},0,null,248,{"$f":"IF(AND(ISNUMBER(A1353),NOT(ISNUMBER(A1354))),SUM(OFFSET(E1353,-Q1353,0):E1353),IF(AND(ISNUMBER(P1353),ISNUMBER(P1354),P1353  <P1354),SUM(OFFSET(E1353,-Q1353,0):E1353),\"\"))","v":{"$error":"#NAME?"}},{"$f":"IF(ISNUMBER(L1353),SUM(OFFSET(G1353,-Q1353,0):G1353),\"\")","v":""},"",{"$f":"IF(B1353>0,'Tax Scales'!U1353-D1353,\"\")","v":""},{"$error":"#NAME?"},{"$error":"#NAME?"},{"$f":"IF(ISNUMBER(G1353),IF(G1353>0,'Tax Scales'!AQ1353,\"\"),\"\")","v":""}]
[{"$f":"IF(A1353<>\"\",IF(A1353+12<=TODAY(),+A1353+7,\"\"),\"\")","v":"2013-07-24"},null,null,null,0,{"$f":"IF(SUM($B$7:$B1354)=0,\"\",IF(A1354<>\"\",IF(A1354<$B$3,\"N\",\"Y\"),\"\"))","v":""},0,{"$f":"IF(A1354<>\"\",10.1,\"\")","v":10.1},0,null,247,{"$f":"IF(AND(ISNUMBER(A1354),NOT(ISNUMBER(A1355))),SUM(OFFSET(E1354,-Q1354,0):E1354),IF(AND(ISNUMBER(P1354),ISNUMBER(P1355),P1354  <P1355),SUM(OFFSET(E1354,-Q1354,0):E1354),\"\"))","v":{"$error":"#NAME?"}},{"$f":"IF(ISNUMBER(L1354),SUM(OFFSET(G1354,-Q1354,0):G1354),\"\")","v":""},"",{"$f":"IF(B1354>0,'Tax Scales'!U1354-D1354,\"\")","v":""},{"$error":"#NAME?"},{"$error":"#NAME?"},{"$f":"IF(ISNUMBER(G1354),IF(G1354>0,'Tax Scales'!AQ1354,\"\"),\"\")","v":""}]
["2013-07-31",null,null,null,0,{"$f":"IF(SUM($B$7:$B1355)=0,\"\",IF(A1355<>\"\",IF(A1355<$B$3,\"N\",\"Y\"),\"\"))","v":""},0,{"$f":"IF(A1355<>\"\",10.1,\"\")","v":10.1},0,null,246,{"$f":"IF(AND(ISNUMBER(A1355),NOT(ISNUMBER(A1356))),SUM(OFFSET(E1355,-Q1355,0):E1355),IF(AND(ISNUMBER(P1355),ISNUMBER(P1356),P1355  <P1356),SUM(OFFSET(E1355,-Q1355,0):E1355),\"\"))","v":{"$error":"#NAME?"}},{"$f":"IF(ISNUMBER(L1355),SUM(OFFSET(G1355,-Q1355,0):G1355),\"\")","v":""},"",{"$f":"IF(B1355>0,'Tax Scales'!U1355-D1355,\"\")","v":""},{"$error":"#NAME?"},{"$error":"#NAME?"},{"$f":"IF(ISNUMBER(G1355),IF(G1355>0,'Tax Scales'!AQ1355,\"\"),\"\")","v":""}]
["2013-08-07",null,null,null,0,{"$f":"IF(SUM($B$7:$B1356)=0,\"\",IF(A1356<>\"\",IF(A1356<$B$3,\"N\",\"Y\"),\"\"))","v":""},0,10.1,0,null,245,{"$f":"IF(AND(ISNUMBER(A1356),NOT(ISNUMBER(A1357))),SUM(OFFSET(E1356,-Q1356,0):E1356),IF(AND(ISNUMBER(P1356),ISNUMBER(P1357),P1356  <P1357),SUM(OFFSET(E1356,-Q1356,0):E1356),\"\"))","v":{"$error":"#NAME?"}},{"$f":"IF(ISNUMBER(L1356),SUM(OFFSET(G1356,-Q1356,0):G1356),\"\")","v":""},"",{"$f":"IF(B1356>0,'Tax Scales'!U1356-D1356,\"\")","v":""},{"$error":"#NAME?"},{"$error":"#NAME?"},{"$f":"IF(ISNUMBER(G1356),IF(G1356>0,'Tax Scales'!AQ1356,\"\"),\"\")","v":""}]
["2013-08-14",null,null,null,0,{"$f":"IF(SUM($B$7:$B1357)=0,\"\",IF(A1357<>\"\",IF(A1357<$B$3,\"N\",\"Y\"),\"\"))","v":""},0,10.1,0,null,244,{"$f":"IF(AND(ISNUMBER(A1357),NOT(ISNUMBER(A1358))),SUM(OFFSET(E1357,-Q1357,0):E1357),IF(AND(ISNUMBER(P1357),ISNUMBER(P1358),P1357  <P1358),SUM(OFFSET(E1357,-Q1357,0):E1357),\"\"))","v":{"$error":"#NAME?"}},{"$f":"IF(ISNUMBER(L1357),SUM(OFFSET(G1357,-Q1357,0):G1357),\"\")","v":""},"",{"$f":"IF(B1357>0,'Tax Scales'!U1357-D1357,\"\")","v":""},{"$error":"#NAME?"},{"$error":"#NAME?"},{"$f":"IF(ISNUMBER(G1357),IF(G1357>0,'Tax Scales'!AQ1357,\"\"),\"\")","v":""}]
["2013-08-21",null,null,null,0,{"$f":"IF(SUM($B$7:$B1358)=0,\"\",IF(A1358<>\"\",IF(A1358<$B$3,\"N\",\"Y\"),\"\"))","v":""},0,10.1,0,null,243,{"$f":"IF(AND(ISNUMBER(A1358),NOT(ISNUMBER(A1359))),SUM(OFFSET(E1358,-Q1358,0):E1358),IF(AND(ISNUMBER(P1358),ISNUMBER(P1359),P1358  <P1359),SUM(OFFSET(E1358,-Q1358,0):E1358),\"\"))","v":{"$error":"#NAME?"}},{"$f":"IF(ISNUMBER(L1358),SUM(OFFSET(G1358,-Q1358,0):G1358),\"\")","v":""},"",{"$f":"IF(B1358>0,'Tax Scales'!U1358-D1358,\"\")","v":""},{"$error":"#NAME?"},{"$error":"#NAME?"},{"$f":"IF(ISNUMBER(G1358),IF(G1358>0,'Tax Scales'!AQ1358,\"\"),\"\")","v":""}]
["2013-08-28",null,null,null,0,{"$f":"IF(SUM($B$7:$B1359)=0,\"\",IF(A1359<>\"\",IF(A1359<$B$3,\"N\",\"Y\"),\"\"))","v":""},0,10.1,0,null,242,{"$f":"IF(AND(ISNUMBER(A1359),NOT(ISNUMBER(A1360))),SUM(OFFSET(E1359,-Q1359,0):E1359),IF(AND(ISNUMBER(P1359),ISNUMBER(P1360),P1359  <P1360),SUM(OFFSET(E1359,-Q1359,0):E1359),\"\"))","v":{"$error":"#NAME?"}},{"$f":"IF(ISNUMBER(L1359),SUM(OFFSET(G1359,-Q1359,0):G1359),\"\")","v":""},"",{"$f":"IF(B1359>0,'Tax Scales'!U1359-D1359,\"\")","v":""},{"$error":"#NAME?"},{"$error":"#NAME?"},{"$f":"IF(ISNUMBER(G1359),IF(G1359>0,'Tax Scales'!AQ1359,\"\"),\"\")","v":""}]
["2013-09-04",null,null,null,0,{"$f":"IF(SUM($B$7:$B1360)=0,\"\",IF(A1360<>\"\",IF(A1360<$B$3,\"N\",\"Y\"),\"\"))","v":""},0,10.1,0,null,241,{"$f":"IF(AND(ISNUMBER(A1360),NOT(ISNUMBER(A1361))),SUM(OFFSET(E1360,-Q1360,0):E1360),IF(AND(ISNUMBER(P1360),ISNUMBER(P1361),P1360  <P1361),SUM(OFFSET(E1360,-Q1360,0):E1360),\"\"))","v":{"$error":"#NAME?"}},{"$f":"IF(ISNUMBER(L1360),SUM(OFFSET(G1360,-Q1360,0):G1360),\"\")","v":""},"",{"$f":"IF(B1360>0,'Tax Scales'!U1360-D1360,\"\")","v":""},{"$error":"#NAME?"},{"$error":"#NAME?"},{"$f":"IF(ISNUMBER(G1360),IF(G1360>0,'Tax Scales'!AQ1360,\"\"),\"\")","v":""}]
["2013-09-11",null,null,null,0,{"$f":"IF(SUM($B$7:$B1361)=0,\"\",IF(A1361<>\"\",IF(A1361<$B$3,\"N\",\"Y\"),\"\"))","v":""},0,10.1,0,null,240,{"$f":"IF(AND(ISNUMBER(A1361),NOT(ISNUMBER(A1362))),SUM(OFFSET(E1361,-Q1361,0):E1361),IF(AND(ISNUMBER(P1361),ISNUMBER(P1362),P1361  <P1362),SUM(OFFSET(E1361,-Q1361,0):E1361),\"\"))","v":{"$error":"#NAME?"}},{"$f":"IF(ISNUMBER(L1361),SUM(OFFSET(G1361,-Q1361,0):G1361),\"\")","v":""},"",{"$f":"IF(B1361>0,'Tax Scales'!U1361-D1361,\"\")","v":""},{"$error":"#NAME?"},{"$error":"#NAME?"},{"$f":"IF(ISNUMBER(G1361),IF(G1361>0,'Tax Scales'!AQ1361,\"\"),\"\")","v":""}]
["2013-09-18",null,null,null,{"$f":"IF(A1362<>\"\",IF(B1362-C1362>=0,B1362-C1362,0),\"\")","v":0},{"$f":"IF(SUM($B$7:$B1362)=0,\"\",IF(A1362<>\"\",IF(A1362<$B$3,\"N\",\"Y\"),\"\"))","v":""},0,10.1,{"$f":"IF(A1362<>\"\",I1361+E1362+G1362,\"\")","v":0},null,{"$f":"IF(A1362<>\"\",IF((TODAY()-A1362)/7>=0,INT((TODAY()-A1362)/7),0),\"\")","v":239},{"$f":"IF(AND(ISNUMBER(A1362),NOT(ISNUMBER(A1363))),SUM(OFFSET(E1362,-Q1362,0):E1362),IF(AND(ISNUMBER(P1362),ISNUMBER(P1363),P1362  <P1363),SUM(OFFSET(E1362,-Q1362,0):E1362),\"\"))","v":{"$error":"#NAME?"}},{"$f":"IF(ISNUMBER(L1362),SUM(OFFSET(G1362,-Q1362,0):G1362),\"\")","v":""},{"$f":"IF(B1362>0,IF(P1362  = $P$6,E1362-O1362,\"\"),\"\")","v":""},{"$f":"IF(B1362>0,'Tax Scales'!U1362-D1362,\"\")","v":""},{"$f":"IF(ISNUMBER(A1362),FinYear(A1362),\"\")","v":{"$error":"#NAME?"}},{"$f":"IF(ISNUMBER(A1362),ROUND((A1362-StartOfFinYear(P1362))/7,0),\"\")","v":{"$error":"#NAME?"}},{"$f":"IF(ISNUMBER(G1362),IF(G1362>0,'Tax Scales'!AQ1362,\"\"),\"\")","v":""}]
["2013-09-25",null,null,null,0,{"$f":"IF(SUM($B$7:$B1363)=0,\"\",IF(A1363<>\"\",IF(A1363<$B$3,\"N\",\"Y\"),\"\"))","v":""},0,10.1,0,null,238,{"$f":"IF(AND(ISNUMBER(A1363),NOT(ISNUMBER(A1364))),SUM(OFFSET(E1363,-Q1363,0):E1363),IF(AND(ISNUMBER(P1363),ISNUMBER(P1364),P1363  <P1364),SUM(OFFSET(E1363,-Q1363,0):E1363),\"\"))","v":{"$error":"#NAME?"}},{"$f":"IF(ISNUMBER(L1363),SUM(OFFSET(G1363,-Q1363,0):G1363),\"\")","v":""},"",{"$f":"IF(B1363>0,'Tax Scales'!U1363-D1363,\"\")","v":""},{"$error":"#NAME?"},{"$error":"#NAME?"},{"$f":"IF(ISNUMBER(G1363),IF(G1363>0,'Tax Scales'!AQ1363,\"\"),\"\")","v":""}]
["2013-10-02",null,null,null,0,{"$f":"IF(SUM($B$7:$B1364)=0,\"\",IF(A1364<>\"\",IF(A1364<$B$3,\"N\",\"Y\"),\"\"))","v":""},0,10.1,0,null,237,{"$f":"IF(AND(ISNUMBER(A1364),NOT(ISNUMBER(A1365))),SUM(OFFSET(E1364,-Q1364,0):E1364),IF(AND(ISNUMBER(P1364),ISNUMBER(P1365),P1364  <P1365),SUM(OFFSET(E1364,-Q1364,0):E1364),\"\"))","v":{"$error":"#NAME?"}},{"$f":"IF(ISNUMBER(L1364),SUM(OFFSET(G1364,-Q1364,0):G1364),\"\")","v":""},"",{"$f":"IF(B1364>0,'Tax Scales'!U1364-D1364,\"\")","v":""},{"$error":"#NAME?"},{"$error":"#NAME?"},{"$f":"IF(ISNUMBER(G1364),IF(G1364>0,'Tax Scales'!AQ1364,\"\"),\"\")","v":""}]
["2013-10-09",null,null,null,0,{"$f":"IF(SUM($B$7:$B1365)=0,\"\",IF(A1365<>\"\",IF(A1365<$B$3,\"N\",\"Y\"),\"\"))","v":""},0,10.1,0,null,236,{"$f":"IF(AND(ISNUMBER(A1365),NOT(ISNUMBER(A1366))),SUM(OFFSET(E1365,-Q1365,0):E1365),IF(AND(ISNUMBER(P1365),ISNUMBER(P1366),P1365  <P1366),SUM(OFFSET(E1365,-Q1365,0):E1365),\"\"))","v":{"$error":"#NAME?"}},{"$f":"IF(ISNUMBER(L1365),SUM(OFFSET(G1365,-Q1365,0):G1365),\"\")","v":""},"",{"$f":"IF(B1365>0,'Tax Scales'!U1365-D1365,\"\")","v":""},{"$error":"#NAME?"},{"$error":"#NAME?"},{"$f":"IF(ISNUMBER(G1365),IF(G1365>0,'Tax Scales'!AQ1365,\"\"),\"\")","v":""}]
["2013-10-16",null,null,null,0,{"$f":"IF(SUM($B$7:$B1366)=0,\"\",IF(A1366<>\"\",IF(A1366<$B$3,\"N\",\"Y\"),\"\"))","v":""},0,10.1,0,null,235,{"$f":"IF(AND(ISNUMBER(A1366),NOT(ISNUMBER(A1367))),SUM(OFFSET(E1366,-Q1366,0):E1366),IF(AND(ISNUMBER(P1366),ISNUMBER(P1367),P1366  <P1367),SUM(OFFSET(E1366,-Q1366,0):E1366),\"\"))","v":{"$error":"#NAME?"}},{"$f":"IF(ISNUMBER(L1366),SUM(OFFSET(G1366,-Q1366,0):G1366),\"\")","v":""},"",{"$f":"IF(B1366>0,'Tax Scales'!U1366-D1366,\"\")","v":""},{"$error":"#NAME?"},{"$error":"#NAME?"},{"$f":"IF(ISNUMBER(G1366),IF(G1366>0,'Tax Scales'!AQ1366,\"\"),\"\")","v":""}]
["2013-10-23",null,null,null,0,{"$f":"IF(SUM($B$7:$B1367)=0,\"\",IF(A1367<>\"\",IF(A1367<$B$3,\"N\",\"Y\"),\"\"))","v":""},0,10.1,0,null,234,{"$f":"IF(AND(ISNUMBER(A1367),NOT(ISNUMBER(A1368))),SUM(OFFSET(E1367,-Q1367,0):E1367),IF(AND(ISNUMBER(P1367),ISNUMBER(P1368),P1367  <P1368),SUM(OFFSET(E1367,-Q1367,0):E1367),\"\"))","v":{"$error":"#NAME?"}},{"$f":"IF(ISNUMBER(L1367),SUM(OFFSET(G1367,-Q1367,0):G1367),\"\")","v":""},"",{"$f":"IF(B1367>0,'Tax Scales'!U1367-D1367,\"\")","v":""},{"$error":"#NAME?"},{"$error":"#NAME?"},{"$f":"IF(ISNUMBER(G1367),IF(G1367>0,'Tax Scales'!AQ1367,\"\"),\"\")","v":""}]
["2013-10-30",null,null,null,0,{"$f":"IF(SUM($B$7:$B1368)=0,\"\",IF(A1368<>\"\",IF(A1368<$B$3,\"N\",\"Y\"),\"\"))","v":""},0,10.1,0,null,233,{"$f":"IF(AND(ISNUMBER(A1368),NOT(ISNUMBER(A1369))),SUM(OFFSET(E1368,-Q1368,0):E1368),IF(AND(ISNUMBER(P1368),ISNUMBER(P1369),P1368  <P1369),SUM(OFFSET(E1368,-Q1368,0):E1368),\"\"))","v":{"$error":"#NAME?"}},{"$f":"IF(ISNUMBER(L1368),SUM(OFFSET(G1368,-Q1368,0):G1368),\"\")","v":""},"",{"$f":"IF(B1368>0,'Tax Scales'!U1368-D1368,\"\")","v":""},{"$error":"#NAME?"},{"$error":"#NAME?"},{"$f":"IF(ISNUMBER(G1368),IF(G1368>0,'Tax Scales'!AQ1368,\"\"),\"\")","v":""}]
["2013-11-06",null,null,null,0,{"$f":"IF(SUM($B$7:$B1369)=0,\"\",IF(A1369<>\"\",IF(A1369<$B$3,\"N\",\"Y\"),\"\"))","v":""},0,10.1,0,null,232,{"$f":"IF(AND(ISNUMBER(A1369),NOT(ISNUMBER(A1370))),SUM(OFFSET(E1369,-Q1369,0):E1369),IF(AND(ISNUMBER(P1369),ISNUMBER(P1370),P1369  <P1370),SUM(OFFSET(E1369,-Q1369,0):E1369),\"\"))","v":{"$error":"#NAME?"}},{"$f":"IF(ISNUMBER(L1369),SUM(OFFSET(G1369,-Q1369,0):G1369),\"\")","v":""},"",{"$f":"IF(B1369>0,'Tax Scales'!U1369-D1369,\"\")","v":""},{"$error":"#NAME?"},{"$error":"#NAME?"},{"$f":"IF(ISNUMBER(G1369),IF(G1369>0,'Tax Scales'!AQ1369,\"\"),\"\")","v":""}]
["2013-11-13",null,null,null,0,{"$f":"IF(SUM($B$7:$B1370)=0,\"\",IF(A1370<>\"\",IF(A1370<$B$3,\"N\",\"Y\"),\"\"))","v":""},0,10.1,0,null,231,{"$f":"IF(AND(ISNUMBER(A1370),NOT(ISNUMBER(A1371))),SUM(OFFSET(E1370,-Q1370,0):E1370),IF(AND(ISNUMBER(P1370),ISNUMBER(P1371),P1370  <P1371),SUM(OFFSET(E1370,-Q1370,0):E1370),\"\"))","v":{"$error":"#NAME?"}},{"$f":"IF(ISNUMBER(L1370),SUM(OFFSET(G1370,-Q1370,0):G1370),\"\")","v":""},"",{"$f":"IF(B1370>0,'Tax Scales'!U1370-D1370,\"\")","v":""},{"$error":"#NAME?"},{"$error":"#NAME?"},{"$f":"IF(ISNUMBER(G1370),IF(G1370>0,'Tax Scales'!AQ1370,\"\"),\"\")","v":""}]
["2013-11-20",null,null,null,0,{"$f":"IF(SUM($B$7:$B1371)=0,\"\",IF(A1371<>\"\",IF(A1371<$B$3,\"N\",\"Y\"),\"\"))","v":""},0,10.1,0,null,230,{"$f":"IF(AND(ISNUMBER(A1371),NOT(ISNUMBER(A1372))),SUM(OFFSET(E1371,-Q1371,0):E1371),IF(AND(ISNUMBER(P1371),ISNUMBER(P1372),P1371  <P1372),SUM(OFFSET(E1371,-Q1371,0):E1371),\"\"))","v":{"$error":"#NAME?"}},{"$f":"IF(ISNUMBER(L1371),SUM(OFFSET(G1371,-Q1371,0):G1371),\"\")","v":""},"",{"$f":"IF(B1371>0,'Tax Scales'!U1371-D1371,\"\")","v":""},{"$error":"#NAME?"},{"$error":"#NAME?"},{"$f":"IF(ISNUMBER(G1371),IF(G1371>0,'Tax Scales'!AQ1371,\"\"),\"\")","v":""}]
["2013-11-27",null,null,null,0,{"$f":"IF(SUM($B$7:$B1372)=0,\"\",IF(A1372<>\"\",IF(A1372<$B$3,\"N\",\"Y\"),\"\"))","v":""},0,10.1,0,null,229,{"$f":"IF(AND(ISNUMBER(A1372),NOT(ISNUMBER(A1373))),SUM(OFFSET(E1372,-Q1372,0):E1372),IF(AND(ISNUMBER(P1372),ISNUMBER(P1373),P1372  <P1373),SUM(OFFSET(E1372,-Q1372,0):E1372),\"\"))","v":{"$error":"#NAME?"}},{"$f":"IF(ISNUMBER(L1372),SUM(OFFSET(G1372,-Q1372,0):G1372),\"\")","v":""},"",{"$f":"IF(B1372>0,'Tax Scales'!U1372-D1372,\"\")","v":""},{"$error":"#NAME?"},{"$error":"#NAME?"},{"$f":"IF(ISNUMBER(G1372),IF(G1372>0,'Tax Scales'!AQ1372,\"\"),\"\")","v":""}]
["2013-12-04",null,null,null,0,{"$f":"IF(SUM($B$7:$B1373)=0,\"\",IF(A1373<>\"\",IF(A1373<$B$3,\"N\",\"Y\"),\"\"))","v":""},0,10.1,0,null,228,{"$f":"IF(AND(ISNUMBER(A1373),NOT(ISNUMBER(A1374))),SUM(OFFSET(E1373,-Q1373,0):E1373),IF(AND(ISNUMBER(P1373),ISNUMBER(P1374),P1373  <P1374),SUM(OFFSET(E1373,-Q1373,0):E1373),\"\"))","v":{"$error":"#NAME?"}},{"$f":"IF(ISNUMBER(L1373),SUM(OFFSET(G1373,-Q1373,0):G1373),\"\")","v":""},"",{"$f":"IF(B1373>0,'Tax Scales'!U1373-D1373,\"\")","v":""},{"$error":"#NAME?"},{"$error":"#NAME?"},{"$f":"IF(ISNUMBER(G1373),IF(G1373>0,'Tax Scales'!AQ1373,\"\"),\"\")","v":""}]
["2013-12-11",null,null,null,0,{"$f":"IF(SUM($B$7:$B1374)=0,\"\",IF(A1374<>\"\",IF(A1374<$B$3,\"N\",\"Y\"),\"\"))","v":""},0,10.1,0,null,227,{"$f":"IF(AND(ISNUMBER(A1374),NOT(ISNUMBER(A1375))),SUM(OFFSET(E1374,-Q1374,0):E1374),IF(AND(ISNUMBER(P1374),ISNUMBER(P1375),P1374  <P1375),SUM(OFFSET(E1374,-Q1374,0):E1374),\"\"))","v":{"$error":"#NAME?"}},{"$f":"IF(ISNUMBER(L1374),SUM(OFFSET(G1374,-Q1374,0):G1374),\"\")","v":""},"",{"$f":"IF(B1374>0,'Tax Scales'!U1374-D1374,\"\")","v":""},{"$error":"#NAME?"},{"$error":"#NAME?"},{"$f":"IF(ISNUMBER(G1374),IF(G1374>0,'Tax Scales'!AQ1374,\"\"),\"\")","v":""}]
["2013-12-18",null,null,null,0,{"$f":"IF(SUM($B$7:$B1375)=0,\"\",IF(A1375<>\"\",IF(A1375<$B$3,\"N\",\"Y\"),\"\"))","v":""},0,10.1,0,null,226,{"$f":"IF(AND(ISNUMBER(A1375),NOT(ISNUMBER(A1376))),SUM(OFFSET(E1375,-Q1375,0):E1375),IF(AND(ISNUMBER(P1375),ISNUMBER(P1376),P1375  <P1376),SUM(OFFSET(E1375,-Q1375,0):E1375),\"\"))","v":{"$error":"#NAME?"}},{"$f":"IF(ISNUMBER(L1375),SUM(OFFSET(G1375,-Q1375,0):G1375),\"\")","v":""},"",{"$f":"IF(B1375>0,'Tax Scales'!U1375-D1375,\"\")","v":""},{"$error":"#NAME?"},{"$error":"#NAME?"},{"$f":"IF(ISNUMBER(G1375),IF(G1375>0,'Tax Scales'!AQ1375,\"\"),\"\")","v":""}]
["2013-12-25",null,null,null,0,{"$f":"IF(SUM($B$7:$B1376)=0,\"\",IF(A1376<>\"\",IF(A1376<$B$3,\"N\",\"Y\"),\"\"))","v":""},0,10.1,0,null,225,{"$f":"IF(AND(ISNUMBER(A1376),NOT(ISNUMBER(A1377))),SUM(OFFSET(E1376,-Q1376,0):E1376),IF(AND(ISNUMBER(P1376),ISNUMBER(P1377),P1376  <P1377),SUM(OFFSET(E1376,-Q1376,0):E1376),\"\"))","v":{"$error":"#NAME?"}},{"$f":"IF(ISNUMBER(L1376),SUM(OFFSET(G1376,-Q1376,0):G1376),\"\")","v":""},"",{"$f":"IF(B1376>0,'Tax Scales'!U1376-D1376,\"\")","v":""},{"$error":"#NAME?"},{"$error":"#NAME?"},{"$f":"IF(ISNUMBER(G1376),IF(G1376>0,'Tax Scales'!AQ1376,\"\"),\"\")","v":""}]
["2014-01-01",null,null,null,0,{"$f":"IF(SUM($B$7:$B1377)=0,\"\",IF(A1377<>\"\",IF(A1377<$B$3,\"N\",\"Y\"),\"\"))","v":""},0,10.1,0,null,224,{"$f":"IF(AND(ISNUMBER(A1377),NOT(ISNUMBER(A1378))),SUM(OFFSET(E1377,-Q1377,0):E1377),IF(AND(ISNUMBER(P1377),ISNUMBER(P1378),P1377  <P1378),SUM(OFFSET(E1377,-Q1377,0):E1377),\"\"))","v":{"$error":"#NAME?"}},{"$f":"IF(ISNUMBER(L1377),SUM(OFFSET(G1377,-Q1377,0):G1377),\"\")","v":""},"",{"$f":"IF(B1377>0,'Tax Scales'!U1377-D1377,\"\")","v":""},{"$error":"#NAME?"},{"$error":"#NAME?"},{"$f":"IF(ISNUMBER(G1377),IF(G1377>0,'Tax Scales'!AQ1377,\"\"),\"\")","v":""}]
["2014-01-08",null,null,null,0,{"$f":"IF(SUM($B$7:$B1378)=0,\"\",IF(A1378<>\"\",IF(A1378<$B$3,\"N\",\"Y\"),\"\"))","v":""},0,10.1,0,null,223,{"$f":"IF(AND(ISNUMBER(A1378),NOT(ISNUMBER(A1379))),SUM(OFFSET(E1378,-Q1378,0):E1378),IF(AND(ISNUMBER(P1378),ISNUMBER(P1379),P1378  <P1379),SUM(OFFSET(E1378,-Q1378,0):E1378),\"\"))","v":{"$error":"#NAME?"}},{"$f":"IF(ISNUMBER(L1378),SUM(OFFSET(G1378,-Q1378,0):G1378),\"\")","v":""},"",{"$f":"IF(B1378>0,'Tax Scales'!U1378-D1378,\"\")","v":""},{"$error":"#NAME?"},{"$error":"#NAME?"},{"$f":"IF(ISNUMBER(G1378),IF(G1378>0,'Tax Scales'!AQ1378,\"\"),\"\")","v":""}]
["2014-01-15",null,null,null,0,{"$f":"IF(SUM($B$7:$B1379)=0,\"\",IF(A1379<>\"\",IF(A1379<$B$3,\"N\",\"Y\"),\"\"))","v":""},0,10.1,0,null,222,{"$f":"IF(AND(ISNUMBER(A1379),NOT(ISNUMBER(A1380))),SUM(OFFSET(E1379,-Q1379,0):E1379),IF(AND(ISNUMBER(P1379),ISNUMBER(P1380),P1379  <P1380),SUM(OFFSET(E1379,-Q1379,0):E1379),\"\"))","v":{"$error":"#NAME?"}},{"$f":"IF(ISNUMBER(L1379),SUM(OFFSET(G1379,-Q1379,0):G1379),\"\")","v":""},"",{"$f":"IF(B1379>0,'Tax Scales'!U1379-D1379,\"\")","v":""},{"$error":"#NAME?"},{"$error":"#NAME?"},{"$f":"IF(ISNUMBER(G1379),IF(G1379>0,'Tax Scales'!AQ1379,\"\"),\"\")","v":""}]
["2014-01-22",null,null,null,0,{"$f":"IF(SUM($B$7:$B1380)=0,\"\",IF(A1380<>\"\",IF(A1380<$B$3,\"N\",\"Y\"),\"\"))","v":""},0,10.1,0,null,221,{"$f":"IF(AND(ISNUMBER(A1380),NOT(ISNUMBER(A1381))),SUM(OFFSET(E1380,-Q1380,0):E1380),IF(AND(ISNUMBER(P1380),ISNUMBER(P1381),P1380  <P1381),SUM(OFFSET(E1380,-Q1380,0):E1380),\"\"))","v":{"$error":"#NAME?"}},{"$f":"IF(ISNUMBER(L1380),SUM(OFFSET(G1380,-Q1380,0):G1380),\"\")","v":""},"",{"$f":"IF(B1380>0,'Tax Scales'!U1380-D1380,\"\")","v":""},{"$error":"#NAME?"},{"$error":"#NAME?"},{"$f":"IF(ISNUMBER(G1380),IF(G1380>0,'Tax Scales'!AQ1380,\"\"),\"\")","v":""}]
["2014-01-29",null,null,null,0,{"$f":"IF(SUM($B$7:$B1381)=0,\"\",IF(A1381<>\"\",IF(A1381<$B$3,\"N\",\"Y\"),\"\"))","v":""},0,10.1,0,null,220,{"$f":"IF(AND(ISNUMBER(A1381),NOT(ISNUMBER(A1382))),SUM(OFFSET(E1381,-Q1381,0):E1381),IF(AND(ISNUMBER(P1381),ISNUMBER(P1382),P1381  <P1382),SUM(OFFSET(E1381,-Q1381,0):E1381),\"\"))","v":{"$error":"#NAME?"}},{"$f":"IF(ISNUMBER(L1381),SUM(OFFSET(G1381,-Q1381,0):G1381),\"\")","v":""},"",{"$f":"IF(B1381>0,'Tax Scales'!U1381-D1381,\"\")","v":""},{"$error":"#NAME?"},{"$error":"#NAME?"},{"$f":"IF(ISNUMBER(G1381),IF(G1381>0,'Tax Scales'!AQ1381,\"\"),\"\")","v":""}]
["2014-02-05",null,null,null,0,{"$f":"IF(SUM($B$7:$B1382)=0,\"\",IF(A1382<>\"\",IF(A1382<$B$3,\"N\",\"Y\"),\"\"))","v":""},0,10.1,0,null,219,{"$f":"IF(AND(ISNUMBER(A1382),NOT(ISNUMBER(A1383))),SUM(OFFSET(E1382,-Q1382,0):E1382),IF(AND(ISNUMBER(P1382),ISNUMBER(P1383),P1382  <P1383),SUM(OFFSET(E1382,-Q1382,0):E1382),\"\"))","v":{"$error":"#NAME?"}},{"$f":"IF(ISNUMBER(L1382),SUM(OFFSET(G1382,-Q1382,0):G1382),\"\")","v":""},"",{"$f":"IF(B1382>0,'Tax Scales'!U1382-D1382,\"\")","v":""},{"$error":"#NAME?"},{"$error":"#NAME?"},{"$f":"IF(ISNUMBER(G1382),IF(G1382>0,'Tax Scales'!AQ1382,\"\"),\"\")","v":""}]
["2014-02-12",null,null,null,0,{"$f":"IF(SUM($B$7:$B1383)=0,\"\",IF(A1383<>\"\",IF(A1383<$B$3,\"N\",\"Y\"),\"\"))","v":""},0,10.1,0,null,218,{"$f":"IF(AND(ISNUMBER(A1383),NOT(ISNUMBER(A1384))),SUM(OFFSET(E1383,-Q1383,0):E1383),IF(AND(ISNUMBER(P1383),ISNUMBER(P1384),P1383  <P1384),SUM(OFFSET(E1383,-Q1383,0):E1383),\"\"))","v":{"$error":"#NAME?"}},{"$f":"IF(ISNUMBER(L1383),SUM(OFFSET(G1383,-Q1383,0):G1383),\"\")","v":""},"",{"$f":"IF(B1383>0,'Tax Scales'!U1383-D1383,\"\")","v":""},{"$error":"#NAME?"},{"$error":"#NAME?"},{"$f":"IF(ISNUMBER(G1383),IF(G1383>0,'Tax Scales'!AQ1383,\"\"),\"\")","v":""}]
["2014-02-19",null,null,null,0,{"$f":"IF(SUM($B$7:$B1384)=0,\"\",IF(A1384<>\"\",IF(A1384<$B$3,\"N\",\"Y\"),\"\"))","v":""},0,10.1,0,null,217,{"$f":"IF(AND(ISNUMBER(A1384),NOT(ISNUMBER(A1385))),SUM(OFFSET(E1384,-Q1384,0):E1384),IF(AND(ISNUMBER(P1384),ISNUMBER(P1385),P1384  <P1385),SUM(OFFSET(E1384,-Q1384,0):E1384),\"\"))","v":{"$error":"#NAME?"}},{"$f":"IF(ISNUMBER(L1384),SUM(OFFSET(G1384,-Q1384,0):G1384),\"\")","v":""},"",{"$f":"IF(B1384>0,'Tax Scales'!U1384-D1384,\"\")","v":""},{"$error":"#NAME?"},{"$error":"#NAME?"},{"$f":"IF(ISNUMBER(G1384),IF(G1384>0,'Tax Scales'!AQ1384,\"\"),\"\")","v":""}]
["2014-02-26",null,null,null,0,{"$f":"IF(SUM($B$7:$B1385)=0,\"\",IF(A1385<>\"\",IF(A1385<$B$3,\"N\",\"Y\"),\"\"))","v":""},0,10.1,0,null,216,{"$f":"IF(AND(ISNUMBER(A1385),NOT(ISNUMBER(A1386))),SUM(OFFSET(E1385,-Q1385,0):E1385),IF(AND(ISNUMBER(P1385),ISNUMBER(P1386),P1385  <P1386),SUM(OFFSET(E1385,-Q1385,0):E1385),\"\"))","v":{"$error":"#NAME?"}},{"$f":"IF(ISNUMBER(L1385),SUM(OFFSET(G1385,-Q1385,0):G1385),\"\")","v":""},"",{"$f":"IF(B1385>0,'Tax Scales'!U1385-D1385,\"\")","v":""},{"$error":"#NAME?"},{"$error":"#NAME?"},{"$f":"IF(ISNUMBER(G1385),IF(G1385>0,'Tax Scales'!AQ1385,\"\"),\"\")","v":""}]
["2014-03-05",null,null,null,0,{"$f":"IF(SUM($B$7:$B1386)=0,\"\",IF(A1386<>\"\",IF(A1386<$B$3,\"N\",\"Y\"),\"\"))","v":""},0,10.1,0,null,215,{"$f":"IF(AND(ISNUMBER(A1386),NOT(ISNUMBER(A1387))),SUM(OFFSET(E1386,-Q1386,0):E1386),IF(AND(ISNUMBER(P1386),ISNUMBER(P1387),P1386  <P1387),SUM(OFFSET(E1386,-Q1386,0):E1386),\"\"))","v":{"$error":"#NAME?"}},{"$f":"IF(ISNUMBER(L1386),SUM(OFFSET(G1386,-Q1386,0):G1386),\"\")","v":""},"",{"$f":"IF(B1386>0,'Tax Scales'!U1386-D1386,\"\")","v":""},{"$error":"#NAME?"},{"$error":"#NAME?"},{"$f":"IF(ISNUMBER(G1386),IF(G1386>0,'Tax Scales'!AQ1386,\"\"),\"\")","v":""}]
["2014-03-12",null,null,null,0,{"$f":"IF(SUM($B$7:$B1387)=0,\"\",IF(A1387<>\"\",IF(A1387<$B$3,\"N\",\"Y\"),\"\"))","v":""},0,10.1,0,null,214,{"$f":"IF(AND(ISNUMBER(A1387),NOT(ISNUMBER(A1388))),SUM(OFFSET(E1387,-Q1387,0):E1387),IF(AND(ISNUMBER(P1387),ISNUMBER(P1388),P1387  <P1388),SUM(OFFSET(E1387,-Q1387,0):E1387),\"\"))","v":{"$error":"#NAME?"}},{"$f":"IF(ISNUMBER(L1387),SUM(OFFSET(G1387,-Q1387,0):G1387),\"\")","v":""},"",{"$f":"IF(B1387>0,'Tax Scales'!U1387-D1387,\"\")","v":""},{"$error":"#NAME?"},{"$error":"#NAME?"},{"$f":"IF(ISNUMBER(G1387),IF(G1387>0,'Tax Scales'!AQ1387,\"\"),\"\")","v":""}]
["2014-03-19",null,null,null,0,{"$f":"IF(SUM($B$7:$B1388)=0,\"\",IF(A1388<>\"\",IF(A1388<$B$3,\"N\",\"Y\"),\"\"))","v":""},0,10.1,0,null,213,{"$f":"IF(AND(ISNUMBER(A1388),NOT(ISNUMBER(A1389))),SUM(OFFSET(E1388,-Q1388,0):E1388),IF(AND(ISNUMBER(P1388),ISNUMBER(P1389),P1388  <P1389),SUM(OFFSET(E1388,-Q1388,0):E1388),\"\"))","v":{"$error":"#NAME?"}},{"$f":"IF(ISNUMBER(L1388),SUM(OFFSET(G1388,-Q1388,0):G1388),\"\")","v":""},"",{"$f":"IF(B1388>0,'Tax Scales'!U1388-D1388,\"\")","v":""},{"$error":"#NAME?"},{"$error":"#NAME?"},{"$f":"IF(ISNUMBER(G1388),IF(G1388>0,'Tax Scales'!AQ1388,\"\"),\"\")","v":""}]
["2014-03-26",null,null,null,0,{"$f":"IF(SUM($B$7:$B1389)=0,\"\",IF(A1389<>\"\",IF(A1389<$B$3,\"N\",\"Y\"),\"\"))","v":""},0,10.1,0,null,212,{"$f":"IF(AND(ISNUMBER(A1389),NOT(ISNUMBER(A1390))),SUM(OFFSET(E1389,-Q1389,0):E1389),IF(AND(ISNUMBER(P1389),ISNUMBER(P1390),P1389  <P1390),SUM(OFFSET(E1389,-Q1389,0):E1389),\"\"))","v":{"$error":"#NAME?"}},{"$f":"IF(ISNUMBER(L1389),SUM(OFFSET(G1389,-Q1389,0):G1389),\"\")","v":""},"",{"$f":"IF(B1389>0,'Tax Scales'!U1389-D1389,\"\")","v":""},{"$error":"#NAME?"},{"$error":"#NAME?"},{"$f":"IF(ISNUMBER(G1389),IF(G1389>0,'Tax Scales'!AQ1389,\"\"),\"\")","v":""}]
["2014-04-02",null,null,null,0,{"$f":"IF(SUM($B$7:$B1390)=0,\"\",IF(A1390<>\"\",IF(A1390<$B$3,\"N\",\"Y\"),\"\"))","v":""},0,10.1,0,null,211,{"$f":"IF(AND(ISNUMBER(A1390),NOT(ISNUMBER(A1391))),SUM(OFFSET(E1390,-Q1390,0):E1390),IF(AND(ISNUMBER(P1390),ISNUMBER(P1391),P1390  <P1391),SUM(OFFSET(E1390,-Q1390,0):E1390),\"\"))","v":{"$error":"#NAME?"}},{"$f":"IF(ISNUMBER(L1390),SUM(OFFSET(G1390,-Q1390,0):G1390),\"\")","v":""},"",{"$f":"IF(B1390>0,'Tax Scales'!U1390-D1390,\"\")","v":""},{"$error":"#NAME?"},{"$error":"#NAME?"},{"$f":"IF(ISNUMBER(G1390),IF(G1390>0,'Tax Scales'!AQ1390,\"\"),\"\")","v":""}]
["2014-04-09",null,null,null,0,{"$f":"IF(SUM($B$7:$B1391)=0,\"\",IF(A1391<>\"\",IF(A1391<$B$3,\"N\",\"Y\"),\"\"))","v":""},0,10.1,0,null,210,{"$f":"IF(AND(ISNUMBER(A1391),NOT(ISNUMBER(A1392))),SUM(OFFSET(E1391,-Q1391,0):E1391),IF(AND(ISNUMBER(P1391),ISNUMBER(P1392),P1391  <P1392),SUM(OFFSET(E1391,-Q1391,0):E1391),\"\"))","v":{"$error":"#NAME?"}},{"$f":"IF(ISNUMBER(L1391),SUM(OFFSET(G1391,-Q1391,0):G1391),\"\")","v":""},"",{"$f":"IF(B1391>0,'Tax Scales'!U1391-D1391,\"\")","v":""},{"$error":"#NAME?"},{"$error":"#NAME?"},{"$f":"IF(ISNUMBER(G1391),IF(G1391>0,'Tax Scales'!AQ1391,\"\"),\"\")","v":""}]
["2014-04-16",null,null,null,0,{"$f":"IF(SUM($B$7:$B1392)=0,\"\",IF(A1392<>\"\",IF(A1392<$B$3,\"N\",\"Y\"),\"\"))","v":""},0,10.1,0,null,209,{"$f":"IF(AND(ISNUMBER(A1392),NOT(ISNUMBER(A1393))),SUM(OFFSET(E1392,-Q1392,0):E1392),IF(AND(ISNUMBER(P1392),ISNUMBER(P1393),P1392  <P1393),SUM(OFFSET(E1392,-Q1392,0):E1392),\"\"))","v":{"$error":"#NAME?"}},{"$f":"IF(ISNUMBER(L1392),SUM(OFFSET(G1392,-Q1392,0):G1392),\"\")","v":""},"",{"$f":"IF(B1392>0,'Tax Scales'!U1392-D1392,\"\")","v":""},{"$error":"#NAME?"},{"$error":"#NAME?"},{"$f":"IF(ISNUMBER(G1392),IF(G1392>0,'Tax Scales'!AQ1392,\"\"),\"\")","v":""}]
["2014-04-23",null,null,null,0,{"$f":"IF(SUM($B$7:$B1393)=0,\"\",IF(A1393<>\"\",IF(A1393<$B$3,\"N\",\"Y\"),\"\"))","v":""},0,10.1,0,null,208,{"$f":"IF(AND(ISNUMBER(A1393),NOT(ISNUMBER(A1394))),SUM(OFFSET(E1393,-Q1393,0):E1393),IF(AND(ISNUMBER(P1393),ISNUMBER(P1394),P1393  <P1394),SUM(OFFSET(E1393,-Q1393,0):E1393),\"\"))","v":{"$error":"#NAME?"}},{"$f":"IF(ISNUMBER(L1393),SUM(OFFSET(G1393,-Q1393,0):G1393),\"\")","v":""},"",{"$f":"IF(B1393>0,'Tax Scales'!U1393-D1393,\"\")","v":""},{"$error":"#NAME?"},{"$error":"#NAME?"},{"$f":"IF(ISNUMBER(G1393),IF(G1393>0,'Tax Scales'!AQ1393,\"\"),\"\")","v":""}]
["2014-04-30",null,null,null,0,{"$f":"IF(SUM($B$7:$B1394)=0,\"\",IF(A1394<>\"\",IF(A1394<$B$3,\"N\",\"Y\"),\"\"))","v":""},0,10.1,0,null,207,{"$f":"IF(AND(ISNUMBER(A1394),NOT(ISNUMBER(A1395))),SUM(OFFSET(E1394,-Q1394,0):E1394),IF(AND(ISNUMBER(P1394),ISNUMBER(P1395),P1394  <P1395),SUM(OFFSET(E1394,-Q1394,0):E1394),\"\"))","v":{"$error":"#NAME?"}},{"$f":"IF(ISNUMBER(L1394),SUM(OFFSET(G1394,-Q1394,0):G1394),\"\")","v":""},"",{"$f":"IF(B1394>0,'Tax Scales'!U1394-D1394,\"\")","v":""},{"$error":"#NAME?"},{"$error":"#NAME?"},{"$f":"IF(ISNUMBER(G1394),IF(G1394>0,'Tax Scales'!AQ1394,\"\"),\"\")","v":""}]
["2014-05-07",null,null,null,0,{"$f":"IF(SUM($B$7:$B1395)=0,\"\",IF(A1395<>\"\",IF(A1395<$B$3,\"N\",\"Y\"),\"\"))","v":""},0,10.1,0,null,206,{"$f":"IF(AND(ISNUMBER(A1395),NOT(ISNUMBER(A1396))),SUM(OFFSET(E1395,-Q1395,0):E1395),IF(AND(ISNUMBER(P1395),ISNUMBER(P1396),P1395  <P1396),SUM(OFFSET(E1395,-Q1395,0):E1395),\"\"))","v":{"$error":"#NAME?"}},{"$f":"IF(ISNUMBER(L1395),SUM(OFFSET(G1395,-Q1395,0):G1395),\"\")","v":""},"",{"$f":"IF(B1395>0,'Tax Scales'!U1395-D1395,\"\")","v":""},{"$error":"#NAME?"},{"$error":"#NAME?"},{"$f":"IF(ISNUMBER(G1395),IF(G1395>0,'Tax Scales'!AQ1395,\"\"),\"\")","v":""}]
["2014-05-14",null,null,null,0,{"$f":"IF(SUM($B$7:$B1396)=0,\"\",IF(A1396<>\"\",IF(A1396<$B$3,\"N\",\"Y\"),\"\"))","v":""},0,10.1,0,null,205,{"$f":"IF(AND(ISNUMBER(A1396),NOT(ISNUMBER(A1397))),SUM(OFFSET(E1396,-Q1396,0):E1396),IF(AND(ISNUMBER(P1396),ISNUMBER(P1397),P1396  <P1397),SUM(OFFSET(E1396,-Q1396,0):E1396),\"\"))","v":{"$error":"#NAME?"}},{"$f":"IF(ISNUMBER(L1396),SUM(OFFSET(G1396,-Q1396,0):G1396),\"\")","v":""},"",{"$f":"IF(B1396>0,'Tax Scales'!U1396-D1396,\"\")","v":""},{"$error":"#NAME?"},{"$error":"#NAME?"},{"$f":"IF(ISNUMBER(G1396),IF(G1396>0,'Tax Scales'!AQ1396,\"\"),\"\")","v":""}]
["2014-05-21",null,null,null,0,{"$f":"IF(SUM($B$7:$B1397)=0,\"\",IF(A1397<>\"\",IF(A1397<$B$3,\"N\",\"Y\"),\"\"))","v":""},0,10.1,0,null,204,{"$f":"IF(AND(ISNUMBER(A1397),NOT(ISNUMBER(A1398))),SUM(OFFSET(E1397,-Q1397,0):E1397),IF(AND(ISNUMBER(P1397),ISNUMBER(P1398),P1397  <P1398),SUM(OFFSET(E1397,-Q1397,0):E1397),\"\"))","v":{"$error":"#NAME?"}},{"$f":"IF(ISNUMBER(L1397),SUM(OFFSET(G1397,-Q1397,0):G1397),\"\")","v":""},"",{"$f":"IF(B1397>0,'Tax Scales'!U1397-D1397,\"\")","v":""},{"$error":"#NAME?"},{"$error":"#NAME?"},{"$f":"IF(ISNUMBER(G1397),IF(G1397>0,'Tax Scales'!AQ1397,\"\"),\"\")","v":""}]
["2014-05-28",null,null,null,0,{"$f":"IF(SUM($B$7:$B1398)=0,\"\",IF(A1398<>\"\",IF(A1398<$B$3,\"N\",\"Y\"),\"\"))","v":""},0,10.1,0,null,203,{"$f":"IF(AND(ISNUMBER(A1398),NOT(ISNUMBER(A1399))),SUM(OFFSET(E1398,-Q1398,0):E1398),IF(AND(ISNUMBER(P1398),ISNUMBER(P1399),P1398  <P1399),SUM(OFFSET(E1398,-Q1398,0):E1398),\"\"))","v":{"$error":"#NAME?"}},{"$f":"IF(ISNUMBER(L1398),SUM(OFFSET(G1398,-Q1398,0):G1398),\"\")","v":""},"",{"$f":"IF(B1398>0,'Tax Scales'!U1398-D1398,\"\")","v":""},{"$error":"#NAME?"},{"$error":"#NAME?"},{"$f":"IF(ISNUMBER(G1398),IF(G1398>0,'Tax Scales'!AQ1398,\"\"),\"\")","v":""}]
["2014-06-04",null,null,null,0,{"$f":"IF(SUM($B$7:$B1399)=0,\"\",IF(A1399<>\"\",IF(A1399<$B$3,\"N\",\"Y\"),\"\"))","v":""},0,10.1,0,null,202,{"$f":"IF(AND(ISNUMBER(A1399),NOT(ISNUMBER(A1400))),SUM(OFFSET(E1399,-Q1399,0):E1399),IF(AND(ISNUMBER(P1399),ISNUMBER(P1400),P1399  <P1400),SUM(OFFSET(E1399,-Q1399,0):E1399),\"\"))","v":{"$error":"#NAME?"}},{"$f":"IF(ISNUMBER(L1399),SUM(OFFSET(G1399,-Q1399,0):G1399),\"\")","v":""},"",{"$f":"IF(B1399>0,'Tax Scales'!U1399-D1399,\"\")","v":""},{"$error":"#NAME?"},{"$error":"#NAME?"},{"$f":"IF(ISNUMBER(G1399),IF(G1399>0,'Tax Scales'!AQ1399,\"\"),\"\")","v":""}]
["2014-06-11",null,null,null,0,{"$f":"IF(SUM($B$7:$B1400)=0,\"\",IF(A1400<>\"\",IF(A1400<$B$3,\"N\",\"Y\"),\"\"))","v":""},0,10.1,0,null,201,{"$f":"IF(AND(ISNUMBER(A1400),NOT(ISNUMBER(A1401))),SUM(OFFSET(E1400,-Q1400,0):E1400),IF(AND(ISNUMBER(P1400),ISNUMBER(P1401),P1400  <P1401),SUM(OFFSET(E1400,-Q1400,0):E1400),\"\"))","v":{"$error":"#NAME?"}},{"$f":"IF(ISNUMBER(L1400),SUM(OFFSET(G1400,-Q1400,0):G1400),\"\")","v":""},"",{"$f":"IF(B1400>0,'Tax Scales'!U1400-D1400,\"\")","v":""},{"$error":"#NAME?"},{"$error":"#NAME?"},{"$f":"IF(ISNUMBER(G1400),IF(G1400>0,'Tax Scales'!AQ1400,\"\"),\"\")","v":""}]
["2014-06-18",null,null,null,0,{"$f":"IF(SUM($B$7:$B1401)=0,\"\",IF(A1401<>\"\",IF(A1401<$B$3,\"N\",\"Y\"),\"\"))","v":""},0,10.1,0,null,200,{"$f":"IF(AND(ISNUMBER(A1401),NOT(ISNUMBER(A1402))),SUM(OFFSET(E1401,-Q1401,0):E1401),IF(AND(ISNUMBER(P1401),ISNUMBER(P1402),P1401  <P1402),SUM(OFFSET(E1401,-Q1401,0):E1401),\"\"))","v":{"$error":"#NAME?"}},{"$f":"IF(ISNUMBER(L1401),SUM(OFFSET(G1401,-Q1401,0):G1401),\"\")","v":""},"",{"$f":"IF(B1401>0,'Tax Scales'!U1401-D1401,\"\")","v":""},{"$error":"#NAME?"},{"$error":"#NAME?"},{"$f":"IF(ISNUMBER(G1401),IF(G1401>0,'Tax Scales'!AQ1401,\"\"),\"\")","v":""}]
["2014-06-25",null,null,null,{"$f":"IF(A1402<>\"\",IF(B1402-C1402>=0,B1402-C1402,0),\"\")","v":0},{"$f":"IF(SUM($B$7:$B1402)=0,\"\",IF(A1402<>\"\",IF(A1402<$B$3,\"N\",\"Y\"),\"\"))","v":""},{"$f":"IF(F1402=\"N\",0,IF(A1402<>\"\",IF(K1402>=0,((E1402+I1401)*(1+(H1402/52)/100)-E1402-I1401),0),\"\"))","v":0},{"$f":"IF(A1402<>\"\",10.1,\"\")","v":10.1},{"$f":"IF(A1402<>\"\",I1401+E1402+G1402,\"\")","v":0},null,{"$f":"IF(A1402<>\"\",IF((TODAY()-A1402)/7>=0,INT((TODAY()-A1402)/7),0),\"\")","v":199},{"$f":"IF(AND(ISNUMBER(A1402),NOT(ISNUMBER(A1403))),SUM(OFFSET(E1402,-Q1402,0):E1402),IF(AND(ISNUMBER(P1402),ISNUMBER(P1403),P1402  <P1403),SUM(OFFSET(E1402,-Q1402,0):E1402),\"\"))","v":{"$error":"#NAME?"}},{"$f":"IF(ISNUMBER(L1402),SUM(OFFSET(G1402,-Q1402,0):G1402),\"\")","v":""},{"$f":"IF(B1402>0,IF(P1402  = $P$6,E1402-O1402,\"\"),\"\")","v":""},{"$f":"IF(B1402>0,'Tax Scales'!U1402-D1402,\"\")","v":""},{"$f":"IF(ISNUMBER(A1402),FinYear(A1402),\"\")","v":{"$error":"#NAME?"}},{"$f":"IF(ISNUMBER(A1402),ROUND((A1402-StartOfFinYear(P1402))/7,0),\"\")","v":{"$error":"#NAME?"}},{"$f":"IF(ISNUMBER(G1402),IF(G1402>0,'Tax Scales'!AQ1402,\"\"),\"\")","v":""}]
["2014-07-02",null,null,null,0,{"$f":"IF(SUM($B$7:$B1403)=0,\"\",IF(A1403<>\"\",IF(A1403<$B$3,\"N\",\"Y\"),\"\"))","v":""},0,{"$f":"IF(A1403<>\"\",9.95,\"\")","v":9.9499999999999993},0,null,198,{"$f":"IF(AND(ISNUMBER(A1403),NOT(ISNUMBER(A1404))),SUM(OFFSET(E1403,-Q1403,0):E1403),IF(AND(ISNUMBER(P1403),ISNUMBER(P1404),P1403  <P1404),SUM(OFFSET(E1403,-Q1403,0):E1403),\"\"))","v":{"$error":"#NAME?"}},{"$f":"IF(ISNUMBER(L1403),SUM(OFFSET(G1403,-Q1403,0):G1403),\"\")","v":""},"",{"$f":"IF(B1403>0,'Tax Scales'!U1403-D1403,\"\")","v":""},{"$error":"#NAME?"},{"$error":"#NAME?"},{"$f":"IF(ISNUMBER(G1403),IF(G1403>0,'Tax Scales'!AQ1403,\"\"),\"\")","v":""}]
["2014-07-09",null,null,null,0,{"$f":"IF(SUM($B$7:$B1404)=0,\"\",IF(A1404<>\"\",IF(A1404<$B$3,\"N\",\"Y\"),\"\"))","v":""},0,{"$f":"IF(A1404<>\"\",9.95,\"\")","v":9.9499999999999993},0,null,197,{"$f":"IF(AND(ISNUMBER(A1404),NOT(ISNUMBER(A1405))),SUM(OFFSET(E1404,-Q1404,0):E1404),IF(AND(ISNUMBER(P1404),ISNUMBER(P1405),P1404  <P1405),SUM(OFFSET(E1404,-Q1404,0):E1404),\"\"))","v":{"$error":"#NAME?"}},{"$f":"IF(ISNUMBER(L1404),SUM(OFFSET(G1404,-Q1404,0):G1404),\"\")","v":""},"",{"$f":"IF(B1404>0,'Tax Scales'!U1404-D1404,\"\")","v":""},{"$error":"#NAME?"},{"$error":"#NAME?"},{"$f":"IF(ISNUMBER(G1404),IF(G1404>0,'Tax Scales'!AQ1404,\"\"),\"\")","v":""}]
["2014-07-16",null,null,null,0,{"$f":"IF(SUM($B$7:$B1405)=0,\"\",IF(A1405<>\"\",IF(A1405<$B$3,\"N\",\"Y\"),\"\"))","v":""},0,9.9499999999999993,0,null,196,{"$f":"IF(AND(ISNUMBER(A1405),NOT(ISNUMBER(A1406))),SUM(OFFSET(E1405,-Q1405,0):E1405),IF(AND(ISNUMBER(P1405),ISNUMBER(P1406),P1405  <P1406),SUM(OFFSET(E1405,-Q1405,0):E1405),\"\"))","v":{"$error":"#NAME?"}},{"$f":"IF(ISNUMBER(L1405),SUM(OFFSET(G1405,-Q1405,0):G1405),\"\")","v":""},"",{"$f":"IF(B1405>0,'Tax Scales'!U1405-D1405,\"\")","v":""},{"$error":"#NAME?"},{"$error":"#NAME?"},{"$f":"IF(ISNUMBER(G1405),IF(G1405>0,'Tax Scales'!AQ1405,\"\"),\"\")","v":""}]
["2014-07-23",null,null,null,0,{"$f":"IF(SUM($B$7:$B1406)=0,\"\",IF(A1406<>\"\",IF(A1406<$B$3,\"N\",\"Y\"),\"\"))","v":""},0,9.9499999999999993,0,null,195,{"$f":"IF(AND(ISNUMBER(A1406),NOT(ISNUMBER(A1407))),SUM(OFFSET(E1406,-Q1406,0):E1406),IF(AND(ISNUMBER(P1406),ISNUMBER(P1407),P1406  <P1407),SUM(OFFSET(E1406,-Q1406,0):E1406),\"\"))","v":{"$error":"#NAME?"}},{"$f":"IF(ISNUMBER(L1406),SUM(OFFSET(G1406,-Q1406,0):G1406),\"\")","v":""},"",{"$f":"IF(B1406>0,'Tax Scales'!U1406-D1406,\"\")","v":""},{"$error":"#NAME?"},{"$error":"#NAME?"},{"$f":"IF(ISNUMBER(G1406),IF(G1406>0,'Tax Scales'!AQ1406,\"\"),\"\")","v":""}]
["2014-07-30",null,null,null,0,{"$f":"IF(SUM($B$7:$B1407)=0,\"\",IF(A1407<>\"\",IF(A1407<$B$3,\"N\",\"Y\"),\"\"))","v":""},0,9.9499999999999993,0,null,194,{"$f":"IF(AND(ISNUMBER(A1407),NOT(ISNUMBER(A1408))),SUM(OFFSET(E1407,-Q1407,0):E1407),IF(AND(ISNUMBER(P1407),ISNUMBER(P1408),P1407  <P1408),SUM(OFFSET(E1407,-Q1407,0):E1407),\"\"))","v":{"$error":"#NAME?"}},{"$f":"IF(ISNUMBER(L1407),SUM(OFFSET(G1407,-Q1407,0):G1407),\"\")","v":""},"",{"$f":"IF(B1407>0,'Tax Scales'!U1407-D1407,\"\")","v":""},{"$error":"#NAME?"},{"$error":"#NAME?"},{"$f":"IF(ISNUMBER(G1407),IF(G1407>0,'Tax Scales'!AQ1407,\"\"),\"\")","v":""}]
["2014-08-06",null,null,null,0,{"$f":"IF(SUM($B$7:$B1408)=0,\"\",IF(A1408<>\"\",IF(A1408<$B$3,\"N\",\"Y\"),\"\"))","v":""},0,9.9499999999999993,0,null,193,{"$f":"IF(AND(ISNUMBER(A1408),NOT(ISNUMBER(A1409))),SUM(OFFSET(E1408,-Q1408,0):E1408),IF(AND(ISNUMBER(P1408),ISNUMBER(P1409),P1408  <P1409),SUM(OFFSET(E1408,-Q1408,0):E1408),\"\"))","v":{"$error":"#NAME?"}},{"$f":"IF(ISNUMBER(L1408),SUM(OFFSET(G1408,-Q1408,0):G1408),\"\")","v":""},"",{"$f":"IF(B1408>0,'Tax Scales'!U1408-D1408,\"\")","v":""},{"$error":"#NAME?"},{"$error":"#NAME?"},{"$f":"IF(ISNUMBER(G1408),IF(G1408>0,'Tax Scales'!AQ1408,\"\"),\"\")","v":""}]
["2014-08-13",null,null,null,0,{"$f":"IF(SUM($B$7:$B1409)=0,\"\",IF(A1409<>\"\",IF(A1409<$B$3,\"N\",\"Y\"),\"\"))","v":""},0,9.9499999999999993,0,null,192,{"$f":"IF(AND(ISNUMBER(A1409),NOT(ISNUMBER(A1410))),SUM(OFFSET(E1409,-Q1409,0):E1409),IF(AND(ISNUMBER(P1409),ISNUMBER(P1410),P1409  <P1410),SUM(OFFSET(E1409,-Q1409,0):E1409),\"\"))","v":{"$error":"#NAME?"}},{"$f":"IF(ISNUMBER(L1409),SUM(OFFSET(G1409,-Q1409,0):G1409),\"\")","v":""},"",{"$f":"IF(B1409>0,'Tax Scales'!U1409-D1409,\"\")","v":""},{"$error":"#NAME?"},{"$error":"#NAME?"},{"$f":"IF(ISNUMBER(G1409),IF(G1409>0,'Tax Scales'!AQ1409,\"\"),\"\")","v":""}]
["2014-08-20",null,null,null,0,{"$f":"IF(SUM($B$7:$B1410)=0,\"\",IF(A1410<>\"\",IF(A1410<$B$3,\"N\",\"Y\"),\"\"))","v":""},0,9.9499999999999993,0,null,191,{"$f":"IF(AND(ISNUMBER(A1410),NOT(ISNUMBER(A1411))),SUM(OFFSET(E1410,-Q1410,0):E1410),IF(AND(ISNUMBER(P1410),ISNUMBER(P1411),P1410  <P1411),SUM(OFFSET(E1410,-Q1410,0):E1410),\"\"))","v":{"$error":"#NAME?"}},{"$f":"IF(ISNUMBER(L1410),SUM(OFFSET(G1410,-Q1410,0):G1410),\"\")","v":""},"",{"$f":"IF(B1410>0,'Tax Scales'!U1410-D1410,\"\")","v":""},{"$error":"#NAME?"},{"$error":"#NAME?"},{"$f":"IF(ISNUMBER(G1410),IF(G1410>0,'Tax Scales'!AQ1410,\"\"),\"\")","v":""}]
["2014-08-27",null,null,null,0,{"$f":"IF(SUM($B$7:$B1411)=0,\"\",IF(A1411<>\"\",IF(A1411<$B$3,\"N\",\"Y\"),\"\"))","v":""},0,9.9499999999999993,0,null,190,{"$f":"IF(AND(ISNUMBER(A1411),NOT(ISNUMBER(A1412))),SUM(OFFSET(E1411,-Q1411,0):E1411),IF(AND(ISNUMBER(P1411),ISNUMBER(P1412),P1411  <P1412),SUM(OFFSET(E1411,-Q1411,0):E1411),\"\"))","v":{"$error":"#NAME?"}},{"$f":"IF(ISNUMBER(L1411),SUM(OFFSET(G1411,-Q1411,0):G1411),\"\")","v":""},"",{"$f":"IF(B1411>0,'Tax Scales'!U1411-D1411,\"\")","v":""},{"$error":"#NAME?"},{"$error":"#NAME?"},{"$f":"IF(ISNUMBER(G1411),IF(G1411>0,'Tax Scales'!AQ1411,\"\"),\"\")","v":""}]
["2014-09-03",null,null,null,0,{"$f":"IF(SUM($B$7:$B1412)=0,\"\",IF(A1412<>\"\",IF(A1412<$B$3,\"N\",\"Y\"),\"\"))","v":""},0,9.9499999999999993,0,null,189,{"$f":"IF(AND(ISNUMBER(A1412),NOT(ISNUMBER(A1413))),SUM(OFFSET(E1412,-Q1412,0):E1412),IF(AND(ISNUMBER(P1412),ISNUMBER(P1413),P1412  <P1413),SUM(OFFSET(E1412,-Q1412,0):E1412),\"\"))","v":{"$error":"#NAME?"}},{"$f":"IF(ISNUMBER(L1412),SUM(OFFSET(G1412,-Q1412,0):G1412),\"\")","v":""},"",{"$f":"IF(B1412>0,'Tax Scales'!U1412-D1412,\"\")","v":""},{"$error":"#NAME?"},{"$error":"#NAME?"},{"$f":"IF(ISNUMBER(G1412),IF(G1412>0,'Tax Scales'!AQ1412,\"\"),\"\")","v":""}]
["2014-09-10",null,null,null,0,{"$f":"IF(SUM($B$7:$B1413)=0,\"\",IF(A1413<>\"\",IF(A1413<$B$3,\"N\",\"Y\"),\"\"))","v":""},0,9.9499999999999993,0,null,188,{"$f":"IF(AND(ISNUMBER(A1413),NOT(ISNUMBER(A1414))),SUM(OFFSET(E1413,-Q1413,0):E1413),IF(AND(ISNUMBER(P1413),ISNUMBER(P1414),P1413  <P1414),SUM(OFFSET(E1413,-Q1413,0):E1413),\"\"))","v":{"$error":"#NAME?"}},{"$f":"IF(ISNUMBER(L1413),SUM(OFFSET(G1413,-Q1413,0):G1413),\"\")","v":""},"",{"$f":"IF(B1413>0,'Tax Scales'!U1413-D1413,\"\")","v":""},{"$error":"#NAME?"},{"$error":"#NAME?"},{"$f":"IF(ISNUMBER(G1413),IF(G1413>0,'Tax Scales'!AQ1413,\"\"),\"\")","v":""}]
["2014-09-17",null,null,null,0,{"$f":"IF(SUM($B$7:$B1414)=0,\"\",IF(A1414<>\"\",IF(A1414<$B$3,\"N\",\"Y\"),\"\"))","v":""},0,9.9499999999999993,0,null,187,{"$f":"IF(AND(ISNUMBER(A1414),NOT(ISNUMBER(A1415))),SUM(OFFSET(E1414,-Q1414,0):E1414),IF(AND(ISNUMBER(P1414),ISNUMBER(P1415),P1414  <P1415),SUM(OFFSET(E1414,-Q1414,0):E1414),\"\"))","v":{"$error":"#NAME?"}},{"$f":"IF(ISNUMBER(L1414),SUM(OFFSET(G1414,-Q1414,0):G1414),\"\")","v":""},"",{"$f":"IF(B1414>0,'Tax Scales'!U1414-D1414,\"\")","v":""},{"$error":"#NAME?"},{"$error":"#NAME?"},{"$f":"IF(ISNUMBER(G1414),IF(G1414>0,'Tax Scales'!AQ1414,\"\"),\"\")","v":""}]
["2014-09-24",null,null,null,0,{"$f":"IF(SUM($B$7:$B1415)=0,\"\",IF(A1415<>\"\",IF(A1415<$B$3,\"N\",\"Y\"),\"\"))","v":""},0,9.9499999999999993,0,null,186,{"$f":"IF(AND(ISNUMBER(A1415),NOT(ISNUMBER(A1416))),SUM(OFFSET(E1415,-Q1415,0):E1415),IF(AND(ISNUMBER(P1415),ISNUMBER(P1416),P1415  <P1416),SUM(OFFSET(E1415,-Q1415,0):E1415),\"\"))","v":{"$error":"#NAME?"}},{"$f":"IF(ISNUMBER(L1415),SUM(OFFSET(G1415,-Q1415,0):G1415),\"\")","v":""},"",{"$f":"IF(B1415>0,'Tax Scales'!U1415-D1415,\"\")","v":""},{"$error":"#NAME?"},{"$error":"#NAME?"},{"$f":"IF(ISNUMBER(G1415),IF(G1415>0,'Tax Scales'!AQ1415,\"\"),\"\")","v":""}]
["2014-10-01",null,null,null,0,{"$f":"IF(SUM($B$7:$B1416)=0,\"\",IF(A1416<>\"\",IF(A1416<$B$3,\"N\",\"Y\"),\"\"))","v":""},0,9.9499999999999993,0,null,185,{"$f":"IF(AND(ISNUMBER(A1416),NOT(ISNUMBER(A1417))),SUM(OFFSET(E1416,-Q1416,0):E1416),IF(AND(ISNUMBER(P1416),ISNUMBER(P1417),P1416  <P1417),SUM(OFFSET(E1416,-Q1416,0):E1416),\"\"))","v":{"$error":"#NAME?"}},{"$f":"IF(ISNUMBER(L1416),SUM(OFFSET(G1416,-Q1416,0):G1416),\"\")","v":""},"",{"$f":"IF(B1416>0,'Tax Scales'!U1416-D1416,\"\")","v":""},{"$error":"#NAME?"},{"$error":"#NAME?"},{"$f":"IF(ISNUMBER(G1416),IF(G1416>0,'Tax Scales'!AQ1416,\"\"),\"\")","v":""}]
["2014-10-08",null,null,null,0,{"$f":"IF(SUM($B$7:$B1417)=0,\"\",IF(A1417<>\"\",IF(A1417<$B$3,\"N\",\"Y\"),\"\"))","v":""},{"$f":"IF(F1417=\"N\",0,IF(A1417<>\"\",IF(K1417>=0,((E1417+I1416)*(1+(H1417/52)/100)-E1417-I1416),0),\"\"))","v":0},9.9499999999999993,0,null,184,{"$f":"IF(AND(ISNUMBER(A1417),NOT(ISNUMBER(A1418))),SUM(OFFSET(E1417,-Q1417,0):E1417),IF(AND(ISNUMBER(P1417),ISNUMBER(P1418),P1417  <P1418),SUM(OFFSET(E1417,-Q1417,0):E1417),\"\"))","v":{"$error":"#NAME?"}},{"$f":"IF(ISNUMBER(L1417),SUM(OFFSET(G1417,-Q1417,0):G1417),\"\")","v":""},"",{"$f":"IF(B1417>0,'Tax Scales'!U1417-D1417,\"\")","v":""},{"$error":"#NAME?"},{"$error":"#NAME?"},{"$f":"IF(ISNUMBER(G1417),IF(G1417>0,'Tax Scales'!AQ1417,\"\"),\"\")","v":""}]
[{"$f":"IF(A1417<>\"\",IF(A1417+12<=TODAY(),+A1417+7,\"\"),\"\")","v":"2014-10-15"},null,null,null,0,{"$f":"IF(SUM($B$7:$B1418)=0,\"\",IF(A1418<>\"\",IF(A1418<$B$3,\"N\",\"Y\"),\"\"))","v":""},0,9.9499999999999993,0,null,183,{"$f":"IF(AND(ISNUMBER(A1418),NOT(ISNUMBER(A1419))),SUM(OFFSET(E1418,-Q1418,0):E1418),IF(AND(ISNUMBER(P1418),ISNUMBER(P1419),P1418  <P1419),SUM(OFFSET(E1418,-Q1418,0):E1418),\"\"))","v":{"$error":"#NAME?"}},{"$f":"IF(ISNUMBER(L1418),SUM(OFFSET(G1418,-Q1418,0):G1418),\"\")","v":""},"",{"$f":"IF(B1418>0,'Tax Scales'!U1418-D1418,\"\")","v":""},{"$error":"#NAME?"},{"$error":"#NAME?"},{"$f":"IF(ISNUMBER(G1418),IF(G1418>0,'Tax Scales'!AQ1418,\"\"),\"\")","v":""}]
["2014-10-22",null,null,null,0,{"$f":"IF(SUM($B$7:$B1419)=0,\"\",IF(A1419<>\"\",IF(A1419<$B$3,\"N\",\"Y\"),\"\"))","v":""},0,9.9499999999999993,0,null,182,{"$f":"IF(AND(ISNUMBER(A1419),NOT(ISNUMBER(A1420))),SUM(OFFSET(E1419,-Q1419,0):E1419),IF(AND(ISNUMBER(P1419),ISNUMBER(P1420),P1419  <P1420),SUM(OFFSET(E1419,-Q1419,0):E1419),\"\"))","v":{"$error":"#NAME?"}},{"$f":"IF(ISNUMBER(L1419),SUM(OFFSET(G1419,-Q1419,0):G1419),\"\")","v":""},"",{"$f":"IF(B1419>0,'Tax Scales'!U1419-D1419,\"\")","v":""},{"$error":"#NAME?"},{"$error":"#NAME?"},{"$f":"IF(ISNUMBER(G1419),IF(G1419>0,'Tax Scales'!AQ1419,\"\"),\"\")","v":""}]
["2014-10-29",null,null,null,0,{"$f":"IF(SUM($B$7:$B1420)=0,\"\",IF(A1420<>\"\",IF(A1420<$B$3,\"N\",\"Y\"),\"\"))","v":""},0,9.9499999999999993,0,null,181,{"$f":"IF(AND(ISNUMBER(A1420),NOT(ISNUMBER(A1421))),SUM(OFFSET(E1420,-Q1420,0):E1420),IF(AND(ISNUMBER(P1420),ISNUMBER(P1421),P1420  <P1421),SUM(OFFSET(E1420,-Q1420,0):E1420),\"\"))","v":{"$error":"#NAME?"}},{"$f":"IF(ISNUMBER(L1420),SUM(OFFSET(G1420,-Q1420,0):G1420),\"\")","v":""},"",{"$f":"IF(B1420>0,'Tax Scales'!U1420-D1420,\"\")","v":""},{"$error":"#NAME?"},{"$error":"#NAME?"},{"$f":"IF(ISNUMBER(G1420),IF(G1420>0,'Tax Scales'!AQ1420,\"\"),\"\")","v":""}]
["2014-11-05",null,null,null,0,{"$f":"IF(SUM($B$7:$B1421)=0,\"\",IF(A1421<>\"\",IF(A1421<$B$3,\"N\",\"Y\"),\"\"))","v":""},0,9.9499999999999993,0,null,180,{"$f":"IF(AND(ISNUMBER(A1421),NOT(ISNUMBER(A1422))),SUM(OFFSET(E1421,-Q1421,0):E1421),IF(AND(ISNUMBER(P1421),ISNUMBER(P1422),P1421  <P1422),SUM(OFFSET(E1421,-Q1421,0):E1421),\"\"))","v":{"$error":"#NAME?"}},{"$f":"IF(ISNUMBER(L1421),SUM(OFFSET(G1421,-Q1421,0):G1421),\"\")","v":""},"",{"$f":"IF(B1421>0,'Tax Scales'!U1421-D1421,\"\")","v":""},{"$error":"#NAME?"},{"$error":"#NAME?"},{"$f":"IF(ISNUMBER(G1421),IF(G1421>0,'Tax Scales'!AQ1421,\"\"),\"\")","v":""}]
["2014-11-12",null,null,null,0,{"$f":"IF(SUM($B$7:$B1422)=0,\"\",IF(A1422<>\"\",IF(A1422<$B$3,\"N\",\"Y\"),\"\"))","v":""},0,9.9499999999999993,0,null,179,{"$f":"IF(AND(ISNUMBER(A1422),NOT(ISNUMBER(A1423))),SUM(OFFSET(E1422,-Q1422,0):E1422),IF(AND(ISNUMBER(P1422),ISNUMBER(P1423),P1422  <P1423),SUM(OFFSET(E1422,-Q1422,0):E1422),\"\"))","v":{"$error":"#NAME?"}},{"$f":"IF(ISNUMBER(L1422),SUM(OFFSET(G1422,-Q1422,0):G1422),\"\")","v":""},"",{"$f":"IF(B1422>0,'Tax Scales'!U1422-D1422,\"\")","v":""},{"$error":"#NAME?"},{"$error":"#NAME?"},{"$f":"IF(ISNUMBER(G1422),IF(G1422>0,'Tax Scales'!AQ1422,\"\"),\"\")","v":""}]
["2014-11-19",null,null,null,0,{"$f":"IF(SUM($B$7:$B1423)=0,\"\",IF(A1423<>\"\",IF(A1423<$B$3,\"N\",\"Y\"),\"\"))","v":""},0,9.9499999999999993,0,null,178,{"$f":"IF(AND(ISNUMBER(A1423),NOT(ISNUMBER(A1424))),SUM(OFFSET(E1423,-Q1423,0):E1423),IF(AND(ISNUMBER(P1423),ISNUMBER(P1424),P1423  <P1424),SUM(OFFSET(E1423,-Q1423,0):E1423),\"\"))","v":{"$error":"#NAME?"}},{"$f":"IF(ISNUMBER(L1423),SUM(OFFSET(G1423,-Q1423,0):G1423),\"\")","v":""},"",{"$f":"IF(B1423>0,'Tax Scales'!U1423-D1423,\"\")","v":""},{"$error":"#NAME?"},{"$error":"#NAME?"},{"$f":"IF(ISNUMBER(G1423),IF(G1423>0,'Tax Scales'!AQ1423,\"\"),\"\")","v":""}]
["2014-11-26",null,null,null,0,{"$f":"IF(SUM($B$7:$B1424)=0,\"\",IF(A1424<>\"\",IF(A1424<$B$3,\"N\",\"Y\"),\"\"))","v":""},0,9.9499999999999993,0,null,177,{"$f":"IF(AND(ISNUMBER(A1424),NOT(ISNUMBER(A1425))),SUM(OFFSET(E1424,-Q1424,0):E1424),IF(AND(ISNUMBER(P1424),ISNUMBER(P1425),P1424  <P1425),SUM(OFFSET(E1424,-Q1424,0):E1424),\"\"))","v":{"$error":"#NAME?"}},{"$f":"IF(ISNUMBER(L1424),SUM(OFFSET(G1424,-Q1424,0):G1424),\"\")","v":""},"",{"$f":"IF(B1424>0,'Tax Scales'!U1424-D1424,\"\")","v":""},{"$error":"#NAME?"},{"$error":"#NAME?"},{"$f":"IF(ISNUMBER(G1424),IF(G1424>0,'Tax Scales'!AQ1424,\"\"),\"\")","v":""}]
["2014-12-03",null,null,null,0,{"$f":"IF(SUM($B$7:$B1425)=0,\"\",IF(A1425<>\"\",IF(A1425<$B$3,\"N\",\"Y\"),\"\"))","v":""},0,9.9499999999999993,0,null,176,{"$f":"IF(AND(ISNUMBER(A1425),NOT(ISNUMBER(A1426))),SUM(OFFSET(E1425,-Q1425,0):E1425),IF(AND(ISNUMBER(P1425),ISNUMBER(P1426),P1425  <P1426),SUM(OFFSET(E1425,-Q1425,0):E1425),\"\"))","v":{"$error":"#NAME?"}},{"$f":"IF(ISNUMBER(L1425),SUM(OFFSET(G1425,-Q1425,0):G1425),\"\")","v":""},"",{"$f":"IF(B1425>0,'Tax Scales'!U1425-D1425,\"\")","v":""},{"$error":"#NAME?"},{"$error":"#NAME?"},{"$f":"IF(ISNUMBER(G1425),IF(G1425>0,'Tax Scales'!AQ1425,\"\"),\"\")","v":""}]
["2014-12-10",null,null,null,{"$f":"IF(A1426<>\"\",IF(B1426-C1426>=0,B1426-C1426,0),\"\")","v":0},{"$f":"IF(SUM($B$7:$B1426)=0,\"\",IF(A1426<>\"\",IF(A1426<$B$3,\"N\",\"Y\"),\"\"))","v":""},0,9.9499999999999993,{"$f":"IF(A1426<>\"\",I1425+E1426+G1426,\"\")","v":0},null,{"$f":"IF(A1426<>\"\",IF((TODAY()-A1426)/7>=0,INT((TODAY()-A1426)/7),0),\"\")","v":175},{"$f":"IF(AND(ISNUMBER(A1426),NOT(ISNUMBER(A1427))),SUM(OFFSET(E1426,-Q1426,0):E1426),IF(AND(ISNUMBER(P1426),ISNUMBER(P1427),P1426  <P1427),SUM(OFFSET(E1426,-Q1426,0):E1426),\"\"))","v":{"$error":"#NAME?"}},{"$f":"IF(ISNUMBER(L1426),SUM(OFFSET(G1426,-Q1426,0):G1426),\"\")","v":""},{"$f":"IF(B1426>0,IF(P1426  = $P$6,E1426-O1426,\"\"),\"\")","v":""},{"$f":"IF(B1426>0,'Tax Scales'!U1426-D1426,\"\")","v":""},{"$f":"IF(ISNUMBER(A1426),FinYear(A1426),\"\")","v":{"$error":"#NAME?"}},{"$f":"IF(ISNUMBER(A1426),ROUND((A1426-StartOfFinYear(P1426))/7,0),\"\")","v":{"$error":"#NAME?"}},{"$f":"IF(ISNUMBER(G1426),IF(G1426>0,'Tax Scales'!AQ1426,\"\"),\"\")","v":""}]
["2014-12-17",null,null,null,0,{"$f":"IF(SUM($B$7:$B1427)=0,\"\",IF(A1427<>\"\",IF(A1427<$B$3,\"N\",\"Y\"),\"\"))","v":""},0,9.9499999999999993,0,null,174,{"$f":"IF(AND(ISNUMBER(A1427),NOT(ISNUMBER(A1428))),SUM(OFFSET(E1427,-Q1427,0):E1427),IF(AND(ISNUMBER(P1427),ISNUMBER(P1428),P1427  <P1428),SUM(OFFSET(E1427,-Q1427,0):E1427),\"\"))","v":{"$error":"#NAME?"}},{"$f":"IF(ISNUMBER(L1427),SUM(OFFSET(G1427,-Q1427,0):G1427),\"\")","v":""},"",{"$f":"IF(B1427>0,'Tax Scales'!U1427-D1427,\"\")","v":""},{"$error":"#NAME?"},{"$error":"#NAME?"},{"$f":"IF(ISNUMBER(G1427),IF(G1427>0,'Tax Scales'!AQ1427,\"\"),\"\")","v":""}]
["2014-12-24",null,null,null,0,{"$f":"IF(SUM($B$7:$B1428)=0,\"\",IF(A1428<>\"\",IF(A1428<$B$3,\"N\",\"Y\"),\"\"))","v":""},0,9.9499999999999993,0,null,173,{"$f":"IF(AND(ISNUMBER(A1428),NOT(ISNUMBER(A1429))),SUM(OFFSET(E1428,-Q1428,0):E1428),IF(AND(ISNUMBER(P1428),ISNUMBER(P1429),P1428  <P1429),SUM(OFFSET(E1428,-Q1428,0):E1428),\"\"))","v":{"$error":"#NAME?"}},{"$f":"IF(ISNUMBER(L1428),SUM(OFFSET(G1428,-Q1428,0):G1428),\"\")","v":""},"",{"$f":"IF(B1428>0,'Tax Scales'!U1428-D1428,\"\")","v":""},{"$error":"#NAME?"},{"$error":"#NAME?"},{"$f":"IF(ISNUMBER(G1428),IF(G1428>0,'Tax Scales'!AQ1428,\"\"),\"\")","v":""}]
["2014-12-31",null,null,null,0,{"$f":"IF(SUM($B$7:$B1429)=0,\"\",IF(A1429<>\"\",IF(A1429<$B$3,\"N\",\"Y\"),\"\"))","v":""},0,9.9499999999999993,0,null,172,{"$f":"IF(AND(ISNUMBER(A1429),NOT(ISNUMBER(A1430))),SUM(OFFSET(E1429,-Q1429,0):E1429),IF(AND(ISNUMBER(P1429),ISNUMBER(P1430),P1429  <P1430),SUM(OFFSET(E1429,-Q1429,0):E1429),\"\"))","v":{"$error":"#NAME?"}},{"$f":"IF(ISNUMBER(L1429),SUM(OFFSET(G1429,-Q1429,0):G1429),\"\")","v":""},"",{"$f":"IF(B1429>0,'Tax Scales'!U1429-D1429,\"\")","v":""},{"$error":"#NAME?"},{"$error":"#NAME?"},{"$f":"IF(ISNUMBER(G1429),IF(G1429>0,'Tax Scales'!AQ1429,\"\"),\"\")","v":""}]
["2015-01-07",null,null,null,0,{"$f":"IF(SUM($B$7:$B1430)=0,\"\",IF(A1430<>\"\",IF(A1430<$B$3,\"N\",\"Y\"),\"\"))","v":""},0,9.9499999999999993,0,null,171,{"$f":"IF(AND(ISNUMBER(A1430),NOT(ISNUMBER(A1431))),SUM(OFFSET(E1430,-Q1430,0):E1430),IF(AND(ISNUMBER(P1430),ISNUMBER(P1431),P1430  <P1431),SUM(OFFSET(E1430,-Q1430,0):E1430),\"\"))","v":{"$error":"#NAME?"}},{"$f":"IF(ISNUMBER(L1430),SUM(OFFSET(G1430,-Q1430,0):G1430),\"\")","v":""},"",{"$f":"IF(B1430>0,'Tax Scales'!U1430-D1430,\"\")","v":""},{"$error":"#NAME?"},{"$error":"#NAME?"},{"$f":"IF(ISNUMBER(G1430),IF(G1430>0,'Tax Scales'!AQ1430,\"\"),\"\")","v":""}]
["2015-01-14",null,null,null,0,{"$f":"IF(SUM($B$7:$B1431)=0,\"\",IF(A1431<>\"\",IF(A1431<$B$3,\"N\",\"Y\"),\"\"))","v":""},0,9.9499999999999993,0,null,170,{"$f":"IF(AND(ISNUMBER(A1431),NOT(ISNUMBER(A1432))),SUM(OFFSET(E1431,-Q1431,0):E1431),IF(AND(ISNUMBER(P1431),ISNUMBER(P1432),P1431  <P1432),SUM(OFFSET(E1431,-Q1431,0):E1431),\"\"))","v":{"$error":"#NAME?"}},{"$f":"IF(ISNUMBER(L1431),SUM(OFFSET(G1431,-Q1431,0):G1431),\"\")","v":""},"",{"$f":"IF(B1431>0,'Tax Scales'!U1431-D1431,\"\")","v":""},{"$error":"#NAME?"},{"$error":"#NAME?"},{"$f":"IF(ISNUMBER(G1431),IF(G1431>0,'Tax Scales'!AQ1431,\"\"),\"\")","v":""}]
["2015-01-21",null,null,null,0,{"$f":"IF(SUM($B$7:$B1432)=0,\"\",IF(A1432<>\"\",IF(A1432<$B$3,\"N\",\"Y\"),\"\"))","v":""},0,9.9499999999999993,0,null,169,{"$f":"IF(AND(ISNUMBER(A1432),NOT(ISNUMBER(A1433))),SUM(OFFSET(E1432,-Q1432,0):E1432),IF(AND(ISNUMBER(P1432),ISNUMBER(P1433),P1432  <P1433),SUM(OFFSET(E1432,-Q1432,0):E1432),\"\"))","v":{"$error":"#NAME?"}},{"$f":"IF(ISNUMBER(L1432),SUM(OFFSET(G1432,-Q1432,0):G1432),\"\")","v":""},"",{"$f":"IF(B1432>0,'Tax Scales'!U1432-D1432,\"\")","v":""},{"$error":"#NAME?"},{"$error":"#NAME?"},{"$f":"IF(ISNUMBER(G1432),IF(G1432>0,'Tax Scales'!AQ1432,\"\"),\"\")","v":""}]
["2015-01-28",null,null,null,0,{"$f":"IF(SUM($B$7:$B1433)=0,\"\",IF(A1433<>\"\",IF(A1433<$B$3,\"N\",\"Y\"),\"\"))","v":""},0,9.9499999999999993,0,null,168,{"$f":"IF(AND(ISNUMBER(A1433),NOT(ISNUMBER(A1434))),SUM(OFFSET(E1433,-Q1433,0):E1433),IF(AND(ISNUMBER(P1433),ISNUMBER(P1434),P1433  <P1434),SUM(OFFSET(E1433,-Q1433,0):E1433),\"\"))","v":{"$error":"#NAME?"}},{"$f":"IF(ISNUMBER(L1433),SUM(OFFSET(G1433,-Q1433,0):G1433),\"\")","v":""},"",{"$f":"IF(B1433>0,'Tax Scales'!U1433-D1433,\"\")","v":""},{"$error":"#NAME?"},{"$error":"#NAME?"},{"$f":"IF(ISNUMBER(G1433),IF(G1433>0,'Tax Scales'!AQ1433,\"\"),\"\")","v":""}]
["2015-02-04",null,null,null,0,{"$f":"IF(SUM($B$7:$B1434)=0,\"\",IF(A1434<>\"\",IF(A1434<$B$3,\"N\",\"Y\"),\"\"))","v":""},0,9.9499999999999993,0,null,167,{"$f":"IF(AND(ISNUMBER(A1434),NOT(ISNUMBER(A1435))),SUM(OFFSET(E1434,-Q1434,0):E1434),IF(AND(ISNUMBER(P1434),ISNUMBER(P1435),P1434  <P1435),SUM(OFFSET(E1434,-Q1434,0):E1434),\"\"))","v":{"$error":"#NAME?"}},{"$f":"IF(ISNUMBER(L1434),SUM(OFFSET(G1434,-Q1434,0):G1434),\"\")","v":""},"",{"$f":"IF(B1434>0,'Tax Scales'!U1434-D1434,\"\")","v":""},{"$error":"#NAME?"},{"$error":"#NAME?"},{"$f":"IF(ISNUMBER(G1434),IF(G1434>0,'Tax Scales'!AQ1434,\"\"),\"\")","v":""}]
["2015-02-11",null,null,null,0,{"$f":"IF(SUM($B$7:$B1435)=0,\"\",IF(A1435<>\"\",IF(A1435<$B$3,\"N\",\"Y\"),\"\"))","v":""},0,9.9499999999999993,0,null,166,{"$f":"IF(AND(ISNUMBER(A1435),NOT(ISNUMBER(A1436))),SUM(OFFSET(E1435,-Q1435,0):E1435),IF(AND(ISNUMBER(P1435),ISNUMBER(P1436),P1435  <P1436),SUM(OFFSET(E1435,-Q1435,0):E1435),\"\"))","v":{"$error":"#NAME?"}},{"$f":"IF(ISNUMBER(L1435),SUM(OFFSET(G1435,-Q1435,0):G1435),\"\")","v":""},"",{"$f":"IF(B1435>0,'Tax Scales'!U1435-D1435,\"\")","v":""},{"$error":"#NAME?"},{"$error":"#NAME?"},{"$f":"IF(ISNUMBER(G1435),IF(G1435>0,'Tax Scales'!AQ1435,\"\"),\"\")","v":""}]
["2015-02-18",null,null,null,0,{"$f":"IF(SUM($B$7:$B1436)=0,\"\",IF(A1436<>\"\",IF(A1436<$B$3,\"N\",\"Y\"),\"\"))","v":""},0,9.9499999999999993,0,null,165,{"$f":"IF(AND(ISNUMBER(A1436),NOT(ISNUMBER(A1437))),SUM(OFFSET(E1436,-Q1436,0):E1436),IF(AND(ISNUMBER(P1436),ISNUMBER(P1437),P1436  <P1437),SUM(OFFSET(E1436,-Q1436,0):E1436),\"\"))","v":{"$error":"#NAME?"}},{"$f":"IF(ISNUMBER(L1436),SUM(OFFSET(G1436,-Q1436,0):G1436),\"\")","v":""},"",{"$f":"IF(B1436>0,'Tax Scales'!U1436-D1436,\"\")","v":""},{"$error":"#NAME?"},{"$error":"#NAME?"},{"$f":"IF(ISNUMBER(G1436),IF(G1436>0,'Tax Scales'!AQ1436,\"\"),\"\")","v":""}]
["2015-02-25",null,null,null,0,{"$f":"IF(SUM($B$7:$B1437)=0,\"\",IF(A1437<>\"\",IF(A1437<$B$3,\"N\",\"Y\"),\"\"))","v":""},0,9.9499999999999993,0,null,164,{"$f":"IF(AND(ISNUMBER(A1437),NOT(ISNUMBER(A1438))),SUM(OFFSET(E1437,-Q1437,0):E1437),IF(AND(ISNUMBER(P1437),ISNUMBER(P1438),P1437  <P1438),SUM(OFFSET(E1437,-Q1437,0):E1437),\"\"))","v":{"$error":"#NAME?"}},{"$f":"IF(ISNUMBER(L1437),SUM(OFFSET(G1437,-Q1437,0):G1437),\"\")","v":""},"",{"$f":"IF(B1437>0,'Tax Scales'!U1437-D1437,\"\")","v":""},{"$error":"#NAME?"},{"$error":"#NAME?"},{"$f":"IF(ISNUMBER(G1437),IF(G1437>0,'Tax Scales'!AQ1437,\"\"),\"\")","v":""}]
["2015-03-04",null,null,null,0,{"$f":"IF(SUM($B$7:$B1438)=0,\"\",IF(A1438<>\"\",IF(A1438<$B$3,\"N\",\"Y\"),\"\"))","v":""},0,9.9499999999999993,0,null,163,{"$f":"IF(AND(ISNUMBER(A1438),NOT(ISNUMBER(A1439))),SUM(OFFSET(E1438,-Q1438,0):E1438),IF(AND(ISNUMBER(P1438),ISNUMBER(P1439),P1438  <P1439),SUM(OFFSET(E1438,-Q1438,0):E1438),\"\"))","v":{"$error":"#NAME?"}},{"$f":"IF(ISNUMBER(L1438),SUM(OFFSET(G1438,-Q1438,0):G1438),\"\")","v":""},"",{"$f":"IF(B1438>0,'Tax Scales'!U1438-D1438,\"\")","v":""},{"$error":"#NAME?"},{"$error":"#NAME?"},{"$f":"IF(ISNUMBER(G1438),IF(G1438>0,'Tax Scales'!AQ1438,\"\"),\"\")","v":""}]
["2015-03-11",null,null,null,0,{"$f":"IF(SUM($B$7:$B1439)=0,\"\",IF(A1439<>\"\",IF(A1439<$B$3,\"N\",\"Y\"),\"\"))","v":""},0,9.9499999999999993,0,null,162,{"$f":"IF(AND(ISNUMBER(A1439),NOT(ISNUMBER(A1440))),SUM(OFFSET(E1439,-Q1439,0):E1439),IF(AND(ISNUMBER(P1439),ISNUMBER(P1440),P1439  <P1440),SUM(OFFSET(E1439,-Q1439,0):E1439),\"\"))","v":{"$error":"#NAME?"}},{"$f":"IF(ISNUMBER(L1439),SUM(OFFSET(G1439,-Q1439,0):G1439),\"\")","v":""},"",{"$f":"IF(B1439>0,'Tax Scales'!U1439-D1439,\"\")","v":""},{"$error":"#NAME?"},{"$error":"#NAME?"},{"$f":"IF(ISNUMBER(G1439),IF(G1439>0,'Tax Scales'!AQ1439,\"\"),\"\")","v":""}]
["2015-03-18",null,null,null,0,{"$f":"IF(SUM($B$7:$B1440)=0,\"\",IF(A1440<>\"\",IF(A1440<$B$3,\"N\",\"Y\"),\"\"))","v":""},0,9.9499999999999993,0,null,161,{"$f":"IF(AND(ISNUMBER(A1440),NOT(ISNUMBER(A1441))),SUM(OFFSET(E1440,-Q1440,0):E1440),IF(AND(ISNUMBER(P1440),ISNUMBER(P1441),P1440  <P1441),SUM(OFFSET(E1440,-Q1440,0):E1440),\"\"))","v":{"$error":"#NAME?"}},{"$f":"IF(ISNUMBER(L1440),SUM(OFFSET(G1440,-Q1440,0):G1440),\"\")","v":""},"",{"$f":"IF(B1440>0,'Tax Scales'!U1440-D1440,\"\")","v":""},{"$error":"#NAME?"},{"$error":"#NAME?"},{"$f":"IF(ISNUMBER(G1440),IF(G1440>0,'Tax Scales'!AQ1440,\"\"),\"\")","v":""}]
["2015-03-25",null,null,null,0,{"$f":"IF(SUM($B$7:$B1441)=0,\"\",IF(A1441<>\"\",IF(A1441<$B$3,\"N\",\"Y\"),\"\"))","v":""},0,9.9499999999999993,0,null,160,{"$f":"IF(AND(ISNUMBER(A1441),NOT(ISNUMBER(A1442))),SUM(OFFSET(E1441,-Q1441,0):E1441),IF(AND(ISNUMBER(P1441),ISNUMBER(P1442),P1441  <P1442),SUM(OFFSET(E1441,-Q1441,0):E1441),\"\"))","v":{"$error":"#NAME?"}},{"$f":"IF(ISNUMBER(L1441),SUM(OFFSET(G1441,-Q1441,0):G1441),\"\")","v":""},"",{"$f":"IF(B1441>0,'Tax Scales'!U1441-D1441,\"\")","v":""},{"$error":"#NAME?"},{"$error":"#NAME?"},{"$f":"IF(ISNUMBER(G1441),IF(G1441>0,'Tax Scales'!AQ1441,\"\"),\"\")","v":""}]
["2015-04-01",null,null,null,0,{"$f":"IF(SUM($B$7:$B1442)=0,\"\",IF(A1442<>\"\",IF(A1442<$B$3,\"N\",\"Y\"),\"\"))","v":""},0,9.9499999999999993,0,null,159,{"$f":"IF(AND(ISNUMBER(A1442),NOT(ISNUMBER(A1443))),SUM(OFFSET(E1442,-Q1442,0):E1442),IF(AND(ISNUMBER(P1442),ISNUMBER(P1443),P1442  <P1443),SUM(OFFSET(E1442,-Q1442,0):E1442),\"\"))","v":{"$error":"#NAME?"}},{"$f":"IF(ISNUMBER(L1442),SUM(OFFSET(G1442,-Q1442,0):G1442),\"\")","v":""},"",{"$f":"IF(B1442>0,'Tax Scales'!U1442-D1442,\"\")","v":""},{"$error":"#NAME?"},{"$error":"#NAME?"},{"$f":"IF(ISNUMBER(G1442),IF(G1442>0,'Tax Scales'!AQ1442,\"\"),\"\")","v":""}]
["2015-04-08",null,null,null,0,{"$f":"IF(SUM($B$7:$B1443)=0,\"\",IF(A1443<>\"\",IF(A1443<$B$3,\"N\",\"Y\"),\"\"))","v":""},0,9.9499999999999993,0,null,158,{"$f":"IF(AND(ISNUMBER(A1443),NOT(ISNUMBER(A1444))),SUM(OFFSET(E1443,-Q1443,0):E1443),IF(AND(ISNUMBER(P1443),ISNUMBER(P1444),P1443  <P1444),SUM(OFFSET(E1443,-Q1443,0):E1443),\"\"))","v":{"$error":"#NAME?"}},{"$f":"IF(ISNUMBER(L1443),SUM(OFFSET(G1443,-Q1443,0):G1443),\"\")","v":""},"",{"$f":"IF(B1443>0,'Tax Scales'!U1443-D1443,\"\")","v":""},{"$error":"#NAME?"},{"$error":"#NAME?"},{"$f":"IF(ISNUMBER(G1443),IF(G1443>0,'Tax Scales'!AQ1443,\"\"),\"\")","v":""}]
["2015-04-15",null,null,null,0,{"$f":"IF(SUM($B$7:$B1444)=0,\"\",IF(A1444<>\"\",IF(A1444<$B$3,\"N\",\"Y\"),\"\"))","v":""},0,9.9499999999999993,0,null,157,{"$f":"IF(AND(ISNUMBER(A1444),NOT(ISNUMBER(A1445))),SUM(OFFSET(E1444,-Q1444,0):E1444),IF(AND(ISNUMBER(P1444),ISNUMBER(P1445),P1444  <P1445),SUM(OFFSET(E1444,-Q1444,0):E1444),\"\"))","v":{"$error":"#NAME?"}},{"$f":"IF(ISNUMBER(L1444),SUM(OFFSET(G1444,-Q1444,0):G1444),\"\")","v":""},"",{"$f":"IF(B1444>0,'Tax Scales'!U1444-D1444,\"\")","v":""},{"$error":"#NAME?"},{"$error":"#NAME?"},{"$f":"IF(ISNUMBER(G1444),IF(G1444>0,'Tax Scales'!AQ1444,\"\"),\"\")","v":""}]
["2015-04-22",null,null,null,0,{"$f":"IF(SUM($B$7:$B1445)=0,\"\",IF(A1445<>\"\",IF(A1445<$B$3,\"N\",\"Y\"),\"\"))","v":""},0,9.9499999999999993,0,null,156,{"$f":"IF(AND(ISNUMBER(A1445),NOT(ISNUMBER(A1446))),SUM(OFFSET(E1445,-Q1445,0):E1445),IF(AND(ISNUMBER(P1445),ISNUMBER(P1446),P1445  <P1446),SUM(OFFSET(E1445,-Q1445,0):E1445),\"\"))","v":{"$error":"#NAME?"}},{"$f":"IF(ISNUMBER(L1445),SUM(OFFSET(G1445,-Q1445,0):G1445),\"\")","v":""},"",{"$f":"IF(B1445>0,'Tax Scales'!U1445-D1445,\"\")","v":""},{"$error":"#NAME?"},{"$error":"#NAME?"},{"$f":"IF(ISNUMBER(G1445),IF(G1445>0,'Tax Scales'!AQ1445,\"\"),\"\")","v":""}]
["2015-04-29",null,null,null,0,{"$f":"IF(SUM($B$7:$B1446)=0,\"\",IF(A1446<>\"\",IF(A1446<$B$3,\"N\",\"Y\"),\"\"))","v":""},0,9.9499999999999993,0,null,155,{"$f":"IF(AND(ISNUMBER(A1446),NOT(ISNUMBER(A1447))),SUM(OFFSET(E1446,-Q1446,0):E1446),IF(AND(ISNUMBER(P1446),ISNUMBER(P1447),P1446  <P1447),SUM(OFFSET(E1446,-Q1446,0):E1446),\"\"))","v":{"$error":"#NAME?"}},{"$f":"IF(ISNUMBER(L1446),SUM(OFFSET(G1446,-Q1446,0):G1446),\"\")","v":""},"",{"$f":"IF(B1446>0,'Tax Scales'!U1446-D1446,\"\")","v":""},{"$error":"#NAME?"},{"$error":"#NAME?"},{"$f":"IF(ISNUMBER(G1446),IF(G1446>0,'Tax Scales'!AQ1446,\"\"),\"\")","v":""}]
["2015-05-06",null,null,null,0,{"$f":"IF(SUM($B$7:$B1447)=0,\"\",IF(A1447<>\"\",IF(A1447<$B$3,\"N\",\"Y\"),\"\"))","v":""},0,9.9499999999999993,0,null,154,{"$f":"IF(AND(ISNUMBER(A1447),NOT(ISNUMBER(A1448))),SUM(OFFSET(E1447,-Q1447,0):E1447),IF(AND(ISNUMBER(P1447),ISNUMBER(P1448),P1447  <P1448),SUM(OFFSET(E1447,-Q1447,0):E1447),\"\"))","v":{"$error":"#NAME?"}},{"$f":"IF(ISNUMBER(L1447),SUM(OFFSET(G1447,-Q1447,0):G1447),\"\")","v":""},"",{"$f":"IF(B1447>0,'Tax Scales'!U1447-D1447,\"\")","v":""},{"$error":"#NAME?"},{"$error":"#NAME?"},{"$f":"IF(ISNUMBER(G1447),IF(G1447>0,'Tax Scales'!AQ1447,\"\"),\"\")","v":""}]
["2015-05-13",null,null,null,0,{"$f":"IF(SUM($B$7:$B1448)=0,\"\",IF(A1448<>\"\",IF(A1448<$B$3,\"N\",\"Y\"),\"\"))","v":""},0,9.9499999999999993,0,null,153,{"$f":"IF(AND(ISNUMBER(A1448),NOT(ISNUMBER(A1449))),SUM(OFFSET(E1448,-Q1448,0):E1448),IF(AND(ISNUMBER(P1448),ISNUMBER(P1449),P1448  <P1449),SUM(OFFSET(E1448,-Q1448,0):E1448),\"\"))","v":{"$error":"#NAME?"}},{"$f":"IF(ISNUMBER(L1448),SUM(OFFSET(G1448,-Q1448,0):G1448),\"\")","v":""},"",{"$f":"IF(B1448>0,'Tax Scales'!U1448-D1448,\"\")","v":""},{"$error":"#NAME?"},{"$error":"#NAME?"},{"$f":"IF(ISNUMBER(G1448),IF(G1448>0,'Tax Scales'!AQ1448,\"\"),\"\")","v":""}]
["2015-05-20",null,null,null,0,{"$f":"IF(SUM($B$7:$B1449)=0,\"\",IF(A1449<>\"\",IF(A1449<$B$3,\"N\",\"Y\"),\"\"))","v":""},0,9.9499999999999993,0,null,152,{"$f":"IF(AND(ISNUMBER(A1449),NOT(ISNUMBER(A1450))),SUM(OFFSET(E1449,-Q1449,0):E1449),IF(AND(ISNUMBER(P1449),ISNUMBER(P1450),P1449  <P1450),SUM(OFFSET(E1449,-Q1449,0):E1449),\"\"))","v":{"$error":"#NAME?"}},{"$f":"IF(ISNUMBER(L1449),SUM(OFFSET(G1449,-Q1449,0):G1449),\"\")","v":""},"",{"$f":"IF(B1449>0,'Tax Scales'!U1449-D1449,\"\")","v":""},{"$error":"#NAME?"},{"$error":"#NAME?"},{"$f":"IF(ISNUMBER(G1449),IF(G1449>0,'Tax Scales'!AQ1449,\"\"),\"\")","v":""}]
["2015-05-27",null,null,null,0,{"$f":"IF(SUM($B$7:$B1450)=0,\"\",IF(A1450<>\"\",IF(A1450<$B$3,\"N\",\"Y\"),\"\"))","v":""},0,9.9499999999999993,0,null,151,{"$f":"IF(AND(ISNUMBER(A1450),NOT(ISNUMBER(A1451))),SUM(OFFSET(E1450,-Q1450,0):E1450),IF(AND(ISNUMBER(P1450),ISNUMBER(P1451),P1450  <P1451),SUM(OFFSET(E1450,-Q1450,0):E1450),\"\"))","v":{"$error":"#NAME?"}},{"$f":"IF(ISNUMBER(L1450),SUM(OFFSET(G1450,-Q1450,0):G1450),\"\")","v":""},"",{"$f":"IF(B1450>0,'Tax Scales'!U1450-D1450,\"\")","v":""},{"$error":"#NAME?"},{"$error":"#NAME?"},{"$f":"IF(ISNUMBER(G1450),IF(G1450>0,'Tax Scales'!AQ1450,\"\"),\"\")","v":""}]
["2015-06-03",null,null,null,0,{"$f":"IF(SUM($B$7:$B1451)=0,\"\",IF(A1451<>\"\",IF(A1451<$B$3,\"N\",\"Y\"),\"\"))","v":""},0,9.9499999999999993,0,null,150,{"$f":"IF(AND(ISNUMBER(A1451),NOT(ISNUMBER(A1452))),SUM(OFFSET(E1451,-Q1451,0):E1451),IF(AND(ISNUMBER(P1451),ISNUMBER(P1452),P1451  <P1452),SUM(OFFSET(E1451,-Q1451,0):E1451),\"\"))","v":{"$error":"#NAME?"}},{"$f":"IF(ISNUMBER(L1451),SUM(OFFSET(G1451,-Q1451,0):G1451),\"\")","v":""},"",{"$f":"IF(B1451>0,'Tax Scales'!U1451-D1451,\"\")","v":""},{"$error":"#NAME?"},{"$error":"#NAME?"},{"$f":"IF(ISNUMBER(G1451),IF(G1451>0,'Tax Scales'!AQ1451,\"\"),\"\")","v":""}]
["2015-06-10",null,null,null,0,{"$f":"IF(SUM($B$7:$B1452)=0,\"\",IF(A1452<>\"\",IF(A1452<$B$3,\"N\",\"Y\"),\"\"))","v":""},0,9.9499999999999993,0,null,149,{"$f":"IF(AND(ISNUMBER(A1452),NOT(ISNUMBER(A1453))),SUM(OFFSET(E1452,-Q1452,0):E1452),IF(AND(ISNUMBER(P1452),ISNUMBER(P1453),P1452  <P1453),SUM(OFFSET(E1452,-Q1452,0):E1452),\"\"))","v":{"$error":"#NAME?"}},{"$f":"IF(ISNUMBER(L1452),SUM(OFFSET(G1452,-Q1452,0):G1452),\"\")","v":""},"",{"$f":"IF(B1452>0,'Tax Scales'!U1452-D1452,\"\")","v":""},{"$error":"#NAME?"},{"$error":"#NAME?"},{"$f":"IF(ISNUMBER(G1452),IF(G1452>0,'Tax Scales'!AQ1452,\"\"),\"\")","v":""}]
["2015-06-17",null,null,null,{"$f":"IF(A1453<>\"\",IF(B1453-C1453>=0,B1453-C1453,0),\"\")","v":0},{"$f":"IF(SUM($B$7:$B1453)=0,\"\",IF(A1453<>\"\",IF(A1453<$B$3,\"N\",\"Y\"),\"\"))","v":""},0,9.9499999999999993,0,null,148,{"$f":"IF(AND(ISNUMBER(A1453),NOT(ISNUMBER(A1454))),SUM(OFFSET(E1453,-Q1453,0):E1453),IF(AND(ISNUMBER(P1453),ISNUMBER(P1454),P1453  <P1454),SUM(OFFSET(E1453,-Q1453,0):E1453),\"\"))","v":{"$error":"#NAME?"}},{"$f":"IF(ISNUMBER(L1453),SUM(OFFSET(G1453,-Q1453,0):G1453),\"\")","v":""},"",{"$f":"IF(B1453>0,'Tax Scales'!U1453-D1453,\"\")","v":""},{"$error":"#NAME?"},{"$error":"#NAME?"},{"$f":"IF(ISNUMBER(G1453),IF(G1453>0,'Tax Scales'!AQ1453,\"\"),\"\")","v":""}]
["2015-06-24",null,null,null,0,{"$f":"IF(SUM($B$7:$B1454)=0,\"\",IF(A1454<>\"\",IF(A1454<$B$3,\"N\",\"Y\"),\"\"))","v":""},0,9.9499999999999993,0,null,147,{"$f":"IF(AND(ISNUMBER(A1454),NOT(ISNUMBER(A1455))),SUM(OFFSET(E1454,-Q1454,0):E1454),IF(AND(ISNUMBER(P1454),ISNUMBER(P1455),P1454  <P1455),SUM(OFFSET(E1454,-Q1454,0):E1454),\"\"))","v":{"$error":"#NAME?"}},{"$f":"IF(ISNUMBER(L1454),SUM(OFFSET(G1454,-Q1454,0):G1454),\"\")","v":""},"",{"$f":"IF(B1454>0,'Tax Scales'!U1454-D1454,\"\")","v":""},{"$error":"#NAME?"},{"$error":"#NAME?"},{"$f":"IF(ISNUMBER(G1454),IF(G1454>0,'Tax Scales'!AQ1454,\"\"),\"\")","v":""}]
["2015-07-01",null,null,null,0,{"$f":"IF(SUM($B$7:$B1455)=0,\"\",IF(A1455<>\"\",IF(A1455<$B$3,\"N\",\"Y\"),\"\"))","v":""},0,{"$f":"IF(A1455<>\"\",9.11,\"\")","v":9.11},0,null,146,{"$f":"IF(AND(ISNUMBER(A1455),NOT(ISNUMBER(A1456))),SUM(OFFSET(E1455,-Q1455,0):E1455),IF(AND(ISNUMBER(P1455),ISNUMBER(P1456),P1455  <P1456),SUM(OFFSET(E1455,-Q1455,0):E1455),\"\"))","v":{"$error":"#NAME?"}},{"$f":"IF(ISNUMBER(L1455),SUM(OFFSET(G1455,-Q1455,0):G1455),\"\")","v":""},"",{"$f":"IF(B1455>0,'Tax Scales'!U1455-D1455,\"\")","v":""},{"$error":"#NAME?"},{"$error":"#NAME?"},{"$f":"IF(ISNUMBER(G1455),IF(G1455>0,'Tax Scales'!AQ1455,\"\"),\"\")","v":""}]
["2015-07-08",null,null,null,0,{"$f":"IF(SUM($B$7:$B1456)=0,\"\",IF(A1456<>\"\",IF(A1456<$B$3,\"N\",\"Y\"),\"\"))","v":""},0,9.11,0,null,145,{"$f":"IF(AND(ISNUMBER(A1456),NOT(ISNUMBER(A1457))),SUM(OFFSET(E1456,-Q1456,0):E1456),IF(AND(ISNUMBER(P1456),ISNUMBER(P1457),P1456  <P1457),SUM(OFFSET(E1456,-Q1456,0):E1456),\"\"))","v":{"$error":"#NAME?"}},{"$f":"IF(ISNUMBER(L1456),SUM(OFFSET(G1456,-Q1456,0):G1456),\"\")","v":""},"",{"$f":"IF(B1456>0,'Tax Scales'!U1456-D1456,\"\")","v":""},{"$error":"#NAME?"},{"$error":"#NAME?"},{"$f":"IF(ISNUMBER(G1456),IF(G1456>0,'Tax Scales'!AQ1456,\"\"),\"\")","v":""}]
["2015-07-15",null,null,null,0,{"$f":"IF(SUM($B$7:$B1457)=0,\"\",IF(A1457<>\"\",IF(A1457<$B$3,\"N\",\"Y\"),\"\"))","v":""},0,9.11,0,null,144,{"$f":"IF(AND(ISNUMBER(A1457),NOT(ISNUMBER(A1458))),SUM(OFFSET(E1457,-Q1457,0):E1457),IF(AND(ISNUMBER(P1457),ISNUMBER(P1458),P1457  <P1458),SUM(OFFSET(E1457,-Q1457,0):E1457),\"\"))","v":{"$error":"#NAME?"}},{"$f":"IF(ISNUMBER(L1457),SUM(OFFSET(G1457,-Q1457,0):G1457),\"\")","v":""},"",{"$f":"IF(B1457>0,'Tax Scales'!U1457-D1457,\"\")","v":""},{"$error":"#NAME?"},{"$error":"#NAME?"},{"$f":"IF(ISNUMBER(G1457),IF(G1457>0,'Tax Scales'!AQ1457,\"\"),\"\")","v":""}]
["2015-07-22",null,null,null,0,{"$f":"IF(SUM($B$7:$B1458)=0,\"\",IF(A1458<>\"\",IF(A1458<$B$3,\"N\",\"Y\"),\"\"))","v":""},0,9.11,0,null,143,{"$f":"IF(AND(ISNUMBER(A1458),NOT(ISNUMBER(A1459))),SUM(OFFSET(E1458,-Q1458,0):E1458),IF(AND(ISNUMBER(P1458),ISNUMBER(P1459),P1458  <P1459),SUM(OFFSET(E1458,-Q1458,0):E1458),\"\"))","v":{"$error":"#NAME?"}},{"$f":"IF(ISNUMBER(L1458),SUM(OFFSET(G1458,-Q1458,0):G1458),\"\")","v":""},"",{"$f":"IF(B1458>0,'Tax Scales'!U1458-D1458,\"\")","v":""},{"$error":"#NAME?"},{"$error":"#NAME?"},{"$f":"IF(ISNUMBER(G1458),IF(G1458>0,'Tax Scales'!AQ1458,\"\"),\"\")","v":""}]
["2015-07-29",null,null,null,0,{"$f":"IF(SUM($B$7:$B1459)=0,\"\",IF(A1459<>\"\",IF(A1459<$B$3,\"N\",\"Y\"),\"\"))","v":""},0,9.11,0,null,142,{"$f":"IF(AND(ISNUMBER(A1459),NOT(ISNUMBER(A1460))),SUM(OFFSET(E1459,-Q1459,0):E1459),IF(AND(ISNUMBER(P1459),ISNUMBER(P1460),P1459  <P1460),SUM(OFFSET(E1459,-Q1459,0):E1459),\"\"))","v":{"$error":"#NAME?"}},{"$f":"IF(ISNUMBER(L1459),SUM(OFFSET(G1459,-Q1459,0):G1459),\"\")","v":""},"",{"$f":"IF(B1459>0,'Tax Scales'!U1459-D1459,\"\")","v":""},{"$error":"#NAME?"},{"$error":"#NAME?"},{"$f":"IF(ISNUMBER(G1459),IF(G1459>0,'Tax Scales'!AQ1459,\"\"),\"\")","v":""}]
["2015-08-05",null,null,null,0,{"$f":"IF(SUM($B$7:$B1460)=0,\"\",IF(A1460<>\"\",IF(A1460<$B$3,\"N\",\"Y\"),\"\"))","v":""},0,9.11,0,null,141,{"$f":"IF(AND(ISNUMBER(A1460),NOT(ISNUMBER(A1461))),SUM(OFFSET(E1460,-Q1460,0):E1460),IF(AND(ISNUMBER(P1460),ISNUMBER(P1461),P1460  <P1461),SUM(OFFSET(E1460,-Q1460,0):E1460),\"\"))","v":{"$error":"#NAME?"}},{"$f":"IF(ISNUMBER(L1460),SUM(OFFSET(G1460,-Q1460,0):G1460),\"\")","v":""},"",{"$f":"IF(B1460>0,'Tax Scales'!U1460-D1460,\"\")","v":""},{"$error":"#NAME?"},{"$error":"#NAME?"},{"$f":"IF(ISNUMBER(G1460),IF(G1460>0,'Tax Scales'!AQ1460,\"\"),\"\")","v":""}]
["2015-08-12",null,null,null,0,{"$f":"IF(SUM($B$7:$B1461)=0,\"\",IF(A1461<>\"\",IF(A1461<$B$3,\"N\",\"Y\"),\"\"))","v":""},0,9.11,0,null,140,{"$f":"IF(AND(ISNUMBER(A1461),NOT(ISNUMBER(A1462))),SUM(OFFSET(E1461,-Q1461,0):E1461),IF(AND(ISNUMBER(P1461),ISNUMBER(P1462),P1461  <P1462),SUM(OFFSET(E1461,-Q1461,0):E1461),\"\"))","v":{"$error":"#NAME?"}},{"$f":"IF(ISNUMBER(L1461),SUM(OFFSET(G1461,-Q1461,0):G1461),\"\")","v":""},"",{"$f":"IF(B1461>0,'Tax Scales'!U1461-D1461,\"\")","v":""},{"$error":"#NAME?"},{"$error":"#NAME?"},{"$f":"IF(ISNUMBER(G1461),IF(G1461>0,'Tax Scales'!AQ1461,\"\"),\"\")","v":""}]
["2015-08-19",null,null,null,0,{"$f":"IF(SUM($B$7:$B1462)=0,\"\",IF(A1462<>\"\",IF(A1462<$B$3,\"N\",\"Y\"),\"\"))","v":""},0,9.11,0,null,139,{"$f":"IF(AND(ISNUMBER(A1462),NOT(ISNUMBER(A1463))),SUM(OFFSET(E1462,-Q1462,0):E1462),IF(AND(ISNUMBER(P1462),ISNUMBER(P1463),P1462  <P1463),SUM(OFFSET(E1462,-Q1462,0):E1462),\"\"))","v":{"$error":"#NAME?"}},{"$f":"IF(ISNUMBER(L1462),SUM(OFFSET(G1462,-Q1462,0):G1462),\"\")","v":""},"",{"$f":"IF(B1462>0,'Tax Scales'!U1462-D1462,\"\")","v":""},{"$error":"#NAME?"},{"$error":"#NAME?"},{"$f":"IF(ISNUMBER(G1462),IF(G1462>0,'Tax Scales'!AQ1462,\"\"),\"\")","v":""}]
["2015-08-26",null,null,null,0,{"$f":"IF(SUM($B$7:$B1463)=0,\"\",IF(A1463<>\"\",IF(A1463<$B$3,\"N\",\"Y\"),\"\"))","v":""},0,9.11,0,null,138,{"$f":"IF(AND(ISNUMBER(A1463),NOT(ISNUMBER(A1464))),SUM(OFFSET(E1463,-Q1463,0):E1463),IF(AND(ISNUMBER(P1463),ISNUMBER(P1464),P1463  <P1464),SUM(OFFSET(E1463,-Q1463,0):E1463),\"\"))","v":{"$error":"#NAME?"}},{"$f":"IF(ISNUMBER(L1463),SUM(OFFSET(G1463,-Q1463,0):G1463),\"\")","v":""},"",{"$f":"IF(B1463>0,'Tax Scales'!U1463-D1463,\"\")","v":""},{"$error":"#NAME?"},{"$error":"#NAME?"},{"$f":"IF(ISNUMBER(G1463),IF(G1463>0,'Tax Scales'!AQ1463,\"\"),\"\")","v":""}]
["2015-09-02",null,null,null,0,{"$f":"IF(SUM($B$7:$B1464)=0,\"\",IF(A1464<>\"\",IF(A1464<$B$3,\"N\",\"Y\"),\"\"))","v":""},0,9.11,0,null,137,{"$f":"IF(AND(ISNUMBER(A1464),NOT(ISNUMBER(A1465))),SUM(OFFSET(E1464,-Q1464,0):E1464),IF(AND(ISNUMBER(P1464),ISNUMBER(P1465),P1464  <P1465),SUM(OFFSET(E1464,-Q1464,0):E1464),\"\"))","v":{"$error":"#NAME?"}},{"$f":"IF(ISNUMBER(L1464),SUM(OFFSET(G1464,-Q1464,0):G1464),\"\")","v":""},"",{"$f":"IF(B1464>0,'Tax Scales'!U1464-D1464,\"\")","v":""},{"$error":"#NAME?"},{"$error":"#NAME?"},{"$f":"IF(ISNUMBER(G1464),IF(G1464>0,'Tax Scales'!AQ1464,\"\"),\"\")","v":""}]
["2015-09-09",null,null,null,0,{"$f":"IF(SUM($B$7:$B1465)=0,\"\",IF(A1465<>\"\",IF(A1465<$B$3,\"N\",\"Y\"),\"\"))","v":""},0,9.11,0,null,136,{"$f":"IF(AND(ISNUMBER(A1465),NOT(ISNUMBER(A1466))),SUM(OFFSET(E1465,-Q1465,0):E1465),IF(AND(ISNUMBER(P1465),ISNUMBER(P1466),P1465  <P1466),SUM(OFFSET(E1465,-Q1465,0):E1465),\"\"))","v":{"$error":"#NAME?"}},{"$f":"IF(ISNUMBER(L1465),SUM(OFFSET(G1465,-Q1465,0):G1465),\"\")","v":""},"",{"$f":"IF(B1465>0,'Tax Scales'!U1465-D1465,\"\")","v":""},{"$error":"#NAME?"},{"$error":"#NAME?"},{"$f":"IF(ISNUMBER(G1465),IF(G1465>0,'Tax Scales'!AQ1465,\"\"),\"\")","v":""}]
["2015-09-16",null,null,null,0,{"$f":"IF(SUM($B$7:$B1466)=0,\"\",IF(A1466<>\"\",IF(A1466<$B$3,\"N\",\"Y\"),\"\"))","v":""},0,9.11,0,null,135,{"$f":"IF(AND(ISNUMBER(A1466),NOT(ISNUMBER(A1467))),SUM(OFFSET(E1466,-Q1466,0):E1466),IF(AND(ISNUMBER(P1466),ISNUMBER(P1467),P1466  <P1467),SUM(OFFSET(E1466,-Q1466,0):E1466),\"\"))","v":{"$error":"#NAME?"}},{"$f":"IF(ISNUMBER(L1466),SUM(OFFSET(G1466,-Q1466,0):G1466),\"\")","v":""},"",{"$f":"IF(B1466>0,'Tax Scales'!U1466-D1466,\"\")","v":""},{"$error":"#NAME?"},{"$error":"#NAME?"},{"$f":"IF(ISNUMBER(G1466),IF(G1466>0,'Tax Scales'!AQ1466,\"\"),\"\")","v":""}]
["2015-09-23",null,null,null,0,{"$f":"IF(SUM($B$7:$B1467)=0,\"\",IF(A1467<>\"\",IF(A1467<$B$3,\"N\",\"Y\"),\"\"))","v":""},0,9.11,0,null,134,{"$f":"IF(AND(ISNUMBER(A1467),NOT(ISNUMBER(A1468))),SUM(OFFSET(E1467,-Q1467,0):E1467),IF(AND(ISNUMBER(P1467),ISNUMBER(P1468),P1467  <P1468),SUM(OFFSET(E1467,-Q1467,0):E1467),\"\"))","v":{"$error":"#NAME?"}},{"$f":"IF(ISNUMBER(L1467),SUM(OFFSET(G1467,-Q1467,0):G1467),\"\")","v":""},"",{"$f":"IF(B1467>0,'Tax Scales'!U1467-D1467,\"\")","v":""},{"$error":"#NAME?"},{"$error":"#NAME?"},{"$f":"IF(ISNUMBER(G1467),IF(G1467>0,'Tax Scales'!AQ1467,\"\"),\"\")","v":""}]
["2015-09-30",null,null,null,0,{"$f":"IF(SUM($B$7:$B1468)=0,\"\",IF(A1468<>\"\",IF(A1468<$B$3,\"N\",\"Y\"),\"\"))","v":""},0,9.11,0,null,133,{"$f":"IF(AND(ISNUMBER(A1468),NOT(ISNUMBER(A1469))),SUM(OFFSET(E1468,-Q1468,0):E1468),IF(AND(ISNUMBER(P1468),ISNUMBER(P1469),P1468  <P1469),SUM(OFFSET(E1468,-Q1468,0):E1468),\"\"))","v":{"$error":"#NAME?"}},{"$f":"IF(ISNUMBER(L1468),SUM(OFFSET(G1468,-Q1468,0):G1468),\"\")","v":""},"",{"$f":"IF(B1468>0,'Tax Scales'!U1468-D1468,\"\")","v":""},{"$error":"#NAME?"},{"$error":"#NAME?"},{"$f":"IF(ISNUMBER(G1468),IF(G1468>0,'Tax Scales'!AQ1468,\"\"),\"\")","v":""}]
["2015-10-07",null,null,null,0,{"$f":"IF(SUM($B$7:$B1469)=0,\"\",IF(A1469<>\"\",IF(A1469<$B$3,\"N\",\"Y\"),\"\"))","v":""},0,9.11,0,null,132,{"$f":"IF(AND(ISNUMBER(A1469),NOT(ISNUMBER(A1470))),SUM(OFFSET(E1469,-Q1469,0):E1469),IF(AND(ISNUMBER(P1469),ISNUMBER(P1470),P1469  <P1470),SUM(OFFSET(E1469,-Q1469,0):E1469),\"\"))","v":{"$error":"#NAME?"}},{"$f":"IF(ISNUMBER(L1469),SUM(OFFSET(G1469,-Q1469,0):G1469),\"\")","v":""},"",{"$f":"IF(B1469>0,'Tax Scales'!U1469-D1469,\"\")","v":""},{"$error":"#NAME?"},{"$error":"#NAME?"},{"$f":"IF(ISNUMBER(G1469),IF(G1469>0,'Tax Scales'!AQ1469,\"\"),\"\")","v":""}]
["2015-10-14",null,null,null,0,{"$f":"IF(SUM($B$7:$B1470)=0,\"\",IF(A1470<>\"\",IF(A1470<$B$3,\"N\",\"Y\"),\"\"))","v":""},0,9.11,0,null,131,{"$f":"IF(AND(ISNUMBER(A1470),NOT(ISNUMBER(A1471))),SUM(OFFSET(E1470,-Q1470,0):E1470),IF(AND(ISNUMBER(P1470),ISNUMBER(P1471),P1470  <P1471),SUM(OFFSET(E1470,-Q1470,0):E1470),\"\"))","v":{"$error":"#NAME?"}},{"$f":"IF(ISNUMBER(L1470),SUM(OFFSET(G1470,-Q1470,0):G1470),\"\")","v":""},"",{"$f":"IF(B1470>0,'Tax Scales'!U1470-D1470,\"\")","v":""},{"$error":"#NAME?"},{"$error":"#NAME?"},{"$f":"IF(ISNUMBER(G1470),IF(G1470>0,'Tax Scales'!AQ1470,\"\"),\"\")","v":""}]
["2015-10-21",null,null,null,0,{"$f":"IF(SUM($B$7:$B1471)=0,\"\",IF(A1471<>\"\",IF(A1471<$B$3,\"N\",\"Y\"),\"\"))","v":""},0,9.11,0,null,130,{"$f":"IF(AND(ISNUMBER(A1471),NOT(ISNUMBER(A1472))),SUM(OFFSET(E1471,-Q1471,0):E1471),IF(AND(ISNUMBER(P1471),ISNUMBER(P1472),P1471  <P1472),SUM(OFFSET(E1471,-Q1471,0):E1471),\"\"))","v":{"$error":"#NAME?"}},{"$f":"IF(ISNUMBER(L1471),SUM(OFFSET(G1471,-Q1471,0):G1471),\"\")","v":""},"",{"$f":"IF(B1471>0,'Tax Scales'!U1471-D1471,\"\")","v":""},{"$error":"#NAME?"},{"$error":"#NAME?"},{"$f":"IF(ISNUMBER(G1471),IF(G1471>0,'Tax Scales'!AQ1471,\"\"),\"\")","v":""}]
["2015-10-28",null,null,null,0,{"$f":"IF(SUM($B$7:$B1472)=0,\"\",IF(A1472<>\"\",IF(A1472<$B$3,\"N\",\"Y\"),\"\"))","v":""},0,9.11,0,null,129,{"$f":"IF(AND(ISNUMBER(A1472),NOT(ISNUMBER(A1473))),SUM(OFFSET(E1472,-Q1472,0):E1472),IF(AND(ISNUMBER(P1472),ISNUMBER(P1473),P1472  <P1473),SUM(OFFSET(E1472,-Q1472,0):E1472),\"\"))","v":{"$error":"#NAME?"}},{"$f":"IF(ISNUMBER(L1472),SUM(OFFSET(G1472,-Q1472,0):G1472),\"\")","v":""},"",{"$f":"IF(B1472>0,'Tax Scales'!U1472-D1472,\"\")","v":""},{"$error":"#NAME?"},{"$error":"#NAME?"},{"$f":"IF(ISNUMBER(G1472),IF(G1472>0,'Tax Scales'!AQ1472,\"\"),\"\")","v":""}]
["2015-11-04",null,null,null,0,{"$f":"IF(SUM($B$7:$B1473)=0,\"\",IF(A1473<>\"\",IF(A1473<$B$3,\"N\",\"Y\"),\"\"))","v":""},0,9.11,0,null,128,{"$f":"IF(AND(ISNUMBER(A1473),NOT(ISNUMBER(A1474))),SUM(OFFSET(E1473,-Q1473,0):E1473),IF(AND(ISNUMBER(P1473),ISNUMBER(P1474),P1473  <P1474),SUM(OFFSET(E1473,-Q1473,0):E1473),\"\"))","v":{"$error":"#NAME?"}},{"$f":"IF(ISNUMBER(L1473),SUM(OFFSET(G1473,-Q1473,0):G1473),\"\")","v":""},"",{"$f":"IF(B1473>0,'Tax Scales'!U1473-D1473,\"\")","v":""},{"$error":"#NAME?"},{"$error":"#NAME?"},{"$f":"IF(ISNUMBER(G1473),IF(G1473>0,'Tax Scales'!AQ1473,\"\"),\"\")","v":""}]
["2015-11-11",null,null,null,0,{"$f":"IF(SUM($B$7:$B1474)=0,\"\",IF(A1474<>\"\",IF(A1474<$B$3,\"N\",\"Y\"),\"\"))","v":""},0,9.11,0,null,127,{"$f":"IF(AND(ISNUMBER(A1474),NOT(ISNUMBER(A1475))),SUM(OFFSET(E1474,-Q1474,0):E1474),IF(AND(ISNUMBER(P1474),ISNUMBER(P1475),P1474  <P1475),SUM(OFFSET(E1474,-Q1474,0):E1474),\"\"))","v":{"$error":"#NAME?"}},{"$f":"IF(ISNUMBER(L1474),SUM(OFFSET(G1474,-Q1474,0):G1474),\"\")","v":""},"",{"$f":"IF(B1474>0,'Tax Scales'!U1474-D1474,\"\")","v":""},{"$error":"#NAME?"},{"$error":"#NAME?"},{"$f":"IF(ISNUMBER(G1474),IF(G1474>0,'Tax Scales'!AQ1474,\"\"),\"\")","v":""}]
["2015-11-18",null,null,null,0,{"$f":"IF(SUM($B$7:$B1475)=0,\"\",IF(A1475<>\"\",IF(A1475<$B$3,\"N\",\"Y\"),\"\"))","v":""},0,9.11,0,null,126,{"$f":"IF(AND(ISNUMBER(A1475),NOT(ISNUMBER(A1476))),SUM(OFFSET(E1475,-Q1475,0):E1475),IF(AND(ISNUMBER(P1475),ISNUMBER(P1476),P1475  <P1476),SUM(OFFSET(E1475,-Q1475,0):E1475),\"\"))","v":{"$error":"#NAME?"}},{"$f":"IF(ISNUMBER(L1475),SUM(OFFSET(G1475,-Q1475,0):G1475),\"\")","v":""},"",{"$f":"IF(B1475>0,'Tax Scales'!U1475-D1475,\"\")","v":""},{"$error":"#NAME?"},{"$error":"#NAME?"},{"$f":"IF(ISNUMBER(G1475),IF(G1475>0,'Tax Scales'!AQ1475,\"\"),\"\")","v":""}]
["2015-11-25",null,null,null,0,{"$f":"IF(SUM($B$7:$B1476)=0,\"\",IF(A1476<>\"\",IF(A1476<$B$3,\"N\",\"Y\"),\"\"))","v":""},0,9.11,0,null,125,{"$f":"IF(AND(ISNUMBER(A1476),NOT(ISNUMBER(A1477))),SUM(OFFSET(E1476,-Q1476,0):E1476),IF(AND(ISNUMBER(P1476),ISNUMBER(P1477),P1476  <P1477),SUM(OFFSET(E1476,-Q1476,0):E1476),\"\"))","v":{"$error":"#NAME?"}},{"$f":"IF(ISNUMBER(L1476),SUM(OFFSET(G1476,-Q1476,0):G1476),\"\")","v":""},"",{"$f":"IF(B1476>0,'Tax Scales'!U1476-D1476,\"\")","v":""},{"$error":"#NAME?"},{"$error":"#NAME?"},{"$f":"IF(ISNUMBER(G1476),IF(G1476>0,'Tax Scales'!AQ1476,\"\"),\"\")","v":""}]
["2015-12-02",null,null,null,0,{"$f":"IF(SUM($B$7:$B1477)=0,\"\",IF(A1477<>\"\",IF(A1477<$B$3,\"N\",\"Y\"),\"\"))","v":""},0,9.11,0,null,124,{"$f":"IF(AND(ISNUMBER(A1477),NOT(ISNUMBER(A1478))),SUM(OFFSET(E1477,-Q1477,0):E1477),IF(AND(ISNUMBER(P1477),ISNUMBER(P1478),P1477  <P1478),SUM(OFFSET(E1477,-Q1477,0):E1477),\"\"))","v":{"$error":"#NAME?"}},{"$f":"IF(ISNUMBER(L1477),SUM(OFFSET(G1477,-Q1477,0):G1477),\"\")","v":""},"",{"$f":"IF(B1477>0,'Tax Scales'!U1477-D1477,\"\")","v":""},{"$error":"#NAME?"},{"$error":"#NAME?"},{"$f":"IF(ISNUMBER(G1477),IF(G1477>0,'Tax Scales'!AQ1477,\"\"),\"\")","v":""}]
["2015-12-09",null,null,null,0,{"$f":"IF(SUM($B$7:$B1478)=0,\"\",IF(A1478<>\"\",IF(A1478<$B$3,\"N\",\"Y\"),\"\"))","v":""},0,9.11,0,null,123,{"$f":"IF(AND(ISNUMBER(A1478),NOT(ISNUMBER(A1479))),SUM(OFFSET(E1478,-Q1478,0):E1478),IF(AND(ISNUMBER(P1478),ISNUMBER(P1479),P1478  <P1479),SUM(OFFSET(E1478,-Q1478,0):E1478),\"\"))","v":{"$error":"#NAME?"}},{"$f":"IF(ISNUMBER(L1478),SUM(OFFSET(G1478,-Q1478,0):G1478),\"\")","v":""},"",{"$f":"IF(B1478>0,'Tax Scales'!U1478-D1478,\"\")","v":""},{"$error":"#NAME?"},{"$error":"#NAME?"},{"$f":"IF(ISNUMBER(G1478),IF(G1478>0,'Tax Scales'!AQ1478,\"\"),\"\")","v":""}]
["2015-12-16",null,null,null,0,{"$f":"IF(SUM($B$7:$B1479)=0,\"\",IF(A1479<>\"\",IF(A1479<$B$3,\"N\",\"Y\"),\"\"))","v":""},0,9.11,0,null,122,{"$f":"IF(AND(ISNUMBER(A1479),NOT(ISNUMBER(A1480))),SUM(OFFSET(E1479,-Q1479,0):E1479),IF(AND(ISNUMBER(P1479),ISNUMBER(P1480),P1479  <P1480),SUM(OFFSET(E1479,-Q1479,0):E1479),\"\"))","v":{"$error":"#NAME?"}},{"$f":"IF(ISNUMBER(L1479),SUM(OFFSET(G1479,-Q1479,0):G1479),\"\")","v":""},"",{"$f":"IF(B1479>0,'Tax Scales'!U1479-D1479,\"\")","v":""},{"$error":"#NAME?"},{"$error":"#NAME?"},{"$f":"IF(ISNUMBER(G1479),IF(G1479>0,'Tax Scales'!AQ1479,\"\"),\"\")","v":""}]
["2015-12-23",null,null,null,0,{"$f":"IF(SUM($B$7:$B1480)=0,\"\",IF(A1480<>\"\",IF(A1480<$B$3,\"N\",\"Y\"),\"\"))","v":""},0,9.11,0,null,121,{"$f":"IF(AND(ISNUMBER(A1480),NOT(ISNUMBER(A1481))),SUM(OFFSET(E1480,-Q1480,0):E1480),IF(AND(ISNUMBER(P1480),ISNUMBER(P1481),P1480  <P1481),SUM(OFFSET(E1480,-Q1480,0):E1480),\"\"))","v":{"$error":"#NAME?"}},{"$f":"IF(ISNUMBER(L1480),SUM(OFFSET(G1480,-Q1480,0):G1480),\"\")","v":""},"",{"$f":"IF(B1480>0,'Tax Scales'!U1480-D1480,\"\")","v":""},{"$error":"#NAME?"},{"$error":"#NAME?"},{"$f":"IF(ISNUMBER(G1480),IF(G1480>0,'Tax Scales'!AQ1480,\"\"),\"\")","v":""}]
["2015-12-30",null,null,null,0,{"$f":"IF(SUM($B$7:$B1481)=0,\"\",IF(A1481<>\"\",IF(A1481<$B$3,\"N\",\"Y\"),\"\"))","v":""},{"$f":"IF(F1481=\"N\",0,IF(A1481<>\"\",IF(K1481>=0,((E1481+I1480)*(1+(H1481/52)/100)-E1481-I1480),0),\"\"))","v":0},9.11,0,null,120,{"$f":"IF(AND(ISNUMBER(A1481),NOT(ISNUMBER(A1482))),SUM(OFFSET(E1481,-Q1481,0):E1481),IF(AND(ISNUMBER(P1481),ISNUMBER(P1482),P1481  <P1482),SUM(OFFSET(E1481,-Q1481,0):E1481),\"\"))","v":{"$error":"#NAME?"}},{"$f":"IF(ISNUMBER(L1481),SUM(OFFSET(G1481,-Q1481,0):G1481),\"\")","v":""},"",{"$f":"IF(B1481>0,'Tax Scales'!U1481-D1481,\"\")","v":""},{"$error":"#NAME?"},{"$error":"#NAME?"},{"$f":"IF(ISNUMBER(G1481),IF(G1481>0,'Tax Scales'!AQ1481,\"\"),\"\")","v":""}]
[{"$f":"IF(A1481<>\"\",IF(A1481+12<=TODAY(),+A1481+7,\"\"),\"\")","v":"2016-01-06"},null,null,null,0,{"$f":"IF(SUM($B$7:$B1482)=0,\"\",IF(A1482<>\"\",IF(A1482<$B$3,\"N\",\"Y\"),\"\"))","v":""},0,9.11,0,null,119,{"$f":"IF(AND(ISNUMBER(A1482),NOT(ISNUMBER(A1483))),SUM(OFFSET(E1482,-Q1482,0):E1482),IF(AND(ISNUMBER(P1482),ISNUMBER(P1483),P1482  <P1483),SUM(OFFSET(E1482,-Q1482,0):E1482),\"\"))","v":{"$error":"#NAME?"}},{"$f":"IF(ISNUMBER(L1482),SUM(OFFSET(G1482,-Q1482,0):G1482),\"\")","v":""},"",{"$f":"IF(B1482>0,'Tax Scales'!U1482-D1482,\"\")","v":""},{"$error":"#NAME?"},{"$error":"#NAME?"},{"$f":"IF(ISNUMBER(G1482),IF(G1482>0,'Tax Scales'!AQ1482,\"\"),\"\")","v":""}]
["2016-01-13",null,null,null,0,{"$f":"IF(SUM($B$7:$B1483)=0,\"\",IF(A1483<>\"\",IF(A1483<$B$3,\"N\",\"Y\"),\"\"))","v":""},0,9.11,0,null,118,{"$f":"IF(AND(ISNUMBER(A1483),NOT(ISNUMBER(A1484))),SUM(OFFSET(E1483,-Q1483,0):E1483),IF(AND(ISNUMBER(P1483),ISNUMBER(P1484),P1483  <P1484),SUM(OFFSET(E1483,-Q1483,0):E1483),\"\"))","v":{"$error":"#NAME?"}},{"$f":"IF(ISNUMBER(L1483),SUM(OFFSET(G1483,-Q1483,0):G1483),\"\")","v":""},"",{"$f":"IF(B1483>0,'Tax Scales'!U1483-D1483,\"\")","v":""},{"$error":"#NAME?"},{"$error":"#NAME?"},{"$f":"IF(ISNUMBER(G1483),IF(G1483>0,'Tax Scales'!AQ1483,\"\"),\"\")","v":""}]
["2016-01-20",null,null,null,0,{"$f":"IF(SUM($B$7:$B1484)=0,\"\",IF(A1484<>\"\",IF(A1484<$B$3,\"N\",\"Y\"),\"\"))","v":""},0,9.11,0,null,117,{"$f":"IF(AND(ISNUMBER(A1484),NOT(ISNUMBER(A1485))),SUM(OFFSET(E1484,-Q1484,0):E1484),IF(AND(ISNUMBER(P1484),ISNUMBER(P1485),P1484  <P1485),SUM(OFFSET(E1484,-Q1484,0):E1484),\"\"))","v":{"$error":"#NAME?"}},{"$f":"IF(ISNUMBER(L1484),SUM(OFFSET(G1484,-Q1484,0):G1484),\"\")","v":""},"",{"$f":"IF(B1484>0,'Tax Scales'!U1484-D1484,\"\")","v":""},{"$error":"#NAME?"},{"$error":"#NAME?"},{"$f":"IF(ISNUMBER(G1484),IF(G1484>0,'Tax Scales'!AQ1484,\"\"),\"\")","v":""}]
["2016-01-27",null,null,null,0,{"$f":"IF(SUM($B$7:$B1485)=0,\"\",IF(A1485<>\"\",IF(A1485<$B$3,\"N\",\"Y\"),\"\"))","v":""},0,9.11,0,null,116,{"$f":"IF(AND(ISNUMBER(A1485),NOT(ISNUMBER(A1486))),SUM(OFFSET(E1485,-Q1485,0):E1485),IF(AND(ISNUMBER(P1485),ISNUMBER(P1486),P1485  <P1486),SUM(OFFSET(E1485,-Q1485,0):E1485),\"\"))","v":{"$error":"#NAME?"}},{"$f":"IF(ISNUMBER(L1485),SUM(OFFSET(G1485,-Q1485,0):G1485),\"\")","v":""},"",{"$f":"IF(B1485>0,'Tax Scales'!U1485-D1485,\"\")","v":""},{"$error":"#NAME?"},{"$error":"#NAME?"},{"$f":"IF(ISNUMBER(G1485),IF(G1485>0,'Tax Scales'!AQ1485,\"\"),\"\")","v":""}]
["2016-02-03",null,null,null,0,{"$f":"IF(SUM($B$7:$B1486)=0,\"\",IF(A1486<>\"\",IF(A1486<$B$3,\"N\",\"Y\"),\"\"))","v":""},0,9.11,0,null,115,{"$f":"IF(AND(ISNUMBER(A1486),NOT(ISNUMBER(A1487))),SUM(OFFSET(E1486,-Q1486,0):E1486),IF(AND(ISNUMBER(P1486),ISNUMBER(P1487),P1486  <P1487),SUM(OFFSET(E1486,-Q1486,0):E1486),\"\"))","v":{"$error":"#NAME?"}},{"$f":"IF(ISNUMBER(L1486),SUM(OFFSET(G1486,-Q1486,0):G1486),\"\")","v":""},"",{"$f":"IF(B1486>0,'Tax Scales'!U1486-D1486,\"\")","v":""},{"$error":"#NAME?"},{"$error":"#NAME?"},{"$f":"IF(ISNUMBER(G1486),IF(G1486>0,'Tax Scales'!AQ1486,\"\"),\"\")","v":""}]
["2016-02-10",null,null,null,0,{"$f":"IF(SUM($B$7:$B1487)=0,\"\",IF(A1487<>\"\",IF(A1487<$B$3,\"N\",\"Y\"),\"\"))","v":""},0,{"$f":"IF(A1487<>\"\",9.11,\"\")","v":9.11},0,null,114,{"$f":"IF(AND(ISNUMBER(A1487),NOT(ISNUMBER(A1488))),SUM(OFFSET(E1487,-Q1487,0):E1487),IF(AND(ISNUMBER(P1487),ISNUMBER(P1488),P1487  <P1488),SUM(OFFSET(E1487,-Q1487,0):E1487),\"\"))","v":{"$error":"#NAME?"}},{"$f":"IF(ISNUMBER(L1487),SUM(OFFSET(G1487,-Q1487,0):G1487),\"\")","v":""},"",{"$f":"IF(B1487>0,'Tax Scales'!U1487-D1487,\"\")","v":""},{"$error":"#NAME?"},{"$error":"#NAME?"},{"$f":"IF(ISNUMBER(G1487),IF(G1487>0,'Tax Scales'!AQ1487,\"\"),\"\")","v":""}]
["2016-02-17",null,null,null,0,{"$f":"IF(SUM($B$7:$B1488)=0,\"\",IF(A1488<>\"\",IF(A1488<$B$3,\"N\",\"Y\"),\"\"))","v":""},0,9.11,0,null,113,{"$f":"IF(AND(ISNUMBER(A1488),NOT(ISNUMBER(A1489))),SUM(OFFSET(E1488,-Q1488,0):E1488),IF(AND(ISNUMBER(P1488),ISNUMBER(P1489),P1488  <P1489),SUM(OFFSET(E1488,-Q1488,0):E1488),\"\"))","v":{"$error":"#NAME?"}},{"$f":"IF(ISNUMBER(L1488),SUM(OFFSET(G1488,-Q1488,0):G1488),\"\")","v":""},"",{"$f":"IF(B1488>0,'Tax Scales'!U1488-D1488,\"\")","v":""},{"$error":"#NAME?"},{"$error":"#NAME?"},{"$f":"IF(ISNUMBER(G1488),IF(G1488>0,'Tax Scales'!AQ1488,\"\"),\"\")","v":""}]
["2016-02-24",null,null,null,0,{"$f":"IF(SUM($B$7:$B1489)=0,\"\",IF(A1489<>\"\",IF(A1489<$B$3,\"N\",\"Y\"),\"\"))","v":""},0,9.11,0,null,112,{"$f":"IF(AND(ISNUMBER(A1489),NOT(ISNUMBER(A1490))),SUM(OFFSET(E1489,-Q1489,0):E1489),IF(AND(ISNUMBER(P1489),ISNUMBER(P1490),P1489  <P1490),SUM(OFFSET(E1489,-Q1489,0):E1489),\"\"))","v":{"$error":"#NAME?"}},{"$f":"IF(ISNUMBER(L1489),SUM(OFFSET(G1489,-Q1489,0):G1489),\"\")","v":""},"",{"$f":"IF(B1489>0,'Tax Scales'!U1489-D1489,\"\")","v":""},{"$error":"#NAME?"},{"$error":"#NAME?"},{"$f":"IF(ISNUMBER(G1489),IF(G1489>0,'Tax Scales'!AQ1489,\"\"),\"\")","v":""}]
["2016-03-02",null,null,null,{"$f":"IF(A1490<>\"\",IF(B1490-C1490>=0,B1490-C1490,0),\"\")","v":0},{"$f":"IF(SUM($B$7:$B1490)=0,\"\",IF(A1490<>\"\",IF(A1490<$B$3,\"N\",\"Y\"),\"\"))","v":""},0,9.11,{"$f":"IF(A1490<>\"\",I1489+E1490+G1490,\"\")","v":0},null,{"$f":"IF(A1490<>\"\",IF((TODAY()-A1490)/7>=0,INT((TODAY()-A1490)/7),0),\"\")","v":111},{"$f":"IF(AND(ISNUMBER(A1490),NOT(ISNUMBER(A1491))),SUM(OFFSET(E1490,-Q1490,0):E1490),IF(AND(ISNUMBER(P1490),ISNUMBER(P1491),P1490  <P1491),SUM(OFFSET(E1490,-Q1490,0):E1490),\"\"))","v":{"$error":"#NAME?"}},{"$f":"IF(ISNUMBER(L1490),SUM(OFFSET(G1490,-Q1490,0):G1490),\"\")","v":""},{"$f":"IF(B1490>0,IF(P1490  = $P$6,E1490-O1490,\"\"),\"\")","v":""},{"$f":"IF(B1490>0,'Tax Scales'!U1490-D1490,\"\")","v":""},{"$f":"IF(ISNUMBER(A1490),FinYear(A1490),\"\")","v":{"$error":"#NAME?"}},{"$f":"IF(ISNUMBER(A1490),ROUND((A1490-StartOfFinYear(P1490))/7,0),\"\")","v":{"$error":"#NAME?"}},{"$f":"IF(ISNUMBER(G1490),IF(G1490>0,'Tax Scales'!AQ1490,\"\"),\"\")","v":""}]
["2016-03-09",null,null,null,0,{"$f":"IF(SUM($B$7:$B1491)=0,\"\",IF(A1491<>\"\",IF(A1491<$B$3,\"N\",\"Y\"),\"\"))","v":""},0,9.11,0,null,110,{"$f":"IF(AND(ISNUMBER(A1491),NOT(ISNUMBER(A1492))),SUM(OFFSET(E1491,-Q1491,0):E1491),IF(AND(ISNUMBER(P1491),ISNUMBER(P1492),P1491  <P1492),SUM(OFFSET(E1491,-Q1491,0):E1491),\"\"))","v":{"$error":"#NAME?"}},{"$f":"IF(ISNUMBER(L1491),SUM(OFFSET(G1491,-Q1491,0):G1491),\"\")","v":""},"",{"$f":"IF(B1491>0,'Tax Scales'!U1491-D1491,\"\")","v":""},{"$error":"#NAME?"},{"$error":"#NAME?"},{"$f":"IF(ISNUMBER(G1491),IF(G1491>0,'Tax Scales'!AQ1491,\"\"),\"\")","v":""}]
["2016-03-16",null,null,null,0,{"$f":"IF(SUM($B$7:$B1492)=0,\"\",IF(A1492<>\"\",IF(A1492<$B$3,\"N\",\"Y\"),\"\"))","v":""},0,9.11,0,null,109,{"$f":"IF(AND(ISNUMBER(A1492),NOT(ISNUMBER(A1493))),SUM(OFFSET(E1492,-Q1492,0):E1492),IF(AND(ISNUMBER(P1492),ISNUMBER(P1493),P1492  <P1493),SUM(OFFSET(E1492,-Q1492,0):E1492),\"\"))","v":{"$error":"#NAME?"}},{"$f":"IF(ISNUMBER(L1492),SUM(OFFSET(G1492,-Q1492,0):G1492),\"\")","v":""},"",{"$f":"IF(B1492>0,'Tax Scales'!U1492-D1492,\"\")","v":""},{"$error":"#NAME?"},{"$error":"#NAME?"},{"$f":"IF(ISNUMBER(G1492),IF(G1492>0,'Tax Scales'!AQ1492,\"\"),\"\")","v":""}]
["2016-03-23",null,null,null,0,{"$f":"IF(SUM($B$7:$B1493)=0,\"\",IF(A1493<>\"\",IF(A1493<$B$3,\"N\",\"Y\"),\"\"))","v":""},0,9.11,0,null,108,{"$f":"IF(AND(ISNUMBER(A1493),NOT(ISNUMBER(A1494))),SUM(OFFSET(E1493,-Q1493,0):E1493),IF(AND(ISNUMBER(P1493),ISNUMBER(P1494),P1493  <P1494),SUM(OFFSET(E1493,-Q1493,0):E1493),\"\"))","v":{"$error":"#NAME?"}},{"$f":"IF(ISNUMBER(L1493),SUM(OFFSET(G1493,-Q1493,0):G1493),\"\")","v":""},"",{"$f":"IF(B1493>0,'Tax Scales'!U1493-D1493,\"\")","v":""},{"$error":"#NAME?"},{"$error":"#NAME?"},{"$f":"IF(ISNUMBER(G1493),IF(G1493>0,'Tax Scales'!AQ1493,\"\"),\"\")","v":""}]
["2016-03-30",null,null,null,0,{"$f":"IF(SUM($B$7:$B1494)=0,\"\",IF(A1494<>\"\",IF(A1494<$B$3,\"N\",\"Y\"),\"\"))","v":""},0,9.11,0,null,107,{"$f":"IF(AND(ISNUMBER(A1494),NOT(ISNUMBER(A1495))),SUM(OFFSET(E1494,-Q1494,0):E1494),IF(AND(ISNUMBER(P1494),ISNUMBER(P1495),P1494  <P1495),SUM(OFFSET(E1494,-Q1494,0):E1494),\"\"))","v":{"$error":"#NAME?"}},{"$f":"IF(ISNUMBER(L1494),SUM(OFFSET(G1494,-Q1494,0):G1494),\"\")","v":""},"",{"$f":"IF(B1494>0,'Tax Scales'!U1494-D1494,\"\")","v":""},{"$error":"#NAME?"},{"$error":"#NAME?"},{"$f":"IF(ISNUMBER(G1494),IF(G1494>0,'Tax Scales'!AQ1494,\"\"),\"\")","v":""}]
["2016-04-06",null,null,null,0,{"$f":"IF(SUM($B$7:$B1495)=0,\"\",IF(A1495<>\"\",IF(A1495<$B$3,\"N\",\"Y\"),\"\"))","v":""},0,9.11,0,null,106,{"$f":"IF(AND(ISNUMBER(A1495),NOT(ISNUMBER(A1496))),SUM(OFFSET(E1495,-Q1495,0):E1495),IF(AND(ISNUMBER(P1495),ISNUMBER(P1496),P1495  <P1496),SUM(OFFSET(E1495,-Q1495,0):E1495),\"\"))","v":{"$error":"#NAME?"}},{"$f":"IF(ISNUMBER(L1495),SUM(OFFSET(G1495,-Q1495,0):G1495),\"\")","v":""},"",{"$f":"IF(B1495>0,'Tax Scales'!U1495-D1495,\"\")","v":""},{"$error":"#NAME?"},{"$error":"#NAME?"},{"$f":"IF(ISNUMBER(G1495),IF(G1495>0,'Tax Scales'!AQ1495,\"\"),\"\")","v":""}]
["2016-04-13",null,null,null,0,{"$f":"IF(SUM($B$7:$B1496)=0,\"\",IF(A1496<>\"\",IF(A1496<$B$3,\"N\",\"Y\"),\"\"))","v":""},0,9.11,0,null,105,{"$f":"IF(AND(ISNUMBER(A1496),NOT(ISNUMBER(A1497))),SUM(OFFSET(E1496,-Q1496,0):E1496),IF(AND(ISNUMBER(P1496),ISNUMBER(P1497),P1496  <P1497),SUM(OFFSET(E1496,-Q1496,0):E1496),\"\"))","v":{"$error":"#NAME?"}},{"$f":"IF(ISNUMBER(L1496),SUM(OFFSET(G1496,-Q1496,0):G1496),\"\")","v":""},"",{"$f":"IF(B1496>0,'Tax Scales'!U1496-D1496,\"\")","v":""},{"$error":"#NAME?"},{"$error":"#NAME?"},{"$f":"IF(ISNUMBER(G1496),IF(G1496>0,'Tax Scales'!AQ1496,\"\"),\"\")","v":""}]
["2016-04-20",null,null,null,0,{"$f":"IF(SUM($B$7:$B1497)=0,\"\",IF(A1497<>\"\",IF(A1497<$B$3,\"N\",\"Y\"),\"\"))","v":""},0,9.11,0,null,104,{"$f":"IF(AND(ISNUMBER(A1497),NOT(ISNUMBER(A1498))),SUM(OFFSET(E1497,-Q1497,0):E1497),IF(AND(ISNUMBER(P1497),ISNUMBER(P1498),P1497  <P1498),SUM(OFFSET(E1497,-Q1497,0):E1497),\"\"))","v":{"$error":"#NAME?"}},{"$f":"IF(ISNUMBER(L1497),SUM(OFFSET(G1497,-Q1497,0):G1497),\"\")","v":""},"",{"$f":"IF(B1497>0,'Tax Scales'!U1497-D1497,\"\")","v":""},{"$error":"#NAME?"},{"$error":"#NAME?"},{"$f":"IF(ISNUMBER(G1497),IF(G1497>0,'Tax Scales'!AQ1497,\"\"),\"\")","v":""}]
["2016-04-27",null,null,null,0,{"$f":"IF(SUM($B$7:$B1498)=0,\"\",IF(A1498<>\"\",IF(A1498<$B$3,\"N\",\"Y\"),\"\"))","v":""},0,9.11,0,null,103,{"$f":"IF(AND(ISNUMBER(A1498),NOT(ISNUMBER(A1499))),SUM(OFFSET(E1498,-Q1498,0):E1498),IF(AND(ISNUMBER(P1498),ISNUMBER(P1499),P1498  <P1499),SUM(OFFSET(E1498,-Q1498,0):E1498),\"\"))","v":{"$error":"#NAME?"}},{"$f":"IF(ISNUMBER(L1498),SUM(OFFSET(G1498,-Q1498,0):G1498),\"\")","v":""},"",{"$f":"IF(B1498>0,'Tax Scales'!U1498-D1498,\"\")","v":""},{"$error":"#NAME?"},{"$error":"#NAME?"},{"$f":"IF(ISNUMBER(G1498),IF(G1498>0,'Tax Scales'!AQ1498,\"\"),\"\")","v":""}]
["2016-05-04",null,null,null,0,{"$f":"IF(SUM($B$7:$B1499)=0,\"\",IF(A1499<>\"\",IF(A1499<$B$3,\"N\",\"Y\"),\"\"))","v":""},0,9.11,0,null,102,{"$f":"IF(AND(ISNUMBER(A1499),NOT(ISNUMBER(A1500))),SUM(OFFSET(E1499,-Q1499,0):E1499),IF(AND(ISNUMBER(P1499),ISNUMBER(P1500),P1499  <P1500),SUM(OFFSET(E1499,-Q1499,0):E1499),\"\"))","v":{"$error":"#NAME?"}},{"$f":"IF(ISNUMBER(L1499),SUM(OFFSET(G1499,-Q1499,0):G1499),\"\")","v":""},"",{"$f":"IF(B1499>0,'Tax Scales'!U1499-D1499,\"\")","v":""},{"$error":"#NAME?"},{"$error":"#NAME?"},{"$f":"IF(ISNUMBER(G1499),IF(G1499>0,'Tax Scales'!AQ1499,\"\"),\"\")","v":""}]
["2016-05-11",null,null,null,0,{"$f":"IF(SUM($B$7:$B1500)=0,\"\",IF(A1500<>\"\",IF(A1500<$B$3,\"N\",\"Y\"),\"\"))","v":""},0,9.11,0,null,101,{"$f":"IF(AND(ISNUMBER(A1500),NOT(ISNUMBER(A1501))),SUM(OFFSET(E1500,-Q1500,0):E1500),IF(AND(ISNUMBER(P1500),ISNUMBER(P1501),P1500  <P1501),SUM(OFFSET(E1500,-Q1500,0):E1500),\"\"))","v":{"$error":"#NAME?"}},{"$f":"IF(ISNUMBER(L1500),SUM(OFFSET(G1500,-Q1500,0):G1500),\"\")","v":""},"",{"$f":"IF(B1500>0,'Tax Scales'!U1500-D1500,\"\")","v":""},{"$error":"#NAME?"},{"$error":"#NAME?"},{"$f":"IF(ISNUMBER(G1500),IF(G1500>0,'Tax Scales'!AQ1500,\"\"),\"\")","v":""}]
["2016-05-18",null,null,null,0,{"$f":"IF(SUM($B$7:$B1501)=0,\"\",IF(A1501<>\"\",IF(A1501<$B$3,\"N\",\"Y\"),\"\"))","v":""},0,9.11,0,null,100,{"$f":"IF(AND(ISNUMBER(A1501),NOT(ISNUMBER(A1502))),SUM(OFFSET(E1501,-Q1501,0):E1501),IF(AND(ISNUMBER(P1501),ISNUMBER(P1502),P1501  <P1502),SUM(OFFSET(E1501,-Q1501,0):E1501),\"\"))","v":{"$error":"#NAME?"}},{"$f":"IF(ISNUMBER(L1501),SUM(OFFSET(G1501,-Q1501,0):G1501),\"\")","v":""},"",{"$f":"IF(B1501>0,'Tax Scales'!U1501-D1501,\"\")","v":""},{"$error":"#NAME?"},{"$error":"#NAME?"},{"$f":"IF(ISNUMBER(G1501),IF(G1501>0,'Tax Scales'!AQ1501,\"\"),\"\")","v":""}]
["2016-05-25",null,null,null,0,{"$f":"IF(SUM($B$7:$B1502)=0,\"\",IF(A1502<>\"\",IF(A1502<$B$3,\"N\",\"Y\"),\"\"))","v":""},0,9.11,0,null,99,{"$f":"IF(AND(ISNUMBER(A1502),NOT(ISNUMBER(A1503))),SUM(OFFSET(E1502,-Q1502,0):E1502),IF(AND(ISNUMBER(P1502),ISNUMBER(P1503),P1502  <P1503),SUM(OFFSET(E1502,-Q1502,0):E1502),\"\"))","v":{"$error":"#NAME?"}},{"$f":"IF(ISNUMBER(L1502),SUM(OFFSET(G1502,-Q1502,0):G1502),\"\")","v":""},"",{"$f":"IF(B1502>0,'Tax Scales'!U1502-D1502,\"\")","v":""},{"$error":"#NAME?"},{"$error":"#NAME?"},{"$f":"IF(ISNUMBER(G1502),IF(G1502>0,'Tax Scales'!AQ1502,\"\"),\"\")","v":""}]
["2016-06-01",null,null,null,0,{"$f":"IF(SUM($B$7:$B1503)=0,\"\",IF(A1503<>\"\",IF(A1503<$B$3,\"N\",\"Y\"),\"\"))","v":""},0,9.11,0,null,98,{"$f":"IF(AND(ISNUMBER(A1503),NOT(ISNUMBER(A1504))),SUM(OFFSET(E1503,-Q1503,0):E1503),IF(AND(ISNUMBER(P1503),ISNUMBER(P1504),P1503  <P1504),SUM(OFFSET(E1503,-Q1503,0):E1503),\"\"))","v":{"$error":"#NAME?"}},{"$f":"IF(ISNUMBER(L1503),SUM(OFFSET(G1503,-Q1503,0):G1503),\"\")","v":""},"",{"$f":"IF(B1503>0,'Tax Scales'!U1503-D1503,\"\")","v":""},{"$error":"#NAME?"},{"$error":"#NAME?"},{"$f":"IF(ISNUMBER(G1503),IF(G1503>0,'Tax Scales'!AQ1503,\"\"),\"\")","v":""}]
["2016-06-08",null,null,null,0,{"$f":"IF(SUM($B$7:$B1504)=0,\"\",IF(A1504<>\"\",IF(A1504<$B$3,\"N\",\"Y\"),\"\"))","v":""},0,9.11,0,null,97,{"$f":"IF(AND(ISNUMBER(A1504),NOT(ISNUMBER(A1505))),SUM(OFFSET(E1504,-Q1504,0):E1504),IF(AND(ISNUMBER(P1504),ISNUMBER(P1505),P1504  <P1505),SUM(OFFSET(E1504,-Q1504,0):E1504),\"\"))","v":{"$error":"#NAME?"}},{"$f":"IF(ISNUMBER(L1504),SUM(OFFSET(G1504,-Q1504,0):G1504),\"\")","v":""},"",{"$f":"IF(B1504>0,'Tax Scales'!U1504-D1504,\"\")","v":""},{"$error":"#NAME?"},{"$error":"#NAME?"},{"$f":"IF(ISNUMBER(G1504),IF(G1504>0,'Tax Scales'!AQ1504,\"\"),\"\")","v":""}]
["2016-06-15",null,null,null,0,{"$f":"IF(SUM($B$7:$B1505)=0,\"\",IF(A1505<>\"\",IF(A1505<$B$3,\"N\",\"Y\"),\"\"))","v":""},0,9.11,0,null,96,{"$f":"IF(AND(ISNUMBER(A1505),NOT(ISNUMBER(A1506))),SUM(OFFSET(E1505,-Q1505,0):E1505),IF(AND(ISNUMBER(P1505),ISNUMBER(P1506),P1505  <P1506),SUM(OFFSET(E1505,-Q1505,0):E1505),\"\"))","v":{"$error":"#NAME?"}},{"$f":"IF(ISNUMBER(L1505),SUM(OFFSET(G1505,-Q1505,0):G1505),\"\")","v":""},"",{"$f":"IF(B1505>0,'Tax Scales'!U1505-D1505,\"\")","v":""},{"$error":"#NAME?"},{"$error":"#NAME?"},{"$f":"IF(ISNUMBER(G1505),IF(G1505>0,'Tax Scales'!AQ1505,\"\"),\"\")","v":""}]
["2016-06-22",null,null,null,0,{"$f":"IF(SUM($B$7:$B1506)=0,\"\",IF(A1506<>\"\",IF(A1506<$B$3,\"N\",\"Y\"),\"\"))","v":""},0,9.11,0,null,95,{"$f":"IF(AND(ISNUMBER(A1506),NOT(ISNUMBER(A1507))),SUM(OFFSET(E1506,-Q1506,0):E1506),IF(AND(ISNUMBER(P1506),ISNUMBER(P1507),P1506  <P1507),SUM(OFFSET(E1506,-Q1506,0):E1506),\"\"))","v":{"$error":"#NAME?"}},{"$f":"IF(ISNUMBER(L1506),SUM(OFFSET(G1506,-Q1506,0):G1506),\"\")","v":""},"",{"$f":"IF(B1506>0,'Tax Scales'!U1506-D1506,\"\")","v":""},{"$error":"#NAME?"},{"$error":"#NAME?"},{"$f":"IF(ISNUMBER(G1506),IF(G1506>0,'Tax Scales'!AQ1506,\"\"),\"\")","v":""}]
["2016-06-29",null,null,null,0,{"$f":"IF(SUM($B$7:$B1507)=0,\"\",IF(A1507<>\"\",IF(A1507<$B$3,\"N\",\"Y\"),\"\"))","v":""},0,9.11,0,null,94,{"$f":"IF(AND(ISNUMBER(A1507),NOT(ISNUMBER(A1508))),SUM(OFFSET(E1507,-Q1507,0):E1507),IF(AND(ISNUMBER(P1507),ISNUMBER(P1508),P1507  <P1508),SUM(OFFSET(E1507,-Q1507,0):E1507),\"\"))","v":{"$error":"#NAME?"}},{"$f":"IF(ISNUMBER(L1507),SUM(OFFSET(G1507,-Q1507,0):G1507),\"\")","v":""},"",{"$f":"IF(B1507>0,'Tax Scales'!U1507-D1507,\"\")","v":""},{"$error":"#NAME?"},{"$error":"#NAME?"},{"$f":"IF(ISNUMBER(G1507),IF(G1507>0,'Tax Scales'!AQ1507,\"\"),\"\")","v":""}]
["2016-07-06",null,null,null,0,{"$f":"IF(SUM($B$7:$B1508)=0,\"\",IF(A1508<>\"\",IF(A1508<$B$3,\"N\",\"Y\"),\"\"))","v":""},0,{"$f":"IF(A1508<>\"\",9.34,\"\")","v":9.34},0,null,93,{"$f":"IF(AND(ISNUMBER(A1508),NOT(ISNUMBER(A1509))),SUM(OFFSET(E1508,-Q1508,0):E1508),IF(AND(ISNUMBER(P1508),ISNUMBER(P1509),P1508  <P1509),SUM(OFFSET(E1508,-Q1508,0):E1508),\"\"))","v":{"$error":"#NAME?"}},{"$f":"IF(ISNUMBER(L1508),SUM(OFFSET(G1508,-Q1508,0):G1508),\"\")","v":""},"",{"$f":"IF(B1508>0,'Tax Scales'!U1508-D1508,\"\")","v":""},{"$error":"#NAME?"},{"$error":"#NAME?"},{"$f":"IF(ISNUMBER(G1508),IF(G1508>0,'Tax Scales'!AQ1508,\"\"),\"\")","v":""}]
["2016-07-13",null,null,null,0,{"$f":"IF(SUM($B$7:$B1509)=0,\"\",IF(A1509<>\"\",IF(A1509<$B$3,\"N\",\"Y\"),\"\"))","v":""},0,{"$f":"IF(A1509<>\"\",9.34,\"\")","v":9.34},0,null,92,{"$f":"IF(AND(ISNUMBER(A1509),NOT(ISNUMBER(A1510))),SUM(OFFSET(E1509,-Q1509,0):E1509),IF(AND(ISNUMBER(P1509),ISNUMBER(P1510),P1509  <P1510),SUM(OFFSET(E1509,-Q1509,0):E1509),\"\"))","v":{"$error":"#NAME?"}},{"$f":"IF(ISNUMBER(L1509),SUM(OFFSET(G1509,-Q1509,0):G1509),\"\")","v":""},"",{"$f":"IF(B1509>0,'Tax Scales'!U1509-D1509,\"\")","v":""},{"$error":"#NAME?"},{"$error":"#NAME?"},{"$f":"IF(ISNUMBER(G1509),IF(G1509>0,'Tax Scales'!AQ1509,\"\"),\"\")","v":""}]
["2016-07-20",null,null,null,0,{"$f":"IF(SUM($B$7:$B1510)=0,\"\",IF(A1510<>\"\",IF(A1510<$B$3,\"N\",\"Y\"),\"\"))","v":""},0,9.34,0,null,91,{"$f":"IF(AND(ISNUMBER(A1510),NOT(ISNUMBER(A1511))),SUM(OFFSET(E1510,-Q1510,0):E1510),IF(AND(ISNUMBER(P1510),ISNUMBER(P1511),P1510  <P1511),SUM(OFFSET(E1510,-Q1510,0):E1510),\"\"))","v":{"$error":"#NAME?"}},{"$f":"IF(ISNUMBER(L1510),SUM(OFFSET(G1510,-Q1510,0):G1510),\"\")","v":""},"",{"$f":"IF(B1510>0,'Tax Scales'!U1510-D1510,\"\")","v":""},{"$error":"#NAME?"},{"$error":"#NAME?"},{"$f":"IF(ISNUMBER(G1510),IF(G1510>0,'Tax Scales'!AQ1510,\"\"),\"\")","v":""}]
["2016-07-27",null,null,null,0,{"$f":"IF(SUM($B$7:$B1511)=0,\"\",IF(A1511<>\"\",IF(A1511<$B$3,\"N\",\"Y\"),\"\"))","v":""},0,9.34,0,null,90,{"$f":"IF(AND(ISNUMBER(A1511),NOT(ISNUMBER(A1512))),SUM(OFFSET(E1511,-Q1511,0):E1511),IF(AND(ISNUMBER(P1511),ISNUMBER(P1512),P1511  <P1512),SUM(OFFSET(E1511,-Q1511,0):E1511),\"\"))","v":{"$error":"#NAME?"}},{"$f":"IF(ISNUMBER(L1511),SUM(OFFSET(G1511,-Q1511,0):G1511),\"\")","v":""},"",{"$f":"IF(B1511>0,'Tax Scales'!U1511-D1511,\"\")","v":""},{"$error":"#NAME?"},{"$error":"#NAME?"},{"$f":"IF(ISNUMBER(G1511),IF(G1511>0,'Tax Scales'!AQ1511,\"\"),\"\")","v":""}]
["2016-08-03",null,null,null,0,{"$f":"IF(SUM($B$7:$B1512)=0,\"\",IF(A1512<>\"\",IF(A1512<$B$3,\"N\",\"Y\"),\"\"))","v":""},0,9.34,0,null,89,{"$f":"IF(AND(ISNUMBER(A1512),NOT(ISNUMBER(A1513))),SUM(OFFSET(E1512,-Q1512,0):E1512),IF(AND(ISNUMBER(P1512),ISNUMBER(P1513),P1512  <P1513),SUM(OFFSET(E1512,-Q1512,0):E1512),\"\"))","v":{"$error":"#NAME?"}},{"$f":"IF(ISNUMBER(L1512),SUM(OFFSET(G1512,-Q1512,0):G1512),\"\")","v":""},"",{"$f":"IF(B1512>0,'Tax Scales'!U1512-D1512,\"\")","v":""},{"$error":"#NAME?"},{"$error":"#NAME?"},{"$f":"IF(ISNUMBER(G1512),IF(G1512>0,'Tax Scales'!AQ1512,\"\"),\"\")","v":""}]
["2016-08-10",null,null,null,0,{"$f":"IF(SUM($B$7:$B1513)=0,\"\",IF(A1513<>\"\",IF(A1513<$B$3,\"N\",\"Y\"),\"\"))","v":""},0,9.34,0,null,88,{"$f":"IF(AND(ISNUMBER(A1513),NOT(ISNUMBER(A1514))),SUM(OFFSET(E1513,-Q1513,0):E1513),IF(AND(ISNUMBER(P1513),ISNUMBER(P1514),P1513  <P1514),SUM(OFFSET(E1513,-Q1513,0):E1513),\"\"))","v":{"$error":"#NAME?"}},{"$f":"IF(ISNUMBER(L1513),SUM(OFFSET(G1513,-Q1513,0):G1513),\"\")","v":""},"",{"$f":"IF(B1513>0,'Tax Scales'!U1513-D1513,\"\")","v":""},{"$error":"#NAME?"},{"$error":"#NAME?"},{"$f":"IF(ISNUMBER(G1513),IF(G1513>0,'Tax Scales'!AQ1513,\"\"),\"\")","v":""}]
["2016-08-17",null,null,null,0,{"$f":"IF(SUM($B$7:$B1514)=0,\"\",IF(A1514<>\"\",IF(A1514<$B$3,\"N\",\"Y\"),\"\"))","v":""},0,9.34,0,null,87,{"$f":"IF(AND(ISNUMBER(A1514),NOT(ISNUMBER(A1515))),SUM(OFFSET(E1514,-Q1514,0):E1514),IF(AND(ISNUMBER(P1514),ISNUMBER(P1515),P1514  <P1515),SUM(OFFSET(E1514,-Q1514,0):E1514),\"\"))","v":{"$error":"#NAME?"}},{"$f":"IF(ISNUMBER(L1514),SUM(OFFSET(G1514,-Q1514,0):G1514),\"\")","v":""},"",{"$f":"IF(B1514>0,'Tax Scales'!U1514-D1514,\"\")","v":""},{"$error":"#NAME?"},{"$error":"#NAME?"},{"$f":"IF(ISNUMBER(G1514),IF(G1514>0,'Tax Scales'!AQ1514,\"\"),\"\")","v":""}]
["2016-08-24",null,null,null,0,{"$f":"IF(SUM($B$7:$B1515)=0,\"\",IF(A1515<>\"\",IF(A1515<$B$3,\"N\",\"Y\"),\"\"))","v":""},0,9.34,0,null,86,{"$f":"IF(AND(ISNUMBER(A1515),NOT(ISNUMBER(A1516))),SUM(OFFSET(E1515,-Q1515,0):E1515),IF(AND(ISNUMBER(P1515),ISNUMBER(P1516),P1515  <P1516),SUM(OFFSET(E1515,-Q1515,0):E1515),\"\"))","v":{"$error":"#NAME?"}},{"$f":"IF(ISNUMBER(L1515),SUM(OFFSET(G1515,-Q1515,0):G1515),\"\")","v":""},"",{"$f":"IF(B1515>0,'Tax Scales'!U1515-D1515,\"\")","v":""},{"$error":"#NAME?"},{"$error":"#NAME?"},{"$f":"IF(ISNUMBER(G1515),IF(G1515>0,'Tax Scales'!AQ1515,\"\"),\"\")","v":""}]
["2016-08-31",null,null,null,0,{"$f":"IF(SUM($B$7:$B1516)=0,\"\",IF(A1516<>\"\",IF(A1516<$B$3,\"N\",\"Y\"),\"\"))","v":""},0,9.34,0,null,85,{"$f":"IF(AND(ISNUMBER(A1516),NOT(ISNUMBER(A1517))),SUM(OFFSET(E1516,-Q1516,0):E1516),IF(AND(ISNUMBER(P1516),ISNUMBER(P1517),P1516  <P1517),SUM(OFFSET(E1516,-Q1516,0):E1516),\"\"))","v":{"$error":"#NAME?"}},{"$f":"IF(ISNUMBER(L1516),SUM(OFFSET(G1516,-Q1516,0):G1516),\"\")","v":""},"",{"$f":"IF(B1516>0,'Tax Scales'!U1516-D1516,\"\")","v":""},{"$error":"#NAME?"},{"$error":"#NAME?"},{"$f":"IF(ISNUMBER(G1516),IF(G1516>0,'Tax Scales'!AQ1516,\"\"),\"\")","v":""}]
["2016-09-07",null,null,null,0,{"$f":"IF(SUM($B$7:$B1517)=0,\"\",IF(A1517<>\"\",IF(A1517<$B$3,\"N\",\"Y\"),\"\"))","v":""},0,9.34,0,null,84,{"$f":"IF(AND(ISNUMBER(A1517),NOT(ISNUMBER(A1518))),SUM(OFFSET(E1517,-Q1517,0):E1517),IF(AND(ISNUMBER(P1517),ISNUMBER(P1518),P1517  <P1518),SUM(OFFSET(E1517,-Q1517,0):E1517),\"\"))","v":{"$error":"#NAME?"}},{"$f":"IF(ISNUMBER(L1517),SUM(OFFSET(G1517,-Q1517,0):G1517),\"\")","v":""},"",{"$f":"IF(B1517>0,'Tax Scales'!U1517-D1517,\"\")","v":""},{"$error":"#NAME?"},{"$error":"#NAME?"},{"$f":"IF(ISNUMBER(G1517),IF(G1517>0,'Tax Scales'!AQ1517,\"\"),\"\")","v":""}]
["2016-09-14",null,null,null,0,{"$f":"IF(SUM($B$7:$B1518)=0,\"\",IF(A1518<>\"\",IF(A1518<$B$3,\"N\",\"Y\"),\"\"))","v":""},0,9.34,0,null,83,{"$f":"IF(AND(ISNUMBER(A1518),NOT(ISNUMBER(A1519))),SUM(OFFSET(E1518,-Q1518,0):E1518),IF(AND(ISNUMBER(P1518),ISNUMBER(P1519),P1518  <P1519),SUM(OFFSET(E1518,-Q1518,0):E1518),\"\"))","v":{"$error":"#NAME?"}},{"$f":"IF(ISNUMBER(L1518),SUM(OFFSET(G1518,-Q1518,0):G1518),\"\")","v":""},"",{"$f":"IF(B1518>0,'Tax Scales'!U1518-D1518,\"\")","v":""},{"$error":"#NAME?"},{"$error":"#NAME?"},{"$f":"IF(ISNUMBER(G1518),IF(G1518>0,'Tax Scales'!AQ1518,\"\"),\"\")","v":""}]
["2016-09-21",null,null,null,0,{"$f":"IF(SUM($B$7:$B1519)=0,\"\",IF(A1519<>\"\",IF(A1519<$B$3,\"N\",\"Y\"),\"\"))","v":""},0,9.34,0,null,82,{"$f":"IF(AND(ISNUMBER(A1519),NOT(ISNUMBER(A1520))),SUM(OFFSET(E1519,-Q1519,0):E1519),IF(AND(ISNUMBER(P1519),ISNUMBER(P1520),P1519  <P1520),SUM(OFFSET(E1519,-Q1519,0):E1519),\"\"))","v":{"$error":"#NAME?"}},{"$f":"IF(ISNUMBER(L1519),SUM(OFFSET(G1519,-Q1519,0):G1519),\"\")","v":""},"",{"$f":"IF(B1519>0,'Tax Scales'!U1519-D1519,\"\")","v":""},{"$error":"#NAME?"},{"$error":"#NAME?"},{"$f":"IF(ISNUMBER(G1519),IF(G1519>0,'Tax Scales'!AQ1519,\"\"),\"\")","v":""}]
["2016-09-28",null,null,null,0,{"$f":"IF(SUM($B$7:$B1520)=0,\"\",IF(A1520<>\"\",IF(A1520<$B$3,\"N\",\"Y\"),\"\"))","v":""},0,9.34,0,null,81,{"$f":"IF(AND(ISNUMBER(A1520),NOT(ISNUMBER(A1521))),SUM(OFFSET(E1520,-Q1520,0):E1520),IF(AND(ISNUMBER(P1520),ISNUMBER(P1521),P1520  <P1521),SUM(OFFSET(E1520,-Q1520,0):E1520),\"\"))","v":{"$error":"#NAME?"}},{"$f":"IF(ISNUMBER(L1520),SUM(OFFSET(G1520,-Q1520,0):G1520),\"\")","v":""},"",{"$f":"IF(B1520>0,'Tax Scales'!U1520-D1520,\"\")","v":""},{"$error":"#NAME?"},{"$error":"#NAME?"},{"$f":"IF(ISNUMBER(G1520),IF(G1520>0,'Tax Scales'!AQ1520,\"\"),\"\")","v":""}]
["2016-10-05",null,null,null,0,{"$f":"IF(SUM($B$7:$B1521)=0,\"\",IF(A1521<>\"\",IF(A1521<$B$3,\"N\",\"Y\"),\"\"))","v":""},0,9.34,0,null,80,{"$f":"IF(AND(ISNUMBER(A1521),NOT(ISNUMBER(A1522))),SUM(OFFSET(E1521,-Q1521,0):E1521),IF(AND(ISNUMBER(P1521),ISNUMBER(P1522),P1521  <P1522),SUM(OFFSET(E1521,-Q1521,0):E1521),\"\"))","v":{"$error":"#NAME?"}},{"$f":"IF(ISNUMBER(L1521),SUM(OFFSET(G1521,-Q1521,0):G1521),\"\")","v":""},"",{"$f":"IF(B1521>0,'Tax Scales'!U1521-D1521,\"\")","v":""},{"$error":"#NAME?"},{"$error":"#NAME?"},{"$f":"IF(ISNUMBER(G1521),IF(G1521>0,'Tax Scales'!AQ1521,\"\"),\"\")","v":""}]
["2016-10-12",null,null,null,0,{"$f":"IF(SUM($B$7:$B1522)=0,\"\",IF(A1522<>\"\",IF(A1522<$B$3,\"N\",\"Y\"),\"\"))","v":""},0,9.34,0,null,79,{"$f":"IF(AND(ISNUMBER(A1522),NOT(ISNUMBER(A1523))),SUM(OFFSET(E1522,-Q1522,0):E1522),IF(AND(ISNUMBER(P1522),ISNUMBER(P1523),P1522  <P1523),SUM(OFFSET(E1522,-Q1522,0):E1522),\"\"))","v":{"$error":"#NAME?"}},{"$f":"IF(ISNUMBER(L1522),SUM(OFFSET(G1522,-Q1522,0):G1522),\"\")","v":""},"",{"$f":"IF(B1522>0,'Tax Scales'!U1522-D1522,\"\")","v":""},{"$error":"#NAME?"},{"$error":"#NAME?"},{"$f":"IF(ISNUMBER(G1522),IF(G1522>0,'Tax Scales'!AQ1522,\"\"),\"\")","v":""}]
["2016-10-19",null,null,null,0,{"$f":"IF(SUM($B$7:$B1523)=0,\"\",IF(A1523<>\"\",IF(A1523<$B$3,\"N\",\"Y\"),\"\"))","v":""},0,9.34,0,null,78,{"$f":"IF(AND(ISNUMBER(A1523),NOT(ISNUMBER(A1524))),SUM(OFFSET(E1523,-Q1523,0):E1523),IF(AND(ISNUMBER(P1523),ISNUMBER(P1524),P1523  <P1524),SUM(OFFSET(E1523,-Q1523,0):E1523),\"\"))","v":{"$error":"#NAME?"}},{"$f":"IF(ISNUMBER(L1523),SUM(OFFSET(G1523,-Q1523,0):G1523),\"\")","v":""},"",{"$f":"IF(B1523>0,'Tax Scales'!U1523-D1523,\"\")","v":""},{"$error":"#NAME?"},{"$error":"#NAME?"},{"$f":"IF(ISNUMBER(G1523),IF(G1523>0,'Tax Scales'!AQ1523,\"\"),\"\")","v":""}]
["2016-10-26",null,null,null,0,{"$f":"IF(SUM($B$7:$B1524)=0,\"\",IF(A1524<>\"\",IF(A1524<$B$3,\"N\",\"Y\"),\"\"))","v":""},0,9.34,0,null,77,{"$f":"IF(AND(ISNUMBER(A1524),NOT(ISNUMBER(A1525))),SUM(OFFSET(E1524,-Q1524,0):E1524),IF(AND(ISNUMBER(P1524),ISNUMBER(P1525),P1524  <P1525),SUM(OFFSET(E1524,-Q1524,0):E1524),\"\"))","v":{"$error":"#NAME?"}},{"$f":"IF(ISNUMBER(L1524),SUM(OFFSET(G1524,-Q1524,0):G1524),\"\")","v":""},"",{"$f":"IF(B1524>0,'Tax Scales'!U1524-D1524,\"\")","v":""},{"$error":"#NAME?"},{"$error":"#NAME?"},{"$f":"IF(ISNUMBER(G1524),IF(G1524>0,'Tax Scales'!AQ1524,\"\"),\"\")","v":""}]
["2016-11-02",null,null,null,0,{"$f":"IF(SUM($B$7:$B1525)=0,\"\",IF(A1525<>\"\",IF(A1525<$B$3,\"N\",\"Y\"),\"\"))","v":""},0,9.34,0,null,76,{"$f":"IF(AND(ISNUMBER(A1525),NOT(ISNUMBER(A1526))),SUM(OFFSET(E1525,-Q1525,0):E1525),IF(AND(ISNUMBER(P1525),ISNUMBER(P1526),P1525  <P1526),SUM(OFFSET(E1525,-Q1525,0):E1525),\"\"))","v":{"$error":"#NAME?"}},{"$f":"IF(ISNUMBER(L1525),SUM(OFFSET(G1525,-Q1525,0):G1525),\"\")","v":""},"",{"$f":"IF(B1525>0,'Tax Scales'!U1525-D1525,\"\")","v":""},{"$error":"#NAME?"},{"$error":"#NAME?"},{"$f":"IF(ISNUMBER(G1525),IF(G1525>0,'Tax Scales'!AQ1525,\"\"),\"\")","v":""}]
["2016-11-09",null,null,null,0,{"$f":"IF(SUM($B$7:$B1526)=0,\"\",IF(A1526<>\"\",IF(A1526<$B$3,\"N\",\"Y\"),\"\"))","v":""},0,9.34,0,null,75,{"$f":"IF(AND(ISNUMBER(A1526),NOT(ISNUMBER(A1527))),SUM(OFFSET(E1526,-Q1526,0):E1526),IF(AND(ISNUMBER(P1526),ISNUMBER(P1527),P1526  <P1527),SUM(OFFSET(E1526,-Q1526,0):E1526),\"\"))","v":{"$error":"#NAME?"}},{"$f":"IF(ISNUMBER(L1526),SUM(OFFSET(G1526,-Q1526,0):G1526),\"\")","v":""},"",{"$f":"IF(B1526>0,'Tax Scales'!U1526-D1526,\"\")","v":""},{"$error":"#NAME?"},{"$error":"#NAME?"},{"$f":"IF(ISNUMBER(G1526),IF(G1526>0,'Tax Scales'!AQ1526,\"\"),\"\")","v":""}]
["2016-11-16",null,null,null,0,{"$f":"IF(SUM($B$7:$B1527)=0,\"\",IF(A1527<>\"\",IF(A1527<$B$3,\"N\",\"Y\"),\"\"))","v":""},0,9.34,0,null,74,{"$f":"IF(AND(ISNUMBER(A1527),NOT(ISNUMBER(A1528))),SUM(OFFSET(E1527,-Q1527,0):E1527),IF(AND(ISNUMBER(P1527),ISNUMBER(P1528),P1527  <P1528),SUM(OFFSET(E1527,-Q1527,0):E1527),\"\"))","v":{"$error":"#NAME?"}},{"$f":"IF(ISNUMBER(L1527),SUM(OFFSET(G1527,-Q1527,0):G1527),\"\")","v":""},"",{"$f":"IF(B1527>0,'Tax Scales'!U1527-D1527,\"\")","v":""},{"$error":"#NAME?"},{"$error":"#NAME?"},{"$f":"IF(ISNUMBER(G1527),IF(G1527>0,'Tax Scales'!AQ1527,\"\"),\"\")","v":""}]
["2016-11-23",null,null,null,0,{"$f":"IF(SUM($B$7:$B1528)=0,\"\",IF(A1528<>\"\",IF(A1528<$B$3,\"N\",\"Y\"),\"\"))","v":""},0,9.34,0,null,73,{"$f":"IF(AND(ISNUMBER(A1528),NOT(ISNUMBER(A1529))),SUM(OFFSET(E1528,-Q1528,0):E1528),IF(AND(ISNUMBER(P1528),ISNUMBER(P1529),P1528  <P1529),SUM(OFFSET(E1528,-Q1528,0):E1528),\"\"))","v":{"$error":"#NAME?"}},{"$f":"IF(ISNUMBER(L1528),SUM(OFFSET(G1528,-Q1528,0):G1528),\"\")","v":""},"",{"$f":"IF(B1528>0,'Tax Scales'!U1528-D1528,\"\")","v":""},{"$error":"#NAME?"},{"$error":"#NAME?"},{"$f":"IF(ISNUMBER(G1528),IF(G1528>0,'Tax Scales'!AQ1528,\"\"),\"\")","v":""}]
["2016-11-30",null,null,null,0,{"$f":"IF(SUM($B$7:$B1529)=0,\"\",IF(A1529<>\"\",IF(A1529<$B$3,\"N\",\"Y\"),\"\"))","v":""},0,9.34,0,null,72,{"$f":"IF(AND(ISNUMBER(A1529),NOT(ISNUMBER(A1530))),SUM(OFFSET(E1529,-Q1529,0):E1529),IF(AND(ISNUMBER(P1529),ISNUMBER(P1530),P1529  <P1530),SUM(OFFSET(E1529,-Q1529,0):E1529),\"\"))","v":{"$error":"#NAME?"}},{"$f":"IF(ISNUMBER(L1529),SUM(OFFSET(G1529,-Q1529,0):G1529),\"\")","v":""},"",{"$f":"IF(B1529>0,'Tax Scales'!U1529-D1529,\"\")","v":""},{"$error":"#NAME?"},{"$error":"#NAME?"},{"$f":"IF(ISNUMBER(G1529),IF(G1529>0,'Tax Scales'!AQ1529,\"\"),\"\")","v":""}]
["2016-12-07",null,null,null,0,{"$f":"IF(SUM($B$7:$B1530)=0,\"\",IF(A1530<>\"\",IF(A1530<$B$3,\"N\",\"Y\"),\"\"))","v":""},0,9.34,0,null,71,{"$f":"IF(AND(ISNUMBER(A1530),NOT(ISNUMBER(A1531))),SUM(OFFSET(E1530,-Q1530,0):E1530),IF(AND(ISNUMBER(P1530),ISNUMBER(P1531),P1530  <P1531),SUM(OFFSET(E1530,-Q1530,0):E1530),\"\"))","v":{"$error":"#NAME?"}},{"$f":"IF(ISNUMBER(L1530),SUM(OFFSET(G1530,-Q1530,0):G1530),\"\")","v":""},"",{"$f":"IF(B1530>0,'Tax Scales'!U1530-D1530,\"\")","v":""},{"$error":"#NAME?"},{"$error":"#NAME?"},{"$f":"IF(ISNUMBER(G1530),IF(G1530>0,'Tax Scales'!AQ1530,\"\"),\"\")","v":""}]
["2016-12-14",null,null,null,0,{"$f":"IF(SUM($B$7:$B1531)=0,\"\",IF(A1531<>\"\",IF(A1531<$B$3,\"N\",\"Y\"),\"\"))","v":""},0,9.34,0,null,70,{"$f":"IF(AND(ISNUMBER(A1531),NOT(ISNUMBER(A1532))),SUM(OFFSET(E1531,-Q1531,0):E1531),IF(AND(ISNUMBER(P1531),ISNUMBER(P1532),P1531  <P1532),SUM(OFFSET(E1531,-Q1531,0):E1531),\"\"))","v":{"$error":"#NAME?"}},{"$f":"IF(ISNUMBER(L1531),SUM(OFFSET(G1531,-Q1531,0):G1531),\"\")","v":""},"",{"$f":"IF(B1531>0,'Tax Scales'!U1531-D1531,\"\")","v":""},{"$error":"#NAME?"},{"$error":"#NAME?"},{"$f":"IF(ISNUMBER(G1531),IF(G1531>0,'Tax Scales'!AQ1531,\"\"),\"\")","v":""}]
["2016-12-21",null,null,null,0,{"$f":"IF(SUM($B$7:$B1532)=0,\"\",IF(A1532<>\"\",IF(A1532<$B$3,\"N\",\"Y\"),\"\"))","v":""},0,9.34,0,null,69,{"$f":"IF(AND(ISNUMBER(A1532),NOT(ISNUMBER(A1533))),SUM(OFFSET(E1532,-Q1532,0):E1532),IF(AND(ISNUMBER(P1532),ISNUMBER(P1533),P1532  <P1533),SUM(OFFSET(E1532,-Q1532,0):E1532),\"\"))","v":{"$error":"#NAME?"}},{"$f":"IF(ISNUMBER(L1532),SUM(OFFSET(G1532,-Q1532,0):G1532),\"\")","v":""},"",{"$f":"IF(B1532>0,'Tax Scales'!U1532-D1532,\"\")","v":""},{"$error":"#NAME?"},{"$error":"#NAME?"},{"$f":"IF(ISNUMBER(G1532),IF(G1532>0,'Tax Scales'!AQ1532,\"\"),\"\")","v":""}]
["2016-12-28",null,null,null,0,{"$f":"IF(SUM($B$7:$B1533)=0,\"\",IF(A1533<>\"\",IF(A1533<$B$3,\"N\",\"Y\"),\"\"))","v":""},0,9.34,0,null,68,{"$f":"IF(AND(ISNUMBER(A1533),NOT(ISNUMBER(A1534))),SUM(OFFSET(E1533,-Q1533,0):E1533),IF(AND(ISNUMBER(P1533),ISNUMBER(P1534),P1533  <P1534),SUM(OFFSET(E1533,-Q1533,0):E1533),\"\"))","v":{"$error":"#NAME?"}},{"$f":"IF(ISNUMBER(L1533),SUM(OFFSET(G1533,-Q1533,0):G1533),\"\")","v":""},"",{"$f":"IF(B1533>0,'Tax Scales'!U1533-D1533,\"\")","v":""},{"$error":"#NAME?"},{"$error":"#NAME?"},{"$f":"IF(ISNUMBER(G1533),IF(G1533>0,'Tax Scales'!AQ1533,\"\"),\"\")","v":""}]
["2017-01-04",null,null,null,0,{"$f":"IF(SUM($B$7:$B1534)=0,\"\",IF(A1534<>\"\",IF(A1534<$B$3,\"N\",\"Y\"),\"\"))","v":""},0,9.34,0,null,67,{"$f":"IF(AND(ISNUMBER(A1534),NOT(ISNUMBER(A1535))),SUM(OFFSET(E1534,-Q1534,0):E1534),IF(AND(ISNUMBER(P1534),ISNUMBER(P1535),P1534  <P1535),SUM(OFFSET(E1534,-Q1534,0):E1534),\"\"))","v":{"$error":"#NAME?"}},{"$f":"IF(ISNUMBER(L1534),SUM(OFFSET(G1534,-Q1534,0):G1534),\"\")","v":""},"",{"$f":"IF(B1534>0,'Tax Scales'!U1534-D1534,\"\")","v":""},{"$error":"#NAME?"},{"$error":"#NAME?"},{"$f":"IF(ISNUMBER(G1534),IF(G1534>0,'Tax Scales'!AQ1534,\"\"),\"\")","v":""}]
["2017-01-11",null,null,null,0,{"$f":"IF(SUM($B$7:$B1535)=0,\"\",IF(A1535<>\"\",IF(A1535<$B$3,\"N\",\"Y\"),\"\"))","v":""},0,9.34,0,null,66,{"$f":"IF(AND(ISNUMBER(A1535),NOT(ISNUMBER(A1536))),SUM(OFFSET(E1535,-Q1535,0):E1535),IF(AND(ISNUMBER(P1535),ISNUMBER(P1536),P1535  <P1536),SUM(OFFSET(E1535,-Q1535,0):E1535),\"\"))","v":{"$error":"#NAME?"}},{"$f":"IF(ISNUMBER(L1535),SUM(OFFSET(G1535,-Q1535,0):G1535),\"\")","v":""},"",{"$f":"IF(B1535>0,'Tax Scales'!U1535-D1535,\"\")","v":""},{"$error":"#NAME?"},{"$error":"#NAME?"},{"$f":"IF(ISNUMBER(G1535),IF(G1535>0,'Tax Scales'!AQ1535,\"\"),\"\")","v":""}]
["2017-01-18",null,null,null,0,{"$f":"IF(SUM($B$7:$B1536)=0,\"\",IF(A1536<>\"\",IF(A1536<$B$3,\"N\",\"Y\"),\"\"))","v":""},0,9.34,0,null,65,{"$f":"IF(AND(ISNUMBER(A1536),NOT(ISNUMBER(A1537))),SUM(OFFSET(E1536,-Q1536,0):E1536),IF(AND(ISNUMBER(P1536),ISNUMBER(P1537),P1536  <P1537),SUM(OFFSET(E1536,-Q1536,0):E1536),\"\"))","v":{"$error":"#NAME?"}},{"$f":"IF(ISNUMBER(L1536),SUM(OFFSET(G1536,-Q1536,0):G1536),\"\")","v":""},"",{"$f":"IF(B1536>0,'Tax Scales'!U1536-D1536,\"\")","v":""},{"$error":"#NAME?"},{"$error":"#NAME?"},{"$f":"IF(ISNUMBER(G1536),IF(G1536>0,'Tax Scales'!AQ1536,\"\"),\"\")","v":""}]
["2017-01-25",null,null,null,0,{"$f":"IF(SUM($B$7:$B1537)=0,\"\",IF(A1537<>\"\",IF(A1537<$B$3,\"N\",\"Y\"),\"\"))","v":""},0,9.34,0,null,64,{"$f":"IF(AND(ISNUMBER(A1537),NOT(ISNUMBER(A1538))),SUM(OFFSET(E1537,-Q1537,0):E1537),IF(AND(ISNUMBER(P1537),ISNUMBER(P1538),P1537  <P1538),SUM(OFFSET(E1537,-Q1537,0):E1537),\"\"))","v":{"$error":"#NAME?"}},{"$f":"IF(ISNUMBER(L1537),SUM(OFFSET(G1537,-Q1537,0):G1537),\"\")","v":""},"",{"$f":"IF(B1537>0,'Tax Scales'!U1537-D1537,\"\")","v":""},{"$error":"#NAME?"},{"$error":"#NAME?"},{"$f":"IF(ISNUMBER(G1537),IF(G1537>0,'Tax Scales'!AQ1537,\"\"),\"\")","v":""}]
["2017-02-01",null,null,null,0,{"$f":"IF(SUM($B$7:$B1538)=0,\"\",IF(A1538<>\"\",IF(A1538<$B$3,\"N\",\"Y\"),\"\"))","v":""},0,9.34,0,null,63,{"$f":"IF(AND(ISNUMBER(A1538),NOT(ISNUMBER(A1539))),SUM(OFFSET(E1538,-Q1538,0):E1538),IF(AND(ISNUMBER(P1538),ISNUMBER(P1539),P1538  <P1539),SUM(OFFSET(E1538,-Q1538,0):E1538),\"\"))","v":{"$error":"#NAME?"}},{"$f":"IF(ISNUMBER(L1538),SUM(OFFSET(G1538,-Q1538,0):G1538),\"\")","v":""},"",{"$f":"IF(B1538>0,'Tax Scales'!U1538-D1538,\"\")","v":""},{"$error":"#NAME?"},{"$error":"#NAME?"},{"$f":"IF(ISNUMBER(G1538),IF(G1538>0,'Tax Scales'!AQ1538,\"\"),\"\")","v":""}]
["2017-02-08",null,null,null,0,{"$f":"IF(SUM($B$7:$B1539)=0,\"\",IF(A1539<>\"\",IF(A1539<$B$3,\"N\",\"Y\"),\"\"))","v":""},0,9.34,0,null,62,{"$f":"IF(AND(ISNUMBER(A1539),NOT(ISNUMBER(A1540))),SUM(OFFSET(E1539,-Q1539,0):E1539),IF(AND(ISNUMBER(P1539),ISNUMBER(P1540),P1539  <P1540),SUM(OFFSET(E1539,-Q1539,0):E1539),\"\"))","v":{"$error":"#NAME?"}},{"$f":"IF(ISNUMBER(L1539),SUM(OFFSET(G1539,-Q1539,0):G1539),\"\")","v":""},"",{"$f":"IF(B1539>0,'Tax Scales'!U1539-D1539,\"\")","v":""},{"$error":"#NAME?"},{"$error":"#NAME?"},{"$f":"IF(ISNUMBER(G1539),IF(G1539>0,'Tax Scales'!AQ1539,\"\"),\"\")","v":""}]
["2017-02-15",null,null,null,0,{"$f":"IF(SUM($B$7:$B1540)=0,\"\",IF(A1540<>\"\",IF(A1540<$B$3,\"N\",\"Y\"),\"\"))","v":""},0,9.34,0,null,61,{"$f":"IF(AND(ISNUMBER(A1540),NOT(ISNUMBER(A1541))),SUM(OFFSET(E1540,-Q1540,0):E1540),IF(AND(ISNUMBER(P1540),ISNUMBER(P1541),P1540  <P1541),SUM(OFFSET(E1540,-Q1540,0):E1540),\"\"))","v":{"$error":"#NAME?"}},{"$f":"IF(ISNUMBER(L1540),SUM(OFFSET(G1540,-Q1540,0):G1540),\"\")","v":""},"",{"$f":"IF(B1540>0,'Tax Scales'!U1540-D1540,\"\")","v":""},{"$error":"#NAME?"},{"$error":"#NAME?"},{"$f":"IF(ISNUMBER(G1540),IF(G1540>0,'Tax Scales'!AQ1540,\"\"),\"\")","v":""}]
["2017-02-22",null,null,null,0,{"$f":"IF(SUM($B$7:$B1541)=0,\"\",IF(A1541<>\"\",IF(A1541<$B$3,\"N\",\"Y\"),\"\"))","v":""},0,9.34,0,null,60,{"$f":"IF(AND(ISNUMBER(A1541),NOT(ISNUMBER(A1542))),SUM(OFFSET(E1541,-Q1541,0):E1541),IF(AND(ISNUMBER(P1541),ISNUMBER(P1542),P1541  <P1542),SUM(OFFSET(E1541,-Q1541,0):E1541),\"\"))","v":{"$error":"#NAME?"}},{"$f":"IF(ISNUMBER(L1541),SUM(OFFSET(G1541,-Q1541,0):G1541),\"\")","v":""},"",{"$f":"IF(B1541>0,'Tax Scales'!U1541-D1541,\"\")","v":""},{"$error":"#NAME?"},{"$error":"#NAME?"},{"$f":"IF(ISNUMBER(G1541),IF(G1541>0,'Tax Scales'!AQ1541,\"\"),\"\")","v":""}]
["2017-03-01",null,null,null,0,{"$f":"IF(SUM($B$7:$B1542)=0,\"\",IF(A1542<>\"\",IF(A1542<$B$3,\"N\",\"Y\"),\"\"))","v":""},0,9.34,0,null,59,{"$f":"IF(AND(ISNUMBER(A1542),NOT(ISNUMBER(A1543))),SUM(OFFSET(E1542,-Q1542,0):E1542),IF(AND(ISNUMBER(P1542),ISNUMBER(P1543),P1542  <P1543),SUM(OFFSET(E1542,-Q1542,0):E1542),\"\"))","v":{"$error":"#NAME?"}},{"$f":"IF(ISNUMBER(L1542),SUM(OFFSET(G1542,-Q1542,0):G1542),\"\")","v":""},"",{"$f":"IF(B1542>0,'Tax Scales'!U1542-D1542,\"\")","v":""},{"$error":"#NAME?"},{"$error":"#NAME?"},{"$f":"IF(ISNUMBER(G1542),IF(G1542>0,'Tax Scales'!AQ1542,\"\"),\"\")","v":""}]
["2017-03-08",null,null,null,0,{"$f":"IF(SUM($B$7:$B1543)=0,\"\",IF(A1543<>\"\",IF(A1543<$B$3,\"N\",\"Y\"),\"\"))","v":""},0,9.34,0,null,58,{"$f":"IF(AND(ISNUMBER(A1543),NOT(ISNUMBER(A1544))),SUM(OFFSET(E1543,-Q1543,0):E1543),IF(AND(ISNUMBER(P1543),ISNUMBER(P1544),P1543  <P1544),SUM(OFFSET(E1543,-Q1543,0):E1543),\"\"))","v":{"$error":"#NAME?"}},{"$f":"IF(ISNUMBER(L1543),SUM(OFFSET(G1543,-Q1543,0):G1543),\"\")","v":""},"",{"$f":"IF(B1543>0,'Tax Scales'!U1543-D1543,\"\")","v":""},{"$error":"#NAME?"},{"$error":"#NAME?"},{"$f":"IF(ISNUMBER(G1543),IF(G1543>0,'Tax Scales'!AQ1543,\"\"),\"\")","v":""}]
["2017-03-15",null,null,null,0,{"$f":"IF(SUM($B$7:$B1544)=0,\"\",IF(A1544<>\"\",IF(A1544<$B$3,\"N\",\"Y\"),\"\"))","v":""},0,9.34,0,null,57,{"$f":"IF(AND(ISNUMBER(A1544),NOT(ISNUMBER(A1545))),SUM(OFFSET(E1544,-Q1544,0):E1544),IF(AND(ISNUMBER(P1544),ISNUMBER(P1545),P1544  <P1545),SUM(OFFSET(E1544,-Q1544,0):E1544),\"\"))","v":{"$error":"#NAME?"}},{"$f":"IF(ISNUMBER(L1544),SUM(OFFSET(G1544,-Q1544,0):G1544),\"\")","v":""},"",{"$f":"IF(B1544>0,'Tax Scales'!U1544-D1544,\"\")","v":""},{"$error":"#NAME?"},{"$error":"#NAME?"},{"$f":"IF(ISNUMBER(G1544),IF(G1544>0,'Tax Scales'!AQ1544,\"\"),\"\")","v":""}]
["2017-03-22",null,null,null,0,{"$f":"IF(SUM($B$7:$B1545)=0,\"\",IF(A1545<>\"\",IF(A1545<$B$3,\"N\",\"Y\"),\"\"))","v":""},{"$f":"IF(F1545=\"N\",0,IF(A1545<>\"\",IF(K1545>=0,((E1545+I1544)*(1+(H1545/52)/100)-E1545-I1544),0),\"\"))","v":0},9.34,0,null,56,{"$f":"IF(AND(ISNUMBER(A1545),NOT(ISNUMBER(A1546))),SUM(OFFSET(E1545,-Q1545,0):E1545),IF(AND(ISNUMBER(P1545),ISNUMBER(P1546),P1545  <P1546),SUM(OFFSET(E1545,-Q1545,0):E1545),\"\"))","v":{"$error":"#NAME?"}},{"$f":"IF(ISNUMBER(L1545),SUM(OFFSET(G1545,-Q1545,0):G1545),\"\")","v":""},"",{"$f":"IF(B1545>0,'Tax Scales'!U1545-D1545,\"\")","v":""},{"$error":"#NAME?"},{"$error":"#NAME?"},{"$f":"IF(ISNUMBER(G1545),IF(G1545>0,'Tax Scales'!AQ1545,\"\"),\"\")","v":""}]
[{"$f":"IF(A1545<>\"\",IF(A1545+12<=TODAY(),+A1545+7,\"\"),\"\")","v":"2017-03-29"},null,null,null,0,{"$f":"IF(SUM($B$7:$B1546)=0,\"\",IF(A1546<>\"\",IF(A1546<$B$3,\"N\",\"Y\"),\"\"))","v":""},0,9.34,0,null,55,{"$f":"IF(AND(ISNUMBER(A1546),NOT(ISNUMBER(A1547))),SUM(OFFSET(E1546,-Q1546,0):E1546),IF(AND(ISNUMBER(P1546),ISNUMBER(P1547),P1546  <P1547),SUM(OFFSET(E1546,-Q1546,0):E1546),\"\"))","v":{"$error":"#NAME?"}},{"$f":"IF(ISNUMBER(L1546),SUM(OFFSET(G1546,-Q1546,0):G1546),\"\")","v":""},"",{"$f":"IF(B1546>0,'Tax Scales'!U1546-D1546,\"\")","v":""},{"$error":"#NAME?"},{"$error":"#NAME?"},{"$f":"IF(ISNUMBER(G1546),IF(G1546>0,'Tax Scales'!AQ1546,\"\"),\"\")","v":""}]
["2017-04-05",null,null,null,0,{"$f":"IF(SUM($B$7:$B1547)=0,\"\",IF(A1547<>\"\",IF(A1547<$B$3,\"N\",\"Y\"),\"\"))","v":""},0,9.34,0,null,54,{"$f":"IF(AND(ISNUMBER(A1547),NOT(ISNUMBER(A1548))),SUM(OFFSET(E1547,-Q1547,0):E1547),IF(AND(ISNUMBER(P1547),ISNUMBER(P1548),P1547  <P1548),SUM(OFFSET(E1547,-Q1547,0):E1547),\"\"))","v":{"$error":"#NAME?"}},{"$f":"IF(ISNUMBER(L1547),SUM(OFFSET(G1547,-Q1547,0):G1547),\"\")","v":""},"",{"$f":"IF(B1547>0,'Tax Scales'!U1547-D1547,\"\")","v":""},{"$error":"#NAME?"},{"$error":"#NAME?"},{"$f":"IF(ISNUMBER(G1547),IF(G1547>0,'Tax Scales'!AQ1547,\"\"),\"\")","v":""}]
["2017-04-12",null,null,null,0,{"$f":"IF(SUM($B$7:$B1548)=0,\"\",IF(A1548<>\"\",IF(A1548<$B$3,\"N\",\"Y\"),\"\"))","v":""},0,9.34,0,null,53,{"$f":"IF(AND(ISNUMBER(A1548),NOT(ISNUMBER(A1549))),SUM(OFFSET(E1548,-Q1548,0):E1548),IF(AND(ISNUMBER(P1548),ISNUMBER(P1549),P1548  <P1549),SUM(OFFSET(E1548,-Q1548,0):E1548),\"\"))","v":{"$error":"#NAME?"}},{"$f":"IF(ISNUMBER(L1548),SUM(OFFSET(G1548,-Q1548,0):G1548),\"\")","v":""},"",{"$f":"IF(B1548>0,'Tax Scales'!U1548-D1548,\"\")","v":""},{"$error":"#NAME?"},{"$error":"#NAME?"},{"$f":"IF(ISNUMBER(G1548),IF(G1548>0,'Tax Scales'!AQ1548,\"\"),\"\")","v":""}]
["2017-04-19",null,null,null,0,{"$f":"IF(SUM($B$7:$B1549)=0,\"\",IF(A1549<>\"\",IF(A1549<$B$3,\"N\",\"Y\"),\"\"))","v":""},0,9.34,0,null,52,{"$f":"IF(AND(ISNUMBER(A1549),NOT(ISNUMBER(A1550))),SUM(OFFSET(E1549,-Q1549,0):E1549),IF(AND(ISNUMBER(P1549),ISNUMBER(P1550),P1549  <P1550),SUM(OFFSET(E1549,-Q1549,0):E1549),\"\"))","v":{"$error":"#NAME?"}},{"$f":"IF(ISNUMBER(L1549),SUM(OFFSET(G1549,-Q1549,0):G1549),\"\")","v":""},"",{"$f":"IF(B1549>0,'Tax Scales'!U1549-D1549,\"\")","v":""},{"$error":"#NAME?"},{"$error":"#NAME?"},{"$f":"IF(ISNUMBER(G1549),IF(G1549>0,'Tax Scales'!AQ1549,\"\"),\"\")","v":""}]
["2017-04-26",null,null,null,0,{"$f":"IF(SUM($B$7:$B1550)=0,\"\",IF(A1550<>\"\",IF(A1550<$B$3,\"N\",\"Y\"),\"\"))","v":""},0,9.34,0,null,51,{"$f":"IF(AND(ISNUMBER(A1550),NOT(ISNUMBER(A1551))),SUM(OFFSET(E1550,-Q1550,0):E1550),IF(AND(ISNUMBER(P1550),ISNUMBER(P1551),P1550  <P1551),SUM(OFFSET(E1550,-Q1550,0):E1550),\"\"))","v":{"$error":"#NAME?"}},{"$f":"IF(ISNUMBER(L1550),SUM(OFFSET(G1550,-Q1550,0):G1550),\"\")","v":""},"",{"$f":"IF(B1550>0,'Tax Scales'!U1550-D1550,\"\")","v":""},{"$error":"#NAME?"},{"$error":"#NAME?"},{"$f":"IF(ISNUMBER(G1550),IF(G1550>0,'Tax Scales'!AQ1550,\"\"),\"\")","v":""}]
["2017-05-03",null,null,null,0,{"$f":"IF(SUM($B$7:$B1551)=0,\"\",IF(A1551<>\"\",IF(A1551<$B$3,\"N\",\"Y\"),\"\"))","v":""},0,9.34,0,null,50,{"$f":"IF(AND(ISNUMBER(A1551),NOT(ISNUMBER(A1552))),SUM(OFFSET(E1551,-Q1551,0):E1551),IF(AND(ISNUMBER(P1551),ISNUMBER(P1552),P1551  <P1552),SUM(OFFSET(E1551,-Q1551,0):E1551),\"\"))","v":{"$error":"#NAME?"}},{"$f":"IF(ISNUMBER(L1551),SUM(OFFSET(G1551,-Q1551,0):G1551),\"\")","v":""},"",{"$f":"IF(B1551>0,'Tax Scales'!U1551-D1551,\"\")","v":""},{"$error":"#NAME?"},{"$error":"#NAME?"},{"$f":"IF(ISNUMBER(G1551),IF(G1551>0,'Tax Scales'!AQ1551,\"\"),\"\")","v":""}]
["2017-05-10",null,null,null,0,{"$f":"IF(SUM($B$7:$B1552)=0,\"\",IF(A1552<>\"\",IF(A1552<$B$3,\"N\",\"Y\"),\"\"))","v":""},0,9.34,0,null,49,{"$f":"IF(AND(ISNUMBER(A1552),NOT(ISNUMBER(A1553))),SUM(OFFSET(E1552,-Q1552,0):E1552),IF(AND(ISNUMBER(P1552),ISNUMBER(P1553),P1552  <P1553),SUM(OFFSET(E1552,-Q1552,0):E1552),\"\"))","v":{"$error":"#NAME?"}},{"$f":"IF(ISNUMBER(L1552),SUM(OFFSET(G1552,-Q1552,0):G1552),\"\")","v":""},"",{"$f":"IF(B1552>0,'Tax Scales'!U1552-D1552,\"\")","v":""},{"$error":"#NAME?"},{"$error":"#NAME?"},{"$f":"IF(ISNUMBER(G1552),IF(G1552>0,'Tax Scales'!AQ1552,\"\"),\"\")","v":""}]
["2017-05-17",null,null,null,0,{"$f":"IF(SUM($B$7:$B1553)=0,\"\",IF(A1553<>\"\",IF(A1553<$B$3,\"N\",\"Y\"),\"\"))","v":""},0,9.34,0,null,48,{"$f":"IF(AND(ISNUMBER(A1553),NOT(ISNUMBER(A1554))),SUM(OFFSET(E1553,-Q1553,0):E1553),IF(AND(ISNUMBER(P1553),ISNUMBER(P1554),P1553  <P1554),SUM(OFFSET(E1553,-Q1553,0):E1553),\"\"))","v":{"$error":"#NAME?"}},{"$f":"IF(ISNUMBER(L1553),SUM(OFFSET(G1553,-Q1553,0):G1553),\"\")","v":""},"",{"$f":"IF(B1553>0,'Tax Scales'!U1553-D1553,\"\")","v":""},{"$error":"#NAME?"},{"$error":"#NAME?"},{"$f":"IF(ISNUMBER(G1553),IF(G1553>0,'Tax Scales'!AQ1553,\"\"),\"\")","v":""}]
["2017-05-24",null,null,null,{"$f":"IF(A1554<>\"\",IF(B1554-C1554>=0,B1554-C1554,0),\"\")","v":0},{"$f":"IF(SUM($B$7:$B1554)=0,\"\",IF(A1554<>\"\",IF(A1554<$B$3,\"N\",\"Y\"),\"\"))","v":""},0,9.34,{"$f":"IF(A1554<>\"\",I1553+E1554+G1554,\"\")","v":0},null,{"$f":"IF(A1554<>\"\",IF((TODAY()-A1554)/7>=0,INT((TODAY()-A1554)/7),0),\"\")","v":47},{"$f":"IF(AND(ISNUMBER(A1554),NOT(ISNUMBER(A1555))),SUM(OFFSET(E1554,-Q1554,0):E1554),IF(AND(ISNUMBER(P1554),ISNUMBER(P1555),P1554  <P1555),SUM(OFFSET(E1554,-Q1554,0):E1554),\"\"))","v":{"$error":"#NAME?"}},{"$f":"IF(ISNUMBER(L1554),SUM(OFFSET(G1554,-Q1554,0):G1554),\"\")","v":""},{"$f":"IF(B1554>0,IF(P1554  = $P$6,E1554-O1554,\"\"),\"\")","v":""},{"$f":"IF(B1554>0,'Tax Scales'!U1554-D1554,\"\")","v":""},{"$f":"IF(ISNUMBER(A1554),FinYear(A1554),\"\")","v":{"$error":"#NAME?"}},{"$f":"IF(ISNUMBER(A1554),ROUND((A1554-StartOfFinYear(P1554))/7,0),\"\")","v":{"$error":"#NAME?"}},{"$f":"IF(ISNUMBER(G1554),IF(G1554>0,'Tax Scales'!AQ1554,\"\"),\"\")","v":""}]
["2017-05-31",null,null,null,0,{"$f":"IF(SUM($B$7:$B1555)=0,\"\",IF(A1555<>\"\",IF(A1555<$B$3,\"N\",\"Y\"),\"\"))","v":""},0,9.34,0,null,46,{"$f":"IF(AND(ISNUMBER(A1555),NOT(ISNUMBER(A1556))),SUM(OFFSET(E1555,-Q1555,0):E1555),IF(AND(ISNUMBER(P1555),ISNUMBER(P1556),P1555  <P1556),SUM(OFFSET(E1555,-Q1555,0):E1555),\"\"))","v":{"$error":"#NAME?"}},{"$f":"IF(ISNUMBER(L1555),SUM(OFFSET(G1555,-Q1555,0):G1555),\"\")","v":""},"",{"$f":"IF(B1555>0,'Tax Scales'!U1555-D1555,\"\")","v":""},{"$error":"#NAME?"},{"$error":"#NAME?"},{"$f":"IF(ISNUMBER(G1555),IF(G1555>0,'Tax Scales'!AQ1555,\"\"),\"\")","v":""}]
["2017-06-07",null,null,null,0,{"$f":"IF(SUM($B$7:$B1556)=0,\"\",IF(A1556<>\"\",IF(A1556<$B$3,\"N\",\"Y\"),\"\"))","v":""},0,9.34,0,null,45,{"$f":"IF(AND(ISNUMBER(A1556),NOT(ISNUMBER(A1557))),SUM(OFFSET(E1556,-Q1556,0):E1556),IF(AND(ISNUMBER(P1556),ISNUMBER(P1557),P1556  <P1557),SUM(OFFSET(E1556,-Q1556,0):E1556),\"\"))","v":{"$error":"#NAME?"}},{"$f":"IF(ISNUMBER(L1556),SUM(OFFSET(G1556,-Q1556,0):G1556),\"\")","v":""},"",{"$f":"IF(B1556>0,'Tax Scales'!U1556-D1556,\"\")","v":""},{"$error":"#NAME?"},{"$error":"#NAME?"},{"$f":"IF(ISNUMBER(G1556),IF(G1556>0,'Tax Scales'!AQ1556,\"\"),\"\")","v":""}]
["2017-06-14",null,null,null,0,{"$f":"IF(SUM($B$7:$B1557)=0,\"\",IF(A1557<>\"\",IF(A1557<$B$3,\"N\",\"Y\"),\"\"))","v":""},0,9.34,0,null,44,{"$f":"IF(AND(ISNUMBER(A1557),NOT(ISNUMBER(A1558))),SUM(OFFSET(E1557,-Q1557,0):E1557),IF(AND(ISNUMBER(P1557),ISNUMBER(P1558),P1557  <P1558),SUM(OFFSET(E1557,-Q1557,0):E1557),\"\"))","v":{"$error":"#NAME?"}},{"$f":"IF(ISNUMBER(L1557),SUM(OFFSET(G1557,-Q1557,0):G1557),\"\")","v":""},"",{"$f":"IF(B1557>0,'Tax Scales'!U1557-D1557,\"\")","v":""},{"$error":"#NAME?"},{"$error":"#NAME?"},{"$f":"IF(ISNUMBER(G1557),IF(G1557>0,'Tax Scales'!AQ1557,\"\"),\"\")","v":""}]
["2017-06-21",null,null,null,0,{"$f":"IF(SUM($B$7:$B1558)=0,\"\",IF(A1558<>\"\",IF(A1558<$B$3,\"N\",\"Y\"),\"\"))","v":""},0,9.34,0,null,43,{"$f":"IF(AND(ISNUMBER(A1558),NOT(ISNUMBER(A1559))),SUM(OFFSET(E1558,-Q1558,0):E1558),IF(AND(ISNUMBER(P1558),ISNUMBER(P1559),P1558  <P1559),SUM(OFFSET(E1558,-Q1558,0):E1558),\"\"))","v":{"$error":"#NAME?"}},{"$f":"IF(ISNUMBER(L1558),SUM(OFFSET(G1558,-Q1558,0):G1558),\"\")","v":""},"",{"$f":"IF(B1558>0,'Tax Scales'!U1558-D1558,\"\")","v":""},{"$error":"#NAME?"},{"$error":"#NAME?"},{"$f":"IF(ISNUMBER(G1558),IF(G1558>0,'Tax Scales'!AQ1558,\"\"),\"\")","v":""}]
["2017-06-28",null,null,null,0,{"$f":"IF(SUM($B$7:$B1559)=0,\"\",IF(A1559<>\"\",IF(A1559<$B$3,\"N\",\"Y\"),\"\"))","v":""},0,9.34,0,null,42,{"$f":"IF(AND(ISNUMBER(A1559),NOT(ISNUMBER(A1560))),SUM(OFFSET(E1559,-Q1559,0):E1559),IF(AND(ISNUMBER(P1559),ISNUMBER(P1560),P1559  <P1560),SUM(OFFSET(E1559,-Q1559,0):E1559),\"\"))","v":{"$error":"#NAME?"}},{"$f":"IF(ISNUMBER(L1559),SUM(OFFSET(G1559,-Q1559,0):G1559),\"\")","v":""},"",{"$f":"IF(B1559>0,'Tax Scales'!U1559-D1559,\"\")","v":""},{"$error":"#NAME?"},{"$error":"#NAME?"},{"$f":"IF(ISNUMBER(G1559),IF(G1559>0,'Tax Scales'!AQ1559,\"\"),\"\")","v":""}]
["2017-07-05",null,null,null,0,{"$f":"IF(SUM($B$7:$B1560)=0,\"\",IF(A1560<>\"\",IF(A1560<$B$3,\"N\",\"Y\"),\"\"))","v":""},0,{"$f":"IF(A1560<>\"\",9.49,\"\")","v":9.49},0,null,41,{"$f":"IF(AND(ISNUMBER(A1560),NOT(ISNUMBER(A1561))),SUM(OFFSET(E1560,-Q1560,0):E1560),IF(AND(ISNUMBER(P1560),ISNUMBER(P1561),P1560  <P1561),SUM(OFFSET(E1560,-Q1560,0):E1560),\"\"))","v":{"$error":"#NAME?"}},{"$f":"IF(ISNUMBER(L1560),SUM(OFFSET(G1560,-Q1560,0):G1560),\"\")","v":""},"",{"$f":"IF(B1560>0,'Tax Scales'!U1560-D1560,\"\")","v":""},{"$error":"#NAME?"},{"$error":"#NAME?"},{"$f":"IF(ISNUMBER(G1560),IF(G1560>0,'Tax Scales'!AQ1560,\"\"),\"\")","v":""}]
["2017-07-12",null,null,null,0,{"$f":"IF(SUM($B$7:$B1561)=0,\"\",IF(A1561<>\"\",IF(A1561<$B$3,\"N\",\"Y\"),\"\"))","v":""},0,{"$f":"IF(A1561<>\"\",9.49,\"\")","v":9.49},0,null,40,{"$f":"IF(AND(ISNUMBER(A1561),NOT(ISNUMBER(A1562))),SUM(OFFSET(E1561,-Q1561,0):E1561),IF(AND(ISNUMBER(P1561),ISNUMBER(P1562),P1561  <P1562),SUM(OFFSET(E1561,-Q1561,0):E1561),\"\"))","v":{"$error":"#NAME?"}},{"$f":"IF(ISNUMBER(L1561),SUM(OFFSET(G1561,-Q1561,0):G1561),\"\")","v":""},"",{"$f":"IF(B1561>0,'Tax Scales'!U1561-D1561,\"\")","v":""},{"$error":"#NAME?"},{"$error":"#NAME?"},{"$f":"IF(ISNUMBER(G1561),IF(G1561>0,'Tax Scales'!AQ1561,\"\"),\"\")","v":""}]
["2017-07-19",null,null,null,0,{"$f":"IF(SUM($B$7:$B1562)=0,\"\",IF(A1562<>\"\",IF(A1562<$B$3,\"N\",\"Y\"),\"\"))","v":""},0,9.49,0,null,39,{"$f":"IF(AND(ISNUMBER(A1562),NOT(ISNUMBER(A1563))),SUM(OFFSET(E1562,-Q1562,0):E1562),IF(AND(ISNUMBER(P1562),ISNUMBER(P1563),P1562  <P1563),SUM(OFFSET(E1562,-Q1562,0):E1562),\"\"))","v":{"$error":"#NAME?"}},{"$f":"IF(ISNUMBER(L1562),SUM(OFFSET(G1562,-Q1562,0):G1562),\"\")","v":""},"",{"$f":"IF(B1562>0,'Tax Scales'!U1562-D1562,\"\")","v":""},{"$error":"#NAME?"},{"$error":"#NAME?"},{"$f":"IF(ISNUMBER(G1562),IF(G1562>0,'Tax Scales'!AQ1562,\"\"),\"\")","v":""}]
["2017-07-26",null,null,null,0,{"$f":"IF(SUM($B$7:$B1563)=0,\"\",IF(A1563<>\"\",IF(A1563<$B$3,\"N\",\"Y\"),\"\"))","v":""},0,9.49,0,null,38,{"$f":"IF(AND(ISNUMBER(A1563),NOT(ISNUMBER(A1564))),SUM(OFFSET(E1563,-Q1563,0):E1563),IF(AND(ISNUMBER(P1563),ISNUMBER(P1564),P1563  <P1564),SUM(OFFSET(E1563,-Q1563,0):E1563),\"\"))","v":{"$error":"#NAME?"}},{"$f":"IF(ISNUMBER(L1563),SUM(OFFSET(G1563,-Q1563,0):G1563),\"\")","v":""},"",{"$f":"IF(B1563>0,'Tax Scales'!U1563-D1563,\"\")","v":""},{"$error":"#NAME?"},{"$error":"#NAME?"},{"$f":"IF(ISNUMBER(G1563),IF(G1563>0,'Tax Scales'!AQ1563,\"\"),\"\")","v":""}]
["2017-08-02",null,null,null,0,{"$f":"IF(SUM($B$7:$B1564)=0,\"\",IF(A1564<>\"\",IF(A1564<$B$3,\"N\",\"Y\"),\"\"))","v":""},0,9.49,0,null,37,{"$f":"IF(AND(ISNUMBER(A1564),NOT(ISNUMBER(A1565))),SUM(OFFSET(E1564,-Q1564,0):E1564),IF(AND(ISNUMBER(P1564),ISNUMBER(P1565),P1564  <P1565),SUM(OFFSET(E1564,-Q1564,0):E1564),\"\"))","v":{"$error":"#NAME?"}},{"$f":"IF(ISNUMBER(L1564),SUM(OFFSET(G1564,-Q1564,0):G1564),\"\")","v":""},"",{"$f":"IF(B1564>0,'Tax Scales'!U1564-D1564,\"\")","v":""},{"$error":"#NAME?"},{"$error":"#NAME?"},{"$f":"IF(ISNUMBER(G1564),IF(G1564>0,'Tax Scales'!AQ1564,\"\"),\"\")","v":""}]
["2017-08-09",null,null,null,0,{"$f":"IF(SUM($B$7:$B1565)=0,\"\",IF(A1565<>\"\",IF(A1565<$B$3,\"N\",\"Y\"),\"\"))","v":""},0,9.49,0,null,36,{"$f":"IF(AND(ISNUMBER(A1565),NOT(ISNUMBER(A1566))),SUM(OFFSET(E1565,-Q1565,0):E1565),IF(AND(ISNUMBER(P1565),ISNUMBER(P1566),P1565  <P1566),SUM(OFFSET(E1565,-Q1565,0):E1565),\"\"))","v":{"$error":"#NAME?"}},{"$f":"IF(ISNUMBER(L1565),SUM(OFFSET(G1565,-Q1565,0):G1565),\"\")","v":""},"",{"$f":"IF(B1565>0,'Tax Scales'!U1565-D1565,\"\")","v":""},{"$error":"#NAME?"},{"$error":"#NAME?"},{"$f":"IF(ISNUMBER(G1565),IF(G1565>0,'Tax Scales'!AQ1565,\"\"),\"\")","v":""}]
["2017-08-16",null,null,null,0,{"$f":"IF(SUM($B$7:$B1566)=0,\"\",IF(A1566<>\"\",IF(A1566<$B$3,\"N\",\"Y\"),\"\"))","v":""},0,9.49,0,null,35,{"$f":"IF(AND(ISNUMBER(A1566),NOT(ISNUMBER(A1567))),SUM(OFFSET(E1566,-Q1566,0):E1566),IF(AND(ISNUMBER(P1566),ISNUMBER(P1567),P1566  <P1567),SUM(OFFSET(E1566,-Q1566,0):E1566),\"\"))","v":{"$error":"#NAME?"}},{"$f":"IF(ISNUMBER(L1566),SUM(OFFSET(G1566,-Q1566,0):G1566),\"\")","v":""},"",{"$f":"IF(B1566>0,'Tax Scales'!U1566-D1566,\"\")","v":""},{"$error":"#NAME?"},{"$error":"#NAME?"},{"$f":"IF(ISNUMBER(G1566),IF(G1566>0,'Tax Scales'!AQ1566,\"\"),\"\")","v":""}]
["2017-08-23",null,null,null,0,{"$f":"IF(SUM($B$7:$B1567)=0,\"\",IF(A1567<>\"\",IF(A1567<$B$3,\"N\",\"Y\"),\"\"))","v":""},0,9.49,0,null,34,{"$f":"IF(AND(ISNUMBER(A1567),NOT(ISNUMBER(A1568))),SUM(OFFSET(E1567,-Q1567,0):E1567),IF(AND(ISNUMBER(P1567),ISNUMBER(P1568),P1567  <P1568),SUM(OFFSET(E1567,-Q1567,0):E1567),\"\"))","v":{"$error":"#NAME?"}},{"$f":"IF(ISNUMBER(L1567),SUM(OFFSET(G1567,-Q1567,0):G1567),\"\")","v":""},"",{"$f":"IF(B1567>0,'Tax Scales'!U1567-D1567,\"\")","v":""},{"$error":"#NAME?"},{"$error":"#NAME?"},{"$f":"IF(ISNUMBER(G1567),IF(G1567>0,'Tax Scales'!AQ1567,\"\"),\"\")","v":""}]
["2017-08-30",null,null,null,0,{"$f":"IF(SUM($B$7:$B1568)=0,\"\",IF(A1568<>\"\",IF(A1568<$B$3,\"N\",\"Y\"),\"\"))","v":""},0,9.49,0,null,33,{"$f":"IF(AND(ISNUMBER(A1568),NOT(ISNUMBER(A1569))),SUM(OFFSET(E1568,-Q1568,0):E1568),IF(AND(ISNUMBER(P1568),ISNUMBER(P1569),P1568  <P1569),SUM(OFFSET(E1568,-Q1568,0):E1568),\"\"))","v":{"$error":"#NAME?"}},{"$f":"IF(ISNUMBER(L1568),SUM(OFFSET(G1568,-Q1568,0):G1568),\"\")","v":""},"",{"$f":"IF(B1568>0,'Tax Scales'!U1568-D1568,\"\")","v":""},{"$error":"#NAME?"},{"$error":"#NAME?"},{"$f":"IF(ISNUMBER(G1568),IF(G1568>0,'Tax Scales'!AQ1568,\"\"),\"\")","v":""}]
["2017-09-06",null,null,null,0,{"$f":"IF(SUM($B$7:$B1569)=0,\"\",IF(A1569<>\"\",IF(A1569<$B$3,\"N\",\"Y\"),\"\"))","v":""},0,9.49,0,null,32,{"$f":"IF(AND(ISNUMBER(A1569),NOT(ISNUMBER(A1570))),SUM(OFFSET(E1569,-Q1569,0):E1569),IF(AND(ISNUMBER(P1569),ISNUMBER(P1570),P1569  <P1570),SUM(OFFSET(E1569,-Q1569,0):E1569),\"\"))","v":{"$error":"#NAME?"}},{"$f":"IF(ISNUMBER(L1569),SUM(OFFSET(G1569,-Q1569,0):G1569),\"\")","v":""},"",{"$f":"IF(B1569>0,'Tax Scales'!U1569-D1569,\"\")","v":""},{"$error":"#NAME?"},{"$error":"#NAME?"},{"$f":"IF(ISNUMBER(G1569),IF(G1569>0,'Tax Scales'!AQ1569,\"\"),\"\")","v":""}]
["2017-09-13",null,null,null,0,{"$f":"IF(SUM($B$7:$B1570)=0,\"\",IF(A1570<>\"\",IF(A1570<$B$3,\"N\",\"Y\"),\"\"))","v":""},0,9.49,0,null,31,{"$f":"IF(AND(ISNUMBER(A1570),NOT(ISNUMBER(A1571))),SUM(OFFSET(E1570,-Q1570,0):E1570),IF(AND(ISNUMBER(P1570),ISNUMBER(P1571),P1570  <P1571),SUM(OFFSET(E1570,-Q1570,0):E1570),\"\"))","v":{"$error":"#NAME?"}},{"$f":"IF(ISNUMBER(L1570),SUM(OFFSET(G1570,-Q1570,0):G1570),\"\")","v":""},"",{"$f":"IF(B1570>0,'Tax Scales'!U1570-D1570,\"\")","v":""},{"$error":"#NAME?"},{"$error":"#NAME?"},{"$f":"IF(ISNUMBER(G1570),IF(G1570>0,'Tax Scales'!AQ1570,\"\"),\"\")","v":""}]
["2017-09-20",null,null,null,0,{"$f":"IF(SUM($B$7:$B1571)=0,\"\",IF(A1571<>\"\",IF(A1571<$B$3,\"N\",\"Y\"),\"\"))","v":""},0,9.49,0,null,30,{"$f":"IF(AND(ISNUMBER(A1571),NOT(ISNUMBER(A1572))),SUM(OFFSET(E1571,-Q1571,0):E1571),IF(AND(ISNUMBER(P1571),ISNUMBER(P1572),P1571  <P1572),SUM(OFFSET(E1571,-Q1571,0):E1571),\"\"))","v":{"$error":"#NAME?"}},{"$f":"IF(ISNUMBER(L1571),SUM(OFFSET(G1571,-Q1571,0):G1571),\"\")","v":""},"",{"$f":"IF(B1571>0,'Tax Scales'!U1571-D1571,\"\")","v":""},{"$error":"#NAME?"},{"$error":"#NAME?"},{"$f":"IF(ISNUMBER(G1571),IF(G1571>0,'Tax Scales'!AQ1571,\"\"),\"\")","v":""}]
["2017-09-27",null,null,null,0,{"$f":"IF(SUM($B$7:$B1572)=0,\"\",IF(A1572<>\"\",IF(A1572<$B$3,\"N\",\"Y\"),\"\"))","v":""},0,9.49,0,null,29,{"$f":"IF(AND(ISNUMBER(A1572),NOT(ISNUMBER(A1573))),SUM(OFFSET(E1572,-Q1572,0):E1572),IF(AND(ISNUMBER(P1572),ISNUMBER(P1573),P1572  <P1573),SUM(OFFSET(E1572,-Q1572,0):E1572),\"\"))","v":{"$error":"#NAME?"}},{"$f":"IF(ISNUMBER(L1572),SUM(OFFSET(G1572,-Q1572,0):G1572),\"\")","v":""},"",{"$f":"IF(B1572>0,'Tax Scales'!U1572-D1572,\"\")","v":""},{"$error":"#NAME?"},{"$error":"#NAME?"},{"$f":"IF(ISNUMBER(G1572),IF(G1572>0,'Tax Scales'!AQ1572,\"\"),\"\")","v":""}]
["2017-10-04",null,null,null,0,{"$f":"IF(SUM($B$7:$B1573)=0,\"\",IF(A1573<>\"\",IF(A1573<$B$3,\"N\",\"Y\"),\"\"))","v":""},0,9.49,0,null,28,{"$f":"IF(AND(ISNUMBER(A1573),NOT(ISNUMBER(A1574))),SUM(OFFSET(E1573,-Q1573,0):E1573),IF(AND(ISNUMBER(P1573),ISNUMBER(P1574),P1573  <P1574),SUM(OFFSET(E1573,-Q1573,0):E1573),\"\"))","v":{"$error":"#NAME?"}},{"$f":"IF(ISNUMBER(L1573),SUM(OFFSET(G1573,-Q1573,0):G1573),\"\")","v":""},"",{"$f":"IF(B1573>0,'Tax Scales'!U1573-D1573,\"\")","v":""},{"$error":"#NAME?"},{"$error":"#NAME?"},{"$f":"IF(ISNUMBER(G1573),IF(G1573>0,'Tax Scales'!AQ1573,\"\"),\"\")","v":""}]
["2017-10-11",null,null,null,0,{"$f":"IF(SUM($B$7:$B1574)=0,\"\",IF(A1574<>\"\",IF(A1574<$B$3,\"N\",\"Y\"),\"\"))","v":""},0,9.49,0,null,27,{"$f":"IF(AND(ISNUMBER(A1574),NOT(ISNUMBER(A1575))),SUM(OFFSET(E1574,-Q1574,0):E1574),IF(AND(ISNUMBER(P1574),ISNUMBER(P1575),P1574  <P1575),SUM(OFFSET(E1574,-Q1574,0):E1574),\"\"))","v":{"$error":"#NAME?"}},{"$f":"IF(ISNUMBER(L1574),SUM(OFFSET(G1574,-Q1574,0):G1574),\"\")","v":""},"",{"$f":"IF(B1574>0,'Tax Scales'!U1574-D1574,\"\")","v":""},{"$error":"#NAME?"},{"$error":"#NAME?"},{"$f":"IF(ISNUMBER(G1574),IF(G1574>0,'Tax Scales'!AQ1574,\"\"),\"\")","v":""}]
["2017-10-18",null,null,null,0,{"$f":"IF(SUM($B$7:$B1575)=0,\"\",IF(A1575<>\"\",IF(A1575<$B$3,\"N\",\"Y\"),\"\"))","v":""},0,9.49,0,null,26,{"$f":"IF(AND(ISNUMBER(A1575),NOT(ISNUMBER(A1576))),SUM(OFFSET(E1575,-Q1575,0):E1575),IF(AND(ISNUMBER(P1575),ISNUMBER(P1576),P1575  <P1576),SUM(OFFSET(E1575,-Q1575,0):E1575),\"\"))","v":{"$error":"#NAME?"}},{"$f":"IF(ISNUMBER(L1575),SUM(OFFSET(G1575,-Q1575,0):G1575),\"\")","v":""},"",{"$f":"IF(B1575>0,'Tax Scales'!U1575-D1575,\"\")","v":""},{"$error":"#NAME?"},{"$error":"#NAME?"},{"$f":"IF(ISNUMBER(G1575),IF(G1575>0,'Tax Scales'!AQ1575,\"\"),\"\")","v":""}]
["2017-10-25",null,null,null,0,{"$f":"IF(SUM($B$7:$B1576)=0,\"\",IF(A1576<>\"\",IF(A1576<$B$3,\"N\",\"Y\"),\"\"))","v":""},0,9.49,0,null,25,{"$f":"IF(AND(ISNUMBER(A1576),NOT(ISNUMBER(A1577))),SUM(OFFSET(E1576,-Q1576,0):E1576),IF(AND(ISNUMBER(P1576),ISNUMBER(P1577),P1576  <P1577),SUM(OFFSET(E1576,-Q1576,0):E1576),\"\"))","v":{"$error":"#NAME?"}},{"$f":"IF(ISNUMBER(L1576),SUM(OFFSET(G1576,-Q1576,0):G1576),\"\")","v":""},"",{"$f":"IF(B1576>0,'Tax Scales'!U1576-D1576,\"\")","v":""},{"$error":"#NAME?"},{"$error":"#NAME?"},{"$f":"IF(ISNUMBER(G1576),IF(G1576>0,'Tax Scales'!AQ1576,\"\"),\"\")","v":""}]
["2017-11-01",null,null,null,0,{"$f":"IF(SUM($B$7:$B1577)=0,\"\",IF(A1577<>\"\",IF(A1577<$B$3,\"N\",\"Y\"),\"\"))","v":""},0,9.49,0,null,24,{"$f":"IF(AND(ISNUMBER(A1577),NOT(ISNUMBER(A1578))),SUM(OFFSET(E1577,-Q1577,0):E1577),IF(AND(ISNUMBER(P1577),ISNUMBER(P1578),P1577  <P1578),SUM(OFFSET(E1577,-Q1577,0):E1577),\"\"))","v":{"$error":"#NAME?"}},{"$f":"IF(ISNUMBER(L1577),SUM(OFFSET(G1577,-Q1577,0):G1577),\"\")","v":""},"",{"$f":"IF(B1577>0,'Tax Scales'!U1577-D1577,\"\")","v":""},{"$error":"#NAME?"},{"$error":"#NAME?"},{"$f":"IF(ISNUMBER(G1577),IF(G1577>0,'Tax Scales'!AQ1577,\"\"),\"\")","v":""}]
["2017-11-08",null,null,null,0,{"$f":"IF(SUM($B$7:$B1578)=0,\"\",IF(A1578<>\"\",IF(A1578<$B$3,\"N\",\"Y\"),\"\"))","v":""},0,9.49,0,null,23,{"$f":"IF(AND(ISNUMBER(A1578),NOT(ISNUMBER(A1579))),SUM(OFFSET(E1578,-Q1578,0):E1578),IF(AND(ISNUMBER(P1578),ISNUMBER(P1579),P1578  <P1579),SUM(OFFSET(E1578,-Q1578,0):E1578),\"\"))","v":{"$error":"#NAME?"}},{"$f":"IF(ISNUMBER(L1578),SUM(OFFSET(G1578,-Q1578,0):G1578),\"\")","v":""},"",{"$f":"IF(B1578>0,'Tax Scales'!U1578-D1578,\"\")","v":""},{"$error":"#NAME?"},{"$error":"#NAME?"},{"$f":"IF(ISNUMBER(G1578),IF(G1578>0,'Tax Scales'!AQ1578,\"\"),\"\")","v":""}]
["2017-11-15",null,null,null,0,{"$f":"IF(SUM($B$7:$B1579)=0,\"\",IF(A1579<>\"\",IF(A1579<$B$3,\"N\",\"Y\"),\"\"))","v":""},0,9.49,0,null,22,{"$f":"IF(AND(ISNUMBER(A1579),NOT(ISNUMBER(A1580))),SUM(OFFSET(E1579,-Q1579,0):E1579),IF(AND(ISNUMBER(P1579),ISNUMBER(P1580),P1579  <P1580),SUM(OFFSET(E1579,-Q1579,0):E1579),\"\"))","v":{"$error":"#NAME?"}},{"$f":"IF(ISNUMBER(L1579),SUM(OFFSET(G1579,-Q1579,0):G1579),\"\")","v":""},"",{"$f":"IF(B1579>0,'Tax Scales'!U1579-D1579,\"\")","v":""},{"$error":"#NAME?"},{"$error":"#NAME?"},{"$f":"IF(ISNUMBER(G1579),IF(G1579>0,'Tax Scales'!AQ1579,\"\"),\"\")","v":""}]
["2017-11-22",null,null,null,0,{"$f":"IF(SUM($B$7:$B1580)=0,\"\",IF(A1580<>\"\",IF(A1580<$B$3,\"N\",\"Y\"),\"\"))","v":""},0,9.49,0,null,21,{"$f":"IF(AND(ISNUMBER(A1580),NOT(ISNUMBER(A1581))),SUM(OFFSET(E1580,-Q1580,0):E1580),IF(AND(ISNUMBER(P1580),ISNUMBER(P1581),P1580  <P1581),SUM(OFFSET(E1580,-Q1580,0):E1580),\"\"))","v":{"$error":"#NAME?"}},{"$f":"IF(ISNUMBER(L1580),SUM(OFFSET(G1580,-Q1580,0):G1580),\"\")","v":""},"",{"$f":"IF(B1580>0,'Tax Scales'!U1580-D1580,\"\")","v":""},{"$error":"#NAME?"},{"$error":"#NAME?"},{"$f":"IF(ISNUMBER(G1580),IF(G1580>0,'Tax Scales'!AQ1580,\"\"),\"\")","v":""}]
["2017-11-29",null,null,null,0,{"$f":"IF(SUM($B$7:$B1581)=0,\"\",IF(A1581<>\"\",IF(A1581<$B$3,\"N\",\"Y\"),\"\"))","v":""},0,9.49,0,null,20,{"$f":"IF(AND(ISNUMBER(A1581),NOT(ISNUMBER(A1582))),SUM(OFFSET(E1581,-Q1581,0):E1581),IF(AND(ISNUMBER(P1581),ISNUMBER(P1582),P1581  <P1582),SUM(OFFSET(E1581,-Q1581,0):E1581),\"\"))","v":{"$error":"#NAME?"}},{"$f":"IF(ISNUMBER(L1581),SUM(OFFSET(G1581,-Q1581,0):G1581),\"\")","v":""},"",{"$f":"IF(B1581>0,'Tax Scales'!U1581-D1581,\"\")","v":""},{"$error":"#NAME?"},{"$error":"#NAME?"},{"$f":"IF(ISNUMBER(G1581),IF(G1581>0,'Tax Scales'!AQ1581,\"\"),\"\")","v":""}]
["2017-12-06",null,null,null,0,{"$f":"IF(SUM($B$7:$B1582)=0,\"\",IF(A1582<>\"\",IF(A1582<$B$3,\"N\",\"Y\"),\"\"))","v":""},0,9.49,0,null,19,{"$f":"IF(AND(ISNUMBER(A1582),NOT(ISNUMBER(A1583))),SUM(OFFSET(E1582,-Q1582,0):E1582),IF(AND(ISNUMBER(P1582),ISNUMBER(P1583),P1582  <P1583),SUM(OFFSET(E1582,-Q1582,0):E1582),\"\"))","v":{"$error":"#NAME?"}},{"$f":"IF(ISNUMBER(L1582),SUM(OFFSET(G1582,-Q1582,0):G1582),\"\")","v":""},"",{"$f":"IF(B1582>0,'Tax Scales'!U1582-D1582,\"\")","v":""},{"$error":"#NAME?"},{"$error":"#NAME?"},{"$f":"IF(ISNUMBER(G1582),IF(G1582>0,'Tax Scales'!AQ1582,\"\"),\"\")","v":""}]
["2017-12-13",null,null,null,0,{"$f":"IF(SUM($B$7:$B1583)=0,\"\",IF(A1583<>\"\",IF(A1583<$B$3,\"N\",\"Y\"),\"\"))","v":""},0,9.49,0,null,18,{"$f":"IF(AND(ISNUMBER(A1583),NOT(ISNUMBER(A1584))),SUM(OFFSET(E1583,-Q1583,0):E1583),IF(AND(ISNUMBER(P1583),ISNUMBER(P1584),P1583  <P1584),SUM(OFFSET(E1583,-Q1583,0):E1583),\"\"))","v":{"$error":"#NAME?"}},{"$f":"IF(ISNUMBER(L1583),SUM(OFFSET(G1583,-Q1583,0):G1583),\"\")","v":""},"",{"$f":"IF(B1583>0,'Tax Scales'!U1583-D1583,\"\")","v":""},{"$error":"#NAME?"},{"$error":"#NAME?"},{"$f":"IF(ISNUMBER(G1583),IF(G1583>0,'Tax Scales'!AQ1583,\"\"),\"\")","v":""}]
["2017-12-20",null,null,null,0,{"$f":"IF(SUM($B$7:$B1584)=0,\"\",IF(A1584<>\"\",IF(A1584<$B$3,\"N\",\"Y\"),\"\"))","v":""},0,9.49,0,null,17,{"$f":"IF(AND(ISNUMBER(A1584),NOT(ISNUMBER(A1585))),SUM(OFFSET(E1584,-Q1584,0):E1584),IF(AND(ISNUMBER(P1584),ISNUMBER(P1585),P1584  <P1585),SUM(OFFSET(E1584,-Q1584,0):E1584),\"\"))","v":{"$error":"#NAME?"}},{"$f":"IF(ISNUMBER(L1584),SUM(OFFSET(G1584,-Q1584,0):G1584),\"\")","v":""},"",{"$f":"IF(B1584>0,'Tax Scales'!U1584-D1584,\"\")","v":""},{"$error":"#NAME?"},{"$error":"#NAME?"},{"$f":"IF(ISNUMBER(G1584),IF(G1584>0,'Tax Scales'!AQ1584,\"\"),\"\")","v":""}]
["2017-12-27",null,null,null,0,{"$f":"IF(SUM($B$7:$B1585)=0,\"\",IF(A1585<>\"\",IF(A1585<$B$3,\"N\",\"Y\"),\"\"))","v":""},0,9.49,0,null,16,{"$f":"IF(AND(ISNUMBER(A1585),NOT(ISNUMBER(A1586))),SUM(OFFSET(E1585,-Q1585,0):E1585),IF(AND(ISNUMBER(P1585),ISNUMBER(P1586),P1585  <P1586),SUM(OFFSET(E1585,-Q1585,0):E1585),\"\"))","v":{"$error":"#NAME?"}},{"$f":"IF(ISNUMBER(L1585),SUM(OFFSET(G1585,-Q1585,0):G1585),\"\")","v":""},"",{"$f":"IF(B1585>0,'Tax Scales'!U1585-D1585,\"\")","v":""},{"$error":"#NAME?"},{"$error":"#NAME?"},{"$f":"IF(ISNUMBER(G1585),IF(G1585>0,'Tax Scales'!AQ1585,\"\"),\"\")","v":""}]
["2018-01-03",null,null,null,0,{"$f":"IF(SUM($B$7:$B1586)=0,\"\",IF(A1586<>\"\",IF(A1586<$B$3,\"N\",\"Y\"),\"\"))","v":""},0,9.49,0,null,15,{"$f":"IF(AND(ISNUMBER(A1586),NOT(ISNUMBER(A1587))),SUM(OFFSET(E1586,-Q1586,0):E1586),IF(AND(ISNUMBER(P1586),ISNUMBER(P1587),P1586  <P1587),SUM(OFFSET(E1586,-Q1586,0):E1586),\"\"))","v":{"$error":"#NAME?"}},{"$f":"IF(ISNUMBER(L1586),SUM(OFFSET(G1586,-Q1586,0):G1586),\"\")","v":""},"",{"$f":"IF(B1586>0,'Tax Scales'!U1586-D1586,\"\")","v":""},{"$error":"#NAME?"},{"$error":"#NAME?"},{"$f":"IF(ISNUMBER(G1586),IF(G1586>0,'Tax Scales'!AQ1586,\"\"),\"\")","v":""}]
["2018-01-10",null,null,null,0,{"$f":"IF(SUM($B$7:$B1587)=0,\"\",IF(A1587<>\"\",IF(A1587<$B$3,\"N\",\"Y\"),\"\"))","v":""},0,9.49,0,null,14,{"$f":"IF(AND(ISNUMBER(A1587),NOT(ISNUMBER(A1588))),SUM(OFFSET(E1587,-Q1587,0):E1587),IF(AND(ISNUMBER(P1587),ISNUMBER(P1588),P1587  <P1588),SUM(OFFSET(E1587,-Q1587,0):E1587),\"\"))","v":{"$error":"#NAME?"}},{"$f":"IF(ISNUMBER(L1587),SUM(OFFSET(G1587,-Q1587,0):G1587),\"\")","v":""},"",{"$f":"IF(B1587>0,'Tax Scales'!U1587-D1587,\"\")","v":""},{"$error":"#NAME?"},{"$error":"#NAME?"},{"$f":"IF(ISNUMBER(G1587),IF(G1587>0,'Tax Scales'!AQ1587,\"\"),\"\")","v":""}]
["2018-01-17",null,null,null,0,{"$f":"IF(SUM($B$7:$B1588)=0,\"\",IF(A1588<>\"\",IF(A1588<$B$3,\"N\",\"Y\"),\"\"))","v":""},0,9.49,0,null,13,{"$f":"IF(AND(ISNUMBER(A1588),NOT(ISNUMBER(A1589))),SUM(OFFSET(E1588,-Q1588,0):E1588),IF(AND(ISNUMBER(P1588),ISNUMBER(P1589),P1588  <P1589),SUM(OFFSET(E1588,-Q1588,0):E1588),\"\"))","v":{"$error":"#NAME?"}},{"$f":"IF(ISNUMBER(L1588),SUM(OFFSET(G1588,-Q1588,0):G1588),\"\")","v":""},"",{"$f":"IF(B1588>0,'Tax Scales'!U1588-D1588,\"\")","v":""},{"$error":"#NAME?"},{"$error":"#NAME?"},{"$f":"IF(ISNUMBER(G1588),IF(G1588>0,'Tax Scales'!AQ1588,\"\"),\"\")","v":""}]
["2018-01-24",null,null,null,0,{"$f":"IF(SUM($B$7:$B1589)=0,\"\",IF(A1589<>\"\",IF(A1589<$B$3,\"N\",\"Y\"),\"\"))","v":""},0,9.49,0,null,12,{"$f":"IF(AND(ISNUMBER(A1589),NOT(ISNUMBER(A1590))),SUM(OFFSET(E1589,-Q1589,0):E1589),IF(AND(ISNUMBER(P1589),ISNUMBER(P1590),P1589  <P1590),SUM(OFFSET(E1589,-Q1589,0):E1589),\"\"))","v":{"$error":"#NAME?"}},{"$f":"IF(ISNUMBER(L1589),SUM(OFFSET(G1589,-Q1589,0):G1589),\"\")","v":""},"",{"$f":"IF(B1589>0,'Tax Scales'!U1589-D1589,\"\")","v":""},{"$error":"#NAME?"},{"$error":"#NAME?"},{"$f":"IF(ISNUMBER(G1589),IF(G1589>0,'Tax Scales'!AQ1589,\"\"),\"\")","v":""}]
["2018-01-31",null,null,null,0,{"$f":"IF(SUM($B$7:$B1590)=0,\"\",IF(A1590<>\"\",IF(A1590<$B$3,\"N\",\"Y\"),\"\"))","v":""},0,9.49,0,null,11,{"$f":"IF(AND(ISNUMBER(A1590),NOT(ISNUMBER(A1591))),SUM(OFFSET(E1590,-Q1590,0):E1590),IF(AND(ISNUMBER(P1590),ISNUMBER(P1591),P1590  <P1591),SUM(OFFSET(E1590,-Q1590,0):E1590),\"\"))","v":{"$error":"#NAME?"}},{"$f":"IF(ISNUMBER(L1590),SUM(OFFSET(G1590,-Q1590,0):G1590),\"\")","v":""},"",{"$f":"IF(B1590>0,'Tax Scales'!U1590-D1590,\"\")","v":""},{"$error":"#NAME?"},{"$error":"#NAME?"},{"$f":"IF(ISNUMBER(G1590),IF(G1590>0,'Tax Scales'!AQ1590,\"\"),\"\")","v":""}]
["2018-02-07",null,null,null,0,{"$f":"IF(SUM($B$7:$B1591)=0,\"\",IF(A1591<>\"\",IF(A1591<$B$3,\"N\",\"Y\"),\"\"))","v":""},0,9.49,0,null,10,{"$f":"IF(AND(ISNUMBER(A1591),NOT(ISNUMBER(A1592))),SUM(OFFSET(E1591,-Q1591,0):E1591),IF(AND(ISNUMBER(P1591),ISNUMBER(P1592),P1591  <P1592),SUM(OFFSET(E1591,-Q1591,0):E1591),\"\"))","v":{"$error":"#NAME?"}},{"$f":"IF(ISNUMBER(L1591),SUM(OFFSET(G1591,-Q1591,0):G1591),\"\")","v":""},"",{"$f":"IF(B1591>0,'Tax Scales'!U1591-D1591,\"\")","v":""},{"$error":"#NAME?"},{"$error":"#NAME?"},{"$f":"IF(ISNUMBER(G1591),IF(G1591>0,'Tax Scales'!AQ1591,\"\"),\"\")","v":""}]
["2018-02-14",null,null,null,0,{"$f":"IF(SUM($B$7:$B1592)=0,\"\",IF(A1592<>\"\",IF(A1592<$B$3,\"N\",\"Y\"),\"\"))","v":""},0,9.49,0,null,9,{"$f":"IF(AND(ISNUMBER(A1592),NOT(ISNUMBER(A1593))),SUM(OFFSET(E1592,-Q1592,0):E1592),IF(AND(ISNUMBER(P1592),ISNUMBER(P1593),P1592  <P1593),SUM(OFFSET(E1592,-Q1592,0):E1592),\"\"))","v":{"$error":"#NAME?"}},{"$f":"IF(ISNUMBER(L1592),SUM(OFFSET(G1592,-Q1592,0):G1592),\"\")","v":""},"",{"$f":"IF(B1592>0,'Tax Scales'!U1592-D1592,\"\")","v":""},{"$error":"#NAME?"},{"$error":"#NAME?"},{"$f":"IF(ISNUMBER(G1592),IF(G1592>0,'Tax Scales'!AQ1592,\"\"),\"\")","v":""}]
["2018-02-21",null,null,null,0,{"$f":"IF(SUM($B$7:$B1593)=0,\"\",IF(A1593<>\"\",IF(A1593<$B$3,\"N\",\"Y\"),\"\"))","v":""},0,9.49,0,null,8,{"$f":"IF(AND(ISNUMBER(A1593),NOT(ISNUMBER(A1594))),SUM(OFFSET(E1593,-Q1593,0):E1593),IF(AND(ISNUMBER(P1593),ISNUMBER(P1594),P1593  <P1594),SUM(OFFSET(E1593,-Q1593,0):E1593),\"\"))","v":{"$error":"#NAME?"}},{"$f":"IF(ISNUMBER(L1593),SUM(OFFSET(G1593,-Q1593,0):G1593),\"\")","v":""},"",{"$f":"IF(B1593>0,'Tax Scales'!U1593-D1593,\"\")","v":""},{"$error":"#NAME?"},{"$error":"#NAME?"},{"$f":"IF(ISNUMBER(G1593),IF(G1593>0,'Tax Scales'!AQ1593,\"\"),\"\")","v":""}]
["2018-02-28",null,null,null,0,{"$f":"IF(SUM($B$7:$B1594)=0,\"\",IF(A1594<>\"\",IF(A1594<$B$3,\"N\",\"Y\"),\"\"))","v":""},0,9.49,0,null,7,{"$f":"IF(AND(ISNUMBER(A1594),NOT(ISNUMBER(A1595))),SUM(OFFSET(E1594,-Q1594,0):E1594),IF(AND(ISNUMBER(P1594),ISNUMBER(P1595),P1594  <P1595),SUM(OFFSET(E1594,-Q1594,0):E1594),\"\"))","v":{"$error":"#NAME?"}},{"$f":"IF(ISNUMBER(L1594),SUM(OFFSET(G1594,-Q1594,0):G1594),\"\")","v":""},"",{"$f":"IF(B1594>0,'Tax Scales'!U1594-D1594,\"\")","v":""},{"$error":"#NAME?"},{"$error":"#NAME?"},{"$f":"IF(ISNUMBER(G1594),IF(G1594>0,'Tax Scales'!AQ1594,\"\"),\"\")","v":""}]
["2018-03-07",null,null,null,0,{"$f":"IF(SUM($B$7:$B1595)=0,\"\",IF(A1595<>\"\",IF(A1595<$B$3,\"N\",\"Y\"),\"\"))","v":""},0,9.49,0,null,6,{"$f":"IF(AND(ISNUMBER(A1595),NOT(ISNUMBER(A1596))),SUM(OFFSET(E1595,-Q1595,0):E1595),IF(AND(ISNUMBER(P1595),ISNUMBER(P1596),P1595  <P1596),SUM(OFFSET(E1595,-Q1595,0):E1595),\"\"))","v":{"$error":"#NAME?"}},{"$f":"IF(ISNUMBER(L1595),SUM(OFFSET(G1595,-Q1595,0):G1595),\"\")","v":""},"",{"$f":"IF(B1595>0,'Tax Scales'!U1595-D1595,\"\")","v":""},{"$error":"#NAME?"},{"$error":"#NAME?"},{"$f":"IF(ISNUMBER(G1595),IF(G1595>0,'Tax Scales'!AQ1595,\"\"),\"\")","v":""}]
["2018-03-14",null,null,null,0,{"$f":"IF(SUM($B$7:$B1596)=0,\"\",IF(A1596<>\"\",IF(A1596<$B$3,\"N\",\"Y\"),\"\"))","v":""},0,9.49,0,null,5,{"$f":"IF(AND(ISNUMBER(A1596),NOT(ISNUMBER(A1597))),SUM(OFFSET(E1596,-Q1596,0):E1596),IF(AND(ISNUMBER(P1596),ISNUMBER(P1597),P1596  <P1597),SUM(OFFSET(E1596,-Q1596,0):E1596),\"\"))","v":{"$error":"#NAME?"}},{"$f":"IF(ISNUMBER(L1596),SUM(OFFSET(G1596,-Q1596,0):G1596),\"\")","v":""},"",{"$f":"IF(B1596>0,'Tax Scales'!U1596-D1596,\"\")","v":""},{"$error":"#NAME?"},{"$error":"#NAME?"},{"$f":"IF(ISNUMBER(G1596),IF(G1596>0,'Tax Scales'!AQ1596,\"\"),\"\")","v":""}]
["2018-03-21",null,null,null,0,{"$f":"IF(SUM($B$7:$B1597)=0,\"\",IF(A1597<>\"\",IF(A1597<$B$3,\"N\",\"Y\"),\"\"))","v":""},0,9.49,0,null,4,{"$f":"IF(AND(ISNUMBER(A1597),NOT(ISNUMBER(A1598))),SUM(OFFSET(E1597,-Q1597,0):E1597),IF(AND(ISNUMBER(P1597),ISNUMBER(P1598),P1597  <P1598),SUM(OFFSET(E1597,-Q1597,0):E1597),\"\"))","v":{"$error":"#NAME?"}},{"$f":"IF(ISNUMBER(L1597),SUM(OFFSET(G1597,-Q1597,0):G1597),\"\")","v":""},"",{"$f":"IF(B1597>0,'Tax Scales'!U1597-D1597,\"\")","v":""},{"$error":"#NAME?"},{"$error":"#NAME?"},{"$f":"IF(ISNUMBER(G1597),IF(G1597>0,'Tax Scales'!AQ1597,\"\"),\"\")","v":""}]
["2018-03-28",null,null,null,0,{"$f":"IF(SUM($B$7:$B1598)=0,\"\",IF(A1598<>\"\",IF(A1598<$B$3,\"N\",\"Y\"),\"\"))","v":""},0,9.49,0,null,3,{"$f":"IF(AND(ISNUMBER(A1598),NOT(ISNUMBER(A1599))),SUM(OFFSET(E1598,-Q1598,0):E1598),IF(AND(ISNUMBER(P1598),ISNUMBER(P1599),P1598  <P1599),SUM(OFFSET(E1598,-Q1598,0):E1598),\"\"))","v":{"$error":"#NAME?"}},{"$f":"IF(ISNUMBER(L1598),SUM(OFFSET(G1598,-Q1598,0):G1598),\"\")","v":""},"",{"$f":"IF(B1598>0,'Tax Scales'!U1598-D1598,\"\")","v":""},{"$error":"#NAME?"},{"$error":"#NAME?"},{"$f":"IF(ISNUMBER(G1598),IF(G1598>0,'Tax Scales'!AQ1598,\"\"),\"\")","v":""}]
["2018-04-04",null,null,null,0,{"$f":"IF(SUM($B$7:$B1599)=0,\"\",IF(A1599<>\"\",IF(A1599<$B$3,\"N\",\"Y\"),\"\"))","v":""},0,9.49,0,null,2,{"$f":"IF(AND(ISNUMBER(A1599),NOT(ISNUMBER(A1600))),SUM(OFFSET(E1599,-Q1599,0):E1599),IF(AND(ISNUMBER(P1599),ISNUMBER(P1600),P1599  <P1600),SUM(OFFSET(E1599,-Q1599,0):E1599),\"\"))","v":{"$error":"#NAME?"}},{"$f":"IF(ISNUMBER(L1599),SUM(OFFSET(G1599,-Q1599,0):G1599),\"\")","v":""},"",{"$f":"IF(B1599>0,'Tax Scales'!U1599-D1599,\"\")","v":""},{"$error":"#NAME?"},{"$error":"#NAME?"},{"$f":"IF(ISNUMBER(G1599),IF(G1599>0,'Tax Scales'!AQ1599,\"\"),\"\")","v":""}]
["2018-04-11",null,null,null,0,{"$f":"IF(SUM($B$7:$B1600)=0,\"\",IF(A1600<>\"\",IF(A1600<$B$3,\"N\",\"Y\"),\"\"))","v":""},0,9.49,0,null,1,{"$f":"IF(AND(ISNUMBER(A1600),NOT(ISNUMBER(A1601))),SUM(OFFSET(E1600,-Q1600,0):E1600),IF(AND(ISNUMBER(P1600),ISNUMBER(P1601),P1600  <P1601),SUM(OFFSET(E1600,-Q1600,0):E1600),\"\"))","v":{"$error":"#NAME?"}},{"$f":"IF(ISNUMBER(L1600),SUM(OFFSET(G1600,-Q1600,0):G1600),\"\")","v":""},"",{"$f":"IF(B1600>0,'Tax Scales'!U1600-D1600,\"\")","v":""},{"$error":"#NAME?"},{"$error":"#NAME?"},{"$f":"IF(ISNUMBER(G1600),IF(G1600>0,'Tax Scales'!AQ1600,\"\"),\"\")","v":""}]
["2018-04-18",null,null,null,0,{"$f":"IF(SUM($B$7:$B1601)=0,\"\",IF(A1601<>\"\",IF(A1601<$B$3,\"N\",\"Y\"),\"\"))","v":""},0,9.49,0,null,0,{"$f":"IF(AND(ISNUMBER(A1601),NOT(ISNUMBER(A1602))),SUM(OFFSET(E1601,-Q1601,0):E1601),IF(AND(ISNUMBER(P1601),ISNUMBER(P1602),P1601  <P1602),SUM(OFFSET(E1601,-Q1601,0):E1601),\"\"))","v":{"$error":"#NAME?"}},{"$f":"IF(ISNUMBER(L1601),SUM(OFFSET(G1601,-Q1601,0):G1601),\"\")","v":""},"",{"$f":"IF(B1601>0,'Tax Scales'!U1601-D1601,\"\")","v":""},{"$error":"#NAME?"},{"$error":"#NAME?"},{"$f":"IF(ISNUMBER(G1601),IF(G1601>0,'Tax Scales'!AQ1601,\"\"),\"\")","v":""}]
["",null,null,null,"",{"$f":"IF(SUM($B$7:$B1602)=0,\"\",IF(A1602<>\"\",IF(A1602<$B$3,\"N\",\"Y\"),\"\"))","v":""},"","","",null,"",{"$f":"IF(AND(ISNUMBER(A1602),NOT(ISNUMBER(A1603))),SUM(OFFSET(E1602,-Q1602,0):E1602),IF(AND(ISNUMBER(P1602),ISNUMBER(P1603),P1602  <P1603),SUM(OFFSET(E1602,-Q1602,0):E1602),\"\"))","v":""},{"$f":"IF(ISNUMBER(L1602),SUM(OFFSET(G1602,-Q1602,0):G1602),\"\")","v":""},"",{"$f":"IF(B1602>0,'Tax Scales'!U1602-D1602,\"\")","v":""},"","",{"$f":"IF(ISNUMBER(G1602),IF(G1602>0,'Tax Scales'!AQ1602,\"\"),\"\")","v":""}]
["",null,null,null,"",{"$f":"IF(SUM($B$7:$B1603)=0,\"\",IF(A1603<>\"\",IF(A1603<$B$3,\"N\",\"Y\"),\"\"))","v":""},"","","",null,"",{"$f":"IF(AND(ISNUMBER(A1603),NOT(ISNUMBER(A1604))),SUM(OFFSET(E1603,-Q1603,0):E1603),IF(AND(ISNUMBER(P1603),ISNUMBER(P1604),P1603  <P1604),SUM(OFFSET(E1603,-Q1603,0):E1603),\"\"))","v":""},{"$f":"IF(ISNUMBER(L1603),SUM(OFFSET(G1603,-Q1603,0):G1603),\"\")","v":""},"",{"$f":"IF(B1603>0,'Tax Scales'!U1603-D1603,\"\")","v":""},"","",{"$f":"IF(ISNUMBER(G1603),IF(G1603>0,'Tax Scales'!AQ1603,\"\"),\"\")","v":""}]
["",null,null,null,"",{"$f":"IF(SUM($B$7:$B1604)=0,\"\",IF(A1604<>\"\",IF(A1604<$B$3,\"N\",\"Y\"),\"\"))","v":""},"","","",null,"",{"$f":"IF(AND(ISNUMBER(A1604),NOT(ISNUMBER(A1605))),SUM(OFFSET(E1604,-Q1604,0):E1604),IF(AND(ISNUMBER(P1604),ISNUMBER(P1605),P1604  <P1605),SUM(OFFSET(E1604,-Q1604,0):E1604),\"\"))","v":""},{"$f":"IF(ISNUMBER(L1604),SUM(OFFSET(G1604,-Q1604,0):G1604),\"\")","v":""},"",{"$f":"IF(B1604>0,'Tax Scales'!U1604-D1604,\"\")","v":""},"","",{"$f":"IF(ISNUMBER(G1604),IF(G1604>0,'Tax Scales'!AQ1604,\"\"),\"\")","v":""}]
["",null,null,null,"",{"$f":"IF(SUM($B$7:$B1605)=0,\"\",IF(A1605<>\"\",IF(A1605<$B$3,\"N\",\"Y\"),\"\"))","v":""},"","","",null,"",{"$f":"IF(AND(ISNUMBER(A1605),NOT(ISNUMBER(A1606))),SUM(OFFSET(E1605,-Q1605,0):E1605),IF(AND(ISNUMBER(P1605),ISNUMBER(P1606),P1605  <P1606),SUM(OFFSET(E1605,-Q1605,0):E1605),\"\"))","v":""},{"$f":"IF(ISNUMBER(L1605),SUM(OFFSET(G1605,-Q1605,0):G1605),\"\")","v":""},"",{"$f":"IF(B1605>0,'Tax Scales'!U1605-D1605,\"\")","v":""},"","",{"$f":"IF(ISNUMBER(G1605),IF(G1605>0,'Tax Scales'!AQ1605,\"\"),\"\")","v":""}]
["",null,null,null,"",{"$f":"IF(SUM($B$7:$B1606)=0,\"\",IF(A1606<>\"\",IF(A1606<$B$3,\"N\",\"Y\"),\"\"))","v":""},"","","",null,"",{"$f":"IF(AND(ISNUMBER(A1606),NOT(ISNUMBER(A1607))),SUM(OFFSET(E1606,-Q1606,0):E1606),IF(AND(ISNUMBER(P1606),ISNUMBER(P1607),P1606  <P1607),SUM(OFFSET(E1606,-Q1606,0):E1606),\"\"))","v":""},{"$f":"IF(ISNUMBER(L1606),SUM(OFFSET(G1606,-Q1606,0):G1606),\"\")","v":""},"",{"$f":"IF(B1606>0,'Tax Scales'!U1606-D1606,\"\")","v":""},"","",{"$f":"IF(ISNUMBER(G1606),IF(G1606>0,'Tax Scales'!AQ1606,\"\"),\"\")","v":""}]
["",null,null,null,"",{"$f":"IF(SUM($B$7:$B1607)=0,\"\",IF(A1607<>\"\",IF(A1607<$B$3,\"N\",\"Y\"),\"\"))","v":""},"","","",null,"",{"$f":"IF(AND(ISNUMBER(A1607),NOT(ISNUMBER(A1608))),SUM(OFFSET(E1607,-Q1607,0):E1607),IF(AND(ISNUMBER(P1607),ISNUMBER(P1608),P1607  <P1608),SUM(OFFSET(E1607,-Q1607,0):E1607),\"\"))","v":""},{"$f":"IF(ISNUMBER(L1607),SUM(OFFSET(G1607,-Q1607,0):G1607),\"\")","v":""},"",{"$f":"IF(B1607>0,'Tax Scales'!U1607-D1607,\"\")","v":""},"","",{"$f":"IF(ISNUMBER(G1607),IF(G1607>0,'Tax Scales'!AQ1607,\"\"),\"\")","v":""}]
["",null,null,null,"",{"$f":"IF(SUM($B$7:$B1608)=0,\"\",IF(A1608<>\"\",IF(A1608<$B$3,\"N\",\"Y\"),\"\"))","v":""},"","","",null,"",{"$f":"IF(AND(ISNUMBER(A1608),NOT(ISNUMBER(A1609))),SUM(OFFSET(E1608,-Q1608,0):E1608),IF(AND(ISNUMBER(P1608),ISNUMBER(P1609),P1608  <P1609),SUM(OFFSET(E1608,-Q1608,0):E1608),\"\"))","v":""},{"$f":"IF(ISNUMBER(L1608),SUM(OFFSET(G1608,-Q1608,0):G1608),\"\")","v":""},"",{"$f":"IF(B1608>0,'Tax Scales'!U1608-D1608,\"\")","v":""},"","",{"$f":"IF(ISNUMBER(G1608),IF(G1608>0,'Tax Scales'!AQ1608,\"\"),\"\")","v":""}]
["",null,null,null,"",{"$f":"IF(SUM($B$7:$B1609)=0,\"\",IF(A1609<>\"\",IF(A1609<$B$3,\"N\",\"Y\"),\"\"))","v":""},{"$f":"IF(F1609=\"N\",0,IF(A1609<>\"\",IF(K1609>=0,((E1609+I1608)*(1+(H1609/52)/100)-E1609-I1608),0),\"\"))","v":""},"","",null,"",{"$f":"IF(AND(ISNUMBER(A1609),NOT(ISNUMBER(A1610))),SUM(OFFSET(E1609,-Q1609,0):E1609),IF(AND(ISNUMBER(P1609),ISNUMBER(P1610),P1609  <P1610),SUM(OFFSET(E1609,-Q1609,0):E1609),\"\"))","v":""},{"$f":"IF(ISNUMBER(L1609),SUM(OFFSET(G1609,-Q1609,0):G1609),\"\")","v":""},"",{"$f":"IF(B1609>0,'Tax Scales'!U1609-D1609,\"\")","v":""},"","",{"$f":"IF(ISNUMBER(G1609),IF(G1609>0,'Tax Scales'!AQ1609,\"\"),\"\")","v":""}]
[{"$f":"IF(A1609<>\"\",IF(A1609+12<=TODAY(),+A1609+7,\"\"),\"\")","v":""},null,null,null,"",{"$f":"IF(SUM($B$7:$B1610)=0,\"\",IF(A1610<>\"\",IF(A1610<$B$3,\"N\",\"Y\"),\"\"))","v":""},"","","",null,"",{"$f":"IF(AND(ISNUMBER(A1610),NOT(ISNUMBER(A1611))),SUM(OFFSET(E1610,-Q1610,0):E1610),IF(AND(ISNUMBER(P1610),ISNUMBER(P1611),P1610  <P1611),SUM(OFFSET(E1610,-Q1610,0):E1610),\"\"))","v":""},{"$f":"IF(ISNUMBER(L1610),SUM(OFFSET(G1610,-Q1610,0):G1610),\"\")","v":""},"",{"$f":"IF(B1610>0,'Tax Scales'!U1610-D1610,\"\")","v":""},"","",{"$f":"IF(ISNUMBER(G1610),IF(G1610>0,'Tax Scales'!AQ1610,\"\"),\"\")","v":""}]
["",null,null,null,"",{"$f":"IF(SUM($B$7:$B1611)=0,\"\",IF(A1611<>\"\",IF(A1611<$B$3,\"N\",\"Y\"),\"\"))","v":""},"","","",null,"",{"$f":"IF(AND(ISNUMBER(A1611),NOT(ISNUMBER(A1612))),SUM(OFFSET(E1611,-Q1611,0):E1611),IF(AND(ISNUMBER(P1611),ISNUMBER(P1612),P1611  <P1612),SUM(OFFSET(E1611,-Q1611,0):E1611),\"\"))","v":""},{"$f":"IF(ISNUMBER(L1611),SUM(OFFSET(G1611,-Q1611,0):G1611),\"\")","v":""},"",{"$f":"IF(B1611>0,'Tax Scales'!U1611-D1611,\"\")","v":""},"","",{"$f":"IF(ISNUMBER(G1611),IF(G1611>0,'Tax Scales'!AQ1611,\"\"),\"\")","v":""}]
["",null,null,null,"",{"$f":"IF(SUM($B$7:$B1612)=0,\"\",IF(A1612<>\"\",IF(A1612<$B$3,\"N\",\"Y\"),\"\"))","v":""},"","","",null,"",{"$f":"IF(AND(ISNUMBER(A1612),NOT(ISNUMBER(A1613))),SUM(OFFSET(E1612,-Q1612,0):E1612),IF(AND(ISNUMBER(P1612),ISNUMBER(P1613),P1612  <P1613),SUM(OFFSET(E1612,-Q1612,0):E1612),\"\"))","v":""},{"$f":"IF(ISNUMBER(L1612),SUM(OFFSET(G1612,-Q1612,0):G1612),\"\")","v":""},"",{"$f":"IF(B1612>0,'Tax Scales'!U1612-D1612,\"\")","v":""},"","",{"$f":"IF(ISNUMBER(G1612),IF(G1612>0,'Tax Scales'!AQ1612,\"\"),\"\")","v":""}]
["",null,null,null,"",{"$f":"IF(SUM($B$7:$B1613)=0,\"\",IF(A1613<>\"\",IF(A1613<$B$3,\"N\",\"Y\"),\"\"))","v":""},"","","",null,"",{"$f":"IF(AND(ISNUMBER(A1613),NOT(ISNUMBER(A1614))),SUM(OFFSET(E1613,-Q1613,0):E1613),IF(AND(ISNUMBER(P1613),ISNUMBER(P1614),P1613  <P1614),SUM(OFFSET(E1613,-Q1613,0):E1613),\"\"))","v":""},{"$f":"IF(ISNUMBER(L1613),SUM(OFFSET(G1613,-Q1613,0):G1613),\"\")","v":""},"",{"$f":"IF(B1613>0,'Tax Scales'!U1613-D1613,\"\")","v":""},"","",{"$f":"IF(ISNUMBER(G1613),IF(G1613>0,'Tax Scales'!AQ1613,\"\"),\"\")","v":""}]
["",null,null,null,"",{"$f":"IF(SUM($B$7:$B1614)=0,\"\",IF(A1614<>\"\",IF(A1614<$B$3,\"N\",\"Y\"),\"\"))","v":""},"","","",null,"",{"$f":"IF(AND(ISNUMBER(A1614),NOT(ISNUMBER(A1615))),SUM(OFFSET(E1614,-Q1614,0):E1614),IF(AND(ISNUMBER(P1614),ISNUMBER(P1615),P1614  <P1615),SUM(OFFSET(E1614,-Q1614,0):E1614),\"\"))","v":""},{"$f":"IF(ISNUMBER(L1614),SUM(OFFSET(G1614,-Q1614,0):G1614),\"\")","v":""},"",{"$f":"IF(B1614>0,'Tax Scales'!U1614-D1614,\"\")","v":""},"","",{"$f":"IF(ISNUMBER(G1614),IF(G1614>0,'Tax Scales'!AQ1614,\"\"),\"\")","v":""}]
["",null,null,null,"",{"$f":"IF(SUM($B$7:$B1615)=0,\"\",IF(A1615<>\"\",IF(A1615<$B$3,\"N\",\"Y\"),\"\"))","v":""},"","","",null,"",{"$f":"IF(AND(ISNUMBER(A1615),NOT(ISNUMBER(A1616))),SUM(OFFSET(E1615,-Q1615,0):E1615),IF(AND(ISNUMBER(P1615),ISNUMBER(P1616),P1615  <P1616),SUM(OFFSET(E1615,-Q1615,0):E1615),\"\"))","v":""},{"$f":"IF(ISNUMBER(L1615),SUM(OFFSET(G1615,-Q1615,0):G1615),\"\")","v":""},"",{"$f":"IF(B1615>0,'Tax Scales'!U1615-D1615,\"\")","v":""},"","",{"$f":"IF(ISNUMBER(G1615),IF(G1615>0,'Tax Scales'!AQ1615,\"\"),\"\")","v":""}]
["",null,null,null,"",{"$f":"IF(SUM($B$7:$B1616)=0,\"\",IF(A1616<>\"\",IF(A1616<$B$3,\"N\",\"Y\"),\"\"))","v":""},"","","",null,"",{"$f":"IF(AND(ISNUMBER(A1616),NOT(ISNUMBER(A1617))),SUM(OFFSET(E1616,-Q1616,0):E1616),IF(AND(ISNUMBER(P1616),ISNUMBER(P1617),P1616  <P1617),SUM(OFFSET(E1616,-Q1616,0):E1616),\"\"))","v":""},{"$f":"IF(ISNUMBER(L1616),SUM(OFFSET(G1616,-Q1616,0):G1616),\"\")","v":""},"",{"$f":"IF(B1616>0,'Tax Scales'!U1616-D1616,\"\")","v":""},"","",{"$f":"IF(ISNUMBER(G1616),IF(G1616>0,'Tax Scales'!AQ1616,\"\"),\"\")","v":""}]
["",null,null,null,"",{"$f":"IF(SUM($B$7:$B1617)=0,\"\",IF(A1617<>\"\",IF(A1617<$B$3,\"N\",\"Y\"),\"\"))","v":""},"","","",null,"",{"$f":"IF(AND(ISNUMBER(A1617),NOT(ISNUMBER(A1618))),SUM(OFFSET(E1617,-Q1617,0):E1617),IF(AND(ISNUMBER(P1617),ISNUMBER(P1618),P1617  <P1618),SUM(OFFSET(E1617,-Q1617,0):E1617),\"\"))","v":""},{"$f":"IF(ISNUMBER(L1617),SUM(OFFSET(G1617,-Q1617,0):G1617),\"\")","v":""},"",{"$f":"IF(B1617>0,'Tax Scales'!U1617-D1617,\"\")","v":""},"","",{"$f":"IF(ISNUMBER(G1617),IF(G1617>0,'Tax Scales'!AQ1617,\"\"),\"\")","v":""}]
["",null,null,null,{"$f":"IF(A1618<>\"\",IF(B1618-C1618>=0,B1618-C1618,0),\"\")","v":""},{"$f":"IF(SUM($B$7:$B1618)=0,\"\",IF(A1618<>\"\",IF(A1618<$B$3,\"N\",\"Y\"),\"\"))","v":""},"","",{"$f":"IF(A1618<>\"\",I1617+E1618+G1618,\"\")","v":""},null,{"$f":"IF(A1618<>\"\",IF((TODAY()-A1618)/7>=0,INT((TODAY()-A1618)/7),0),\"\")","v":""},{"$f":"IF(AND(ISNUMBER(A1618),NOT(ISNUMBER(A1619))),SUM(OFFSET(E1618,-Q1618,0):E1618),IF(AND(ISNUMBER(P1618),ISNUMBER(P1619),P1618  <P1619),SUM(OFFSET(E1618,-Q1618,0):E1618),\"\"))","v":""},{"$f":"IF(ISNUMBER(L1618),SUM(OFFSET(G1618,-Q1618,0):G1618),\"\")","v":""},{"$f":"IF(B1618>0,IF(P1618  = $P$6,E1618-O1618,\"\"),\"\")","v":""},{"$f":"IF(B1618>0,'Tax Scales'!U1618-D1618,\"\")","v":""},{"$f":"IF(ISNUMBER(A1618),FinYear(A1618),\"\")","v":""},{"$f":"IF(ISNUMBER(A1618),ROUND((A1618-StartOfFinYear(P1618))/7,0),\"\")","v":""},{"$f":"IF(ISNUMBER(G1618),IF(G1618>0,'Tax Scales'!AQ1618,\"\"),\"\")","v":""}]
["",null,null,null,"",{"$f":"IF(SUM($B$7:$B1619)=0,\"\",IF(A1619<>\"\",IF(A1619<$B$3,\"N\",\"Y\"),\"\"))","v":""},"","","",null,"",{"$f":"IF(AND(ISNUMBER(A1619),NOT(ISNUMBER(A1620))),SUM(OFFSET(E1619,-Q1619,0):E1619),IF(AND(ISNUMBER(P1619),ISNUMBER(P1620),P1619  <P1620),SUM(OFFSET(E1619,-Q1619,0):E1619),\"\"))","v":""},{"$f":"IF(ISNUMBER(L1619),SUM(OFFSET(G1619,-Q1619,0):G1619),\"\")","v":""},"",{"$f":"IF(B1619>0,'Tax Scales'!U1619-D1619,\"\")","v":""},"","",{"$f":"IF(ISNUMBER(G1619),IF(G1619>0,'Tax Scales'!AQ1619,\"\"),\"\")","v":""}]
["",null,null,null,"",{"$f":"IF(SUM($B$7:$B1620)=0,\"\",IF(A1620<>\"\",IF(A1620<$B$3,\"N\",\"Y\"),\"\"))","v":""},"","","",null,"",{"$f":"IF(AND(ISNUMBER(A1620),NOT(ISNUMBER(A1621))),SUM(OFFSET(E1620,-Q1620,0):E1620),IF(AND(ISNUMBER(P1620),ISNUMBER(P1621),P1620  <P1621),SUM(OFFSET(E1620,-Q1620,0):E1620),\"\"))","v":""},{"$f":"IF(ISNUMBER(L1620),SUM(OFFSET(G1620,-Q1620,0):G1620),\"\")","v":""},"",{"$f":"IF(B1620>0,'Tax Scales'!U1620-D1620,\"\")","v":""},"","",{"$f":"IF(ISNUMBER(G1620),IF(G1620>0,'Tax Scales'!AQ1620,\"\"),\"\")","v":""}]
["",null,null,null,"",{"$f":"IF(SUM($B$7:$B1621)=0,\"\",IF(A1621<>\"\",IF(A1621<$B$3,\"N\",\"Y\"),\"\"))","v":""},"","","",null,"",{"$f":"IF(AND(ISNUMBER(A1621),NOT(ISNUMBER(A1622))),SUM(OFFSET(E1621,-Q1621,0):E1621),IF(AND(ISNUMBER(P1621),ISNUMBER(P1622),P1621  <P1622),SUM(OFFSET(E1621,-Q1621,0):E1621),\"\"))","v":""},{"$f":"IF(ISNUMBER(L1621),SUM(OFFSET(G1621,-Q1621,0):G1621),\"\")","v":""},"",{"$f":"IF(B1621>0,'Tax Scales'!U1621-D1621,\"\")","v":""},"","",{"$f":"IF(ISNUMBER(G1621),IF(G1621>0,'Tax Scales'!AQ1621,\"\"),\"\")","v":""}]
["",null,null,null,"",{"$f":"IF(SUM($B$7:$B1622)=0,\"\",IF(A1622<>\"\",IF(A1622<$B$3,\"N\",\"Y\"),\"\"))","v":""},"","","",null,"",{"$f":"IF(AND(ISNUMBER(A1622),NOT(ISNUMBER(A1623))),SUM(OFFSET(E1622,-Q1622,0):E1622),IF(AND(ISNUMBER(P1622),ISNUMBER(P1623),P1622  <P1623),SUM(OFFSET(E1622,-Q1622,0):E1622),\"\"))","v":""},{"$f":"IF(ISNUMBER(L1622),SUM(OFFSET(G1622,-Q1622,0):G1622),\"\")","v":""},"",{"$f":"IF(B1622>0,'Tax Scales'!U1622-D1622,\"\")","v":""},"","",{"$f":"IF(ISNUMBER(G1622),IF(G1622>0,'Tax Scales'!AQ1622,\"\"),\"\")","v":""}]
["",null,null,null,"",{"$f":"IF(SUM($B$7:$B1623)=0,\"\",IF(A1623<>\"\",IF(A1623<$B$3,\"N\",\"Y\"),\"\"))","v":""},"","","",null,"",{"$f":"IF(AND(ISNUMBER(A1623),NOT(ISNUMBER(A1624))),SUM(OFFSET(E1623,-Q1623,0):E1623),IF(AND(ISNUMBER(P1623),ISNUMBER(P1624),P1623  <P1624),SUM(OFFSET(E1623,-Q1623,0):E1623),\"\"))","v":""},{"$f":"IF(ISNUMBER(L1623),SUM(OFFSET(G1623,-Q1623,0):G1623),\"\")","v":""},"",{"$f":"IF(B1623>0,'Tax Scales'!U1623-D1623,\"\")","v":""},"","",{"$f":"IF(ISNUMBER(G1623),IF(G1623>0,'Tax Scales'!AQ1623,\"\"),\"\")","v":""}]
["",null,null,null,"",{"$f":"IF(SUM($B$7:$B1624)=0,\"\",IF(A1624<>\"\",IF(A1624<$B$3,\"N\",\"Y\"),\"\"))","v":""},"","","",null,"",{"$f":"IF(AND(ISNUMBER(A1624),NOT(ISNUMBER(A1625))),SUM(OFFSET(E1624,-Q1624,0):E1624),IF(AND(ISNUMBER(P1624),ISNUMBER(P1625),P1624  <P1625),SUM(OFFSET(E1624,-Q1624,0):E1624),\"\"))","v":""},{"$f":"IF(ISNUMBER(L1624),SUM(OFFSET(G1624,-Q1624,0):G1624),\"\")","v":""},"",{"$f":"IF(B1624>0,'Tax Scales'!U1624-D1624,\"\")","v":""},"","",{"$f":"IF(ISNUMBER(G1624),IF(G1624>0,'Tax Scales'!AQ1624,\"\"),\"\")","v":""}]
["",null,null,null,"",{"$f":"IF(SUM($B$7:$B1625)=0,\"\",IF(A1625<>\"\",IF(A1625<$B$3,\"N\",\"Y\"),\"\"))","v":""},"",{"$f":"IF(A1625<>\"\",9.49,\"\")","v":""},"",null,"",{"$f":"IF(AND(ISNUMBER(A1625),NOT(ISNUMBER(A1626))),SUM(OFFSET(E1625,-Q1625,0):E1625),IF(AND(ISNUMBER(P1625),ISNUMBER(P1626),P1625  <P1626),SUM(OFFSET(E1625,-Q1625,0):E1625),\"\"))","v":""},{"$f":"IF(ISNUMBER(L1625),SUM(OFFSET(G1625,-Q1625,0):G1625),\"\")","v":""},"",{"$f":"IF(B1625>0,'Tax Scales'!U1625-D1625,\"\")","v":""},"","",{"$f":"IF(ISNUMBER(G1625),IF(G1625>0,'Tax Scales'!AQ1625,\"\"),\"\")","v":""}]
["",null,null,null,"",{"$f":"IF(SUM($B$7:$B1626)=0,\"\",IF(A1626<>\"\",IF(A1626<$B$3,\"N\",\"Y\"),\"\"))","v":""},"","","",null,"",{"$f":"IF(AND(ISNUMBER(A1626),NOT(ISNUMBER(A1627))),SUM(OFFSET(E1626,-Q1626,0):E1626),IF(AND(ISNUMBER(P1626),ISNUMBER(P1627),P1626  <P1627),SUM(OFFSET(E1626,-Q1626,0):E1626),\"\"))","v":""},{"$f":"IF(ISNUMBER(L1626),SUM(OFFSET(G1626,-Q1626,0):G1626),\"\")","v":""},"",{"$f":"IF(B1626>0,'Tax Scales'!U1626-D1626,\"\")","v":""},"","",{"$f":"IF(ISNUMBER(G1626),IF(G1626>0,'Tax Scales'!AQ1626,\"\"),\"\")","v":""}]
["",null,null,null,"",{"$f":"IF(SUM($B$7:$B1627)=0,\"\",IF(A1627<>\"\",IF(A1627<$B$3,\"N\",\"Y\"),\"\"))","v":""},"","","",null,"",{"$f":"IF(AND(ISNUMBER(A1627),NOT(ISNUMBER(A1628))),SUM(OFFSET(E1627,-Q1627,0):E1627),IF(AND(ISNUMBER(P1627),ISNUMBER(P1628),P1627  <P1628),SUM(OFFSET(E1627,-Q1627,0):E1627),\"\"))","v":""},{"$f":"IF(ISNUMBER(L1627),SUM(OFFSET(G1627,-Q1627,0):G1627),\"\")","v":""},"",{"$f":"IF(B1627>0,'Tax Scales'!U1627-D1627,\"\")","v":""},"","",{"$f":"IF(ISNUMBER(G1627),IF(G1627>0,'Tax Scales'!AQ1627,\"\"),\"\")","v":""}]
["",null,null,null,"",{"$f":"IF(SUM($B$7:$B1628)=0,\"\",IF(A1628<>\"\",IF(A1628<$B$3,\"N\",\"Y\"),\"\"))","v":""},"","","",null,"",{"$f":"IF(AND(ISNUMBER(A1628),NOT(ISNUMBER(A1629))),SUM(OFFSET(E1628,-Q1628,0):E1628),IF(AND(ISNUMBER(P1628),ISNUMBER(P1629),P1628  <P1629),SUM(OFFSET(E1628,-Q1628,0):E1628),\"\"))","v":""},{"$f":"IF(ISNUMBER(L1628),SUM(OFFSET(G1628,-Q1628,0):G1628),\"\")","v":""},"",{"$f":"IF(B1628>0,'Tax Scales'!U1628-D1628,\"\")","v":""},"","",{"$f":"IF(ISNUMBER(G1628),IF(G1628>0,'Tax Scales'!AQ1628,\"\"),\"\")","v":""}]
["",null,null,null,"",{"$f":"IF(SUM($B$7:$B1629)=0,\"\",IF(A1629<>\"\",IF(A1629<$B$3,\"N\",\"Y\"),\"\"))","v":""},"","","",null,"",{"$f":"IF(AND(ISNUMBER(A1629),NOT(ISNUMBER(A1630))),SUM(OFFSET(E1629,-Q1629,0):E1629),IF(AND(ISNUMBER(P1629),ISNUMBER(P1630),P1629  <P1630),SUM(OFFSET(E1629,-Q1629,0):E1629),\"\"))","v":""},{"$f":"IF(ISNUMBER(L1629),SUM(OFFSET(G1629,-Q1629,0):G1629),\"\")","v":""},"",{"$f":"IF(B1629>0,'Tax Scales'!U1629-D1629,\"\")","v":""},"","",{"$f":"IF(ISNUMBER(G1629),IF(G1629>0,'Tax Scales'!AQ1629,\"\"),\"\")","v":""}]
["",null,null,null,"",{"$f":"IF(SUM($B$7:$B1630)=0,\"\",IF(A1630<>\"\",IF(A1630<$B$3,\"N\",\"Y\"),\"\"))","v":""},"","","",null,"",{"$f":"IF(AND(ISNUMBER(A1630),NOT(ISNUMBER(A1631))),SUM(OFFSET(E1630,-Q1630,0):E1630),IF(AND(ISNUMBER(P1630),ISNUMBER(P1631),P1630  <P1631),SUM(OFFSET(E1630,-Q1630,0):E1630),\"\"))","v":""},{"$f":"IF(ISNUMBER(L1630),SUM(OFFSET(G1630,-Q1630,0):G1630),\"\")","v":""},"",{"$f":"IF(B1630>0,'Tax Scales'!U1630-D1630,\"\")","v":""},"","",{"$f":"IF(ISNUMBER(G1630),IF(G1630>0,'Tax Scales'!AQ1630,\"\"),\"\")","v":""}]
["",null,null,null,"",{"$f":"IF(SUM($B$7:$B1631)=0,\"\",IF(A1631<>\"\",IF(A1631<$B$3,\"N\",\"Y\"),\"\"))","v":""},"","","",null,"",{"$f":"IF(AND(ISNUMBER(A1631),NOT(ISNUMBER(A1632))),SUM(OFFSET(E1631,-Q1631,0):E1631),IF(AND(ISNUMBER(P1631),ISNUMBER(P1632),P1631  <P1632),SUM(OFFSET(E1631,-Q1631,0):E1631),\"\"))","v":""},{"$f":"IF(ISNUMBER(L1631),SUM(OFFSET(G1631,-Q1631,0):G1631),\"\")","v":""},"",{"$f":"IF(B1631>0,'Tax Scales'!U1631-D1631,\"\")","v":""},"","",{"$f":"IF(ISNUMBER(G1631),IF(G1631>0,'Tax Scales'!AQ1631,\"\"),\"\")","v":""}]
["",null,null,null,"",{"$f":"IF(SUM($B$7:$B1632)=0,\"\",IF(A1632<>\"\",IF(A1632<$B$3,\"N\",\"Y\"),\"\"))","v":""},"","","",null,"",{"$f":"IF(AND(ISNUMBER(A1632),NOT(ISNUMBER(A1633))),SUM(OFFSET(E1632,-Q1632,0):E1632),IF(AND(ISNUMBER(P1632),ISNUMBER(P1633),P1632  <P1633),SUM(OFFSET(E1632,-Q1632,0):E1632),\"\"))","v":""},{"$f":"IF(ISNUMBER(L1632),SUM(OFFSET(G1632,-Q1632,0):G1632),\"\")","v":""},"",{"$f":"IF(B1632>0,'Tax Scales'!U1632-D1632,\"\")","v":""},"","",{"$f":"IF(ISNUMBER(G1632),IF(G1632>0,'Tax Scales'!AQ1632,\"\"),\"\")","v":""}]
["",null,null,null,"",{"$f":"IF(SUM($B$7:$B1633)=0,\"\",IF(A1633<>\"\",IF(A1633<$B$3,\"N\",\"Y\"),\"\"))","v":""},"","","",null,"",{"$f":"IF(AND(ISNUMBER(A1633),NOT(ISNUMBER(A1634))),SUM(OFFSET(E1633,-Q1633,0):E1633),IF(AND(ISNUMBER(P1633),ISNUMBER(P1634),P1633  <P1634),SUM(OFFSET(E1633,-Q1633,0):E1633),\"\"))","v":""},{"$f":"IF(ISNUMBER(L1633),SUM(OFFSET(G1633,-Q1633,0):G1633),\"\")","v":""},"",{"$f":"IF(B1633>0,'Tax Scales'!U1633-D1633,\"\")","v":""},"","",{"$f":"IF(ISNUMBER(G1633),IF(G1633>0,'Tax Scales'!AQ1633,\"\"),\"\")","v":""}]
["",null,null,null,"",{"$f":"IF(SUM($B$7:$B1634)=0,\"\",IF(A1634<>\"\",IF(A1634<$B$3,\"N\",\"Y\"),\"\"))","v":""},"","","",null,"",{"$f":"IF(AND(ISNUMBER(A1634),NOT(ISNUMBER(A1635))),SUM(OFFSET(E1634,-Q1634,0):E1634),IF(AND(ISNUMBER(P1634),ISNUMBER(P1635),P1634  <P1635),SUM(OFFSET(E1634,-Q1634,0):E1634),\"\"))","v":""},{"$f":"IF(ISNUMBER(L1634),SUM(OFFSET(G1634,-Q1634,0):G1634),\"\")","v":""},"",{"$f":"IF(B1634>0,'Tax Scales'!U1634-D1634,\"\")","v":""},"","",{"$f":"IF(ISNUMBER(G1634),IF(G1634>0,'Tax Scales'!AQ1634,\"\"),\"\")","v":""}]
["",null,null,null,"",{"$f":"IF(SUM($B$7:$B1635)=0,\"\",IF(A1635<>\"\",IF(A1635<$B$3,\"N\",\"Y\"),\"\"))","v":""},"","","",null,"",{"$f":"IF(AND(ISNUMBER(A1635),NOT(ISNUMBER(A1636))),SUM(OFFSET(E1635,-Q1635,0):E1635),IF(AND(ISNUMBER(P1635),ISNUMBER(P1636),P1635  <P1636),SUM(OFFSET(E1635,-Q1635,0):E1635),\"\"))","v":""},{"$f":"IF(ISNUMBER(L1635),SUM(OFFSET(G1635,-Q1635,0):G1635),\"\")","v":""},"",{"$f":"IF(B1635>0,'Tax Scales'!U1635-D1635,\"\")","v":""},"","",{"$f":"IF(ISNUMBER(G1635),IF(G1635>0,'Tax Scales'!AQ1635,\"\"),\"\")","v":""}]
["",null,null,null,"",{"$f":"IF(SUM($B$7:$B1636)=0,\"\",IF(A1636<>\"\",IF(A1636<$B$3,\"N\",\"Y\"),\"\"))","v":""},"","","",null,"",{"$f":"IF(AND(ISNUMBER(A1636),NOT(ISNUMBER(A1637))),SUM(OFFSET(E1636,-Q1636,0):E1636),IF(AND(ISNUMBER(P1636),ISNUMBER(P1637),P1636  <P1637),SUM(OFFSET(E1636,-Q1636,0):E1636),\"\"))","v":""},{"$f":"IF(ISNUMBER(L1636),SUM(OFFSET(G1636,-Q1636,0):G1636),\"\")","v":""},"",{"$f":"IF(B1636>0,'Tax Scales'!U1636-D1636,\"\")","v":""},"","",{"$f":"IF(ISNUMBER(G1636),IF(G1636>0,'Tax Scales'!AQ1636,\"\"),\"\")","v":""}]
["",null,null,null,"",{"$f":"IF(SUM($B$7:$B1637)=0,\"\",IF(A1637<>\"\",IF(A1637<$B$3,\"N\",\"Y\"),\"\"))","v":""},"","","",null,"",{"$f":"IF(AND(ISNUMBER(A1637),NOT(ISNUMBER(A1638))),SUM(OFFSET(E1637,-Q1637,0):E1637),IF(AND(ISNUMBER(P1637),ISNUMBER(P1638),P1637  <P1638),SUM(OFFSET(E1637,-Q1637,0):E1637),\"\"))","v":""},{"$f":"IF(ISNUMBER(L1637),SUM(OFFSET(G1637,-Q1637,0):G1637),\"\")","v":""},"",{"$f":"IF(B1637>0,'Tax Scales'!U1637-D1637,\"\")","v":""},"","",{"$f":"IF(ISNUMBER(G1637),IF(G1637>0,'Tax Scales'!AQ1637,\"\"),\"\")","v":""}]
["",null,null,null,"",{"$f":"IF(SUM($B$7:$B1638)=0,\"\",IF(A1638<>\"\",IF(A1638<$B$3,\"N\",\"Y\"),\"\"))","v":""},"","","",null,"",{"$f":"IF(AND(ISNUMBER(A1638),NOT(ISNUMBER(A1639))),SUM(OFFSET(E1638,-Q1638,0):E1638),IF(AND(ISNUMBER(P1638),ISNUMBER(P1639),P1638  <P1639),SUM(OFFSET(E1638,-Q1638,0):E1638),\"\"))","v":""},{"$f":"IF(ISNUMBER(L1638),SUM(OFFSET(G1638,-Q1638,0):G1638),\"\")","v":""},"",{"$f":"IF(B1638>0,'Tax Scales'!U1638-D1638,\"\")","v":""},"","",{"$f":"IF(ISNUMBER(G1638),IF(G1638>0,'Tax Scales'!AQ1638,\"\"),\"\")","v":""}]
["",null,null,null,"",{"$f":"IF(SUM($B$7:$B1639)=0,\"\",IF(A1639<>\"\",IF(A1639<$B$3,\"N\",\"Y\"),\"\"))","v":""},"","","",null,"",{"$f":"IF(AND(ISNUMBER(A1639),NOT(ISNUMBER(A1640))),SUM(OFFSET(E1639,-Q1639,0):E1639),IF(AND(ISNUMBER(P1639),ISNUMBER(P1640),P1639  <P1640),SUM(OFFSET(E1639,-Q1639,0):E1639),\"\"))","v":""},{"$f":"IF(ISNUMBER(L1639),SUM(OFFSET(G1639,-Q1639,0):G1639),\"\")","v":""},"",{"$f":"IF(B1639>0,'Tax Scales'!U1639-D1639,\"\")","v":""},"","",{"$f":"IF(ISNUMBER(G1639),IF(G1639>0,'Tax Scales'!AQ1639,\"\"),\"\")","v":""}]
["",null,null,null,"",{"$f":"IF(SUM($B$7:$B1640)=0,\"\",IF(A1640<>\"\",IF(A1640<$B$3,\"N\",\"Y\"),\"\"))","v":""},"","","",null,"",{"$f":"IF(AND(ISNUMBER(A1640),NOT(ISNUMBER(A1641))),SUM(OFFSET(E1640,-Q1640,0):E1640),IF(AND(ISNUMBER(P1640),ISNUMBER(P1641),P1640  <P1641),SUM(OFFSET(E1640,-Q1640,0):E1640),\"\"))","v":""},{"$f":"IF(ISNUMBER(L1640),SUM(OFFSET(G1640,-Q1640,0):G1640),\"\")","v":""},"",{"$f":"IF(B1640>0,'Tax Scales'!U1640-D1640,\"\")","v":""},"","",{"$f":"IF(ISNUMBER(G1640),IF(G1640>0,'Tax Scales'!AQ1640,\"\"),\"\")","v":""}]
["",null,null,null,"",{"$f":"IF(SUM($B$7:$B1641)=0,\"\",IF(A1641<>\"\",IF(A1641<$B$3,\"N\",\"Y\"),\"\"))","v":""},"","","",null,"",{"$f":"IF(AND(ISNUMBER(A1641),NOT(ISNUMBER(A1642))),SUM(OFFSET(E1641,-Q1641,0):E1641),IF(AND(ISNUMBER(P1641),ISNUMBER(P1642),P1641  <P1642),SUM(OFFSET(E1641,-Q1641,0):E1641),\"\"))","v":""},{"$f":"IF(ISNUMBER(L1641),SUM(OFFSET(G1641,-Q1641,0):G1641),\"\")","v":""},"",{"$f":"IF(B1641>0,'Tax Scales'!U1641-D1641,\"\")","v":""},"","",{"$f":"IF(ISNUMBER(G1641),IF(G1641>0,'Tax Scales'!AQ1641,\"\"),\"\")","v":""}]
["",null,null,null,"",{"$f":"IF(SUM($B$7:$B1642)=0,\"\",IF(A1642<>\"\",IF(A1642<$B$3,\"N\",\"Y\"),\"\"))","v":""},"","","",null,"",{"$f":"IF(AND(ISNUMBER(A1642),NOT(ISNUMBER(A1643))),SUM(OFFSET(E1642,-Q1642,0):E1642),IF(AND(ISNUMBER(P1642),ISNUMBER(P1643),P1642  <P1643),SUM(OFFSET(E1642,-Q1642,0):E1642),\"\"))","v":""},{"$f":"IF(ISNUMBER(L1642),SUM(OFFSET(G1642,-Q1642,0):G1642),\"\")","v":""},"",{"$f":"IF(B1642>0,'Tax Scales'!U1642-D1642,\"\")","v":""},"","",{"$f":"IF(ISNUMBER(G1642),IF(G1642>0,'Tax Scales'!AQ1642,\"\"),\"\")","v":""}]
["",null,null,null,"",{"$f":"IF(SUM($B$7:$B1643)=0,\"\",IF(A1643<>\"\",IF(A1643<$B$3,\"N\",\"Y\"),\"\"))","v":""},"","","",null,"",{"$f":"IF(AND(ISNUMBER(A1643),NOT(ISNUMBER(A1644))),SUM(OFFSET(E1643,-Q1643,0):E1643),IF(AND(ISNUMBER(P1643),ISNUMBER(P1644),P1643  <P1644),SUM(OFFSET(E1643,-Q1643,0):E1643),\"\"))","v":""},{"$f":"IF(ISNUMBER(L1643),SUM(OFFSET(G1643,-Q1643,0):G1643),\"\")","v":""},"",{"$f":"IF(B1643>0,'Tax Scales'!U1643-D1643,\"\")","v":""},"","",{"$f":"IF(ISNUMBER(G1643),IF(G1643>0,'Tax Scales'!AQ1643,\"\"),\"\")","v":""}]
["",null,null,null,"",{"$f":"IF(SUM($B$7:$B1644)=0,\"\",IF(A1644<>\"\",IF(A1644<$B$3,\"N\",\"Y\"),\"\"))","v":""},"","","",null,"",{"$f":"IF(AND(ISNUMBER(A1644),NOT(ISNUMBER(A1645))),SUM(OFFSET(E1644,-Q1644,0):E1644),IF(AND(ISNUMBER(P1644),ISNUMBER(P1645),P1644  <P1645),SUM(OFFSET(E1644,-Q1644,0):E1644),\"\"))","v":""},{"$f":"IF(ISNUMBER(L1644),SUM(OFFSET(G1644,-Q1644,0):G1644),\"\")","v":""},"",{"$f":"IF(B1644>0,'Tax Scales'!U1644-D1644,\"\")","v":""},"","",{"$f":"IF(ISNUMBER(G1644),IF(G1644>0,'Tax Scales'!AQ1644,\"\"),\"\")","v":""}]
["",null,null,null,"",{"$f":"IF(SUM($B$7:$B1645)=0,\"\",IF(A1645<>\"\",IF(A1645<$B$3,\"N\",\"Y\"),\"\"))","v":""},"","","",null,"",{"$f":"IF(AND(ISNUMBER(A1645),NOT(ISNUMBER(A1646))),SUM(OFFSET(E1645,-Q1645,0):E1645),IF(AND(ISNUMBER(P1645),ISNUMBER(P1646),P1645  <P1646),SUM(OFFSET(E1645,-Q1645,0):E1645),\"\"))","v":""},{"$f":"IF(ISNUMBER(L1645),SUM(OFFSET(G1645,-Q1645,0):G1645),\"\")","v":""},"",{"$f":"IF(B1645>0,'Tax Scales'!U1645-D1645,\"\")","v":""},"","",{"$f":"IF(ISNUMBER(G1645),IF(G1645>0,'Tax Scales'!AQ1645,\"\"),\"\")","v":""}]
["",null,null,null,"",{"$f":"IF(SUM($B$7:$B1646)=0,\"\",IF(A1646<>\"\",IF(A1646<$B$3,\"N\",\"Y\"),\"\"))","v":""},"","","",null,"",{"$f":"IF(AND(ISNUMBER(A1646),NOT(ISNUMBER(A1647))),SUM(OFFSET(E1646,-Q1646,0):E1646),IF(AND(ISNUMBER(P1646),ISNUMBER(P1647),P1646  <P1647),SUM(OFFSET(E1646,-Q1646,0):E1646),\"\"))","v":""},{"$f":"IF(ISNUMBER(L1646),SUM(OFFSET(G1646,-Q1646,0):G1646),\"\")","v":""},"",{"$f":"IF(B1646>0,'Tax Scales'!U1646-D1646,\"\")","v":""},"","",{"$f":"IF(ISNUMBER(G1646),IF(G1646>0,'Tax Scales'!AQ1646,\"\"),\"\")","v":""}]
["",null,null,null,"",{"$f":"IF(SUM($B$7:$B1647)=0,\"\",IF(A1647<>\"\",IF(A1647<$B$3,\"N\",\"Y\"),\"\"))","v":""},"","","",null,"",{"$f":"IF(AND(ISNUMBER(A1647),NOT(ISNUMBER(A1648))),SUM(OFFSET(E1647,-Q1647,0):E1647),IF(AND(ISNUMBER(P1647),ISNUMBER(P1648),P1647  <P1648),SUM(OFFSET(E1647,-Q1647,0):E1647),\"\"))","v":""},{"$f":"IF(ISNUMBER(L1647),SUM(OFFSET(G1647,-Q1647,0):G1647),\"\")","v":""},"",{"$f":"IF(B1647>0,'Tax Scales'!U1647-D1647,\"\")","v":""},"","",{"$f":"IF(ISNUMBER(G1647),IF(G1647>0,'Tax Scales'!AQ1647,\"\"),\"\")","v":""}]
["",null,null,null,"",{"$f":"IF(SUM($B$7:$B1648)=0,\"\",IF(A1648<>\"\",IF(A1648<$B$3,\"N\",\"Y\"),\"\"))","v":""},"","","",null,"",{"$f":"IF(AND(ISNUMBER(A1648),NOT(ISNUMBER(A1649))),SUM(OFFSET(E1648,-Q1648,0):E1648),IF(AND(ISNUMBER(P1648),ISNUMBER(P1649),P1648  <P1649),SUM(OFFSET(E1648,-Q1648,0):E1648),\"\"))","v":""},{"$f":"IF(ISNUMBER(L1648),SUM(OFFSET(G1648,-Q1648,0):G1648),\"\")","v":""},"",{"$f":"IF(B1648>0,'Tax Scales'!U1648-D1648,\"\")","v":""},"","",{"$f":"IF(ISNUMBER(G1648),IF(G1648>0,'Tax Scales'!AQ1648,\"\"),\"\")","v":""}]
["",null,null,null,"",{"$f":"IF(SUM($B$7:$B1649)=0,\"\",IF(A1649<>\"\",IF(A1649<$B$3,\"N\",\"Y\"),\"\"))","v":""},"","","",null,"",{"$f":"IF(AND(ISNUMBER(A1649),NOT(ISNUMBER(A1650))),SUM(OFFSET(E1649,-Q1649,0):E1649),IF(AND(ISNUMBER(P1649),ISNUMBER(P1650),P1649  <P1650),SUM(OFFSET(E1649,-Q1649,0):E1649),\"\"))","v":""},{"$f":"IF(ISNUMBER(L1649),SUM(OFFSET(G1649,-Q1649,0):G1649),\"\")","v":""},"",{"$f":"IF(B1649>0,'Tax Scales'!U1649-D1649,\"\")","v":""},"","",{"$f":"IF(ISNUMBER(G1649),IF(G1649>0,'Tax Scales'!AQ1649,\"\"),\"\")","v":""}]
["",null,null,null,"",{"$f":"IF(SUM($B$7:$B1650)=0,\"\",IF(A1650<>\"\",IF(A1650<$B$3,\"N\",\"Y\"),\"\"))","v":""},"","","",null,"",{"$f":"IF(AND(ISNUMBER(A1650),NOT(ISNUMBER(A1651))),SUM(OFFSET(E1650,-Q1650,0):E1650),IF(AND(ISNUMBER(P1650),ISNUMBER(P1651),P1650  <P1651),SUM(OFFSET(E1650,-Q1650,0):E1650),\"\"))","v":""},{"$f":"IF(ISNUMBER(L1650),SUM(OFFSET(G1650,-Q1650,0):G1650),\"\")","v":""},"",{"$f":"IF(B1650>0,'Tax Scales'!U1650-D1650,\"\")","v":""},"","",{"$f":"IF(ISNUMBER(G1650),IF(G1650>0,'Tax Scales'!AQ1650,\"\"),\"\")","v":""}]
["",null,null,null,"",{"$f":"IF(SUM($B$7:$B1651)=0,\"\",IF(A1651<>\"\",IF(A1651<$B$3,\"N\",\"Y\"),\"\"))","v":""},"","","",null,"",{"$f":"IF(AND(ISNUMBER(A1651),NOT(ISNUMBER(A1652))),SUM(OFFSET(E1651,-Q1651,0):E1651),IF(AND(ISNUMBER(P1651),ISNUMBER(P1652),P1651  <P1652),SUM(OFFSET(E1651,-Q1651,0):E1651),\"\"))","v":""},{"$f":"IF(ISNUMBER(L1651),SUM(OFFSET(G1651,-Q1651,0):G1651),\"\")","v":""},"",{"$f":"IF(B1651>0,'Tax Scales'!U1651-D1651,\"\")","v":""},"","",{"$f":"IF(ISNUMBER(G1651),IF(G1651>0,'Tax Scales'!AQ1651,\"\"),\"\")","v":""}]
["",null,null,null,"",{"$f":"IF(SUM($B$7:$B1652)=0,\"\",IF(A1652<>\"\",IF(A1652<$B$3,\"N\",\"Y\"),\"\"))","v":""},"","","",null,"",{"$f":"IF(AND(ISNUMBER(A1652),NOT(ISNUMBER(A1653))),SUM(OFFSET(E1652,-Q1652,0):E1652),IF(AND(ISNUMBER(P1652),ISNUMBER(P1653),P1652  <P1653),SUM(OFFSET(E1652,-Q1652,0):E1652),\"\"))","v":""},{"$f":"IF(ISNUMBER(L1652),SUM(OFFSET(G1652,-Q1652,0):G1652),\"\")","v":""},"",{"$f":"IF(B1652>0,'Tax Scales'!U1652-D1652,\"\")","v":""},"","",{"$f":"IF(ISNUMBER(G1652),IF(G1652>0,'Tax Scales'!AQ1652,\"\"),\"\")","v":""}]
["",null,null,null,"",{"$f":"IF(SUM($B$7:$B1653)=0,\"\",IF(A1653<>\"\",IF(A1653<$B$3,\"N\",\"Y\"),\"\"))","v":""},"","","",null,"",{"$f":"IF(AND(ISNUMBER(A1653),NOT(ISNUMBER(A1654))),SUM(OFFSET(E1653,-Q1653,0):E1653),IF(AND(ISNUMBER(P1653),ISNUMBER(P1654),P1653  <P1654),SUM(OFFSET(E1653,-Q1653,0):E1653),\"\"))","v":""},{"$f":"IF(ISNUMBER(L1653),SUM(OFFSET(G1653,-Q1653,0):G1653),\"\")","v":""},"",{"$f":"IF(B1653>0,'Tax Scales'!U1653-D1653,\"\")","v":""},"","",{"$f":"IF(ISNUMBER(G1653),IF(G1653>0,'Tax Scales'!AQ1653,\"\"),\"\")","v":""}]
["",null,null,null,"",{"$f":"IF(SUM($B$7:$B1654)=0,\"\",IF(A1654<>\"\",IF(A1654<$B$3,\"N\",\"Y\"),\"\"))","v":""},"","","",null,"",{"$f":"IF(AND(ISNUMBER(A1654),NOT(ISNUMBER(A1655))),SUM(OFFSET(E1654,-Q1654,0):E1654),IF(AND(ISNUMBER(P1654),ISNUMBER(P1655),P1654  <P1655),SUM(OFFSET(E1654,-Q1654,0):E1654),\"\"))","v":""},{"$f":"IF(ISNUMBER(L1654),SUM(OFFSET(G1654,-Q1654,0):G1654),\"\")","v":""},"",{"$f":"IF(B1654>0,'Tax Scales'!U1654-D1654,\"\")","v":""},"","",{"$f":"IF(ISNUMBER(G1654),IF(G1654>0,'Tax Scales'!AQ1654,\"\"),\"\")","v":""}]
["",null,null,null,"",{"$f":"IF(SUM($B$7:$B1655)=0,\"\",IF(A1655<>\"\",IF(A1655<$B$3,\"N\",\"Y\"),\"\"))","v":""},"","","",null,"",{"$f":"IF(AND(ISNUMBER(A1655),NOT(ISNUMBER(A1656))),SUM(OFFSET(E1655,-Q1655,0):E1655),IF(AND(ISNUMBER(P1655),ISNUMBER(P1656),P1655  <P1656),SUM(OFFSET(E1655,-Q1655,0):E1655),\"\"))","v":""},{"$f":"IF(ISNUMBER(L1655),SUM(OFFSET(G1655,-Q1655,0):G1655),\"\")","v":""},"",{"$f":"IF(B1655>0,'Tax Scales'!U1655-D1655,\"\")","v":""},"","",{"$f":"IF(ISNUMBER(G1655),IF(G1655>0,'Tax Scales'!AQ1655,\"\"),\"\")","v":""}]
["",null,null,null,"",{"$f":"IF(SUM($B$7:$B1656)=0,\"\",IF(A1656<>\"\",IF(A1656<$B$3,\"N\",\"Y\"),\"\"))","v":""},"","","",null,"",{"$f":"IF(AND(ISNUMBER(A1656),NOT(ISNUMBER(A1657))),SUM(OFFSET(E1656,-Q1656,0):E1656),IF(AND(ISNUMBER(P1656),ISNUMBER(P1657),P1656  <P1657),SUM(OFFSET(E1656,-Q1656,0):E1656),\"\"))","v":""},{"$f":"IF(ISNUMBER(L1656),SUM(OFFSET(G1656,-Q1656,0):G1656),\"\")","v":""},"",{"$f":"IF(B1656>0,'Tax Scales'!U1656-D1656,\"\")","v":""},"","",{"$f":"IF(ISNUMBER(G1656),IF(G1656>0,'Tax Scales'!AQ1656,\"\"),\"\")","v":""}]
["",null,null,null,"",{"$f":"IF(SUM($B$7:$B1657)=0,\"\",IF(A1657<>\"\",IF(A1657<$B$3,\"N\",\"Y\"),\"\"))","v":""},"","","",null,"",{"$f":"IF(AND(ISNUMBER(A1657),NOT(ISNUMBER(A1658))),SUM(OFFSET(E1657,-Q1657,0):E1657),IF(AND(ISNUMBER(P1657),ISNUMBER(P1658),P1657  <P1658),SUM(OFFSET(E1657,-Q1657,0):E1657),\"\"))","v":""},{"$f":"IF(ISNUMBER(L1657),SUM(OFFSET(G1657,-Q1657,0):G1657),\"\")","v":""},"",{"$f":"IF(B1657>0,'Tax Scales'!U1657-D1657,\"\")","v":""},"","",{"$f":"IF(ISNUMBER(G1657),IF(G1657>0,'Tax Scales'!AQ1657,\"\"),\"\")","v":""}]
["",null,null,null,"",{"$f":"IF(SUM($B$7:$B1658)=0,\"\",IF(A1658<>\"\",IF(A1658<$B$3,\"N\",\"Y\"),\"\"))","v":""},"","","",null,"",{"$f":"IF(AND(ISNUMBER(A1658),NOT(ISNUMBER(A1659))),SUM(OFFSET(E1658,-Q1658,0):E1658),IF(AND(ISNUMBER(P1658),ISNUMBER(P1659),P1658  <P1659),SUM(OFFSET(E1658,-Q1658,0):E1658),\"\"))","v":""},{"$f":"IF(ISNUMBER(L1658),SUM(OFFSET(G1658,-Q1658,0):G1658),\"\")","v":""},"",{"$f":"IF(B1658>0,'Tax Scales'!U1658-D1658,\"\")","v":""},"","",{"$f":"IF(ISNUMBER(G1658),IF(G1658>0,'Tax Scales'!AQ1658,\"\"),\"\")","v":""}]
["",null,null,null,"",{"$f":"IF(SUM($B$7:$B1659)=0,\"\",IF(A1659<>\"\",IF(A1659<$B$3,\"N\",\"Y\"),\"\"))","v":""},"","","",null,"",{"$f":"IF(AND(ISNUMBER(A1659),NOT(ISNUMBER(A1660))),SUM(OFFSET(E1659,-Q1659,0):E1659),IF(AND(ISNUMBER(P1659),ISNUMBER(P1660),P1659  <P1660),SUM(OFFSET(E1659,-Q1659,0):E1659),\"\"))","v":""},{"$f":"IF(ISNUMBER(L1659),SUM(OFFSET(G1659,-Q1659,0):G1659),\"\")","v":""},"",{"$f":"IF(B1659>0,'Tax Scales'!U1659-D1659,\"\")","v":""},"","",{"$f":"IF(ISNUMBER(G1659),IF(G1659>0,'Tax Scales'!AQ1659,\"\"),\"\")","v":""}]
["",null,null,null,"",{"$f":"IF(SUM($B$7:$B1660)=0,\"\",IF(A1660<>\"\",IF(A1660<$B$3,\"N\",\"Y\"),\"\"))","v":""},"","","",null,"",{"$f":"IF(AND(ISNUMBER(A1660),NOT(ISNUMBER(A1661))),SUM(OFFSET(E1660,-Q1660,0):E1660),IF(AND(ISNUMBER(P1660),ISNUMBER(P1661),P1660  <P1661),SUM(OFFSET(E1660,-Q1660,0):E1660),\"\"))","v":""},{"$f":"IF(ISNUMBER(L1660),SUM(OFFSET(G1660,-Q1660,0):G1660),\"\")","v":""},"",{"$f":"IF(B1660>0,'Tax Scales'!U1660-D1660,\"\")","v":""},"","",{"$f":"IF(ISNUMBER(G1660),IF(G1660>0,'Tax Scales'!AQ1660,\"\"),\"\")","v":""}]
["",null,null,null,"",{"$f":"IF(SUM($B$7:$B1661)=0,\"\",IF(A1661<>\"\",IF(A1661<$B$3,\"N\",\"Y\"),\"\"))","v":""},"","","",null,"",{"$f":"IF(AND(ISNUMBER(A1661),NOT(ISNUMBER(A1662))),SUM(OFFSET(E1661,-Q1661,0):E1661),IF(AND(ISNUMBER(P1661),ISNUMBER(P1662),P1661  <P1662),SUM(OFFSET(E1661,-Q1661,0):E1661),\"\"))","v":""},{"$f":"IF(ISNUMBER(L1661),SUM(OFFSET(G1661,-Q1661,0):G1661),\"\")","v":""},"",{"$f":"IF(B1661>0,'Tax Scales'!U1661-D1661,\"\")","v":""},"","",{"$f":"IF(ISNUMBER(G1661),IF(G1661>0,'Tax Scales'!AQ1661,\"\"),\"\")","v":""}]
["",null,null,null,"",{"$f":"IF(SUM($B$7:$B1662)=0,\"\",IF(A1662<>\"\",IF(A1662<$B$3,\"N\",\"Y\"),\"\"))","v":""},"","","",null,"",{"$f":"IF(AND(ISNUMBER(A1662),NOT(ISNUMBER(A1663))),SUM(OFFSET(E1662,-Q1662,0):E1662),IF(AND(ISNUMBER(P1662),ISNUMBER(P1663),P1662  <P1663),SUM(OFFSET(E1662,-Q1662,0):E1662),\"\"))","v":""},{"$f":"IF(ISNUMBER(L1662),SUM(OFFSET(G1662,-Q1662,0):G1662),\"\")","v":""},"",{"$f":"IF(B1662>0,'Tax Scales'!U1662-D1662,\"\")","v":""},"","",{"$f":"IF(ISNUMBER(G1662),IF(G1662>0,'Tax Scales'!AQ1662,\"\"),\"\")","v":""}]
["",null,null,null,"",{"$f":"IF(SUM($B$7:$B1663)=0,\"\",IF(A1663<>\"\",IF(A1663<$B$3,\"N\",\"Y\"),\"\"))","v":""},"","","",null,"",{"$f":"IF(AND(ISNUMBER(A1663),NOT(ISNUMBER(A1664))),SUM(OFFSET(E1663,-Q1663,0):E1663),IF(AND(ISNUMBER(P1663),ISNUMBER(P1664),P1663  <P1664),SUM(OFFSET(E1663,-Q1663,0):E1663),\"\"))","v":""},{"$f":"IF(ISNUMBER(L1663),SUM(OFFSET(G1663,-Q1663,0):G1663),\"\")","v":""},"",{"$f":"IF(B1663>0,'Tax Scales'!U1663-D1663,\"\")","v":""},"","",{"$f":"IF(ISNUMBER(G1663),IF(G1663>0,'Tax Scales'!AQ1663,\"\"),\"\")","v":""}]
["",null,null,null,"",{"$f":"IF(SUM($B$7:$B1664)=0,\"\",IF(A1664<>\"\",IF(A1664<$B$3,\"N\",\"Y\"),\"\"))","v":""},"","","",null,"",{"$f":"IF(AND(ISNUMBER(A1664),NOT(ISNUMBER(A1665))),SUM(OFFSET(E1664,-Q1664,0):E1664),IF(AND(ISNUMBER(P1664),ISNUMBER(P1665),P1664  <P1665),SUM(OFFSET(E1664,-Q1664,0):E1664),\"\"))","v":""},{"$f":"IF(ISNUMBER(L1664),SUM(OFFSET(G1664,-Q1664,0):G1664),\"\")","v":""},"",{"$f":"IF(B1664>0,'Tax Scales'!U1664-D1664,\"\")","v":""},"","",{"$f":"IF(ISNUMBER(G1664),IF(G1664>0,'Tax Scales'!AQ1664,\"\"),\"\")","v":""}]
["",null,null,null,"",{"$f":"IF(SUM($B$7:$B1665)=0,\"\",IF(A1665<>\"\",IF(A1665<$B$3,\"N\",\"Y\"),\"\"))","v":""},"","","",null,"",{"$f":"IF(AND(ISNUMBER(A1665),NOT(ISNUMBER(A1666))),SUM(OFFSET(E1665,-Q1665,0):E1665),IF(AND(ISNUMBER(P1665),ISNUMBER(P1666),P1665  <P1666),SUM(OFFSET(E1665,-Q1665,0):E1665),\"\"))","v":""},{"$f":"IF(ISNUMBER(L1665),SUM(OFFSET(G1665,-Q1665,0):G1665),\"\")","v":""},"",{"$f":"IF(B1665>0,'Tax Scales'!U1665-D1665,\"\")","v":""},"","",{"$f":"IF(ISNUMBER(G1665),IF(G1665>0,'Tax Scales'!AQ1665,\"\"),\"\")","v":""}]
["",null,null,null,"",{"$f":"IF(SUM($B$7:$B1666)=0,\"\",IF(A1666<>\"\",IF(A1666<$B$3,\"N\",\"Y\"),\"\"))","v":""},"","","",null,"",{"$f":"IF(AND(ISNUMBER(A1666),NOT(ISNUMBER(A1667))),SUM(OFFSET(E1666,-Q1666,0):E1666),IF(AND(ISNUMBER(P1666),ISNUMBER(P1667),P1666  <P1667),SUM(OFFSET(E1666,-Q1666,0):E1666),\"\"))","v":""},{"$f":"IF(ISNUMBER(L1666),SUM(OFFSET(G1666,-Q1666,0):G1666),\"\")","v":""},"",{"$f":"IF(B1666>0,'Tax Scales'!U1666-D1666,\"\")","v":""},"","",{"$f":"IF(ISNUMBER(G1666),IF(G1666>0,'Tax Scales'!AQ1666,\"\"),\"\")","v":""}]
["",null,null,null,"",{"$f":"IF(SUM($B$7:$B1667)=0,\"\",IF(A1667<>\"\",IF(A1667<$B$3,\"N\",\"Y\"),\"\"))","v":""},"","","",null,"",{"$f":"IF(AND(ISNUMBER(A1667),NOT(ISNUMBER(A1668))),SUM(OFFSET(E1667,-Q1667,0):E1667),IF(AND(ISNUMBER(P1667),ISNUMBER(P1668),P1667  <P1668),SUM(OFFSET(E1667,-Q1667,0):E1667),\"\"))","v":""},{"$f":"IF(ISNUMBER(L1667),SUM(OFFSET(G1667,-Q1667,0):G1667),\"\")","v":""},"",{"$f":"IF(B1667>0,'Tax Scales'!U1667-D1667,\"\")","v":""},"","",{"$f":"IF(ISNUMBER(G1667),IF(G1667>0,'Tax Scales'!AQ1667,\"\"),\"\")","v":""}]
["",null,null,null,"",{"$f":"IF(SUM($B$7:$B1668)=0,\"\",IF(A1668<>\"\",IF(A1668<$B$3,\"N\",\"Y\"),\"\"))","v":""},"","","",null,"",{"$f":"IF(AND(ISNUMBER(A1668),NOT(ISNUMBER(A1669))),SUM(OFFSET(E1668,-Q1668,0):E1668),IF(AND(ISNUMBER(P1668),ISNUMBER(P1669),P1668  <P1669),SUM(OFFSET(E1668,-Q1668,0):E1668),\"\"))","v":""},{"$f":"IF(ISNUMBER(L1668),SUM(OFFSET(G1668,-Q1668,0):G1668),\"\")","v":""},"",{"$f":"IF(B1668>0,'Tax Scales'!U1668-D1668,\"\")","v":""},"","",{"$f":"IF(ISNUMBER(G1668),IF(G1668>0,'Tax Scales'!AQ1668,\"\"),\"\")","v":""}]
["",null,null,null,"",{"$f":"IF(SUM($B$7:$B1669)=0,\"\",IF(A1669<>\"\",IF(A1669<$B$3,\"N\",\"Y\"),\"\"))","v":""},"","","",null,"",{"$f":"IF(AND(ISNUMBER(A1669),NOT(ISNUMBER(A1670))),SUM(OFFSET(E1669,-Q1669,0):E1669),IF(AND(ISNUMBER(P1669),ISNUMBER(P1670),P1669  <P1670),SUM(OFFSET(E1669,-Q1669,0):E1669),\"\"))","v":""},{"$f":"IF(ISNUMBER(L1669),SUM(OFFSET(G1669,-Q1669,0):G1669),\"\")","v":""},"",{"$f":"IF(B1669>0,'Tax Scales'!U1669-D1669,\"\")","v":""},"","",{"$f":"IF(ISNUMBER(G1669),IF(G1669>0,'Tax Scales'!AQ1669,\"\"),\"\")","v":""}]
["",null,null,null,"",{"$f":"IF(SUM($B$7:$B1670)=0,\"\",IF(A1670<>\"\",IF(A1670<$B$3,\"N\",\"Y\"),\"\"))","v":""},"","","",null,"",{"$f":"IF(AND(ISNUMBER(A1670),NOT(ISNUMBER(A1671))),SUM(OFFSET(E1670,-Q1670,0):E1670),IF(AND(ISNUMBER(P1670),ISNUMBER(P1671),P1670  <P1671),SUM(OFFSET(E1670,-Q1670,0):E1670),\"\"))","v":""},{"$f":"IF(ISNUMBER(L1670),SUM(OFFSET(G1670,-Q1670,0):G1670),\"\")","v":""},"",{"$f":"IF(B1670>0,'Tax Scales'!U1670-D1670,\"\")","v":""},"","",{"$f":"IF(ISNUMBER(G1670),IF(G1670>0,'Tax Scales'!AQ1670,\"\"),\"\")","v":""}]
["",null,null,null,"",{"$f":"IF(SUM($B$7:$B1671)=0,\"\",IF(A1671<>\"\",IF(A1671<$B$3,\"N\",\"Y\"),\"\"))","v":""},"","","",null,"",{"$f":"IF(AND(ISNUMBER(A1671),NOT(ISNUMBER(A1672))),SUM(OFFSET(E1671,-Q1671,0):E1671),IF(AND(ISNUMBER(P1671),ISNUMBER(P1672),P1671  <P1672),SUM(OFFSET(E1671,-Q1671,0):E1671),\"\"))","v":""},{"$f":"IF(ISNUMBER(L1671),SUM(OFFSET(G1671,-Q1671,0):G1671),\"\")","v":""},"",{"$f":"IF(B1671>0,'Tax Scales'!U1671-D1671,\"\")","v":""},"","",{"$f":"IF(ISNUMBER(G1671),IF(G1671>0,'Tax Scales'!AQ1671,\"\"),\"\")","v":""}]
["",null,null,null,"",{"$f":"IF(SUM($B$7:$B1672)=0,\"\",IF(A1672<>\"\",IF(A1672<$B$3,\"N\",\"Y\"),\"\"))","v":""},"","","",null,"",{"$f":"IF(AND(ISNUMBER(A1672),NOT(ISNUMBER(A1673))),SUM(OFFSET(E1672,-Q1672,0):E1672),IF(AND(ISNUMBER(P1672),ISNUMBER(P1673),P1672  <P1673),SUM(OFFSET(E1672,-Q1672,0):E1672),\"\"))","v":""},{"$f":"IF(ISNUMBER(L1672),SUM(OFFSET(G1672,-Q1672,0):G1672),\"\")","v":""},"",{"$f":"IF(B1672>0,'Tax Scales'!U1672-D1672,\"\")","v":""},"","",{"$f":"IF(ISNUMBER(G1672),IF(G1672>0,'Tax Scales'!AQ1672,\"\"),\"\")","v":""}]
["",null,null,null,"",{"$f":"IF(SUM($B$7:$B1673)=0,\"\",IF(A1673<>\"\",IF(A1673<$B$3,\"N\",\"Y\"),\"\"))","v":""},{"$f":"IF(F1673=\"N\",0,IF(A1673<>\"\",IF(K1673>=0,((E1673+I1672)*(1+(H1673/52)/100)-E1673-I1672),0),\"\"))","v":""},"","",null,"",{"$f":"IF(AND(ISNUMBER(A1673),NOT(ISNUMBER(A1674))),SUM(OFFSET(E1673,-Q1673,0):E1673),IF(AND(ISNUMBER(P1673),ISNUMBER(P1674),P1673  <P1674),SUM(OFFSET(E1673,-Q1673,0):E1673),\"\"))","v":""},{"$f":"IF(ISNUMBER(L1673),SUM(OFFSET(G1673,-Q1673,0):G1673),\"\")","v":""},"",{"$f":"IF(B1673>0,'Tax Scales'!U1673-D1673,\"\")","v":""},"","",{"$f":"IF(ISNUMBER(G1673),IF(G1673>0,'Tax Scales'!AQ1673,\"\"),\"\")","v":""}]
[{"$f":"IF(A1673<>\"\",IF(A1673+12<=TODAY(),+A1673+7,\"\"),\"\")","v":""},null,null,null,"",{"$f":"IF(SUM($B$7:$B1674)=0,\"\",IF(A1674<>\"\",IF(A1674<$B$3,\"N\",\"Y\"),\"\"))","v":""},"","","",null,"",{"$f":"IF(AND(ISNUMBER(A1674),NOT(ISNUMBER(A1675))),SUM(OFFSET(E1674,-Q1674,0):E1674),IF(AND(ISNUMBER(P1674),ISNUMBER(P1675),P1674  <P1675),SUM(OFFSET(E1674,-Q1674,0):E1674),\"\"))","v":""},{"$f":"IF(ISNUMBER(L1674),SUM(OFFSET(G1674,-Q1674,0):G1674),\"\")","v":""},"",{"$f":"IF(B1674>0,'Tax Scales'!U1674-D1674,\"\")","v":""},"","",{"$f":"IF(ISNUMBER(G1674),IF(G1674>0,'Tax Scales'!AQ1674,\"\"),\"\")","v":""}]
["",null,null,null,"",{"$f":"IF(SUM($B$7:$B1675)=0,\"\",IF(A1675<>\"\",IF(A1675<$B$3,\"N\",\"Y\"),\"\"))","v":""},"","","",null,"",{"$f":"IF(AND(ISNUMBER(A1675),NOT(ISNUMBER(A1676))),SUM(OFFSET(E1675,-Q1675,0):E1675),IF(AND(ISNUMBER(P1675),ISNUMBER(P1676),P1675  <P1676),SUM(OFFSET(E1675,-Q1675,0):E1675),\"\"))","v":""},{"$f":"IF(ISNUMBER(L1675),SUM(OFFSET(G1675,-Q1675,0):G1675),\"\")","v":""},"",{"$f":"IF(B1675>0,'Tax Scales'!U1675-D1675,\"\")","v":""},"","",{"$f":"IF(ISNUMBER(G1675),IF(G1675>0,'Tax Scales'!AQ1675,\"\"),\"\")","v":""}]
["",null,null,null,"",{"$f":"IF(SUM($B$7:$B1676)=0,\"\",IF(A1676<>\"\",IF(A1676<$B$3,\"N\",\"Y\"),\"\"))","v":""},"","","",null,"",{"$f":"IF(AND(ISNUMBER(A1676),NOT(ISNUMBER(A1677))),SUM(OFFSET(E1676,-Q1676,0):E1676),IF(AND(ISNUMBER(P1676),ISNUMBER(P1677),P1676  <P1677),SUM(OFFSET(E1676,-Q1676,0):E1676),\"\"))","v":""},{"$f":"IF(ISNUMBER(L1676),SUM(OFFSET(G1676,-Q1676,0):G1676),\"\")","v":""},"",{"$f":"IF(B1676>0,'Tax Scales'!U1676-D1676,\"\")","v":""},"","",{"$f":"IF(ISNUMBER(G1676),IF(G1676>0,'Tax Scales'!AQ1676,\"\"),\"\")","v":""}]
["",null,null,null,"",{"$f":"IF(SUM($B$7:$B1677)=0,\"\",IF(A1677<>\"\",IF(A1677<$B$3,\"N\",\"Y\"),\"\"))","v":""},"","","",null,"",{"$f":"IF(AND(ISNUMBER(A1677),NOT(ISNUMBER(A1678))),SUM(OFFSET(E1677,-Q1677,0):E1677),IF(AND(ISNUMBER(P1677),ISNUMBER(P1678),P1677  <P1678),SUM(OFFSET(E1677,-Q1677,0):E1677),\"\"))","v":""},{"$f":"IF(ISNUMBER(L1677),SUM(OFFSET(G1677,-Q1677,0):G1677),\"\")","v":""},"",{"$f":"IF(B1677>0,'Tax Scales'!U1677-D1677,\"\")","v":""},"","",{"$f":"IF(ISNUMBER(G1677),IF(G1677>0,'Tax Scales'!AQ1677,\"\"),\"\")","v":""}]
["",null,null,null,"",{"$f":"IF(SUM($B$7:$B1678)=0,\"\",IF(A1678<>\"\",IF(A1678<$B$3,\"N\",\"Y\"),\"\"))","v":""},"","","",null,"",{"$f":"IF(AND(ISNUMBER(A1678),NOT(ISNUMBER(A1679))),SUM(OFFSET(E1678,-Q1678,0):E1678),IF(AND(ISNUMBER(P1678),ISNUMBER(P1679),P1678  <P1679),SUM(OFFSET(E1678,-Q1678,0):E1678),\"\"))","v":""},{"$f":"IF(ISNUMBER(L1678),SUM(OFFSET(G1678,-Q1678,0):G1678),\"\")","v":""},"",{"$f":"IF(B1678>0,'Tax Scales'!U1678-D1678,\"\")","v":""},"","",{"$f":"IF(ISNUMBER(G1678),IF(G1678>0,'Tax Scales'!AQ1678,\"\"),\"\")","v":""}]
["",null,null,null,"",{"$f":"IF(SUM($B$7:$B1679)=0,\"\",IF(A1679<>\"\",IF(A1679<$B$3,\"N\",\"Y\"),\"\"))","v":""},"","","",null,"",{"$f":"IF(AND(ISNUMBER(A1679),NOT(ISNUMBER(A1680))),SUM(OFFSET(E1679,-Q1679,0):E1679),IF(AND(ISNUMBER(P1679),ISNUMBER(P1680),P1679  <P1680),SUM(OFFSET(E1679,-Q1679,0):E1679),\"\"))","v":""},{"$f":"IF(ISNUMBER(L1679),SUM(OFFSET(G1679,-Q1679,0):G1679),\"\")","v":""},"",{"$f":"IF(B1679>0,'Tax Scales'!U1679-D1679,\"\")","v":""},"","",{"$f":"IF(ISNUMBER(G1679),IF(G1679>0,'Tax Scales'!AQ1679,\"\"),\"\")","v":""}]
["",null,null,null,"",{"$f":"IF(SUM($B$7:$B1680)=0,\"\",IF(A1680<>\"\",IF(A1680<$B$3,\"N\",\"Y\"),\"\"))","v":""},"","","",null,"",{"$f":"IF(AND(ISNUMBER(A1680),NOT(ISNUMBER(A1681))),SUM(OFFSET(E1680,-Q1680,0):E1680),IF(AND(ISNUMBER(P1680),ISNUMBER(P1681),P1680  <P1681),SUM(OFFSET(E1680,-Q1680,0):E1680),\"\"))","v":""},{"$f":"IF(ISNUMBER(L1680),SUM(OFFSET(G1680,-Q1680,0):G1680),\"\")","v":""},"",{"$f":"IF(B1680>0,'Tax Scales'!U1680-D1680,\"\")","v":""},"","",{"$f":"IF(ISNUMBER(G1680),IF(G1680>0,'Tax Scales'!AQ1680,\"\"),\"\")","v":""}]
["",null,null,null,"",{"$f":"IF(SUM($B$7:$B1681)=0,\"\",IF(A1681<>\"\",IF(A1681<$B$3,\"N\",\"Y\"),\"\"))","v":""},"","","",null,"",{"$f":"IF(AND(ISNUMBER(A1681),NOT(ISNUMBER(A1682))),SUM(OFFSET(E1681,-Q1681,0):E1681),IF(AND(ISNUMBER(P1681),ISNUMBER(P1682),P1681  <P1682),SUM(OFFSET(E1681,-Q1681,0):E1681),\"\"))","v":""},{"$f":"IF(ISNUMBER(L1681),SUM(OFFSET(G1681,-Q1681,0):G1681),\"\")","v":""},"",{"$f":"IF(B1681>0,'Tax Scales'!U1681-D1681,\"\")","v":""},"","",{"$f":"IF(ISNUMBER(G1681),IF(G1681>0,'Tax Scales'!AQ1681,\"\"),\"\")","v":""}]
["",null,null,null,{"$f":"IF(A1682<>\"\",IF(B1682-C1682>=0,B1682-C1682,0),\"\")","v":""},{"$f":"IF(SUM($B$7:$B1682)=0,\"\",IF(A1682<>\"\",IF(A1682<$B$3,\"N\",\"Y\"),\"\"))","v":""},"","",{"$f":"IF(A1682<>\"\",I1681+E1682+G1682,\"\")","v":""},null,{"$f":"IF(A1682<>\"\",IF((TODAY()-A1682)/7>=0,INT((TODAY()-A1682)/7),0),\"\")","v":""},{"$f":"IF(AND(ISNUMBER(A1682),NOT(ISNUMBER(A1683))),SUM(OFFSET(E1682,-Q1682,0):E1682),IF(AND(ISNUMBER(P1682),ISNUMBER(P1683),P1682  <P1683),SUM(OFFSET(E1682,-Q1682,0):E1682),\"\"))","v":""},{"$f":"IF(ISNUMBER(L1682),SUM(OFFSET(G1682,-Q1682,0):G1682),\"\")","v":""},{"$f":"IF(B1682>0,IF(P1682  = $P$6,E1682-O1682,\"\"),\"\")","v":""},{"$f":"IF(B1682>0,'Tax Scales'!U1682-D1682,\"\")","v":""},{"$f":"IF(ISNUMBER(A1682),FinYear(A1682),\"\")","v":""},{"$f":"IF(ISNUMBER(A1682),ROUND((A1682-StartOfFinYear(P1682))/7,0),\"\")","v":""},{"$f":"IF(ISNUMBER(G1682),IF(G1682>0,'Tax Scales'!AQ1682,\"\"),\"\")","v":""}]
["",null,null,null,"",{"$f":"IF(SUM($B$7:$B1683)=0,\"\",IF(A1683<>\"\",IF(A1683<$B$3,\"N\",\"Y\"),\"\"))","v":""},"","","",null,"",{"$f":"IF(AND(ISNUMBER(A1683),NOT(ISNUMBER(A1684))),SUM(OFFSET(E1683,-Q1683,0):E1683),IF(AND(ISNUMBER(P1683),ISNUMBER(P1684),P1683  <P1684),SUM(OFFSET(E1683,-Q1683,0):E1683),\"\"))","v":""},{"$f":"IF(ISNUMBER(L1683),SUM(OFFSET(G1683,-Q1683,0):G1683),\"\")","v":""},"",{"$f":"IF(B1683>0,'Tax Scales'!U1683-D1683,\"\")","v":""},"","",{"$f":"IF(ISNUMBER(G1683),IF(G1683>0,'Tax Scales'!AQ1683,\"\"),\"\")","v":""}]
["",null,null,null,"",{"$f":"IF(SUM($B$7:$B1684)=0,\"\",IF(A1684<>\"\",IF(A1684<$B$3,\"N\",\"Y\"),\"\"))","v":""},"","","",null,"",{"$f":"IF(AND(ISNUMBER(A1684),NOT(ISNUMBER(A1685))),SUM(OFFSET(E1684,-Q1684,0):E1684),IF(AND(ISNUMBER(P1684),ISNUMBER(P1685),P1684  <P1685),SUM(OFFSET(E1684,-Q1684,0):E1684),\"\"))","v":""},{"$f":"IF(ISNUMBER(L1684),SUM(OFFSET(G1684,-Q1684,0):G1684),\"\")","v":""},"",{"$f":"IF(B1684>0,'Tax Scales'!U1684-D1684,\"\")","v":""},"","",{"$f":"IF(ISNUMBER(G1684),IF(G1684>0,'Tax Scales'!AQ1684,\"\"),\"\")","v":""}]
["",null,null,null,"",{"$f":"IF(SUM($B$7:$B1685)=0,\"\",IF(A1685<>\"\",IF(A1685<$B$3,\"N\",\"Y\"),\"\"))","v":""},"","","",null,"",{"$f":"IF(AND(ISNUMBER(A1685),NOT(ISNUMBER(A1686))),SUM(OFFSET(E1685,-Q1685,0):E1685),IF(AND(ISNUMBER(P1685),ISNUMBER(P1686),P1685  <P1686),SUM(OFFSET(E1685,-Q1685,0):E1685),\"\"))","v":""},{"$f":"IF(ISNUMBER(L1685),SUM(OFFSET(G1685,-Q1685,0):G1685),\"\")","v":""},"",{"$f":"IF(B1685>0,'Tax Scales'!U1685-D1685,\"\")","v":""},"","",{"$f":"IF(ISNUMBER(G1685),IF(G1685>0,'Tax Scales'!AQ1685,\"\"),\"\")","v":""}]
["",null,null,null,"",{"$f":"IF(SUM($B$7:$B1686)=0,\"\",IF(A1686<>\"\",IF(A1686<$B$3,\"N\",\"Y\"),\"\"))","v":""},"","","",null,"",{"$f":"IF(AND(ISNUMBER(A1686),NOT(ISNUMBER(A1687))),SUM(OFFSET(E1686,-Q1686,0):E1686),IF(AND(ISNUMBER(P1686),ISNUMBER(P1687),P1686  <P1687),SUM(OFFSET(E1686,-Q1686,0):E1686),\"\"))","v":""},{"$f":"IF(ISNUMBER(L1686),SUM(OFFSET(G1686,-Q1686,0):G1686),\"\")","v":""},"",{"$f":"IF(B1686>0,'Tax Scales'!U1686-D1686,\"\")","v":""},"","",{"$f":"IF(ISNUMBER(G1686),IF(G1686>0,'Tax Scales'!AQ1686,\"\"),\"\")","v":""}]
["",null,null,null,"",{"$f":"IF(SUM($B$7:$B1687)=0,\"\",IF(A1687<>\"\",IF(A1687<$B$3,\"N\",\"Y\"),\"\"))","v":""},"","","",null,"",{"$f":"IF(AND(ISNUMBER(A1687),NOT(ISNUMBER(A1688))),SUM(OFFSET(E1687,-Q1687,0):E1687),IF(AND(ISNUMBER(P1687),ISNUMBER(P1688),P1687  <P1688),SUM(OFFSET(E1687,-Q1687,0):E1687),\"\"))","v":""},{"$f":"IF(ISNUMBER(L1687),SUM(OFFSET(G1687,-Q1687,0):G1687),\"\")","v":""},"",{"$f":"IF(B1687>0,'Tax Scales'!U1687-D1687,\"\")","v":""},"","",{"$f":"IF(ISNUMBER(G1687),IF(G1687>0,'Tax Scales'!AQ1687,\"\"),\"\")","v":""}]
["",null,null,null,"",{"$f":"IF(SUM($B$7:$B1688)=0,\"\",IF(A1688<>\"\",IF(A1688<$B$3,\"N\",\"Y\"),\"\"))","v":""},"","","",null,"",{"$f":"IF(AND(ISNUMBER(A1688),NOT(ISNUMBER(A1689))),SUM(OFFSET(E1688,-Q1688,0):E1688),IF(AND(ISNUMBER(P1688),ISNUMBER(P1689),P1688  <P1689),SUM(OFFSET(E1688,-Q1688,0):E1688),\"\"))","v":""},{"$f":"IF(ISNUMBER(L1688),SUM(OFFSET(G1688,-Q1688,0):G1688),\"\")","v":""},"",{"$f":"IF(B1688>0,'Tax Scales'!U1688-D1688,\"\")","v":""},"","",{"$f":"IF(ISNUMBER(G1688),IF(G1688>0,'Tax Scales'!AQ1688,\"\"),\"\")","v":""}]
["",null,null,null,"",{"$f":"IF(SUM($B$7:$B1689)=0,\"\",IF(A1689<>\"\",IF(A1689<$B$3,\"N\",\"Y\"),\"\"))","v":""},"",{"$f":"IF(A1689<>\"\",9.49,\"\")","v":""},"",null,"",{"$f":"IF(AND(ISNUMBER(A1689),NOT(ISNUMBER(A1690))),SUM(OFFSET(E1689,-Q1689,0):E1689),IF(AND(ISNUMBER(P1689),ISNUMBER(P1690),P1689  <P1690),SUM(OFFSET(E1689,-Q1689,0):E1689),\"\"))","v":""},{"$f":"IF(ISNUMBER(L1689),SUM(OFFSET(G1689,-Q1689,0):G1689),\"\")","v":""},"",{"$f":"IF(B1689>0,'Tax Scales'!U1689-D1689,\"\")","v":""},"","",{"$f":"IF(ISNUMBER(G1689),IF(G1689>0,'Tax Scales'!AQ1689,\"\"),\"\")","v":""}]
["",null,null,null,"",{"$f":"IF(SUM($B$7:$B1690)=0,\"\",IF(A1690<>\"\",IF(A1690<$B$3,\"N\",\"Y\"),\"\"))","v":""},"","","",null,"",{"$f":"IF(AND(ISNUMBER(A1690),NOT(ISNUMBER(A1691))),SUM(OFFSET(E1690,-Q1690,0):E1690),IF(AND(ISNUMBER(P1690),ISNUMBER(P1691),P1690  <P1691),SUM(OFFSET(E1690,-Q1690,0):E1690),\"\"))","v":""},{"$f":"IF(ISNUMBER(L1690),SUM(OFFSET(G1690,-Q1690,0):G1690),\"\")","v":""},"",{"$f":"IF(B1690>0,'Tax Scales'!U1690-D1690,\"\")","v":""},"","",{"$f":"IF(ISNUMBER(G1690),IF(G1690>0,'Tax Scales'!AQ1690,\"\"),\"\")","v":""}]
["",null,null,null,"",{"$f":"IF(SUM($B$7:$B1691)=0,\"\",IF(A1691<>\"\",IF(A1691<$B$3,\"N\",\"Y\"),\"\"))","v":""},"","","",null,"",{"$f":"IF(AND(ISNUMBER(A1691),NOT(ISNUMBER(A1692))),SUM(OFFSET(E1691,-Q1691,0):E1691),IF(AND(ISNUMBER(P1691),ISNUMBER(P1692),P1691  <P1692),SUM(OFFSET(E1691,-Q1691,0):E1691),\"\"))","v":""},{"$f":"IF(ISNUMBER(L1691),SUM(OFFSET(G1691,-Q1691,0):G1691),\"\")","v":""},"",{"$f":"IF(B1691>0,'Tax Scales'!U1691-D1691,\"\")","v":""},"","",{"$f":"IF(ISNUMBER(G1691),IF(G1691>0,'Tax Scales'!AQ1691,\"\"),\"\")","v":""}]
["",null,null,null,"",{"$f":"IF(SUM($B$7:$B1692)=0,\"\",IF(A1692<>\"\",IF(A1692<$B$3,\"N\",\"Y\"),\"\"))","v":""},"","","",null,"",{"$f":"IF(AND(ISNUMBER(A1692),NOT(ISNUMBER(A1693))),SUM(OFFSET(E1692,-Q1692,0):E1692),IF(AND(ISNUMBER(P1692),ISNUMBER(P1693),P1692  <P1693),SUM(OFFSET(E1692,-Q1692,0):E1692),\"\"))","v":""},{"$f":"IF(ISNUMBER(L1692),SUM(OFFSET(G1692,-Q1692,0):G1692),\"\")","v":""},"",{"$f":"IF(B1692>0,'Tax Scales'!U1692-D1692,\"\")","v":""},"","",{"$f":"IF(ISNUMBER(G1692),IF(G1692>0,'Tax Scales'!AQ1692,\"\"),\"\")","v":""}]
["",null,null,null,"",{"$f":"IF(SUM($B$7:$B1693)=0,\"\",IF(A1693<>\"\",IF(A1693<$B$3,\"N\",\"Y\"),\"\"))","v":""},"","","",null,"",{"$f":"IF(AND(ISNUMBER(A1693),NOT(ISNUMBER(A1694))),SUM(OFFSET(E1693,-Q1693,0):E1693),IF(AND(ISNUMBER(P1693),ISNUMBER(P1694),P1693  <P1694),SUM(OFFSET(E1693,-Q1693,0):E1693),\"\"))","v":""},{"$f":"IF(ISNUMBER(L1693),SUM(OFFSET(G1693,-Q1693,0):G1693),\"\")","v":""},"",{"$f":"IF(B1693>0,'Tax Scales'!U1693-D1693,\"\")","v":""},"","",{"$f":"IF(ISNUMBER(G1693),IF(G1693>0,'Tax Scales'!AQ1693,\"\"),\"\")","v":""}]
["",null,null,null,"",{"$f":"IF(SUM($B$7:$B1694)=0,\"\",IF(A1694<>\"\",IF(A1694<$B$3,\"N\",\"Y\"),\"\"))","v":""},"","","",null,"",{"$f":"IF(AND(ISNUMBER(A1694),NOT(ISNUMBER(A1695))),SUM(OFFSET(E1694,-Q1694,0):E1694),IF(AND(ISNUMBER(P1694),ISNUMBER(P1695),P1694  <P1695),SUM(OFFSET(E1694,-Q1694,0):E1694),\"\"))","v":""},{"$f":"IF(ISNUMBER(L1694),SUM(OFFSET(G1694,-Q1694,0):G1694),\"\")","v":""},"",{"$f":"IF(B1694>0,'Tax Scales'!U1694-D1694,\"\")","v":""},"","",{"$f":"IF(ISNUMBER(G1694),IF(G1694>0,'Tax Scales'!AQ1694,\"\"),\"\")","v":""}]
["",null,null,null,"",{"$f":"IF(SUM($B$7:$B1695)=0,\"\",IF(A1695<>\"\",IF(A1695<$B$3,\"N\",\"Y\"),\"\"))","v":""},"","","",null,"",{"$f":"IF(AND(ISNUMBER(A1695),NOT(ISNUMBER(A1696))),SUM(OFFSET(E1695,-Q1695,0):E1695),IF(AND(ISNUMBER(P1695),ISNUMBER(P1696),P1695  <P1696),SUM(OFFSET(E1695,-Q1695,0):E1695),\"\"))","v":""},{"$f":"IF(ISNUMBER(L1695),SUM(OFFSET(G1695,-Q1695,0):G1695),\"\")","v":""},"",{"$f":"IF(B1695>0,'Tax Scales'!U1695-D1695,\"\")","v":""},"","",{"$f":"IF(ISNUMBER(G1695),IF(G1695>0,'Tax Scales'!AQ1695,\"\"),\"\")","v":""}]
["",null,null,null,"",{"$f":"IF(SUM($B$7:$B1696)=0,\"\",IF(A1696<>\"\",IF(A1696<$B$3,\"N\",\"Y\"),\"\"))","v":""},"","","",null,"",{"$f":"IF(AND(ISNUMBER(A1696),NOT(ISNUMBER(A1697))),SUM(OFFSET(E1696,-Q1696,0):E1696),IF(AND(ISNUMBER(P1696),ISNUMBER(P1697),P1696  <P1697),SUM(OFFSET(E1696,-Q1696,0):E1696),\"\"))","v":""},{"$f":"IF(ISNUMBER(L1696),SUM(OFFSET(G1696,-Q1696,0):G1696),\"\")","v":""},"",{"$f":"IF(B1696>0,'Tax Scales'!U1696-D1696,\"\")","v":""},"","",{"$f":"IF(ISNUMBER(G1696),IF(G1696>0,'Tax Scales'!AQ1696,\"\"),\"\")","v":""}]
["",null,null,null,"",{"$f":"IF(SUM($B$7:$B1697)=0,\"\",IF(A1697<>\"\",IF(A1697<$B$3,\"N\",\"Y\"),\"\"))","v":""},"","","",null,"",{"$f":"IF(AND(ISNUMBER(A1697),NOT(ISNUMBER(A1698))),SUM(OFFSET(E1697,-Q1697,0):E1697),IF(AND(ISNUMBER(P1697),ISNUMBER(P1698),P1697  <P1698),SUM(OFFSET(E1697,-Q1697,0):E1697),\"\"))","v":""},{"$f":"IF(ISNUMBER(L1697),SUM(OFFSET(G1697,-Q1697,0):G1697),\"\")","v":""},"",{"$f":"IF(B1697>0,'Tax Scales'!U1697-D1697,\"\")","v":""},"","",{"$f":"IF(ISNUMBER(G1697),IF(G1697>0,'Tax Scales'!AQ1697,\"\"),\"\")","v":""}]
["",null,null,null,"",{"$f":"IF(SUM($B$7:$B1698)=0,\"\",IF(A1698<>\"\",IF(A1698<$B$3,\"N\",\"Y\"),\"\"))","v":""},"","","",null,"",{"$f":"IF(AND(ISNUMBER(A1698),NOT(ISNUMBER(A1699))),SUM(OFFSET(E1698,-Q1698,0):E1698),IF(AND(ISNUMBER(P1698),ISNUMBER(P1699),P1698  <P1699),SUM(OFFSET(E1698,-Q1698,0):E1698),\"\"))","v":""},{"$f":"IF(ISNUMBER(L1698),SUM(OFFSET(G1698,-Q1698,0):G1698),\"\")","v":""},"",{"$f":"IF(B1698>0,'Tax Scales'!U1698-D1698,\"\")","v":""},"","",{"$f":"IF(ISNUMBER(G1698),IF(G1698>0,'Tax Scales'!AQ1698,\"\"),\"\")","v":""}]
["",null,null,null,"",{"$f":"IF(SUM($B$7:$B1699)=0,\"\",IF(A1699<>\"\",IF(A1699<$B$3,\"N\",\"Y\"),\"\"))","v":""},"","","",null,"",{"$f":"IF(AND(ISNUMBER(A1699),NOT(ISNUMBER(A1700))),SUM(OFFSET(E1699,-Q1699,0):E1699),IF(AND(ISNUMBER(P1699),ISNUMBER(P1700),P1699  <P1700),SUM(OFFSET(E1699,-Q1699,0):E1699),\"\"))","v":""},{"$f":"IF(ISNUMBER(L1699),SUM(OFFSET(G1699,-Q1699,0):G1699),\"\")","v":""},"",{"$f":"IF(B1699>0,'Tax Scales'!U1699-D1699,\"\")","v":""},"","",{"$f":"IF(ISNUMBER(G1699),IF(G1699>0,'Tax Scales'!AQ1699,\"\"),\"\")","v":""}]
["",null,null,null,"",{"$f":"IF(SUM($B$7:$B1700)=0,\"\",IF(A1700<>\"\",IF(A1700<$B$3,\"N\",\"Y\"),\"\"))","v":""},"","","",null,"",{"$f":"IF(AND(ISNUMBER(A1700),NOT(ISNUMBER(A1701))),SUM(OFFSET(E1700,-Q1700,0):E1700),IF(AND(ISNUMBER(P1700),ISNUMBER(P1701),P1700  <P1701),SUM(OFFSET(E1700,-Q1700,0):E1700),\"\"))","v":""},{"$f":"IF(ISNUMBER(L1700),SUM(OFFSET(G1700,-Q1700,0):G1700),\"\")","v":""},"",{"$f":"IF(B1700>0,'Tax Scales'!U1700-D1700,\"\")","v":""},"","",{"$f":"IF(ISNUMBER(G1700),IF(G1700>0,'Tax Scales'!AQ1700,\"\"),\"\")","v":""}]
["",null,null,null,"",{"$f":"IF(SUM($B$7:$B1701)=0,\"\",IF(A1701<>\"\",IF(A1701<$B$3,\"N\",\"Y\"),\"\"))","v":""},"","","",null,"",{"$f":"IF(AND(ISNUMBER(A1701),NOT(ISNUMBER(A1702))),SUM(OFFSET(E1701,-Q1701,0):E1701),IF(AND(ISNUMBER(P1701),ISNUMBER(P1702),P1701  <P1702),SUM(OFFSET(E1701,-Q1701,0):E1701),\"\"))","v":""},{"$f":"IF(ISNUMBER(L1701),SUM(OFFSET(G1701,-Q1701,0):G1701),\"\")","v":""},"",{"$f":"IF(B1701>0,'Tax Scales'!U1701-D1701,\"\")","v":""},"","",{"$f":"IF(ISNUMBER(G1701),IF(G1701>0,'Tax Scales'!AQ1701,\"\"),\"\")","v":""}]
["",null,null,null,"",{"$f":"IF(SUM($B$7:$B1702)=0,\"\",IF(A1702<>\"\",IF(A1702<$B$3,\"N\",\"Y\"),\"\"))","v":""},"","","",null,"",{"$f":"IF(AND(ISNUMBER(A1702),NOT(ISNUMBER(A1703))),SUM(OFFSET(E1702,-Q1702,0):E1702),IF(AND(ISNUMBER(P1702),ISNUMBER(P1703),P1702  <P1703),SUM(OFFSET(E1702,-Q1702,0):E1702),\"\"))","v":""},{"$f":"IF(ISNUMBER(L1702),SUM(OFFSET(G1702,-Q1702,0):G1702),\"\")","v":""},"",{"$f":"IF(B1702>0,'Tax Scales'!U1702-D1702,\"\")","v":""},"","",{"$f":"IF(ISNUMBER(G1702),IF(G1702>0,'Tax Scales'!AQ1702,\"\"),\"\")","v":""}]
["",null,null,null,"",{"$f":"IF(SUM($B$7:$B1703)=0,\"\",IF(A1703<>\"\",IF(A1703<$B$3,\"N\",\"Y\"),\"\"))","v":""},"","","",null,"",{"$f":"IF(AND(ISNUMBER(A1703),NOT(ISNUMBER(A1704))),SUM(OFFSET(E1703,-Q1703,0):E1703),IF(AND(ISNUMBER(P1703),ISNUMBER(P1704),P1703  <P1704),SUM(OFFSET(E1703,-Q1703,0):E1703),\"\"))","v":""},{"$f":"IF(ISNUMBER(L1703),SUM(OFFSET(G1703,-Q1703,0):G1703),\"\")","v":""},"",{"$f":"IF(B1703>0,'Tax Scales'!U1703-D1703,\"\")","v":""},"","",{"$f":"IF(ISNUMBER(G1703),IF(G1703>0,'Tax Scales'!AQ1703,\"\"),\"\")","v":""}]
["",null,null,null,"",{"$f":"IF(SUM($B$7:$B1704)=0,\"\",IF(A1704<>\"\",IF(A1704<$B$3,\"N\",\"Y\"),\"\"))","v":""},"","","",null,"",{"$f":"IF(AND(ISNUMBER(A1704),NOT(ISNUMBER(A1705))),SUM(OFFSET(E1704,-Q1704,0):E1704),IF(AND(ISNUMBER(P1704),ISNUMBER(P1705),P1704  <P1705),SUM(OFFSET(E1704,-Q1704,0):E1704),\"\"))","v":""},{"$f":"IF(ISNUMBER(L1704),SUM(OFFSET(G1704,-Q1704,0):G1704),\"\")","v":""},"",{"$f":"IF(B1704>0,'Tax Scales'!U1704-D1704,\"\")","v":""},"","",{"$f":"IF(ISNUMBER(G1704),IF(G1704>0,'Tax Scales'!AQ1704,\"\"),\"\")","v":""}]
["",null,null,null,"",{"$f":"IF(SUM($B$7:$B1705)=0,\"\",IF(A1705<>\"\",IF(A1705<$B$3,\"N\",\"Y\"),\"\"))","v":""},"","","",null,"",{"$f":"IF(AND(ISNUMBER(A1705),NOT(ISNUMBER(A1706))),SUM(OFFSET(E1705,-Q1705,0):E1705),IF(AND(ISNUMBER(P1705),ISNUMBER(P1706),P1705  <P1706),SUM(OFFSET(E1705,-Q1705,0):E1705),\"\"))","v":""},{"$f":"IF(ISNUMBER(L1705),SUM(OFFSET(G1705,-Q1705,0):G1705),\"\")","v":""},"",{"$f":"IF(B1705>0,'Tax Scales'!U1705-D1705,\"\")","v":""},"","",{"$f":"IF(ISNUMBER(G1705),IF(G1705>0,'Tax Scales'!AQ1705,\"\"),\"\")","v":""}]
["",null,null,null,"",{"$f":"IF(SUM($B$7:$B1706)=0,\"\",IF(A1706<>\"\",IF(A1706<$B$3,\"N\",\"Y\"),\"\"))","v":""},"","","",null,"",{"$f":"IF(AND(ISNUMBER(A1706),NOT(ISNUMBER(A1707))),SUM(OFFSET(E1706,-Q1706,0):E1706),IF(AND(ISNUMBER(P1706),ISNUMBER(P1707),P1706  <P1707),SUM(OFFSET(E1706,-Q1706,0):E1706),\"\"))","v":""},{"$f":"IF(ISNUMBER(L1706),SUM(OFFSET(G1706,-Q1706,0):G1706),\"\")","v":""},"",{"$f":"IF(B1706>0,'Tax Scales'!U1706-D1706,\"\")","v":""},"","",{"$f":"IF(ISNUMBER(G1706),IF(G1706>0,'Tax Scales'!AQ1706,\"\"),\"\")","v":""}]
["",null,null,null,"",{"$f":"IF(SUM($B$7:$B1707)=0,\"\",IF(A1707<>\"\",IF(A1707<$B$3,\"N\",\"Y\"),\"\"))","v":""},"","","",null,"",{"$f":"IF(AND(ISNUMBER(A1707),NOT(ISNUMBER(A1708))),SUM(OFFSET(E1707,-Q1707,0):E1707),IF(AND(ISNUMBER(P1707),ISNUMBER(P1708),P1707  <P1708),SUM(OFFSET(E1707,-Q1707,0):E1707),\"\"))","v":""},{"$f":"IF(ISNUMBER(L1707),SUM(OFFSET(G1707,-Q1707,0):G1707),\"\")","v":""},"",{"$f":"IF(B1707>0,'Tax Scales'!U1707-D1707,\"\")","v":""},"","",{"$f":"IF(ISNUMBER(G1707),IF(G1707>0,'Tax Scales'!AQ1707,\"\"),\"\")","v":""}]
["",null,null,null,"",{"$f":"IF(SUM($B$7:$B1708)=0,\"\",IF(A1708<>\"\",IF(A1708<$B$3,\"N\",\"Y\"),\"\"))","v":""},"","","",null,"",{"$f":"IF(AND(ISNUMBER(A1708),NOT(ISNUMBER(A1709))),SUM(OFFSET(E1708,-Q1708,0):E1708),IF(AND(ISNUMBER(P1708),ISNUMBER(P1709),P1708  <P1709),SUM(OFFSET(E1708,-Q1708,0):E1708),\"\"))","v":""},{"$f":"IF(ISNUMBER(L1708),SUM(OFFSET(G1708,-Q1708,0):G1708),\"\")","v":""},"",{"$f":"IF(B1708>0,'Tax Scales'!U1708-D1708,\"\")","v":""},"","",{"$f":"IF(ISNUMBER(G1708),IF(G1708>0,'Tax Scales'!AQ1708,\"\"),\"\")","v":""}]
["",null,null,null,"",{"$f":"IF(SUM($B$7:$B1709)=0,\"\",IF(A1709<>\"\",IF(A1709<$B$3,\"N\",\"Y\"),\"\"))","v":""},"","","",null,"",{"$f":"IF(AND(ISNUMBER(A1709),NOT(ISNUMBER(A1710))),SUM(OFFSET(E1709,-Q1709,0):E1709),IF(AND(ISNUMBER(P1709),ISNUMBER(P1710),P1709  <P1710),SUM(OFFSET(E1709,-Q1709,0):E1709),\"\"))","v":""},{"$f":"IF(ISNUMBER(L1709),SUM(OFFSET(G1709,-Q1709,0):G1709),\"\")","v":""},"",{"$f":"IF(B1709>0,'Tax Scales'!U1709-D1709,\"\")","v":""},"","",{"$f":"IF(ISNUMBER(G1709),IF(G1709>0,'Tax Scales'!AQ1709,\"\"),\"\")","v":""}]
["",null,null,null,"",{"$f":"IF(SUM($B$7:$B1710)=0,\"\",IF(A1710<>\"\",IF(A1710<$B$3,\"N\",\"Y\"),\"\"))","v":""},"","","",null,"",{"$f":"IF(AND(ISNUMBER(A1710),NOT(ISNUMBER(A1711))),SUM(OFFSET(E1710,-Q1710,0):E1710),IF(AND(ISNUMBER(P1710),ISNUMBER(P1711),P1710  <P1711),SUM(OFFSET(E1710,-Q1710,0):E1710),\"\"))","v":""},{"$f":"IF(ISNUMBER(L1710),SUM(OFFSET(G1710,-Q1710,0):G1710),\"\")","v":""},"",{"$f":"IF(B1710>0,'Tax Scales'!U1710-D1710,\"\")","v":""},"","",{"$f":"IF(ISNUMBER(G1710),IF(G1710>0,'Tax Scales'!AQ1710,\"\"),\"\")","v":""}]
["",null,null,null,"",{"$f":"IF(SUM($B$7:$B1711)=0,\"\",IF(A1711<>\"\",IF(A1711<$B$3,\"N\",\"Y\"),\"\"))","v":""},"","","",null,"",{"$f":"IF(AND(ISNUMBER(A1711),NOT(ISNUMBER(A1712))),SUM(OFFSET(E1711,-Q1711,0):E1711),IF(AND(ISNUMBER(P1711),ISNUMBER(P1712),P1711  <P1712),SUM(OFFSET(E1711,-Q1711,0):E1711),\"\"))","v":""},{"$f":"IF(ISNUMBER(L1711),SUM(OFFSET(G1711,-Q1711,0):G1711),\"\")","v":""},"",{"$f":"IF(B1711>0,'Tax Scales'!U1711-D1711,\"\")","v":""},"","",{"$f":"IF(ISNUMBER(G1711),IF(G1711>0,'Tax Scales'!AQ1711,\"\"),\"\")","v":""}]
["",null,null,null,"",{"$f":"IF(SUM($B$7:$B1712)=0,\"\",IF(A1712<>\"\",IF(A1712<$B$3,\"N\",\"Y\"),\"\"))","v":""},"","","",null,"",{"$f":"IF(AND(ISNUMBER(A1712),NOT(ISNUMBER(A1713))),SUM(OFFSET(E1712,-Q1712,0):E1712),IF(AND(ISNUMBER(P1712),ISNUMBER(P1713),P1712  <P1713),SUM(OFFSET(E1712,-Q1712,0):E1712),\"\"))","v":""},{"$f":"IF(ISNUMBER(L1712),SUM(OFFSET(G1712,-Q1712,0):G1712),\"\")","v":""},"",{"$f":"IF(B1712>0,'Tax Scales'!U1712-D1712,\"\")","v":""},"","",{"$f":"IF(ISNUMBER(G1712),IF(G1712>0,'Tax Scales'!AQ1712,\"\"),\"\")","v":""}]
["",null,null,null,"",{"$f":"IF(SUM($B$7:$B1713)=0,\"\",IF(A1713<>\"\",IF(A1713<$B$3,\"N\",\"Y\"),\"\"))","v":""},"","","",null,"",{"$f":"IF(AND(ISNUMBER(A1713),NOT(ISNUMBER(A1714))),SUM(OFFSET(E1713,-Q1713,0):E1713),IF(AND(ISNUMBER(P1713),ISNUMBER(P1714),P1713  <P1714),SUM(OFFSET(E1713,-Q1713,0):E1713),\"\"))","v":""},{"$f":"IF(ISNUMBER(L1713),SUM(OFFSET(G1713,-Q1713,0):G1713),\"\")","v":""},"",{"$f":"IF(B1713>0,'Tax Scales'!U1713-D1713,\"\")","v":""},"","",{"$f":"IF(ISNUMBER(G1713),IF(G1713>0,'Tax Scales'!AQ1713,\"\"),\"\")","v":""}]
["",null,null,null,"",{"$f":"IF(SUM($B$7:$B1714)=0,\"\",IF(A1714<>\"\",IF(A1714<$B$3,\"N\",\"Y\"),\"\"))","v":""},"","","",null,"",{"$f":"IF(AND(ISNUMBER(A1714),NOT(ISNUMBER(A1715))),SUM(OFFSET(E1714,-Q1714,0):E1714),IF(AND(ISNUMBER(P1714),ISNUMBER(P1715),P1714  <P1715),SUM(OFFSET(E1714,-Q1714,0):E1714),\"\"))","v":""},{"$f":"IF(ISNUMBER(L1714),SUM(OFFSET(G1714,-Q1714,0):G1714),\"\")","v":""},"",{"$f":"IF(B1714>0,'Tax Scales'!U1714-D1714,\"\")","v":""},"","",{"$f":"IF(ISNUMBER(G1714),IF(G1714>0,'Tax Scales'!AQ1714,\"\"),\"\")","v":""}]
["",null,null,null,"",{"$f":"IF(SUM($B$7:$B1715)=0,\"\",IF(A1715<>\"\",IF(A1715<$B$3,\"N\",\"Y\"),\"\"))","v":""},"","","",null,"",{"$f":"IF(AND(ISNUMBER(A1715),NOT(ISNUMBER(A1716))),SUM(OFFSET(E1715,-Q1715,0):E1715),IF(AND(ISNUMBER(P1715),ISNUMBER(P1716),P1715  <P1716),SUM(OFFSET(E1715,-Q1715,0):E1715),\"\"))","v":""},{"$f":"IF(ISNUMBER(L1715),SUM(OFFSET(G1715,-Q1715,0):G1715),\"\")","v":""},"",{"$f":"IF(B1715>0,'Tax Scales'!U1715-D1715,\"\")","v":""},"","",{"$f":"IF(ISNUMBER(G1715),IF(G1715>0,'Tax Scales'!AQ1715,\"\"),\"\")","v":""}]
["",null,null,null,"",{"$f":"IF(SUM($B$7:$B1716)=0,\"\",IF(A1716<>\"\",IF(A1716<$B$3,\"N\",\"Y\"),\"\"))","v":""},"","","",null,"",{"$f":"IF(AND(ISNUMBER(A1716),NOT(ISNUMBER(A1717))),SUM(OFFSET(E1716,-Q1716,0):E1716),IF(AND(ISNUMBER(P1716),ISNUMBER(P1717),P1716  <P1717),SUM(OFFSET(E1716,-Q1716,0):E1716),\"\"))","v":""},{"$f":"IF(ISNUMBER(L1716),SUM(OFFSET(G1716,-Q1716,0):G1716),\"\")","v":""},"",{"$f":"IF(B1716>0,'Tax Scales'!U1716-D1716,\"\")","v":""},"","",{"$f":"IF(ISNUMBER(G1716),IF(G1716>0,'Tax Scales'!AQ1716,\"\"),\"\")","v":""}]
["",null,null,null,"",{"$f":"IF(SUM($B$7:$B1717)=0,\"\",IF(A1717<>\"\",IF(A1717<$B$3,\"N\",\"Y\"),\"\"))","v":""},"","","",null,"",{"$f":"IF(AND(ISNUMBER(A1717),NOT(ISNUMBER(A1718))),SUM(OFFSET(E1717,-Q1717,0):E1717),IF(AND(ISNUMBER(P1717),ISNUMBER(P1718),P1717  <P1718),SUM(OFFSET(E1717,-Q1717,0):E1717),\"\"))","v":""},{"$f":"IF(ISNUMBER(L1717),SUM(OFFSET(G1717,-Q1717,0):G1717),\"\")","v":""},"",{"$f":"IF(B1717>0,'Tax Scales'!U1717-D1717,\"\")","v":""},"","",{"$f":"IF(ISNUMBER(G1717),IF(G1717>0,'Tax Scales'!AQ1717,\"\"),\"\")","v":""}]
["",null,null,null,"",{"$f":"IF(SUM($B$7:$B1718)=0,\"\",IF(A1718<>\"\",IF(A1718<$B$3,\"N\",\"Y\"),\"\"))","v":""},"","","",null,"",{"$f":"IF(AND(ISNUMBER(A1718),NOT(ISNUMBER(A1719))),SUM(OFFSET(E1718,-Q1718,0):E1718),IF(AND(ISNUMBER(P1718),ISNUMBER(P1719),P1718  <P1719),SUM(OFFSET(E1718,-Q1718,0):E1718),\"\"))","v":""},{"$f":"IF(ISNUMBER(L1718),SUM(OFFSET(G1718,-Q1718,0):G1718),\"\")","v":""},"",{"$f":"IF(B1718>0,'Tax Scales'!U1718-D1718,\"\")","v":""},"","",{"$f":"IF(ISNUMBER(G1718),IF(G1718>0,'Tax Scales'!AQ1718,\"\"),\"\")","v":""}]
["",null,null,null,"",{"$f":"IF(SUM($B$7:$B1719)=0,\"\",IF(A1719<>\"\",IF(A1719<$B$3,\"N\",\"Y\"),\"\"))","v":""},"","","",null,"",{"$f":"IF(AND(ISNUMBER(A1719),NOT(ISNUMBER(A1720))),SUM(OFFSET(E1719,-Q1719,0):E1719),IF(AND(ISNUMBER(P1719),ISNUMBER(P1720),P1719  <P1720),SUM(OFFSET(E1719,-Q1719,0):E1719),\"\"))","v":""},{"$f":"IF(ISNUMBER(L1719),SUM(OFFSET(G1719,-Q1719,0):G1719),\"\")","v":""},"",{"$f":"IF(B1719>0,'Tax Scales'!U1719-D1719,\"\")","v":""},"","",{"$f":"IF(ISNUMBER(G1719),IF(G1719>0,'Tax Scales'!AQ1719,\"\"),\"\")","v":""}]
["",null,null,null,"",{"$f":"IF(SUM($B$7:$B1720)=0,\"\",IF(A1720<>\"\",IF(A1720<$B$3,\"N\",\"Y\"),\"\"))","v":""},"","","",null,"",{"$f":"IF(AND(ISNUMBER(A1720),NOT(ISNUMBER(A1721))),SUM(OFFSET(E1720,-Q1720,0):E1720),IF(AND(ISNUMBER(P1720),ISNUMBER(P1721),P1720  <P1721),SUM(OFFSET(E1720,-Q1720,0):E1720),\"\"))","v":""},{"$f":"IF(ISNUMBER(L1720),SUM(OFFSET(G1720,-Q1720,0):G1720),\"\")","v":""},"",{"$f":"IF(B1720>0,'Tax Scales'!U1720-D1720,\"\")","v":""},"","",{"$f":"IF(ISNUMBER(G1720),IF(G1720>0,'Tax Scales'!AQ1720,\"\"),\"\")","v":""}]
["",null,null,null,"",{"$f":"IF(SUM($B$7:$B1721)=0,\"\",IF(A1721<>\"\",IF(A1721<$B$3,\"N\",\"Y\"),\"\"))","v":""},"","","",null,"",{"$f":"IF(AND(ISNUMBER(A1721),NOT(ISNUMBER(A1722))),SUM(OFFSET(E1721,-Q1721,0):E1721),IF(AND(ISNUMBER(P1721),ISNUMBER(P1722),P1721  <P1722),SUM(OFFSET(E1721,-Q1721,0):E1721),\"\"))","v":""},{"$f":"IF(ISNUMBER(L1721),SUM(OFFSET(G1721,-Q1721,0):G1721),\"\")","v":""},"",{"$f":"IF(B1721>0,'Tax Scales'!U1721-D1721,\"\")","v":""},"","",{"$f":"IF(ISNUMBER(G1721),IF(G1721>0,'Tax Scales'!AQ1721,\"\"),\"\")","v":""}]
["",null,null,null,"",{"$f":"IF(SUM($B$7:$B1722)=0,\"\",IF(A1722<>\"\",IF(A1722<$B$3,\"N\",\"Y\"),\"\"))","v":""},"","","",null,"",{"$f":"IF(AND(ISNUMBER(A1722),NOT(ISNUMBER(A1723))),SUM(OFFSET(E1722,-Q1722,0):E1722),IF(AND(ISNUMBER(P1722),ISNUMBER(P1723),P1722  <P1723),SUM(OFFSET(E1722,-Q1722,0):E1722),\"\"))","v":""},{"$f":"IF(ISNUMBER(L1722),SUM(OFFSET(G1722,-Q1722,0):G1722),\"\")","v":""},"",{"$f":"IF(B1722>0,'Tax Scales'!U1722-D1722,\"\")","v":""},"","",{"$f":"IF(ISNUMBER(G1722),IF(G1722>0,'Tax Scales'!AQ1722,\"\"),\"\")","v":""}]
["",null,null,null,"",{"$f":"IF(SUM($B$7:$B1723)=0,\"\",IF(A1723<>\"\",IF(A1723<$B$3,\"N\",\"Y\"),\"\"))","v":""},"","","",null,"",{"$f":"IF(AND(ISNUMBER(A1723),NOT(ISNUMBER(A1724))),SUM(OFFSET(E1723,-Q1723,0):E1723),IF(AND(ISNUMBER(P1723),ISNUMBER(P1724),P1723  <P1724),SUM(OFFSET(E1723,-Q1723,0):E1723),\"\"))","v":""},{"$f":"IF(ISNUMBER(L1723),SUM(OFFSET(G1723,-Q1723,0):G1723),\"\")","v":""},"",{"$f":"IF(B1723>0,'Tax Scales'!U1723-D1723,\"\")","v":""},"","",{"$f":"IF(ISNUMBER(G1723),IF(G1723>0,'Tax Scales'!AQ1723,\"\"),\"\")","v":""}]
["",null,null,null,"",{"$f":"IF(SUM($B$7:$B1724)=0,\"\",IF(A1724<>\"\",IF(A1724<$B$3,\"N\",\"Y\"),\"\"))","v":""},"","","",null,"",{"$f":"IF(AND(ISNUMBER(A1724),NOT(ISNUMBER(A1725))),SUM(OFFSET(E1724,-Q1724,0):E1724),IF(AND(ISNUMBER(P1724),ISNUMBER(P1725),P1724  <P1725),SUM(OFFSET(E1724,-Q1724,0):E1724),\"\"))","v":""},{"$f":"IF(ISNUMBER(L1724),SUM(OFFSET(G1724,-Q1724,0):G1724),\"\")","v":""},"",{"$f":"IF(B1724>0,'Tax Scales'!U1724-D1724,\"\")","v":""},"","",{"$f":"IF(ISNUMBER(G1724),IF(G1724>0,'Tax Scales'!AQ1724,\"\"),\"\")","v":""}]
["",null,null,null,"",{"$f":"IF(SUM($B$7:$B1725)=0,\"\",IF(A1725<>\"\",IF(A1725<$B$3,\"N\",\"Y\"),\"\"))","v":""},"","","",null,"",{"$f":"IF(AND(ISNUMBER(A1725),NOT(ISNUMBER(A1726))),SUM(OFFSET(E1725,-Q1725,0):E1725),IF(AND(ISNUMBER(P1725),ISNUMBER(P1726),P1725  <P1726),SUM(OFFSET(E1725,-Q1725,0):E1725),\"\"))","v":""},{"$f":"IF(ISNUMBER(L1725),SUM(OFFSET(G1725,-Q1725,0):G1725),\"\")","v":""},"",{"$f":"IF(B1725>0,'Tax Scales'!U1725-D1725,\"\")","v":""},"","",{"$f":"IF(ISNUMBER(G1725),IF(G1725>0,'Tax Scales'!AQ1725,\"\"),\"\")","v":""}]
["",null,null,null,"",{"$f":"IF(SUM($B$7:$B1726)=0,\"\",IF(A1726<>\"\",IF(A1726<$B$3,\"N\",\"Y\"),\"\"))","v":""},"","","",null,"",{"$f":"IF(AND(ISNUMBER(A1726),NOT(ISNUMBER(A1727))),SUM(OFFSET(E1726,-Q1726,0):E1726),IF(AND(ISNUMBER(P1726),ISNUMBER(P1727),P1726  <P1727),SUM(OFFSET(E1726,-Q1726,0):E1726),\"\"))","v":""},{"$f":"IF(ISNUMBER(L1726),SUM(OFFSET(G1726,-Q1726,0):G1726),\"\")","v":""},"",{"$f":"IF(B1726>0,'Tax Scales'!U1726-D1726,\"\")","v":""},"","",{"$f":"IF(ISNUMBER(G1726),IF(G1726>0,'Tax Scales'!AQ1726,\"\"),\"\")","v":""}]
["",null,null,null,"",{"$f":"IF(SUM($B$7:$B1727)=0,\"\",IF(A1727<>\"\",IF(A1727<$B$3,\"N\",\"Y\"),\"\"))","v":""},"","","",null,"",{"$f":"IF(AND(ISNUMBER(A1727),NOT(ISNUMBER(A1728))),SUM(OFFSET(E1727,-Q1727,0):E1727),IF(AND(ISNUMBER(P1727),ISNUMBER(P1728),P1727  <P1728),SUM(OFFSET(E1727,-Q1727,0):E1727),\"\"))","v":""},{"$f":"IF(ISNUMBER(L1727),SUM(OFFSET(G1727,-Q1727,0):G1727),\"\")","v":""},"",{"$f":"IF(B1727>0,'Tax Scales'!U1727-D1727,\"\")","v":""},"","",{"$f":"IF(ISNUMBER(G1727),IF(G1727>0,'Tax Scales'!AQ1727,\"\"),\"\")","v":""}]
["",null,null,null,"",{"$f":"IF(SUM($B$7:$B1728)=0,\"\",IF(A1728<>\"\",IF(A1728<$B$3,\"N\",\"Y\"),\"\"))","v":""},"","","",null,"",{"$f":"IF(AND(ISNUMBER(A1728),NOT(ISNUMBER(A1729))),SUM(OFFSET(E1728,-Q1728,0):E1728),IF(AND(ISNUMBER(P1728),ISNUMBER(P1729),P1728  <P1729),SUM(OFFSET(E1728,-Q1728,0):E1728),\"\"))","v":""},{"$f":"IF(ISNUMBER(L1728),SUM(OFFSET(G1728,-Q1728,0):G1728),\"\")","v":""},"",{"$f":"IF(B1728>0,'Tax Scales'!U1728-D1728,\"\")","v":""},"","",{"$f":"IF(ISNUMBER(G1728),IF(G1728>0,'Tax Scales'!AQ1728,\"\"),\"\")","v":""}]
["",null,null,null,"",{"$f":"IF(SUM($B$7:$B1729)=0,\"\",IF(A1729<>\"\",IF(A1729<$B$3,\"N\",\"Y\"),\"\"))","v":""},"","","",null,"",{"$f":"IF(AND(ISNUMBER(A1729),NOT(ISNUMBER(A1730))),SUM(OFFSET(E1729,-Q1729,0):E1729),IF(AND(ISNUMBER(P1729),ISNUMBER(P1730),P1729  <P1730),SUM(OFFSET(E1729,-Q1729,0):E1729),\"\"))","v":""},{"$f":"IF(ISNUMBER(L1729),SUM(OFFSET(G1729,-Q1729,0):G1729),\"\")","v":""},"",{"$f":"IF(B1729>0,'Tax Scales'!U1729-D1729,\"\")","v":""},"","",{"$f":"IF(ISNUMBER(G1729),IF(G1729>0,'Tax Scales'!AQ1729,\"\"),\"\")","v":""}]
["",null,null,null,"",{"$f":"IF(SUM($B$7:$B1730)=0,\"\",IF(A1730<>\"\",IF(A1730<$B$3,\"N\",\"Y\"),\"\"))","v":""},"","","",null,"",{"$f":"IF(AND(ISNUMBER(A1730),NOT(ISNUMBER(A1731))),SUM(OFFSET(E1730,-Q1730,0):E1730),IF(AND(ISNUMBER(P1730),ISNUMBER(P1731),P1730  <P1731),SUM(OFFSET(E1730,-Q1730,0):E1730),\"\"))","v":""},{"$f":"IF(ISNUMBER(L1730),SUM(OFFSET(G1730,-Q1730,0):G1730),\"\")","v":""},"",{"$f":"IF(B1730>0,'Tax Scales'!U1730-D1730,\"\")","v":""},"","",{"$f":"IF(ISNUMBER(G1730),IF(G1730>0,'Tax Scales'!AQ1730,\"\"),\"\")","v":""}]
["",null,null,null,"",{"$f":"IF(SUM($B$7:$B1731)=0,\"\",IF(A1731<>\"\",IF(A1731<$B$3,\"N\",\"Y\"),\"\"))","v":""},"","","",null,"",{"$f":"IF(AND(ISNUMBER(A1731),NOT(ISNUMBER(A1732))),SUM(OFFSET(E1731,-Q1731,0):E1731),IF(AND(ISNUMBER(P1731),ISNUMBER(P1732),P1731  <P1732),SUM(OFFSET(E1731,-Q1731,0):E1731),\"\"))","v":""},{"$f":"IF(ISNUMBER(L1731),SUM(OFFSET(G1731,-Q1731,0):G1731),\"\")","v":""},"",{"$f":"IF(B1731>0,'Tax Scales'!U1731-D1731,\"\")","v":""},"","",{"$f":"IF(ISNUMBER(G1731),IF(G1731>0,'Tax Scales'!AQ1731,\"\"),\"\")","v":""}]
["",null,null,null,"",{"$f":"IF(SUM($B$7:$B1732)=0,\"\",IF(A1732<>\"\",IF(A1732<$B$3,\"N\",\"Y\"),\"\"))","v":""},"","","",null,"",{"$f":"IF(AND(ISNUMBER(A1732),NOT(ISNUMBER(A1733))),SUM(OFFSET(E1732,-Q1732,0):E1732),IF(AND(ISNUMBER(P1732),ISNUMBER(P1733),P1732  <P1733),SUM(OFFSET(E1732,-Q1732,0):E1732),\"\"))","v":""},{"$f":"IF(ISNUMBER(L1732),SUM(OFFSET(G1732,-Q1732,0):G1732),\"\")","v":""},"",{"$f":"IF(B1732>0,'Tax Scales'!U1732-D1732,\"\")","v":""},"","",{"$f":"IF(ISNUMBER(G1732),IF(G1732>0,'Tax Scales'!AQ1732,\"\"),\"\")","v":""}]
["",null,null,null,"",{"$f":"IF(SUM($B$7:$B1733)=0,\"\",IF(A1733<>\"\",IF(A1733<$B$3,\"N\",\"Y\"),\"\"))","v":""},"","","",null,"",{"$f":"IF(AND(ISNUMBER(A1733),NOT(ISNUMBER(A1734))),SUM(OFFSET(E1733,-Q1733,0):E1733),IF(AND(ISNUMBER(P1733),ISNUMBER(P1734),P1733  <P1734),SUM(OFFSET(E1733,-Q1733,0):E1733),\"\"))","v":""},{"$f":"IF(ISNUMBER(L1733),SUM(OFFSET(G1733,-Q1733,0):G1733),\"\")","v":""},"",{"$f":"IF(B1733>0,'Tax Scales'!U1733-D1733,\"\")","v":""},"","",{"$f":"IF(ISNUMBER(G1733),IF(G1733>0,'Tax Scales'!AQ1733,\"\"),\"\")","v":""}]
["",null,null,null,"",{"$f":"IF(SUM($B$7:$B1734)=0,\"\",IF(A1734<>\"\",IF(A1734<$B$3,\"N\",\"Y\"),\"\"))","v":""},"","","",null,"",{"$f":"IF(AND(ISNUMBER(A1734),NOT(ISNUMBER(A1735))),SUM(OFFSET(E1734,-Q1734,0):E1734),IF(AND(ISNUMBER(P1734),ISNUMBER(P1735),P1734  <P1735),SUM(OFFSET(E1734,-Q1734,0):E1734),\"\"))","v":""},{"$f":"IF(ISNUMBER(L1734),SUM(OFFSET(G1734,-Q1734,0):G1734),\"\")","v":""},"",{"$f":"IF(B1734>0,'Tax Scales'!U1734-D1734,\"\")","v":""},"","",{"$f":"IF(ISNUMBER(G1734),IF(G1734>0,'Tax Scales'!AQ1734,\"\"),\"\")","v":""}]
["",null,null,null,"",{"$f":"IF(SUM($B$7:$B1735)=0,\"\",IF(A1735<>\"\",IF(A1735<$B$3,\"N\",\"Y\"),\"\"))","v":""},"","","",null,"",{"$f":"IF(AND(ISNUMBER(A1735),NOT(ISNUMBER(A1736))),SUM(OFFSET(E1735,-Q1735,0):E1735),IF(AND(ISNUMBER(P1735),ISNUMBER(P1736),P1735  <P1736),SUM(OFFSET(E1735,-Q1735,0):E1735),\"\"))","v":""},{"$f":"IF(ISNUMBER(L1735),SUM(OFFSET(G1735,-Q1735,0):G1735),\"\")","v":""},"",{"$f":"IF(B1735>0,'Tax Scales'!U1735-D1735,\"\")","v":""},"","",{"$f":"IF(ISNUMBER(G1735),IF(G1735>0,'Tax Scales'!AQ1735,\"\"),\"\")","v":""}]
["",null,null,null,"",{"$f":"IF(SUM($B$7:$B1736)=0,\"\",IF(A1736<>\"\",IF(A1736<$B$3,\"N\",\"Y\"),\"\"))","v":""},"","","",null,"",{"$f":"IF(AND(ISNUMBER(A1736),NOT(ISNUMBER(A1737))),SUM(OFFSET(E1736,-Q1736,0):E1736),IF(AND(ISNUMBER(P1736),ISNUMBER(P1737),P1736  <P1737),SUM(OFFSET(E1736,-Q1736,0):E1736),\"\"))","v":""},{"$f":"IF(ISNUMBER(L1736),SUM(OFFSET(G1736,-Q1736,0):G1736),\"\")","v":""},"",{"$f":"IF(B1736>0,'Tax Scales'!U1736-D1736,\"\")","v":""},"","",{"$f":"IF(ISNUMBER(G1736),IF(G1736>0,'Tax Scales'!AQ1736,\"\"),\"\")","v":""}]
["",null,null,null,"",{"$f":"IF(SUM($B$7:$B1737)=0,\"\",IF(A1737<>\"\",IF(A1737<$B$3,\"N\",\"Y\"),\"\"))","v":""},{"$f":"IF(F1737=\"N\",0,IF(A1737<>\"\",IF(K1737>=0,((E1737+I1736)*(1+(H1737/52)/100)-E1737-I1736),0),\"\"))","v":""},"","",null,"",{"$f":"IF(AND(ISNUMBER(A1737),NOT(ISNUMBER(A1738))),SUM(OFFSET(E1737,-Q1737,0):E1737),IF(AND(ISNUMBER(P1737),ISNUMBER(P1738),P1737  <P1738),SUM(OFFSET(E1737,-Q1737,0):E1737),\"\"))","v":""},{"$f":"IF(ISNUMBER(L1737),SUM(OFFSET(G1737,-Q1737,0):G1737),\"\")","v":""},"",{"$f":"IF(B1737>0,'Tax Scales'!U1737-D1737,\"\")","v":""},"","",{"$f":"IF(ISNUMBER(G1737),IF(G1737>0,'Tax Scales'!AQ1737,\"\"),\"\")","v":""}]
[{"$f":"IF(A1737<>\"\",IF(A1737+12<=TODAY(),+A1737+7,\"\"),\"\")","v":""},null,null,null,"",{"$f":"IF(SUM($B$7:$B1738)=0,\"\",IF(A1738<>\"\",IF(A1738<$B$3,\"N\",\"Y\"),\"\"))","v":""},"","","",null,"",{"$f":"IF(AND(ISNUMBER(A1738),NOT(ISNUMBER(A1739))),SUM(OFFSET(E1738,-Q1738,0):E1738),IF(AND(ISNUMBER(P1738),ISNUMBER(P1739),P1738  <P1739),SUM(OFFSET(E1738,-Q1738,0):E1738),\"\"))","v":""},{"$f":"IF(ISNUMBER(L1738),SUM(OFFSET(G1738,-Q1738,0):G1738),\"\")","v":""},"",{"$f":"IF(B1738>0,'Tax Scales'!U1738-D1738,\"\")","v":""},"","",{"$f":"IF(ISNUMBER(G1738),IF(G1738>0,'Tax Scales'!AQ1738,\"\"),\"\")","v":""}]
["",null,null,null,"",{"$f":"IF(SUM($B$7:$B1739)=0,\"\",IF(A1739<>\"\",IF(A1739<$B$3,\"N\",\"Y\"),\"\"))","v":""},"","","",null,"",{"$f":"IF(AND(ISNUMBER(A1739),NOT(ISNUMBER(A1740))),SUM(OFFSET(E1739,-Q1739,0):E1739),IF(AND(ISNUMBER(P1739),ISNUMBER(P1740),P1739  <P1740),SUM(OFFSET(E1739,-Q1739,0):E1739),\"\"))","v":""},{"$f":"IF(ISNUMBER(L1739),SUM(OFFSET(G1739,-Q1739,0):G1739),\"\")","v":""},"",{"$f":"IF(B1739>0,'Tax Scales'!U1739-D1739,\"\")","v":""},"","",{"$f":"IF(ISNUMBER(G1739),IF(G1739>0,'Tax Scales'!AQ1739,\"\"),\"\")","v":""}]
["",null,null,null,"",{"$f":"IF(SUM($B$7:$B1740)=0,\"\",IF(A1740<>\"\",IF(A1740<$B$3,\"N\",\"Y\"),\"\"))","v":""},"","","",null,"",{"$f":"IF(AND(ISNUMBER(A1740),NOT(ISNUMBER(A1741))),SUM(OFFSET(E1740,-Q1740,0):E1740),IF(AND(ISNUMBER(P1740),ISNUMBER(P1741),P1740  <P1741),SUM(OFFSET(E1740,-Q1740,0):E1740),\"\"))","v":""},{"$f":"IF(ISNUMBER(L1740),SUM(OFFSET(G1740,-Q1740,0):G1740),\"\")","v":""},"",{"$f":"IF(B1740>0,'Tax Scales'!U1740-D1740,\"\")","v":""},"","",{"$f":"IF(ISNUMBER(G1740),IF(G1740>0,'Tax Scales'!AQ1740,\"\"),\"\")","v":""}]
["",null,null,null,"",{"$f":"IF(SUM($B$7:$B1741)=0,\"\",IF(A1741<>\"\",IF(A1741<$B$3,\"N\",\"Y\"),\"\"))","v":""},"","","",null,"",{"$f":"IF(AND(ISNUMBER(A1741),NOT(ISNUMBER(A1742))),SUM(OFFSET(E1741,-Q1741,0):E1741),IF(AND(ISNUMBER(P1741),ISNUMBER(P1742),P1741  <P1742),SUM(OFFSET(E1741,-Q1741,0):E1741),\"\"))","v":""},{"$f":"IF(ISNUMBER(L1741),SUM(OFFSET(G1741,-Q1741,0):G1741),\"\")","v":""},"",{"$f":"IF(B1741>0,'Tax Scales'!U1741-D1741,\"\")","v":""},"","",{"$f":"IF(ISNUMBER(G1741),IF(G1741>0,'Tax Scales'!AQ1741,\"\"),\"\")","v":""}]
["",null,null,null,"",{"$f":"IF(SUM($B$7:$B1742)=0,\"\",IF(A1742<>\"\",IF(A1742<$B$3,\"N\",\"Y\"),\"\"))","v":""},"","","",null,"",{"$f":"IF(AND(ISNUMBER(A1742),NOT(ISNUMBER(A1743))),SUM(OFFSET(E1742,-Q1742,0):E1742),IF(AND(ISNUMBER(P1742),ISNUMBER(P1743),P1742  <P1743),SUM(OFFSET(E1742,-Q1742,0):E1742),\"\"))","v":""},{"$f":"IF(ISNUMBER(L1742),SUM(OFFSET(G1742,-Q1742,0):G1742),\"\")","v":""},"",{"$f":"IF(B1742>0,'Tax Scales'!U1742-D1742,\"\")","v":""},"","",{"$f":"IF(ISNUMBER(G1742),IF(G1742>0,'Tax Scales'!AQ1742,\"\"),\"\")","v":""}]
["",null,null,null,"",{"$f":"IF(SUM($B$7:$B1743)=0,\"\",IF(A1743<>\"\",IF(A1743<$B$3,\"N\",\"Y\"),\"\"))","v":""},"","","",null,"",{"$f":"IF(AND(ISNUMBER(A1743),NOT(ISNUMBER(A1744))),SUM(OFFSET(E1743,-Q1743,0):E1743),IF(AND(ISNUMBER(P1743),ISNUMBER(P1744),P1743  <P1744),SUM(OFFSET(E1743,-Q1743,0):E1743),\"\"))","v":""},{"$f":"IF(ISNUMBER(L1743),SUM(OFFSET(G1743,-Q1743,0):G1743),\"\")","v":""},"",{"$f":"IF(B1743>0,'Tax Scales'!U1743-D1743,\"\")","v":""},"","",{"$f":"IF(ISNUMBER(G1743),IF(G1743>0,'Tax Scales'!AQ1743,\"\"),\"\")","v":""}]
["",null,null,null,"",{"$f":"IF(SUM($B$7:$B1744)=0,\"\",IF(A1744<>\"\",IF(A1744<$B$3,\"N\",\"Y\"),\"\"))","v":""},"","","",null,"",{"$f":"IF(AND(ISNUMBER(A1744),NOT(ISNUMBER(A1745))),SUM(OFFSET(E1744,-Q1744,0):E1744),IF(AND(ISNUMBER(P1744),ISNUMBER(P1745),P1744  <P1745),SUM(OFFSET(E1744,-Q1744,0):E1744),\"\"))","v":""},{"$f":"IF(ISNUMBER(L1744),SUM(OFFSET(G1744,-Q1744,0):G1744),\"\")","v":""},"",{"$f":"IF(B1744>0,'Tax Scales'!U1744-D1744,\"\")","v":""},"","",{"$f":"IF(ISNUMBER(G1744),IF(G1744>0,'Tax Scales'!AQ1744,\"\"),\"\")","v":""}]
["",null,null,null,"",{"$f":"IF(SUM($B$7:$B1745)=0,\"\",IF(A1745<>\"\",IF(A1745<$B$3,\"N\",\"Y\"),\"\"))","v":""},"","","",null,"",{"$f":"IF(AND(ISNUMBER(A1745),NOT(ISNUMBER(A1746))),SUM(OFFSET(E1745,-Q1745,0):E1745),IF(AND(ISNUMBER(P1745),ISNUMBER(P1746),P1745  <P1746),SUM(OFFSET(E1745,-Q1745,0):E1745),\"\"))","v":""},{"$f":"IF(ISNUMBER(L1745),SUM(OFFSET(G1745,-Q1745,0):G1745),\"\")","v":""},"",{"$f":"IF(B1745>0,'Tax Scales'!U1745-D1745,\"\")","v":""},"","",{"$f":"IF(ISNUMBER(G1745),IF(G1745>0,'Tax Scales'!AQ1745,\"\"),\"\")","v":""}]
["",null,null,null,{"$f":"IF(A1746<>\"\",IF(B1746-C1746>=0,B1746-C1746,0),\"\")","v":""},{"$f":"IF(SUM($B$7:$B1746)=0,\"\",IF(A1746<>\"\",IF(A1746<$B$3,\"N\",\"Y\"),\"\"))","v":""},"","",{"$f":"IF(A1746<>\"\",I1745+E1746+G1746,\"\")","v":""},null,{"$f":"IF(A1746<>\"\",IF((TODAY()-A1746)/7>=0,INT((TODAY()-A1746)/7),0),\"\")","v":""},{"$f":"IF(AND(ISNUMBER(A1746),NOT(ISNUMBER(A1747))),SUM(OFFSET(E1746,-Q1746,0):E1746),IF(AND(ISNUMBER(P1746),ISNUMBER(P1747),P1746  <P1747),SUM(OFFSET(E1746,-Q1746,0):E1746),\"\"))","v":""},{"$f":"IF(ISNUMBER(L1746),SUM(OFFSET(G1746,-Q1746,0):G1746),\"\")","v":""},{"$f":"IF(B1746>0,IF(P1746  = $P$6,E1746-O1746,\"\"),\"\")","v":""},{"$f":"IF(B1746>0,'Tax Scales'!U1746-D1746,\"\")","v":""},{"$f":"IF(ISNUMBER(A1746),FinYear(A1746),\"\")","v":""},{"$f":"IF(ISNUMBER(A1746),ROUND((A1746-StartOfFinYear(P1746))/7,0),\"\")","v":""},{"$f":"IF(ISNUMBER(G1746),IF(G1746>0,'Tax Scales'!AQ1746,\"\"),\"\")","v":""}]
["",null,null,null,"",{"$f":"IF(SUM($B$7:$B1747)=0,\"\",IF(A1747<>\"\",IF(A1747<$B$3,\"N\",\"Y\"),\"\"))","v":""},"","","",null,"",{"$f":"IF(AND(ISNUMBER(A1747),NOT(ISNUMBER(A1748))),SUM(OFFSET(E1747,-Q1747,0):E1747),IF(AND(ISNUMBER(P1747),ISNUMBER(P1748),P1747  <P1748),SUM(OFFSET(E1747,-Q1747,0):E1747),\"\"))","v":""},{"$f":"IF(ISNUMBER(L1747),SUM(OFFSET(G1747,-Q1747,0):G1747),\"\")","v":""},"",{"$f":"IF(B1747>0,'Tax Scales'!U1747-D1747,\"\")","v":""},"","",{"$f":"IF(ISNUMBER(G1747),IF(G1747>0,'Tax Scales'!AQ1747,\"\"),\"\")","v":""}]
["",null,null,null,"",{"$f":"IF(SUM($B$7:$B1748)=0,\"\",IF(A1748<>\"\",IF(A1748<$B$3,\"N\",\"Y\"),\"\"))","v":""},"","","",null,"",{"$f":"IF(AND(ISNUMBER(A1748),NOT(ISNUMBER(A1749))),SUM(OFFSET(E1748,-Q1748,0):E1748),IF(AND(ISNUMBER(P1748),ISNUMBER(P1749),P1748  <P1749),SUM(OFFSET(E1748,-Q1748,0):E1748),\"\"))","v":""},{"$f":"IF(ISNUMBER(L1748),SUM(OFFSET(G1748,-Q1748,0):G1748),\"\")","v":""},"",{"$f":"IF(B1748>0,'Tax Scales'!U1748-D1748,\"\")","v":""},"","",{"$f":"IF(ISNUMBER(G1748),IF(G1748>0,'Tax Scales'!AQ1748,\"\"),\"\")","v":""}]
["",null,null,null,"",{"$f":"IF(SUM($B$7:$B1749)=0,\"\",IF(A1749<>\"\",IF(A1749<$B$3,\"N\",\"Y\"),\"\"))","v":""},"","","",null,"",{"$f":"IF(AND(ISNUMBER(A1749),NOT(ISNUMBER(A1750))),SUM(OFFSET(E1749,-Q1749,0):E1749),IF(AND(ISNUMBER(P1749),ISNUMBER(P1750),P1749  <P1750),SUM(OFFSET(E1749,-Q1749,0):E1749),\"\"))","v":""},{"$f":"IF(ISNUMBER(L1749),SUM(OFFSET(G1749,-Q1749,0):G1749),\"\")","v":""},"",{"$f":"IF(B1749>0,'Tax Scales'!U1749-D1749,\"\")","v":""},"","",{"$f":"IF(ISNUMBER(G1749),IF(G1749>0,'Tax Scales'!AQ1749,\"\"),\"\")","v":""}]
["",null,null,null,"",{"$f":"IF(SUM($B$7:$B1750)=0,\"\",IF(A1750<>\"\",IF(A1750<$B$3,\"N\",\"Y\"),\"\"))","v":""},"","","",null,"",{"$f":"IF(AND(ISNUMBER(A1750),NOT(ISNUMBER(A1751))),SUM(OFFSET(E1750,-Q1750,0):E1750),IF(AND(ISNUMBER(P1750),ISNUMBER(P1751),P1750  <P1751),SUM(OFFSET(E1750,-Q1750,0):E1750),\"\"))","v":""},{"$f":"IF(ISNUMBER(L1750),SUM(OFFSET(G1750,-Q1750,0):G1750),\"\")","v":""},"",{"$f":"IF(B1750>0,'Tax Scales'!U1750-D1750,\"\")","v":""},"","",{"$f":"IF(ISNUMBER(G1750),IF(G1750>0,'Tax Scales'!AQ1750,\"\"),\"\")","v":""}]
["",null,null,null,"",{"$f":"IF(SUM($B$7:$B1751)=0,\"\",IF(A1751<>\"\",IF(A1751<$B$3,\"N\",\"Y\"),\"\"))","v":""},"","","",null,"",{"$f":"IF(AND(ISNUMBER(A1751),NOT(ISNUMBER(A1752))),SUM(OFFSET(E1751,-Q1751,0):E1751),IF(AND(ISNUMBER(P1751),ISNUMBER(P1752),P1751  <P1752),SUM(OFFSET(E1751,-Q1751,0):E1751),\"\"))","v":""},{"$f":"IF(ISNUMBER(L1751),SUM(OFFSET(G1751,-Q1751,0):G1751),\"\")","v":""},"",{"$f":"IF(B1751>0,'Tax Scales'!U1751-D1751,\"\")","v":""},"","",{"$f":"IF(ISNUMBER(G1751),IF(G1751>0,'Tax Scales'!AQ1751,\"\"),\"\")","v":""}]
["",null,null,null,"",{"$f":"IF(SUM($B$7:$B1752)=0,\"\",IF(A1752<>\"\",IF(A1752<$B$3,\"N\",\"Y\"),\"\"))","v":""},"","","",null,"",{"$f":"IF(AND(ISNUMBER(A1752),NOT(ISNUMBER(A1753))),SUM(OFFSET(E1752,-Q1752,0):E1752),IF(AND(ISNUMBER(P1752),ISNUMBER(P1753),P1752  <P1753),SUM(OFFSET(E1752,-Q1752,0):E1752),\"\"))","v":""},{"$f":"IF(ISNUMBER(L1752),SUM(OFFSET(G1752,-Q1752,0):G1752),\"\")","v":""},"",{"$f":"IF(B1752>0,'Tax Scales'!U1752-D1752,\"\")","v":""},"","",{"$f":"IF(ISNUMBER(G1752),IF(G1752>0,'Tax Scales'!AQ1752,\"\"),\"\")","v":""}]
["",null,null,null,"",{"$f":"IF(SUM($B$7:$B1753)=0,\"\",IF(A1753<>\"\",IF(A1753<$B$3,\"N\",\"Y\"),\"\"))","v":""},"",{"$f":"IF(A1753<>\"\",9.49,\"\")","v":""},"",null,"",{"$f":"IF(AND(ISNUMBER(A1753),NOT(ISNUMBER(A1754))),SUM(OFFSET(E1753,-Q1753,0):E1753),IF(AND(ISNUMBER(P1753),ISNUMBER(P1754),P1753  <P1754),SUM(OFFSET(E1753,-Q1753,0):E1753),\"\"))","v":""},{"$f":"IF(ISNUMBER(L1753),SUM(OFFSET(G1753,-Q1753,0):G1753),\"\")","v":""},"",{"$f":"IF(B1753>0,'Tax Scales'!U1753-D1753,\"\")","v":""},"","",{"$f":"IF(ISNUMBER(G1753),IF(G1753>0,'Tax Scales'!AQ1753,\"\"),\"\")","v":""}]
["",null,null,null,"",{"$f":"IF(SUM($B$7:$B1754)=0,\"\",IF(A1754<>\"\",IF(A1754<$B$3,\"N\",\"Y\"),\"\"))","v":""},"","","",null,"",{"$f":"IF(AND(ISNUMBER(A1754),NOT(ISNUMBER(A1755))),SUM(OFFSET(E1754,-Q1754,0):E1754),IF(AND(ISNUMBER(P1754),ISNUMBER(P1755),P1754  <P1755),SUM(OFFSET(E1754,-Q1754,0):E1754),\"\"))","v":""},{"$f":"IF(ISNUMBER(L1754),SUM(OFFSET(G1754,-Q1754,0):G1754),\"\")","v":""},"",{"$f":"IF(B1754>0,'Tax Scales'!U1754-D1754,\"\")","v":""},"","",{"$f":"IF(ISNUMBER(G1754),IF(G1754>0,'Tax Scales'!AQ1754,\"\"),\"\")","v":""}]
["",null,null,null,"",{"$f":"IF(SUM($B$7:$B1755)=0,\"\",IF(A1755<>\"\",IF(A1755<$B$3,\"N\",\"Y\"),\"\"))","v":""},"","","",null,"",{"$f":"IF(AND(ISNUMBER(A1755),NOT(ISNUMBER(A1756))),SUM(OFFSET(E1755,-Q1755,0):E1755),IF(AND(ISNUMBER(P1755),ISNUMBER(P1756),P1755  <P1756),SUM(OFFSET(E1755,-Q1755,0):E1755),\"\"))","v":""},{"$f":"IF(ISNUMBER(L1755),SUM(OFFSET(G1755,-Q1755,0):G1755),\"\")","v":""},"",{"$f":"IF(B1755>0,'Tax Scales'!U1755-D1755,\"\")","v":""},"","",{"$f":"IF(ISNUMBER(G1755),IF(G1755>0,'Tax Scales'!AQ1755,\"\"),\"\")","v":""}]
["",null,null,null,"",{"$f":"IF(SUM($B$7:$B1756)=0,\"\",IF(A1756<>\"\",IF(A1756<$B$3,\"N\",\"Y\"),\"\"))","v":""},"","","",null,"",{"$f":"IF(AND(ISNUMBER(A1756),NOT(ISNUMBER(A1757))),SUM(OFFSET(E1756,-Q1756,0):E1756),IF(AND(ISNUMBER(P1756),ISNUMBER(P1757),P1756  <P1757),SUM(OFFSET(E1756,-Q1756,0):E1756),\"\"))","v":""},{"$f":"IF(ISNUMBER(L1756),SUM(OFFSET(G1756,-Q1756,0):G1756),\"\")","v":""},"",{"$f":"IF(B1756>0,'Tax Scales'!U1756-D1756,\"\")","v":""},"","",{"$f":"IF(ISNUMBER(G1756),IF(G1756>0,'Tax Scales'!AQ1756,\"\"),\"\")","v":""}]
["",null,null,null,"",{"$f":"IF(SUM($B$7:$B1757)=0,\"\",IF(A1757<>\"\",IF(A1757<$B$3,\"N\",\"Y\"),\"\"))","v":""},"","","",null,"",{"$f":"IF(AND(ISNUMBER(A1757),NOT(ISNUMBER(A1758))),SUM(OFFSET(E1757,-Q1757,0):E1757),IF(AND(ISNUMBER(P1757),ISNUMBER(P1758),P1757  <P1758),SUM(OFFSET(E1757,-Q1757,0):E1757),\"\"))","v":""},{"$f":"IF(ISNUMBER(L1757),SUM(OFFSET(G1757,-Q1757,0):G1757),\"\")","v":""},"",{"$f":"IF(B1757>0,'Tax Scales'!U1757-D1757,\"\")","v":""},"","",{"$f":"IF(ISNUMBER(G1757),IF(G1757>0,'Tax Scales'!AQ1757,\"\"),\"\")","v":""}]
["",null,null,null,"",{"$f":"IF(SUM($B$7:$B1758)=0,\"\",IF(A1758<>\"\",IF(A1758<$B$3,\"N\",\"Y\"),\"\"))","v":""},"","","",null,"",{"$f":"IF(AND(ISNUMBER(A1758),NOT(ISNUMBER(A1759))),SUM(OFFSET(E1758,-Q1758,0):E1758),IF(AND(ISNUMBER(P1758),ISNUMBER(P1759),P1758  <P1759),SUM(OFFSET(E1758,-Q1758,0):E1758),\"\"))","v":""},{"$f":"IF(ISNUMBER(L1758),SUM(OFFSET(G1758,-Q1758,0):G1758),\"\")","v":""},"",{"$f":"IF(B1758>0,'Tax Scales'!U1758-D1758,\"\")","v":""},"","",{"$f":"IF(ISNUMBER(G1758),IF(G1758>0,'Tax Scales'!AQ1758,\"\"),\"\")","v":""}]
["",null,null,null,"",{"$f":"IF(SUM($B$7:$B1759)=0,\"\",IF(A1759<>\"\",IF(A1759<$B$3,\"N\",\"Y\"),\"\"))","v":""},"","","",null,"",{"$f":"IF(AND(ISNUMBER(A1759),NOT(ISNUMBER(A1760))),SUM(OFFSET(E1759,-Q1759,0):E1759),IF(AND(ISNUMBER(P1759),ISNUMBER(P1760),P1759  <P1760),SUM(OFFSET(E1759,-Q1759,0):E1759),\"\"))","v":""},{"$f":"IF(ISNUMBER(L1759),SUM(OFFSET(G1759,-Q1759,0):G1759),\"\")","v":""},"",{"$f":"IF(B1759>0,'Tax Scales'!U1759-D1759,\"\")","v":""},"","",{"$f":"IF(ISNUMBER(G1759),IF(G1759>0,'Tax Scales'!AQ1759,\"\"),\"\")","v":""}]
["",null,null,null,"",{"$f":"IF(SUM($B$7:$B1760)=0,\"\",IF(A1760<>\"\",IF(A1760<$B$3,\"N\",\"Y\"),\"\"))","v":""},"","","",null,"",{"$f":"IF(AND(ISNUMBER(A1760),NOT(ISNUMBER(A1761))),SUM(OFFSET(E1760,-Q1760,0):E1760),IF(AND(ISNUMBER(P1760),ISNUMBER(P1761),P1760  <P1761),SUM(OFFSET(E1760,-Q1760,0):E1760),\"\"))","v":""},{"$f":"IF(ISNUMBER(L1760),SUM(OFFSET(G1760,-Q1760,0):G1760),\"\")","v":""},"",{"$f":"IF(B1760>0,'Tax Scales'!U1760-D1760,\"\")","v":""},"","",{"$f":"IF(ISNUMBER(G1760),IF(G1760>0,'Tax Scales'!AQ1760,\"\"),\"\")","v":""}]
["",null,null,null,"",{"$f":"IF(SUM($B$7:$B1761)=0,\"\",IF(A1761<>\"\",IF(A1761<$B$3,\"N\",\"Y\"),\"\"))","v":""},"","","",null,"",{"$f":"IF(AND(ISNUMBER(A1761),NOT(ISNUMBER(A1762))),SUM(OFFSET(E1761,-Q1761,0):E1761),IF(AND(ISNUMBER(P1761),ISNUMBER(P1762),P1761  <P1762),SUM(OFFSET(E1761,-Q1761,0):E1761),\"\"))","v":""},{"$f":"IF(ISNUMBER(L1761),SUM(OFFSET(G1761,-Q1761,0):G1761),\"\")","v":""},"",{"$f":"IF(B1761>0,'Tax Scales'!U1761-D1761,\"\")","v":""},"","",{"$f":"IF(ISNUMBER(G1761),IF(G1761>0,'Tax Scales'!AQ1761,\"\"),\"\")","v":""}]
["",null,null,null,"",{"$f":"IF(SUM($B$7:$B1762)=0,\"\",IF(A1762<>\"\",IF(A1762<$B$3,\"N\",\"Y\"),\"\"))","v":""},"","","",null,"",{"$f":"IF(AND(ISNUMBER(A1762),NOT(ISNUMBER(A1763))),SUM(OFFSET(E1762,-Q1762,0):E1762),IF(AND(ISNUMBER(P1762),ISNUMBER(P1763),P1762  <P1763),SUM(OFFSET(E1762,-Q1762,0):E1762),\"\"))","v":""},{"$f":"IF(ISNUMBER(L1762),SUM(OFFSET(G1762,-Q1762,0):G1762),\"\")","v":""},"",{"$f":"IF(B1762>0,'Tax Scales'!U1762-D1762,\"\")","v":""},"","",{"$f":"IF(ISNUMBER(G1762),IF(G1762>0,'Tax Scales'!AQ1762,\"\"),\"\")","v":""}]
["",null,null,null,"",{"$f":"IF(SUM($B$7:$B1763)=0,\"\",IF(A1763<>\"\",IF(A1763<$B$3,\"N\",\"Y\"),\"\"))","v":""},"","","",null,"",{"$f":"IF(AND(ISNUMBER(A1763),NOT(ISNUMBER(A1764))),SUM(OFFSET(E1763,-Q1763,0):E1763),IF(AND(ISNUMBER(P1763),ISNUMBER(P1764),P1763  <P1764),SUM(OFFSET(E1763,-Q1763,0):E1763),\"\"))","v":""},{"$f":"IF(ISNUMBER(L1763),SUM(OFFSET(G1763,-Q1763,0):G1763),\"\")","v":""},"",{"$f":"IF(B1763>0,'Tax Scales'!U1763-D1763,\"\")","v":""},"","",{"$f":"IF(ISNUMBER(G1763),IF(G1763>0,'Tax Scales'!AQ1763,\"\"),\"\")","v":""}]
["",null,null,null,"",{"$f":"IF(SUM($B$7:$B1764)=0,\"\",IF(A1764<>\"\",IF(A1764<$B$3,\"N\",\"Y\"),\"\"))","v":""},"","","",null,"",{"$f":"IF(AND(ISNUMBER(A1764),NOT(ISNUMBER(A1765))),SUM(OFFSET(E1764,-Q1764,0):E1764),IF(AND(ISNUMBER(P1764),ISNUMBER(P1765),P1764  <P1765),SUM(OFFSET(E1764,-Q1764,0):E1764),\"\"))","v":""},{"$f":"IF(ISNUMBER(L1764),SUM(OFFSET(G1764,-Q1764,0):G1764),\"\")","v":""},"",{"$f":"IF(B1764>0,'Tax Scales'!U1764-D1764,\"\")","v":""},"","",{"$f":"IF(ISNUMBER(G1764),IF(G1764>0,'Tax Scales'!AQ1764,\"\"),\"\")","v":""}]
["",null,null,null,"",{"$f":"IF(SUM($B$7:$B1765)=0,\"\",IF(A1765<>\"\",IF(A1765<$B$3,\"N\",\"Y\"),\"\"))","v":""},"","","",null,"",{"$f":"IF(AND(ISNUMBER(A1765),NOT(ISNUMBER(A1766))),SUM(OFFSET(E1765,-Q1765,0):E1765),IF(AND(ISNUMBER(P1765),ISNUMBER(P1766),P1765  <P1766),SUM(OFFSET(E1765,-Q1765,0):E1765),\"\"))","v":""},{"$f":"IF(ISNUMBER(L1765),SUM(OFFSET(G1765,-Q1765,0):G1765),\"\")","v":""},"",{"$f":"IF(B1765>0,'Tax Scales'!U1765-D1765,\"\")","v":""},"","",{"$f":"IF(ISNUMBER(G1765),IF(G1765>0,'Tax Scales'!AQ1765,\"\"),\"\")","v":""}]
["",null,null,null,"",{"$f":"IF(SUM($B$7:$B1766)=0,\"\",IF(A1766<>\"\",IF(A1766<$B$3,\"N\",\"Y\"),\"\"))","v":""},"","","",null,"",{"$f":"IF(AND(ISNUMBER(A1766),NOT(ISNUMBER(A1767))),SUM(OFFSET(E1766,-Q1766,0):E1766),IF(AND(ISNUMBER(P1766),ISNUMBER(P1767),P1766  <P1767),SUM(OFFSET(E1766,-Q1766,0):E1766),\"\"))","v":""},{"$f":"IF(ISNUMBER(L1766),SUM(OFFSET(G1766,-Q1766,0):G1766),\"\")","v":""},"",{"$f":"IF(B1766>0,'Tax Scales'!U1766-D1766,\"\")","v":""},"","",{"$f":"IF(ISNUMBER(G1766),IF(G1766>0,'Tax Scales'!AQ1766,\"\"),\"\")","v":""}]
["",null,null,null,"",{"$f":"IF(SUM($B$7:$B1767)=0,\"\",IF(A1767<>\"\",IF(A1767<$B$3,\"N\",\"Y\"),\"\"))","v":""},"","","",null,"",{"$f":"IF(AND(ISNUMBER(A1767),NOT(ISNUMBER(A1768))),SUM(OFFSET(E1767,-Q1767,0):E1767),IF(AND(ISNUMBER(P1767),ISNUMBER(P1768),P1767  <P1768),SUM(OFFSET(E1767,-Q1767,0):E1767),\"\"))","v":""},{"$f":"IF(ISNUMBER(L1767),SUM(OFFSET(G1767,-Q1767,0):G1767),\"\")","v":""},"",{"$f":"IF(B1767>0,'Tax Scales'!U1767-D1767,\"\")","v":""},"","",{"$f":"IF(ISNUMBER(G1767),IF(G1767>0,'Tax Scales'!AQ1767,\"\"),\"\")","v":""}]
["",null,null,null,"",{"$f":"IF(SUM($B$7:$B1768)=0,\"\",IF(A1768<>\"\",IF(A1768<$B$3,\"N\",\"Y\"),\"\"))","v":""},"","","",null,"",{"$f":"IF(AND(ISNUMBER(A1768),NOT(ISNUMBER(A1769))),SUM(OFFSET(E1768,-Q1768,0):E1768),IF(AND(ISNUMBER(P1768),ISNUMBER(P1769),P1768  <P1769),SUM(OFFSET(E1768,-Q1768,0):E1768),\"\"))","v":""},{"$f":"IF(ISNUMBER(L1768),SUM(OFFSET(G1768,-Q1768,0):G1768),\"\")","v":""},"",{"$f":"IF(B1768>0,'Tax Scales'!U1768-D1768,\"\")","v":""},"","",{"$f":"IF(ISNUMBER(G1768),IF(G1768>0,'Tax Scales'!AQ1768,\"\"),\"\")","v":""}]
["",null,null,null,"",{"$f":"IF(SUM($B$7:$B1769)=0,\"\",IF(A1769<>\"\",IF(A1769<$B$3,\"N\",\"Y\"),\"\"))","v":""},"","","",null,"",{"$f":"IF(AND(ISNUMBER(A1769),NOT(ISNUMBER(A1770))),SUM(OFFSET(E1769,-Q1769,0):E1769),IF(AND(ISNUMBER(P1769),ISNUMBER(P1770),P1769  <P1770),SUM(OFFSET(E1769,-Q1769,0):E1769),\"\"))","v":""},{"$f":"IF(ISNUMBER(L1769),SUM(OFFSET(G1769,-Q1769,0):G1769),\"\")","v":""},"",{"$f":"IF(B1769>0,'Tax Scales'!U1769-D1769,\"\")","v":""},"","",{"$f":"IF(ISNUMBER(G1769),IF(G1769>0,'Tax Scales'!AQ1769,\"\"),\"\")","v":""}]
["",null,null,null,"",{"$f":"IF(SUM($B$7:$B1770)=0,\"\",IF(A1770<>\"\",IF(A1770<$B$3,\"N\",\"Y\"),\"\"))","v":""},"","","",null,"",{"$f":"IF(AND(ISNUMBER(A1770),NOT(ISNUMBER(A1771))),SUM(OFFSET(E1770,-Q1770,0):E1770),IF(AND(ISNUMBER(P1770),ISNUMBER(P1771),P1770  <P1771),SUM(OFFSET(E1770,-Q1770,0):E1770),\"\"))","v":""},{"$f":"IF(ISNUMBER(L1770),SUM(OFFSET(G1770,-Q1770,0):G1770),\"\")","v":""},"",{"$f":"IF(B1770>0,'Tax Scales'!U1770-D1770,\"\")","v":""},"","",{"$f":"IF(ISNUMBER(G1770),IF(G1770>0,'Tax Scales'!AQ1770,\"\"),\"\")","v":""}]
["",null,null,null,"",{"$f":"IF(SUM($B$7:$B1771)=0,\"\",IF(A1771<>\"\",IF(A1771<$B$3,\"N\",\"Y\"),\"\"))","v":""},"","","",null,"",{"$f":"IF(AND(ISNUMBER(A1771),NOT(ISNUMBER(A1772))),SUM(OFFSET(E1771,-Q1771,0):E1771),IF(AND(ISNUMBER(P1771),ISNUMBER(P1772),P1771  <P1772),SUM(OFFSET(E1771,-Q1771,0):E1771),\"\"))","v":""},{"$f":"IF(ISNUMBER(L1771),SUM(OFFSET(G1771,-Q1771,0):G1771),\"\")","v":""},"",{"$f":"IF(B1771>0,'Tax Scales'!U1771-D1771,\"\")","v":""},"","",{"$f":"IF(ISNUMBER(G1771),IF(G1771>0,'Tax Scales'!AQ1771,\"\"),\"\")","v":""}]
["",null,null,null,"",{"$f":"IF(SUM($B$7:$B1772)=0,\"\",IF(A1772<>\"\",IF(A1772<$B$3,\"N\",\"Y\"),\"\"))","v":""},"","","",null,"",{"$f":"IF(AND(ISNUMBER(A1772),NOT(ISNUMBER(A1773))),SUM(OFFSET(E1772,-Q1772,0):E1772),IF(AND(ISNUMBER(P1772),ISNUMBER(P1773),P1772  <P1773),SUM(OFFSET(E1772,-Q1772,0):E1772),\"\"))","v":""},{"$f":"IF(ISNUMBER(L1772),SUM(OFFSET(G1772,-Q1772,0):G1772),\"\")","v":""},"",{"$f":"IF(B1772>0,'Tax Scales'!U1772-D1772,\"\")","v":""},"","",{"$f":"IF(ISNUMBER(G1772),IF(G1772>0,'Tax Scales'!AQ1772,\"\"),\"\")","v":""}]
["",null,null,null,"",{"$f":"IF(SUM($B$7:$B1773)=0,\"\",IF(A1773<>\"\",IF(A1773<$B$3,\"N\",\"Y\"),\"\"))","v":""},"","","",null,"",{"$f":"IF(AND(ISNUMBER(A1773),NOT(ISNUMBER(A1774))),SUM(OFFSET(E1773,-Q1773,0):E1773),IF(AND(ISNUMBER(P1773),ISNUMBER(P1774),P1773  <P1774),SUM(OFFSET(E1773,-Q1773,0):E1773),\"\"))","v":""},{"$f":"IF(ISNUMBER(L1773),SUM(OFFSET(G1773,-Q1773,0):G1773),\"\")","v":""},"",{"$f":"IF(B1773>0,'Tax Scales'!U1773-D1773,\"\")","v":""},"","",{"$f":"IF(ISNUMBER(G1773),IF(G1773>0,'Tax Scales'!AQ1773,\"\"),\"\")","v":""}]
["",null,null,null,"",{"$f":"IF(SUM($B$7:$B1774)=0,\"\",IF(A1774<>\"\",IF(A1774<$B$3,\"N\",\"Y\"),\"\"))","v":""},"","","",null,"",{"$f":"IF(AND(ISNUMBER(A1774),NOT(ISNUMBER(A1775))),SUM(OFFSET(E1774,-Q1774,0):E1774),IF(AND(ISNUMBER(P1774),ISNUMBER(P1775),P1774  <P1775),SUM(OFFSET(E1774,-Q1774,0):E1774),\"\"))","v":""},{"$f":"IF(ISNUMBER(L1774),SUM(OFFSET(G1774,-Q1774,0):G1774),\"\")","v":""},"",{"$f":"IF(B1774>0,'Tax Scales'!U1774-D1774,\"\")","v":""},"","",{"$f":"IF(ISNUMBER(G1774),IF(G1774>0,'Tax Scales'!AQ1774,\"\"),\"\")","v":""}]
["",null,null,null,"",{"$f":"IF(SUM($B$7:$B1775)=0,\"\",IF(A1775<>\"\",IF(A1775<$B$3,\"N\",\"Y\"),\"\"))","v":""},"","","",null,"",{"$f":"IF(AND(ISNUMBER(A1775),NOT(ISNUMBER(A1776))),SUM(OFFSET(E1775,-Q1775,0):E1775),IF(AND(ISNUMBER(P1775),ISNUMBER(P1776),P1775  <P1776),SUM(OFFSET(E1775,-Q1775,0):E1775),\"\"))","v":""},{"$f":"IF(ISNUMBER(L1775),SUM(OFFSET(G1775,-Q1775,0):G1775),\"\")","v":""},"",{"$f":"IF(B1775>0,'Tax Scales'!U1775-D1775,\"\")","v":""},"","",{"$f":"IF(ISNUMBER(G1775),IF(G1775>0,'Tax Scales'!AQ1775,\"\"),\"\")","v":""}]
["",null,null,null,"",{"$f":"IF(SUM($B$7:$B1776)=0,\"\",IF(A1776<>\"\",IF(A1776<$B$3,\"N\",\"Y\"),\"\"))","v":""},"","","",null,"",{"$f":"IF(AND(ISNUMBER(A1776),NOT(ISNUMBER(A1777))),SUM(OFFSET(E1776,-Q1776,0):E1776),IF(AND(ISNUMBER(P1776),ISNUMBER(P1777),P1776  <P1777),SUM(OFFSET(E1776,-Q1776,0):E1776),\"\"))","v":""},{"$f":"IF(ISNUMBER(L1776),SUM(OFFSET(G1776,-Q1776,0):G1776),\"\")","v":""},"",{"$f":"IF(B1776>0,'Tax Scales'!U1776-D1776,\"\")","v":""},"","",{"$f":"IF(ISNUMBER(G1776),IF(G1776>0,'Tax Scales'!AQ1776,\"\"),\"\")","v":""}]
["",null,null,null,"",{"$f":"IF(SUM($B$7:$B1777)=0,\"\",IF(A1777<>\"\",IF(A1777<$B$3,\"N\",\"Y\"),\"\"))","v":""},"","","",null,"",{"$f":"IF(AND(ISNUMBER(A1777),NOT(ISNUMBER(A1778))),SUM(OFFSET(E1777,-Q1777,0):E1777),IF(AND(ISNUMBER(P1777),ISNUMBER(P1778),P1777  <P1778),SUM(OFFSET(E1777,-Q1777,0):E1777),\"\"))","v":""},{"$f":"IF(ISNUMBER(L1777),SUM(OFFSET(G1777,-Q1777,0):G1777),\"\")","v":""},"",{"$f":"IF(B1777>0,'Tax Scales'!U1777-D1777,\"\")","v":""},"","",{"$f":"IF(ISNUMBER(G1777),IF(G1777>0,'Tax Scales'!AQ1777,\"\"),\"\")","v":""}]
["",null,null,null,"",{"$f":"IF(SUM($B$7:$B1778)=0,\"\",IF(A1778<>\"\",IF(A1778<$B$3,\"N\",\"Y\"),\"\"))","v":""},"","","",null,"",{"$f":"IF(AND(ISNUMBER(A1778),NOT(ISNUMBER(A1779))),SUM(OFFSET(E1778,-Q1778,0):E1778),IF(AND(ISNUMBER(P1778),ISNUMBER(P1779),P1778  <P1779),SUM(OFFSET(E1778,-Q1778,0):E1778),\"\"))","v":""},{"$f":"IF(ISNUMBER(L1778),SUM(OFFSET(G1778,-Q1778,0):G1778),\"\")","v":""},"",{"$f":"IF(B1778>0,'Tax Scales'!U1778-D1778,\"\")","v":""},"","",{"$f":"IF(ISNUMBER(G1778),IF(G1778>0,'Tax Scales'!AQ1778,\"\"),\"\")","v":""}]
["",null,null,null,"",{"$f":"IF(SUM($B$7:$B1779)=0,\"\",IF(A1779<>\"\",IF(A1779<$B$3,\"N\",\"Y\"),\"\"))","v":""},"","","",null,"",{"$f":"IF(AND(ISNUMBER(A1779),NOT(ISNUMBER(A1780))),SUM(OFFSET(E1779,-Q1779,0):E1779),IF(AND(ISNUMBER(P1779),ISNUMBER(P1780),P1779  <P1780),SUM(OFFSET(E1779,-Q1779,0):E1779),\"\"))","v":""},{"$f":"IF(ISNUMBER(L1779),SUM(OFFSET(G1779,-Q1779,0):G1779),\"\")","v":""},"",{"$f":"IF(B1779>0,'Tax Scales'!U1779-D1779,\"\")","v":""},"","",{"$f":"IF(ISNUMBER(G1779),IF(G1779>0,'Tax Scales'!AQ1779,\"\"),\"\")","v":""}]
["",null,null,null,"",{"$f":"IF(SUM($B$7:$B1780)=0,\"\",IF(A1780<>\"\",IF(A1780<$B$3,\"N\",\"Y\"),\"\"))","v":""},"","","",null,"",{"$f":"IF(AND(ISNUMBER(A1780),NOT(ISNUMBER(A1781))),SUM(OFFSET(E1780,-Q1780,0):E1780),IF(AND(ISNUMBER(P1780),ISNUMBER(P1781),P1780  <P1781),SUM(OFFSET(E1780,-Q1780,0):E1780),\"\"))","v":""},{"$f":"IF(ISNUMBER(L1780),SUM(OFFSET(G1780,-Q1780,0):G1780),\"\")","v":""},"",{"$f":"IF(B1780>0,'Tax Scales'!U1780-D1780,\"\")","v":""},"","",{"$f":"IF(ISNUMBER(G1780),IF(G1780>0,'Tax Scales'!AQ1780,\"\"),\"\")","v":""}]
["",null,null,null,"",{"$f":"IF(SUM($B$7:$B1781)=0,\"\",IF(A1781<>\"\",IF(A1781<$B$3,\"N\",\"Y\"),\"\"))","v":""},"","","",null,"",{"$f":"IF(AND(ISNUMBER(A1781),NOT(ISNUMBER(A1782))),SUM(OFFSET(E1781,-Q1781,0):E1781),IF(AND(ISNUMBER(P1781),ISNUMBER(P1782),P1781  <P1782),SUM(OFFSET(E1781,-Q1781,0):E1781),\"\"))","v":""},{"$f":"IF(ISNUMBER(L1781),SUM(OFFSET(G1781,-Q1781,0):G1781),\"\")","v":""},"",{"$f":"IF(B1781>0,'Tax Scales'!U1781-D1781,\"\")","v":""},"","",{"$f":"IF(ISNUMBER(G1781),IF(G1781>0,'Tax Scales'!AQ1781,\"\"),\"\")","v":""}]
["",null,null,null,"",{"$f":"IF(SUM($B$7:$B1782)=0,\"\",IF(A1782<>\"\",IF(A1782<$B$3,\"N\",\"Y\"),\"\"))","v":""},"","","",null,"",{"$f":"IF(AND(ISNUMBER(A1782),NOT(ISNUMBER(A1783))),SUM(OFFSET(E1782,-Q1782,0):E1782),IF(AND(ISNUMBER(P1782),ISNUMBER(P1783),P1782  <P1783),SUM(OFFSET(E1782,-Q1782,0):E1782),\"\"))","v":""},{"$f":"IF(ISNUMBER(L1782),SUM(OFFSET(G1782,-Q1782,0):G1782),\"\")","v":""},"",{"$f":"IF(B1782>0,'Tax Scales'!U1782-D1782,\"\")","v":""},"","",{"$f":"IF(ISNUMBER(G1782),IF(G1782>0,'Tax Scales'!AQ1782,\"\"),\"\")","v":""}]
["",null,null,null,"",{"$f":"IF(SUM($B$7:$B1783)=0,\"\",IF(A1783<>\"\",IF(A1783<$B$3,\"N\",\"Y\"),\"\"))","v":""},"","","",null,"",{"$f":"IF(AND(ISNUMBER(A1783),NOT(ISNUMBER(A1784))),SUM(OFFSET(E1783,-Q1783,0):E1783),IF(AND(ISNUMBER(P1783),ISNUMBER(P1784),P1783  <P1784),SUM(OFFSET(E1783,-Q1783,0):E1783),\"\"))","v":""},{"$f":"IF(ISNUMBER(L1783),SUM(OFFSET(G1783,-Q1783,0):G1783),\"\")","v":""},"",{"$f":"IF(B1783>0,'Tax Scales'!U1783-D1783,\"\")","v":""},"","",{"$f":"IF(ISNUMBER(G1783),IF(G1783>0,'Tax Scales'!AQ1783,\"\"),\"\")","v":""}]
["",null,null,null,"",{"$f":"IF(SUM($B$7:$B1784)=0,\"\",IF(A1784<>\"\",IF(A1784<$B$3,\"N\",\"Y\"),\"\"))","v":""},"","","",null,"",{"$f":"IF(AND(ISNUMBER(A1784),NOT(ISNUMBER(A1785))),SUM(OFFSET(E1784,-Q1784,0):E1784),IF(AND(ISNUMBER(P1784),ISNUMBER(P1785),P1784  <P1785),SUM(OFFSET(E1784,-Q1784,0):E1784),\"\"))","v":""},{"$f":"IF(ISNUMBER(L1784),SUM(OFFSET(G1784,-Q1784,0):G1784),\"\")","v":""},"",{"$f":"IF(B1784>0,'Tax Scales'!U1784-D1784,\"\")","v":""},"","",{"$f":"IF(ISNUMBER(G1784),IF(G1784>0,'Tax Scales'!AQ1784,\"\"),\"\")","v":""}]
["",null,null,null,"",{"$f":"IF(SUM($B$7:$B1785)=0,\"\",IF(A1785<>\"\",IF(A1785<$B$3,\"N\",\"Y\"),\"\"))","v":""},"","","",null,"",{"$f":"IF(AND(ISNUMBER(A1785),NOT(ISNUMBER(A1786))),SUM(OFFSET(E1785,-Q1785,0):E1785),IF(AND(ISNUMBER(P1785),ISNUMBER(P1786),P1785  <P1786),SUM(OFFSET(E1785,-Q1785,0):E1785),\"\"))","v":""},{"$f":"IF(ISNUMBER(L1785),SUM(OFFSET(G1785,-Q1785,0):G1785),\"\")","v":""},"",{"$f":"IF(B1785>0,'Tax Scales'!U1785-D1785,\"\")","v":""},"","",{"$f":"IF(ISNUMBER(G1785),IF(G1785>0,'Tax Scales'!AQ1785,\"\"),\"\")","v":""}]
["",null,null,null,"",{"$f":"IF(SUM($B$7:$B1786)=0,\"\",IF(A1786<>\"\",IF(A1786<$B$3,\"N\",\"Y\"),\"\"))","v":""},"","","",null,"",{"$f":"IF(AND(ISNUMBER(A1786),NOT(ISNUMBER(A1787))),SUM(OFFSET(E1786,-Q1786,0):E1786),IF(AND(ISNUMBER(P1786),ISNUMBER(P1787),P1786  <P1787),SUM(OFFSET(E1786,-Q1786,0):E1786),\"\"))","v":""},{"$f":"IF(ISNUMBER(L1786),SUM(OFFSET(G1786,-Q1786,0):G1786),\"\")","v":""},"",{"$f":"IF(B1786>0,'Tax Scales'!U1786-D1786,\"\")","v":""},"","",{"$f":"IF(ISNUMBER(G1786),IF(G1786>0,'Tax Scales'!AQ1786,\"\"),\"\")","v":""}]
["",null,null,null,"",{"$f":"IF(SUM($B$7:$B1787)=0,\"\",IF(A1787<>\"\",IF(A1787<$B$3,\"N\",\"Y\"),\"\"))","v":""},"","","",null,"",{"$f":"IF(AND(ISNUMBER(A1787),NOT(ISNUMBER(A1788))),SUM(OFFSET(E1787,-Q1787,0):E1787),IF(AND(ISNUMBER(P1787),ISNUMBER(P1788),P1787  <P1788),SUM(OFFSET(E1787,-Q1787,0):E1787),\"\"))","v":""},{"$f":"IF(ISNUMBER(L1787),SUM(OFFSET(G1787,-Q1787,0):G1787),\"\")","v":""},"",{"$f":"IF(B1787>0,'Tax Scales'!U1787-D1787,\"\")","v":""},"","",{"$f":"IF(ISNUMBER(G1787),IF(G1787>0,'Tax Scales'!AQ1787,\"\"),\"\")","v":""}]
["",null,null,null,"",{"$f":"IF(SUM($B$7:$B1788)=0,\"\",IF(A1788<>\"\",IF(A1788<$B$3,\"N\",\"Y\"),\"\"))","v":""},"","","",null,"",{"$f":"IF(AND(ISNUMBER(A1788),NOT(ISNUMBER(A1789))),SUM(OFFSET(E1788,-Q1788,0):E1788),IF(AND(ISNUMBER(P1788),ISNUMBER(P1789),P1788  <P1789),SUM(OFFSET(E1788,-Q1788,0):E1788),\"\"))","v":""},{"$f":"IF(ISNUMBER(L1788),SUM(OFFSET(G1788,-Q1788,0):G1788),\"\")","v":""},"",{"$f":"IF(B1788>0,'Tax Scales'!U1788-D1788,\"\")","v":""},"","",{"$f":"IF(ISNUMBER(G1788),IF(G1788>0,'Tax Scales'!AQ1788,\"\"),\"\")","v":""}]
["",null,null,null,"",{"$f":"IF(SUM($B$7:$B1789)=0,\"\",IF(A1789<>\"\",IF(A1789<$B$3,\"N\",\"Y\"),\"\"))","v":""},"","","",null,"",{"$f":"IF(AND(ISNUMBER(A1789),NOT(ISNUMBER(A1790))),SUM(OFFSET(E1789,-Q1789,0):E1789),IF(AND(ISNUMBER(P1789),ISNUMBER(P1790),P1789  <P1790),SUM(OFFSET(E1789,-Q1789,0):E1789),\"\"))","v":""},{"$f":"IF(ISNUMBER(L1789),SUM(OFFSET(G1789,-Q1789,0):G1789),\"\")","v":""},"",{"$f":"IF(B1789>0,'Tax Scales'!U1789-D1789,\"\")","v":""},"","",{"$f":"IF(ISNUMBER(G1789),IF(G1789>0,'Tax Scales'!AQ1789,\"\"),\"\")","v":""}]
["",null,null,null,"",{"$f":"IF(SUM($B$7:$B1790)=0,\"\",IF(A1790<>\"\",IF(A1790<$B$3,\"N\",\"Y\"),\"\"))","v":""},"","","",null,"",{"$f":"IF(AND(ISNUMBER(A1790),NOT(ISNUMBER(A1791))),SUM(OFFSET(E1790,-Q1790,0):E1790),IF(AND(ISNUMBER(P1790),ISNUMBER(P1791),P1790  <P1791),SUM(OFFSET(E1790,-Q1790,0):E1790),\"\"))","v":""},{"$f":"IF(ISNUMBER(L1790),SUM(OFFSET(G1790,-Q1790,0):G1790),\"\")","v":""},"",{"$f":"IF(B1790>0,'Tax Scales'!U1790-D1790,\"\")","v":""},"","",{"$f":"IF(ISNUMBER(G1790),IF(G1790>0,'Tax Scales'!AQ1790,\"\"),\"\")","v":""}]
["",null,null,null,"",{"$f":"IF(SUM($B$7:$B1791)=0,\"\",IF(A1791<>\"\",IF(A1791<$B$3,\"N\",\"Y\"),\"\"))","v":""},"","","",null,"",{"$f":"IF(AND(ISNUMBER(A1791),NOT(ISNUMBER(A1792))),SUM(OFFSET(E1791,-Q1791,0):E1791),IF(AND(ISNUMBER(P1791),ISNUMBER(P1792),P1791  <P1792),SUM(OFFSET(E1791,-Q1791,0):E1791),\"\"))","v":""},{"$f":"IF(ISNUMBER(L1791),SUM(OFFSET(G1791,-Q1791,0):G1791),\"\")","v":""},"",{"$f":"IF(B1791>0,'Tax Scales'!U1791-D1791,\"\")","v":""},"","",{"$f":"IF(ISNUMBER(G1791),IF(G1791>0,'Tax Scales'!AQ1791,\"\"),\"\")","v":""}]
["",null,null,null,"",{"$f":"IF(SUM($B$7:$B1792)=0,\"\",IF(A1792<>\"\",IF(A1792<$B$3,\"N\",\"Y\"),\"\"))","v":""},"","","",null,"",{"$f":"IF(AND(ISNUMBER(A1792),NOT(ISNUMBER(A1793))),SUM(OFFSET(E1792,-Q1792,0):E1792),IF(AND(ISNUMBER(P1792),ISNUMBER(P1793),P1792  <P1793),SUM(OFFSET(E1792,-Q1792,0):E1792),\"\"))","v":""},{"$f":"IF(ISNUMBER(L1792),SUM(OFFSET(G1792,-Q1792,0):G1792),\"\")","v":""},"",{"$f":"IF(B1792>0,'Tax Scales'!U1792-D1792,\"\")","v":""},"","",{"$f":"IF(ISNUMBER(G1792),IF(G1792>0,'Tax Scales'!AQ1792,\"\"),\"\")","v":""}]
["",null,null,null,"",{"$f":"IF(SUM($B$7:$B1793)=0,\"\",IF(A1793<>\"\",IF(A1793<$B$3,\"N\",\"Y\"),\"\"))","v":""},"","","",null,"",{"$f":"IF(AND(ISNUMBER(A1793),NOT(ISNUMBER(A1794))),SUM(OFFSET(E1793,-Q1793,0):E1793),IF(AND(ISNUMBER(P1793),ISNUMBER(P1794),P1793  <P1794),SUM(OFFSET(E1793,-Q1793,0):E1793),\"\"))","v":""},{"$f":"IF(ISNUMBER(L1793),SUM(OFFSET(G1793,-Q1793,0):G1793),\"\")","v":""},"",{"$f":"IF(B1793>0,'Tax Scales'!U1793-D1793,\"\")","v":""},"","",{"$f":"IF(ISNUMBER(G1793),IF(G1793>0,'Tax Scales'!AQ1793,\"\"),\"\")","v":""}]
["",null,null,null,"",{"$f":"IF(SUM($B$7:$B1794)=0,\"\",IF(A1794<>\"\",IF(A1794<$B$3,\"N\",\"Y\"),\"\"))","v":""},"","","",null,"",{"$f":"IF(AND(ISNUMBER(A1794),NOT(ISNUMBER(A1795))),SUM(OFFSET(E1794,-Q1794,0):E1794),IF(AND(ISNUMBER(P1794),ISNUMBER(P1795),P1794  <P1795),SUM(OFFSET(E1794,-Q1794,0):E1794),\"\"))","v":""},{"$f":"IF(ISNUMBER(L1794),SUM(OFFSET(G1794,-Q1794,0):G1794),\"\")","v":""},"",{"$f":"IF(B1794>0,'Tax Scales'!U1794-D1794,\"\")","v":""},"","",{"$f":"IF(ISNUMBER(G1794),IF(G1794>0,'Tax Scales'!AQ1794,\"\"),\"\")","v":""}]
["",null,null,null,"",{"$f":"IF(SUM($B$7:$B1795)=0,\"\",IF(A1795<>\"\",IF(A1795<$B$3,\"N\",\"Y\"),\"\"))","v":""},"","","",null,"",{"$f":"IF(AND(ISNUMBER(A1795),NOT(ISNUMBER(A1796))),SUM(OFFSET(E1795,-Q1795,0):E1795),IF(AND(ISNUMBER(P1795),ISNUMBER(P1796),P1795  <P1796),SUM(OFFSET(E1795,-Q1795,0):E1795),\"\"))","v":""},{"$f":"IF(ISNUMBER(L1795),SUM(OFFSET(G1795,-Q1795,0):G1795),\"\")","v":""},"",{"$f":"IF(B1795>0,'Tax Scales'!U1795-D1795,\"\")","v":""},"","",{"$f":"IF(ISNUMBER(G1795),IF(G1795>0,'Tax Scales'!AQ1795,\"\"),\"\")","v":""}]
["",null,null,null,"",{"$f":"IF(SUM($B$7:$B1796)=0,\"\",IF(A1796<>\"\",IF(A1796<$B$3,\"N\",\"Y\"),\"\"))","v":""},"","","",null,"",{"$f":"IF(AND(ISNUMBER(A1796),NOT(ISNUMBER(A1797))),SUM(OFFSET(E1796,-Q1796,0):E1796),IF(AND(ISNUMBER(P1796),ISNUMBER(P1797),P1796  <P1797),SUM(OFFSET(E1796,-Q1796,0):E1796),\"\"))","v":""},{"$f":"IF(ISNUMBER(L1796),SUM(OFFSET(G1796,-Q1796,0):G1796),\"\")","v":""},"",{"$f":"IF(B1796>0,'Tax Scales'!U1796-D1796,\"\")","v":""},"","",{"$f":"IF(ISNUMBER(G1796),IF(G1796>0,'Tax Scales'!AQ1796,\"\"),\"\")","v":""}]
["",null,null,null,"",{"$f":"IF(SUM($B$7:$B1797)=0,\"\",IF(A1797<>\"\",IF(A1797<$B$3,\"N\",\"Y\"),\"\"))","v":""},"","","",null,"",{"$f":"IF(AND(ISNUMBER(A1797),NOT(ISNUMBER(A1798))),SUM(OFFSET(E1797,-Q1797,0):E1797),IF(AND(ISNUMBER(P1797),ISNUMBER(P1798),P1797  <P1798),SUM(OFFSET(E1797,-Q1797,0):E1797),\"\"))","v":""},{"$f":"IF(ISNUMBER(L1797),SUM(OFFSET(G1797,-Q1797,0):G1797),\"\")","v":""},"",{"$f":"IF(B1797>0,'Tax Scales'!U1797-D1797,\"\")","v":""},"","",{"$f":"IF(ISNUMBER(G1797),IF(G1797>0,'Tax Scales'!AQ1797,\"\"),\"\")","v":""}]
["",null,null,null,"",{"$f":"IF(SUM($B$7:$B1798)=0,\"\",IF(A1798<>\"\",IF(A1798<$B$3,\"N\",\"Y\"),\"\"))","v":""},"","","",null,"",{"$f":"IF(AND(ISNUMBER(A1798),NOT(ISNUMBER(A1799))),SUM(OFFSET(E1798,-Q1798,0):E1798),IF(AND(ISNUMBER(P1798),ISNUMBER(P1799),P1798  <P1799),SUM(OFFSET(E1798,-Q1798,0):E1798),\"\"))","v":""},{"$f":"IF(ISNUMBER(L1798),SUM(OFFSET(G1798,-Q1798,0):G1798),\"\")","v":""},"",{"$f":"IF(B1798>0,'Tax Scales'!U1798-D1798,\"\")","v":""},"","",{"$f":"IF(ISNUMBER(G1798),IF(G1798>0,'Tax Scales'!AQ1798,\"\"),\"\")","v":""}]
["",null,null,null,"",{"$f":"IF(SUM($B$7:$B1799)=0,\"\",IF(A1799<>\"\",IF(A1799<$B$3,\"N\",\"Y\"),\"\"))","v":""},"","","",null,"",{"$f":"IF(AND(ISNUMBER(A1799),NOT(ISNUMBER(A1800))),SUM(OFFSET(E1799,-Q1799,0):E1799),IF(AND(ISNUMBER(P1799),ISNUMBER(P1800),P1799  <P1800),SUM(OFFSET(E1799,-Q1799,0):E1799),\"\"))","v":""},{"$f":"IF(ISNUMBER(L1799),SUM(OFFSET(G1799,-Q1799,0):G1799),\"\")","v":""},"",{"$f":"IF(B1799>0,'Tax Scales'!U1799-D1799,\"\")","v":""},"","",{"$f":"IF(ISNUMBER(G1799),IF(G1799>0,'Tax Scales'!AQ1799,\"\"),\"\")","v":""}]
["",null,null,null,"",{"$f":"IF(SUM($B$7:$B1800)=0,\"\",IF(A1800<>\"\",IF(A1800<$B$3,\"N\",\"Y\"),\"\"))","v":""},"","","",null,"",{"$f":"IF(AND(ISNUMBER(A1800),NOT(ISNUMBER(A1801))),SUM(OFFSET(E1800,-Q1800,0):E1800),IF(AND(ISNUMBER(P1800),ISNUMBER(P1801),P1800  <P1801),SUM(OFFSET(E1800,-Q1800,0):E1800),\"\"))","v":""},{"$f":"IF(ISNUMBER(L1800),SUM(OFFSET(G1800,-Q1800,0):G1800),\"\")","v":""},"",{"$f":"IF(B1800>0,'Tax Scales'!U1800-D1800,\"\")","v":""},"","",{"$f":"IF(ISNUMBER(G1800),IF(G1800>0,'Tax Scales'!AQ1800,\"\"),\"\")","v":""}]
["",null,null,null,"",{"$f":"IF(SUM($B$7:$B1801)=0,\"\",IF(A1801<>\"\",IF(A1801<$B$3,\"N\",\"Y\"),\"\"))","v":""},{"$f":"IF(F1801=\"N\",0,IF(A1801<>\"\",IF(K1801>=0,((E1801+I1800)*(1+(H1801/52)/100)-E1801-I1800),0),\"\"))","v":""},"","",null,"",{"$f":"IF(AND(ISNUMBER(A1801),NOT(ISNUMBER(A1802))),SUM(OFFSET(E1801,-Q1801,0):E1801),IF(AND(ISNUMBER(P1801),ISNUMBER(P1802),P1801  <P1802),SUM(OFFSET(E1801,-Q1801,0):E1801),\"\"))","v":""},{"$f":"IF(ISNUMBER(L1801),SUM(OFFSET(G1801,-Q1801,0):G1801),\"\")","v":""},"",{"$f":"IF(B1801>0,'Tax Scales'!U1801-D1801,\"\")","v":""},"","",{"$f":"IF(ISNUMBER(G1801),IF(G1801>0,'Tax Scales'!AQ1801,\"\"),\"\")","v":""}]
[{"$f":"IF(A1801<>\"\",IF(A1801+12<=TODAY(),+A1801+7,\"\"),\"\")","v":""},null,null,null,"",{"$f":"IF(SUM($B$7:$B1802)=0,\"\",IF(A1802<>\"\",IF(A1802<$B$3,\"N\",\"Y\"),\"\"))","v":""},{"$f":"IF(F1802=\"N\",0,IF(A1802<>\"\",IF(K1802>=0,((E1802+I1801)*(1+(H1802/52)/100)-E1802-I1801),0),\"\"))","v":""},"","",null,"",{"$f":"IF(AND(ISNUMBER(A1802),NOT(ISNUMBER(A1803))),SUM(OFFSET(E1802,-Q1802,0):E1802),IF(AND(ISNUMBER(P1802),ISNUMBER(P1803),P1802  <P1803),SUM(OFFSET(E1802,-Q1802,0):E1802),\"\"))","v":""},{"$f":"IF(ISNUMBER(L1802),SUM(OFFSET(G1802,-Q1802,0):G1802),\"\")","v":""},"",{"$f":"IF(B1802>0,'Tax Scales'!U1802-D1802,\"\")","v":""},"","",{"$f":"IF(ISNUMBER(G1802),IF(G1802>0,'Tax Scales'!AQ1802,\"\"),\"\")","v":""}]
[{"$f":"IF(A1802<>\"\",IF(A1802+12<=TODAY(),+A1802+7,\"\"),\"\")","v":""},null,null,null,"",{"$f":"IF(SUM($B$7:$B1803)=0,\"\",IF(A1803<>\"\",IF(A1803<$B$3,\"N\",\"Y\"),\"\"))","v":""},{"$f":"IF(F1803=\"N\",0,IF(A1803<>\"\",IF(K1803>=0,((E1803+I1802)*(1+(H1803/52)/100)-E1803-I1802),0),\"\"))","v":""},"","",null,"",{"$f":"IF(AND(ISNUMBER(A1803),NOT(ISNUMBER(A1804))),SUM(OFFSET(E1803,-Q1803,0):E1803),IF(AND(ISNUMBER(P1803),ISNUMBER(P1804),P1803  <P1804),SUM(OFFSET(E1803,-Q1803,0):E1803),\"\"))","v":""},{"$f":"IF(ISNUMBER(L1803),SUM(OFFSET(G1803,-Q1803,0):G1803),\"\")","v":""},"",{"$f":"IF(B1803>0,'Tax Scales'!U1803-D1803,\"\")","v":""},"","",{"$f":"IF(ISNUMBER(G1803),IF(G1803>0,'Tax Scales'!AQ1803,\"\"),\"\")","v":""}]

{"sheet":"Summary","index":1,"n_rows":57,"n_cols":31,"rows_kept":57,"cut":false,"hidden":false,"merged":[[47,16,47,17],[48,16,48,17],[49,16,49,17],[50,16,50,17],[51,16,51,17],[42,16,42,17],[43,16,43,17],[44,16,44,17],[45,16,45,17],[46,16,46,17],[37,16,37,17],[38,16,38,17],[39,16,39,17],[40,16,40,17],[41,16,41,17],[50,9,50,10],[51,9,51,10],[23,16,23,17],[24,16,24,17],[25,16,25,17],[26,16,26,17],[27,16,27,17],[28,16,28,17],[29,16,29,17],[30,16,30,17],[31,16,31,17],[32,16,32,17],[33,16,33,17],[34,16,34,17],[35,16,35,17],[36,16,36,17],[45,9,45,10],[46,9,46,10],[47,9,47,10],[48,9,48,10],[49,9,49,10],[40,9,40,10],[41,9,41,10],[42,9,42,10],[43,9,43,10],[44,9,44,10],[35,9,35,10],[36,9,36,10],[37,9,37,10],[38,9,38,10],[39,9,39,10],[30,9,30,10],[31,9,31,10],[32,9,32,10],[33,9,33,10],[34,9,34,10],[34,3,39,5],[1,0,1,24],[20,9,21,21],[3,3,3,21],[19,3,30,5],[13,9,13,13],[13,16,13,20],[10,9,11,21],[7,16,8,16],[23,9,23,10],[24,9,24,10],[25,9,25,10],[26,9,26,10],[27,9,27,10],[28,9,28,10],[29,9,29,10]]}
[]
["Backpay & Interest Summary"]
[]
[null,null,null,{"$f":"\"Worker Name - \"&'WEEKLY PAYMENTS'!$B$4&\"          \"&\"Claim Number - \"&'WEEKLY PAYMENTS'!$B$5","v":"Worker Name - .          Claim Number - ."}]
[]
[]
[null,null,null,null,null,null,null,null,null,null,null,"Delivery Pattern","1. Sun-Sat"]
[null,null,null,null,null,null,null,null,null,null,null,null,null,null,null,null,"Backpay Period",null,"From","To"]
[null,null,null,null,null,null,null,null,null,null,null,"Payment Date",{"$f":"'WEEKLY PAYMENTS'!B2","v":"2018-04-25"},null,null,null,null,null,null,null,null,null,null,null,null,null,null,{"$f":"IF(O14=\"ERROR\",\"Amounts in WEEKLY PAYMENTS tab differ from the amounts on this tab by $\"&ROUND('WEEKLY PAYMENTS'!E5,2)-ROUND(SUM(O25:O52),2),\"Amounts in WEEKLY PAYMENTS tab match.\")","v":"Amounts in WEEKLY PAYMENTS tab match."}]
[]
[null,null,null,null,null,null,null,null,null,"Payment information for entry into Cúram by Agent",null,null,null,null,null,null,null,null,null,null,null,null,null,null,null,null,null,{"$f":"IF(V14=\"ERROR\",\"Amounts in WEEKLY PAYMENTS tab differ from the amounts on this tab by $\"&ROUND('WEEKLY PAYMENTS'!G5,2)-ROUND(SUM(V25:V52),2),\"Amounts in WEEKLY PAYMENTS tab match.\")","v":"Amounts in WEEKLY PAYMENTS tab match."}]
[]
[null,null,null,null,null,null,null,null,null,null,null,null,null,null,null,null,null,null,null,null,null,null,null,null,null,null,null,{"$f":"IF(M7=\"1. Sun-Sat\",INDEX('WEEKLY PAYMENTS'!A:A,MATCH(TRUE,INDEX('WEEKLY PAYMENTS'!B7:B2500>0,0),0)+6)-10,INDEX('WEEKLY PAYMENTS'!A:A,MATCH(TRUE,INDEX('WEEKLY PAYMENTS'!B7:B2500>0,0),0)+6)-6)","v":{"$error":"#N/A"}},{"$f":"IF(ISNA(MATCH(TRUE,INDEX('WEEKLY PAYMENTS'!B7:B2500>0,0),0)-1494)=FALSE,MATCH(TRUE,INDEX('WEEKLY PAYMENTS'!B7:B2500>0,0),0)-1494,0)","v":0},null,{"$f":"IF(ISNA(IF(AND(S9>=AB13,S9<=AB14),\"Y\",\"N\"))=TRUE,\"N\",(IF(AND(S9>=AB13,S9<=AB14),\"Y\",\"N\")))","v":"N"}]
[null,null,null,"Current",{"$f":"IF(S9=\"\",\"\",IF(M7=\"\",\"\",IF(F14=\"\",\"\",IF(M7=\"1. Sun-Sat\",IF(S9>VLOOKUP(M9,Table1,1,TRUE),S9,VLOOKUP(M9,Table1,1,TRUE)-3),IF(S9>VLOOKUP(M9,Table2,1,TRUE),S9,VLOOKUP(M9,Table2,1,TRUE)+1)))))","v":""},{"$f":"IF(S9=\"\",\"\",IF(M7=\"\",\"\",IF(M7=\"1. Sun-Sat\",IF(T9>IF(S9>VLOOKUP(M9,Table1,1,TRUE),S9,VLOOKUP(M9,Table1,1,TRUE)-3),T9,\"\"),IF(T9>IF(S9>VLOOKUP(M9,Table2,1,TRUE),S9,VLOOKUP(M9,Table2,1,TRUE)),T9,\"\"))))","v":""},null,null,null,"BACKPAY",null,null,null,null,{"$f":"IF(ROUND(SUM(O25:O52),2)-ROUND('WEEKLY PAYMENTS'!E5,2)=0,\"BALANCE\",\"ERROR\")","v":"BALANCE"},null,"INTEREST",null,null,null,null,{"$f":"IF(AND(ROUND(SUM(V25:V52),2)-ROUND('WEEKLY PAYMENTS'!G5,2)>-0.05,ROUND(SUM(V25:V52),2)-ROUND('WEEKLY PAYMENTS'!G5,2)<0.05),\"BALANCE\",\"ERROR\")","v":"BALANCE"},null,null,null,null,null,{"$f":"IF(M7=\"1. Sun-Sat\",INDEX('WEEKLY PAYMENTS'!A:A,MATCH(TRUE,INDEX('WEEKLY PAYMENTS'!B7:B2500>0,0),0)+6)-4,INDEX('WEEKLY PAYMENTS'!A:A,MATCH(TRUE,INDEX('WEEKLY PAYMENTS'!B7:B2500>0,0),0)+6))","v":{"$error":"#N/A"}}]
[null,null,null,"Past",{"$f":"IF(S9=\"\",\"\",IF(M7=\"\",\"\",IF(F15=\"\",\"\",S9)))","v":""},{"$f":"IF(S9=\"\",\"\",IF(M7=\"\",\"\",IF(T9=\"\",\"\",IF(E14=\"\",T9,IF(S9<E14,E14-1,\"\")))))","v":""}]
[null,null,null,null,null,null,null,null,null,"Due Date","ILI Type","From ","To ",null,"Backpay $",null,"Due Date","ILI Type","From ","To ",null,"Interest $",null,null,null,null,null,{"$f":"IF(M7=\"1. Sun-Sat\",LOOKUP(2,1/('WEEKLY PAYMENTS'!B7:B2500>0),'WEEKLY PAYMENTS'!A7:A2500)-10,LOOKUP(2,1/('WEEKLY PAYMENTS'!B7:B2500>0),'WEEKLY PAYMENTS'!A7:A2500)-6)","v":{"$error":"#N/A"}},null,null,{"$f":"IF(ISNA(IF(AND(T9>=AB16,T9<=AB17),\"Y\",\"N\"))=TRUE,\"N\",(IF(AND(T9>=AB16,T9<=AB17),\"Y\",\"N\")))","v":"N"}]
[null,null,null,null,null,null,null,null,null,{"$f":"J25","v":""},{"$f":"IF(J17=\"\",\"\",\"DIRE\")","v":""},{"$f":"L25","v":""},{"$f":"M25","v":""},null,{"$f":"O25","v":""},null,{"$f":"IF(AND(J17=\"\",J18<>\"\"),J18,Q25)","v":""},{"$f":"IF(AND(J17=\"\",J18=\"\"),\"\",IF(J17<>\"\",\"INTR\",\"INTRL\"))","v":""},{"$f":"S25","v":""},{"$f":"T25","v":""},null,{"$f":"V25","v":""},null,null,null,null,null,{"$f":"IF(M7=\"1. Sun-Sat\",LOOKUP(2,1/('WEEKLY PAYMENTS'!B7:B2500>0),'WEEKLY PAYMENTS'!A7:A2500)-4,LOOKUP(2,1/('WEEKLY PAYMENTS'!B7:B2500>0),'WEEKLY PAYMENTS'!A7:A2500))","v":{"$error":"#N/A"}}]
[null,null,null,null,null,null,null,null,null,{"$f":"IF(MAX(J26:J52)=0,\"\",MAX(J26:J52))","v":""},{"$f":"IF(J18=\"\",\"\",\"DIRE\")","v":""},{"$f":"IF(MAX(J26:J52)=0,\"\",MIN(L25:L52))","v":""},{"$f":"IF(MAX(J26:J52)=0,\"\",MAX(M26:M52))","v":""},null,{"$f":"IF(MAX(J26:J52)=0,\"\",SUM(O26:O52))","v":""},null,{"$f":"IF(AND(J17=\"\",J18<>\"\"),J18,IF(Q26=\"\",\"\",MAX(Q26:Q52)))","v":""},{"$f":"IF(Q18=\"\",\"\",\"INTRL\")","v":""},{"$f":"IF(Q26=\"\",\"\",MIN(S25:S52))","v":""},{"$f":"IF(Q26=\"\",\"\",MAX(T26:T52))","v":""},null,{"$f":"IF(Q26=\"\",\"\",SUM(V26:V52))","v":""}]
[null,null,null,null,null,null,null,null,null,null,null,null,null,null,null,null,null,null,null,null,null,null,null,null,null,null,null,{"$f":"IF(AC13=0,\"Unable to calculate entitlement period. Please enter data into backpay calculator.\",IF(M7=\"\",\"Unable to calculate entitlement period. Please select payment cycle.\",\"Based on the entries made in the backpay calculator, the 'From' date must be within the entitlement period of \"&TEXT(AB13,\"dd/mm/yyyy\")&\" to \"&TEXT(AB14,\"dd/mm/yyyy\")))","v":"Unable to calculate entitlement period. Please enter data into backpay calculator."}]
[null,null,null,"\nInstructions\n\nStep 1. Select Delivery Pattern\n\nStep 2. Enter Backpay Period Dates\n\n\nNote: Prior to payment please ensure that the\nanticipated payment date is still correct (should\nbe two days after keying and approval of the PDC)  "]
[null,null,null,null,null,null,null,null,null,"RETURNTOWORKSA FINANCE USE ONLY - Financial years breakdown",null,null,null,null,null,null,null,null,null,null,null,null,null,null,null,null,null,{"$f":"IF(AC13=0,\"Unable to calculate entitlement period. Please enter data into backpay calculator.\",IF(M7=\"\",\"Unable to calculate entitlement period. Please select payment cycle.\",\"Based on the entries made in the backpay calculator, the 'To' date must be within the entitlement period of \"&TEXT(AB16,\"dd/mm/yyyy\")&\" to \"&TEXT(AB17,\"dd/mm/yyyy\")))","v":"Unable to calculate entitlement period. Please enter data into backpay calculator."}]
[]
[]
[null,null,null,null,null,null,null,null,null,"Due Date",null,"From ","To ",null,"Backpay $",null,"Due Date",null,"From ","To ",null,"Interest $"]
[null,null,null,null,null,null,null,null,null,{"$f":"IF(M25=\"\",\"\",IF($M$7=\"1. Sun-Sat\",VLOOKUP(M25+4,Dates2!B:C,2,TRUE),VLOOKUP(M25,Dates2!B:C,2,TRUE)))","v":""},null,{"$f":"E14","v":""},{"$f":"F14","v":""},null,{"$f":"IF(M25=\"\",\"\",'WEEKLY PAYMENTS'!L4)","v":""},null,{"$f":"IF(T25=\"\",\"\",VLOOKUP(T25,Dates2!B:C,2,TRUE))","v":""},null,{"$f":"IF($M$7=\"\",\"\",IF($Q$25=\"\",\"\",IF($S$9=\"\",\"\",IF($E$14=\"<>\",\"\",IF($M$7=\"1. Sun-Sat\",IF(VLOOKUP($M$9,Table2,1,TRUE)-3<$S$9,$S$9,VLOOKUP($M$9,Table2,1,TRUE)-3),IF($E$14=\"\",VLOOKUP($M$9,Table2,1,TRUE)+1,$E$14))))))","v":""},{"$f":"IF(S9=\"\",\"\",IF(M7=\"\",\"\",IF($T$9=\"\",\"\",IF(M7=\"1. Sun-Sat\",VLOOKUP($M$9-14,Dates2!A:C,3,TRUE)-4,VLOOKUP($M$9-14,Dates2!A:C,3,TRUE)))))","v":""},null,{"$f":"IF(Q25=\"\",\"\",'WEEKLY PAYMENTS'!M4)","v":""}]
[null,null,null,null,null,null,null,null,null,{"$f":"IF(M26=\"\",\"\",IF($M$7=\"1. Sun-Sat\",VLOOKUP(M26+4,Dates2!B:C,2,TRUE),VLOOKUP(M26,Dates2!B:C,2,TRUE)))","v":""},null,{"$f":"IF(S26>$T$9,\"\",S26)","v":""},{"$f":"IF(L26=\"\",\"\",$F$15)","v":""},null,{"$f":"IF(J26=\"\",\"\",IF(ISERROR(VLOOKUP(Q26,'WEEKLY PAYMENTS'!A:L,12,FALSE)),VLOOKUP(Q26-7,'WEEKLY PAYMENTS'!A:L,12,FALSE),VLOOKUP(Q26,'WEEKLY PAYMENTS'!A:L,12,FALSE)))","v":""},null,{"$f":"IF(T26=\"\",\"\",VLOOKUP(T26,Dates2!B:C,2,TRUE))","v":""},null,{"$f":"IF(T26=\"\",\"\",IF($M$7=\"1. Sun-Sat\",IF($E$15<VLOOKUP(T26,Table1,1,TRUE),VLOOKUP(T26,Table1,1,TRUE)-3,$E$15),IF($E$15<VLOOKUP(T26,Dates!$G$4:$G$40,1,TRUE),VLOOKUP(T26,Dates!$G$4:$G$40,1,TRUE),$E$15)))","v":""},{"$f":"IF(S25=\"\",\"\",IF(S25-1<$S$9,\"\",IF(VLOOKUP($M$9,Table2,1,TRUE)<$S$9,\"\",S25-1)))","v":""},null,{"$f":"IF(T26=\"\",\"\",IF(ISERROR(VLOOKUP(Q26,'WEEKLY PAYMENTS'!A:M,13,FALSE)),VLOOKUP(Q26-7,'WEEKLY PAYMENTS'!A:M,13,FALSE),VLOOKUP(Q26,'WEEKLY PAYMENTS'!A:M,13,FALSE)))","v":""}]
[null,null,null,null,null,null,null,null,null,{"$f":"IF(M27=\"\",\"\",IF($M$7=\"1. Sun-Sat\",VLOOKUP(M27+4,Dates2!B:C,2,TRUE),VLOOKUP(M27,Dates2!B:C,2,TRUE)))","v":""},null,"",{"$f":"IF(L27=\"\",\"\",IF(T27>$F$15,$F$15,T27))","v":""},null,{"$f":"IF(J27=\"\",\"\",VLOOKUP(Q27,'WEEKLY PAYMENTS'!A:L,12,FALSE))","v":""},null,{"$f":"IF(T27=\"\",\"\",VLOOKUP(T27,Dates2!B:C,2,TRUE))","v":""},null,{"$f":"IF(T27=\"\",\"\",IF($M$7=\"1. Sun-Sat\",IF($E$15<VLOOKUP(T27,Table1,1,TRUE),VLOOKUP(T27,Table1,1,TRUE)-3,$E$15),IF($E$15<VLOOKUP(T27,Dates!$G$4:$G$40,1,TRUE),VLOOKUP(T27,Dates!$G$4:$G$40,1,TRUE),$E$15)))","v":""},"",null,{"$f":"VLOOKUP(Q27,'WEEKLY PAYMENTS'!A:M,13,FALSE)","v":""}]
[null,null,null,null,null,null,null,null,null,{"$f":"IF(M28=\"\",\"\",IF($M$7=\"1. Sun-Sat\",VLOOKUP(M28+4,Dates2!B:C,2,TRUE),VLOOKUP(M28,Dates2!B:C,2,TRUE)))","v":""},null,"","",null,{"$f":"IF(J28=\"\",\"\",VLOOKUP(Q28,'WEEKLY PAYMENTS'!A:L,12,FALSE))","v":""},null,{"$f":"IF(T28=\"\",\"\",VLOOKUP(T28,Dates2!B:C,2,TRUE))","v":""},null,{"$f":"IF(T28=\"\",\"\",IF($M$7=\"1. Sun-Sat\",IF($E$15<VLOOKUP(T28,Table1,1,TRUE),VLOOKUP(T28,Table1,1,TRUE)-3,$E$15),IF($E$15<VLOOKUP(T28,Dates!$G$4:$G$40,1,TRUE),VLOOKUP(T28,Dates!$G$4:$G$40,1,TRUE),$E$15)))","v":""},"",null,{"$f":"VLOOKUP(Q28,'WEEKLY PAYMENTS'!A:M,13,FALSE)","v":""}]
[null,null,null,null,null,null,null,null,null,{"$f":"IF(M29=\"\",\"\",IF($M$7=\"1. Sun-Sat\",VLOOKUP(M29+4,Dates2!B:C,2,TRUE),VLOOKUP(M29,Dates2!B:C,2,TRUE)))","v":""},null,"","",null,{"$f":"IF(J29=\"\",\"\",VLOOKUP(Q29,'WEEKLY PAYMENTS'!A:L,12,FALSE))","v":""},null,{"$f":"IF(T29=\"\",\"\",VLOOKUP(T29,Dates2!B:C,2,TRUE))","v":""},null,{"$f":"IF(T29=\"\",\"\",IF($M$7=\"1. Sun-Sat\",IF($E$15<VLOOKUP(T29,Table1,1,TRUE),VLOOKUP(T29,Table1,1,TRUE)-3,$E$15),IF($E$15<VLOOKUP(T29,Dates!$G$4:$G$40,1,TRUE),VLOOKUP(T29,Dates!$G$4:$G$40,1,TRUE),$E$15)))","v":""},"",null,{"$f":"VLOOKUP(Q29,'WEEKLY PAYMENTS'!A:M,13,FALSE)","v":""}]
[null,null,null,null,null,null,null,null,null,{"$f":"IF(M30=\"\",\"\",IF($M$7=\"1. Sun-Sat\",VLOOKUP(M30+4,Dates2!B:C,2,TRUE),VLOOKUP(M30,Dates2!B:C,2,TRUE)))","v":""},null,"","",null,{"$f":"IF(J30=\"\",\"\",VLOOKUP(Q30,'WEEKLY PAYMENTS'!A:L,12,FALSE))","v":""},null,{"$f":"IF(T30=\"\",\"\",VLOOKUP(T30,Dates2!B:C,2,TRUE))","v":""},null,{"$f":"IF(T30=\"\",\"\",IF($M$7=\"1. Sun-Sat\",IF($E$15<VLOOKUP(T30,Table1,1,TRUE),VLOOKUP(T30,Table1,1,TRUE)-3,$E$15),IF($E$15<VLOOKUP(T30,Dates!$G$4:$G$40,1,TRUE),VLOOKUP(T30,Dates!$G$4:$G$40,1,TRUE),$E$15)))","v":""},"",null,{"$f":"VLOOKUP(Q30,'WEEKLY PAYMENTS'!A:M,13,FALSE)","v":""}]
[null,null,null,null,null,null,null,null,null,{"$f":"IF(M31=\"\",\"\",IF($M$7=\"1. Sun-Sat\",VLOOKUP(M31+4,Dates2!B:C,2,TRUE),VLOOKUP(M31,Dates2!B:C,2,TRUE)))","v":""},null,"","",null,{"$f":"IF(J31=\"\",\"\",VLOOKUP(Q31,'WEEKLY PAYMENTS'!A:L,12,FALSE))","v":""},null,{"$f":"IF(T31=\"\",\"\",VLOOKUP(T31,Dates2!B:C,2,TRUE))","v":""},null,{"$f":"IF(T31=\"\",\"\",IF($M$7=\"1. Sun-Sat\",IF($E$15<VLOOKUP(T31,Table1,1,TRUE),VLOOKUP(T31,Table1,1,TRUE)-3,$E$15),IF($E$15<VLOOKUP(T31,Dates!$G$4:$G$40,1,TRUE),VLOOKUP(T31,Dates!$G$4:$G$40,1,TRUE),$E$15)))","v":""},"",null,{"$f":"VLOOKUP(Q31,'WEEKLY PAYMENTS'!A:M,13,FALSE)","v":""}]
[null,null,null,null,null,null,null,null,null,{"$f":"IF(M32=\"\",\"\",IF($M$7=\"1. Sun-Sat\",VLOOKUP(M32+4,Dates2!B:C,2,TRUE),VLOOKUP(M32,Dates2!B:C,2,TRUE)))","v":""},null,"","",null,{"$f":"IF(J32=\"\",\"\",VLOOKUP(Q32,'WEEKLY PAYMENTS'!A:L,12,FALSE))","v":""},null,{"$f":"IF(T32=\"\",\"\",VLOOKUP(T32,Dates2!B:C,2,TRUE))","v":""},null,{"$f":"IF(T32=\"\",\"\",IF($M$7=\"1. Sun-Sat\",IF($E$15<VLOOKUP(T32,Table1,1,TRUE),VLOOKUP(T32,Table1,1,TRUE)-3,$E$15),IF($E$15<VLOOKUP(T32,Dates!$G$4:$G$40,1,TRUE),VLOOKUP(T32,Dates!$G$4:$G$40,1,TRUE),$E$15)))","v":""},"",null,{"$f":"VLOOKUP(Q32,'WEEKLY PAYMENTS'!A:M,13,FALSE)","v":""}]
[null,null,null,null,null,null,null,null,null,{"$f":"IF(M33=\"\",\"\",IF($M$7=\"1. Sun-Sat\",VLOOKUP(M33+4,Dates2!B:C,2,TRUE),VLOOKUP(M33,Dates2!B:C,2,TRUE)))","v":""},null,"","",null,{"$f":"IF(J33=\"\",\"\",VLOOKUP(Q33,'WEEKLY PAYMENTS'!A:L,12,FALSE))","v":""},null,{"$f":"IF(T33=\"\",\"\",VLOOKUP(T33,Dates2!B:C,2,TRUE))","v":""},null,{"$f":"IF(T33=\"\",\"\",IF($M$7=\"1. Sun-Sat\",IF($E$15<VLOOKUP(T33,Table1,1,TRUE),VLOOKUP(T33,Table1,1,TRUE)-3,$E$15),IF($E$15<VLOOKUP(T33,Dates!$G$4:$G$40,1,TRUE),VLOOKUP(T33,Dates!$G$4:$G$40,1,TRUE),$E$15)))","v":""},"",null,{"$f":"VLOOKUP(Q33,'WEEKLY PAYMENTS'!A:M,13,FALSE)","v":""}]
[null,null,null,null,null,null,null,null,null,{"$f":"IF(M34=\"\",\"\",IF($M$7=\"1. Sun-Sat\",VLOOKUP(M34+4,Dates2!B:C,2,TRUE),VLOOKUP(M34,Dates2!B:C,2,TRUE)))","v":""},null,"","",null,{"$f":"IF(J34=\"\",\"\",VLOOKUP(Q34,'WEEKLY PAYMENTS'!A:L,12,FALSE))","v":""},null,{"$f":"IF(T34=\"\",\"\",VLOOKUP(T34,Dates2!B:C,2,TRUE))","v":""},null,{"$f":"IF(T34=\"\",\"\",IF($M$7=\"1. Sun-Sat\",IF($E$15<VLOOKUP(T34,Table1,1,TRUE),VLOOKUP(T34,Table1,1,TRUE)-3,$E$15),IF($E$15<VLOOKUP(T34,Dates!$G$4:$G$40,1,TRUE),VLOOKUP(T34,Dates!$G$4:$G$40,1,TRUE),$E$15)))","v":""},"",null,{"$f":"VLOOKUP(Q34,'WEEKLY PAYMENTS'!A:M,13,FALSE)","v":""}]
[null,null,null,"Clicking the 'New Calc' button will reset the\ninput fields.",null,null,null,null,null,{"$f":"IF(M35=\"\",\"\",IF($M$7=\"1. Sun-Sat\",VLOOKUP(M35+4,Dates2!B:C,2,TRUE),VLOOKUP(M35,Dates2!B:C,2,TRUE)))","v":""},null,"","",null,{"$f":"IF(J35=\"\",\"\",VLOOKUP(Q35,'WEEKLY PAYMENTS'!A:L,12,FALSE))","v":""},null,{"$f":"IF(T35=\"\",\"\",VLOOKUP(T35,Dates2!B:C,2,TRUE))","v":""},null,{"$f":"IF(T35=\"\",\"\",IF($M$7=\"1. Sun-Sat\",IF($E$15<VLOOKUP(T35,Table1,1,TRUE),VLOOKUP(T35,Table1,1,TRUE)-3,$E$15),IF($E$15<VLOOKUP(T35,Dates!$G$4:$G$40,1,TRUE),VLOOKUP(T35,Dates!$G$4:$G$40,1,TRUE),$E$15)))","v":""},"",null,{"$f":"VLOOKUP(Q35,'WEEKLY PAYMENTS'!A:M,13,FALSE)","v":""}]
[null,null,null,null,null,null,null,null,null,{"$f":"IF(M36=\"\",\"\",IF($M$7=\"1. Sun-Sat\",VLOOKUP(M36+4,Dates2!B:C,2,TRUE),VLOOKUP(M36,Dates2!B:C,2,TRUE)))","v":""},null,"","",null,{"$f":"IF(J36=\"\",\"\",VLOOKUP(Q36,'WEEKLY PAYMENTS'!A:L,12,FALSE))","v":""},null,{"$f":"IF(T36=\"\",\"\",VLOOKUP(T36,Dates2!B:C,2,TRUE))","v":""},null,{"$f":"IF(T36=\"\",\"\",IF($M$7=\"1. Sun-Sat\",IF($E$15<VLOOKUP(T36,Table1,1,TRUE),VLOOKUP(T36,Table1,1,TRUE)-3,$E$15),IF($E$15<VLOOKUP(T36,Dates!$G$4:$G$40,1,TRUE),VLOOKUP(T36,Dates!$G$4:$G$40,1,TRUE),$E$15)))","v":""},"",null,{"$f":"VLOOKUP(Q36,'WEEKLY PAYMENTS'!A:M,13,FALSE)","v":""}]
[null,null,null,null,null,null,null,null,null,{"$f":"IF(M37=\"\",\"\",IF($M$7=\"1. Sun-Sat\",VLOOKUP(M37+4,Dates2!B:C,2,TRUE),VLOOKUP(M37,Dates2!B:C,2,TRUE)))","v":""},null,"","",null,{"$f":"IF(J37=\"\",\"\",VLOOKUP(Q37,'WEEKLY PAYMENTS'!A:L,12,FALSE))","v":""},null,{"$f":"IF(T37=\"\",\"\",VLOOKUP(T37,Dates2!B:C,2,TRUE))","v":""},null,{"$f":"IF(T37=\"\",\"\",IF($M$7=\"1. Sun-Sat\",IF($E$15<VLOOKUP(T37,Table1,1,TRUE),VLOOKUP(T37,Table1,1,TRUE)-3,$E$15),IF($E$15<VLOOKUP(T37,Dates!$G$4:$G$40,1,TRUE),VLOOKUP(T37,Dates!$G$4:$G$40,1,TRUE),$E$15)))","v":""},"",null,{"$f":"VLOOKUP(Q37,'WEEKLY PAYMENTS'!A:M,13,FALSE)","v":""}]
[null,null,null,null,null,null,null,null,null,{"$f":"IF(M38=\"\",\"\",IF($M$7=\"1. Sun-Sat\",VLOOKUP(M38+4,Dates2!B:C,2,TRUE),VLOOKUP(M38,Dates2!B:C,2,TRUE)))","v":""},null,"","",null,{"$f":"IF(J38=\"\",\"\",VLOOKUP(Q38,'WEEKLY PAYMENTS'!A:L,12,FALSE))","v":""},null,{"$f":"IF(T38=\"\",\"\",VLOOKUP(T38,Dates2!B:C,2,TRUE))","v":""},null,{"$f":"IF(T38=\"\",\"\",IF($M$7=\"1. Sun-Sat\",IF($E$15<VLOOKUP(T38,Table1,1,TRUE),VLOOKUP(T38,Table1,1,TRUE)-3,$E$15),IF($E$15<VLOOKUP(T38,Dates!$G$4:$G$40,1,TRUE),VLOOKUP(T38,Dates!$G$4:$G$40,1,TRUE),$E$15)))","v":""},"",null,{"$f":"VLOOKUP(Q38,'WEEKLY PAYMENTS'!A:M,13,FALSE)","v":""}]
[null,null,null,null,null,null,null,null,null,{"$f":"IF(M39=\"\",\"\",IF($M$7=\"1. Sun-Sat\",VLOOKUP(M39+4,Dates2!B:C,2,TRUE),VLOOKUP(M39,Dates2!B:C,2,TRUE)))","v":""},null,"","",null,{"$f":"IF(J39=\"\",\"\",VLOOKUP(Q39,'WEEKLY PAYMENTS'!A:L,12,FALSE))","v":""},null,{"$f":"IF(T39=\"\",\"\",VLOOKUP(T39,Dates2!B:C,2,TRUE))","v":""},null,{"$f":"IF(T39=\"\",\"\",IF($M$7=\"1. Sun-Sat\",IF($E$15<VLOOKUP(T39,Table1,1,TRUE),VLOOKUP(T39,Table1,1,TRUE)-3,$E$15),IF($E$15<VLOOKUP(T39,Dates!$G$4:$G$40,1,TRUE),VLOOKUP(T39,Dates!$G$4:$G$40,1,TRUE),$E$15)))","v":""},"",null,{"$f":"VLOOKUP(Q39,'WEEKLY PAYMENTS'!A:M,13,FALSE)","v":""}]
[null,null,null,null,null,null,null,null,null,{"$f":"IF(M40=\"\",\"\",IF($M$7=\"1. Sun-Sat\",VLOOKUP(M40+4,Dates2!B:C,2,TRUE),VLOOKUP(M40,Dates2!B:C,2,TRUE)))","v":""},null,"","",null,{"$f":"IF(J40=\"\",\"\",VLOOKUP(Q40,'WEEKLY PAYMENTS'!A:L,12,FALSE))","v":""},null,{"$f":"IF(T40=\"\",\"\",VLOOKUP(T40,Dates2!B:C,2,TRUE))","v":""},null,{"$f":"IF(T40=\"\",\"\",IF($M$7=\"1. Sun-Sat\",IF($E$15<VLOOKUP(T40,Table1,1,TRUE),VLOOKUP(T40,Table1,1,TRUE)-3,$E$15),IF($E$15<VLOOKUP(T40,Dates!$G$4:$G$40,1,TRUE),VLOOKUP(T40,Dates!$G$4:$G$40,1,TRUE),$E$15)))","v":""},"",null,{"$f":"VLOOKUP(Q40,'WEEKLY PAYMENTS'!A:M,13,FALSE)","v":""}]
[null,null,null,null,null,null,null,null,null,{"$f":"IF(M41=\"\",\"\",IF($M$7=\"1. Sun-Sat\",VLOOKUP(M41+4,Dates2!B:C,2,TRUE),VLOOKUP(M41,Dates2!B:C,2,TRUE)))","v":""},null,"","",null,{"$f":"IF(J41=\"\",\"\",VLOOKUP(Q41,'WEEKLY PAYMENTS'!A:L,12,FALSE))","v":""},null,{"$f":"IF(T41=\"\",\"\",VLOOKUP(T41,Dates2!B:C,2,TRUE))","v":""},null,{"$f":"IF(T41=\"\",\"\",IF($M$7=\"1. Sun-Sat\",IF($E$15<VLOOKUP(T41,Table1,1,TRUE),VLOOKUP(T41,Table1,1,TRUE)-3,$E$15),IF($E$15<VLOOKUP(T41,Dates!$G$4:$G$40,1,TRUE),VLOOKUP(T41,Dates!$G$4:$G$40,1,TRUE),$E$15)))","v":""},"",null,{"$f":"VLOOKUP(Q41,'WEEKLY PAYMENTS'!A:M,13,FALSE)","v":""}]
[null,null,null,null,null,null,null,null,null,{"$f":"IF(M42=\"\",\"\",IF($M$7=\"1. Sun-Sat\",VLOOKUP(M42+4,Dates2!B:C,2,TRUE),VLOOKUP(M42,Dates2!B:C,2,TRUE)))","v":""},null,"","",null,{"$f":"IF(J42=\"\",\"\",VLOOKUP(Q42,'WEEKLY PAYMENTS'!A:L,12,FALSE))","v":""},null,{"$f":"IF(T42=\"\",\"\",VLOOKUP(T42,Dates2!B:C,2,TRUE))","v":""},null,{"$f":"IF(T42=\"\",\"\",IF($M$7=\"1. Sun-Sat\",IF($E$15<VLOOKUP(T42,Table1,1,TRUE),VLOOKUP(T42,Table1,1,TRUE)-3,$E$15),IF($E$15<VLOOKUP(T42,Dates!$G$4:$G$40,1,TRUE),VLOOKUP(T42,Dates!$G$4:$G$40,1,TRUE),$E$15)))","v":""},"",null,{"$f":"VLOOKUP(Q42,'WEEKLY PAYMENTS'!A:M,13,FALSE)","v":""}]
[null,null,null,null,null,null,null,null,null,{"$f":"IF(M43=\"\",\"\",IF($M$7=\"1. Sun-Sat\",VLOOKUP(M43+4,Dates2!B:C,2,TRUE),VLOOKUP(M43,Dates2!B:C,2,TRUE)))","v":""},null,"","",null,{"$f":"IF(J43=\"\",\"\",VLOOKUP(Q43,'WEEKLY PAYMENTS'!A:L,12,FALSE))","v":""},null,{"$f":"IF(T43=\"\",\"\",VLOOKUP(T43,Dates2!B:C,2,TRUE))","v":""},null,{"$f":"IF(T43=\"\",\"\",IF($M$7=\"1. Sun-Sat\",IF($E$15<VLOOKUP(T43,Table1,1,TRUE),VLOOKUP(T43,Table1,1,TRUE)-3,$E$15),IF($E$15<VLOOKUP(T43,Dates!$G$4:$G$40,1,TRUE),VLOOKUP(T43,Dates!$G$4:$G$40,1,TRUE),$E$15)))","v":""},"",null,{"$f":"VLOOKUP(Q43,'WEEKLY PAYMENTS'!A:M,13,FALSE)","v":""}]
[null,null,null,null,null,null,null,null,null,{"$f":"IF(M44=\"\",\"\",IF($M$7=\"1. Sun-Sat\",VLOOKUP(M44+4,Dates2!B:C,2,TRUE),VLOOKUP(M44,Dates2!B:C,2,TRUE)))","v":""},null,"","",null,{"$f":"IF(J44=\"\",\"\",VLOOKUP(Q44,'WEEKLY PAYMENTS'!A:L,12,FALSE))","v":""},null,{"$f":"IF(T44=\"\",\"\",VLOOKUP(T44,Dates2!B:C,2,TRUE))","v":""},null,{"$f":"IF(T44=\"\",\"\",IF($M$7=\"1. Sun-Sat\",IF($E$15<VLOOKUP(T44,Table1,1,TRUE),VLOOKUP(T44,Table1,1,TRUE)-3,$E$15),IF($E$15<VLOOKUP(T44,Dates!$G$4:$G$40,1,TRUE),VLOOKUP(T44,Dates!$G$4:$G$40,1,TRUE),$E$15)))","v":""},"",null,{"$f":"VLOOKUP(Q44,'WEEKLY PAYMENTS'!A:M,13,FALSE)","v":""}]
[null,null,null,null,null,null,null,null,null,{"$f":"IF(M45=\"\",\"\",IF($M$7=\"1. Sun-Sat\",VLOOKUP(M45+4,Dates2!B:C,2,TRUE),VLOOKUP(M45,Dates2!B:C,2,TRUE)))","v":""},null,"","",null,{"$f":"IF(J45=\"\",\"\",VLOOKUP(Q45,'WEEKLY PAYMENTS'!A:L,12,FALSE))","v":""},null,{"$f":"IF(T45=\"\",\"\",VLOOKUP(T45,Dates2!B:C,2,TRUE))","v":""},null,{"$f":"IF(T45=\"\",\"\",IF($M$7=\"1. Sun-Sat\",IF($E$15<VLOOKUP(T45,Table1,1,TRUE),VLOOKUP(T45,Table1,1,TRUE)-3,$E$15),IF($E$15<VLOOKUP(T45,Dates!$G$4:$G$40,1,TRUE),VLOOKUP(T45,Dates!$G$4:$G$40,1,TRUE),$E$15)))","v":""},"",null,{"$f":"VLOOKUP(Q45,'WEEKLY PAYMENTS'!A:M,13,FALSE)","v":""}]
[null,null,null,null,null,null,null,null,null,{"$f":"IF(M46=\"\",\"\",IF($M$7=\"1. Sun-Sat\",VLOOKUP(M46+4,Dates2!B:C,2,TRUE),VLOOKUP(M46,Dates2!B:C,2,TRUE)))","v":""},null,"","",null,{"$f":"IF(J46=\"\",\"\",VLOOKUP(Q46,'WEEKLY PAYMENTS'!A:L,12,FALSE))","v":""},null,{"$f":"IF(T46=\"\",\"\",VLOOKUP(T46,Dates2!B:C,2,TRUE))","v":""},null,{"$f":"IF(T46=\"\",\"\",IF($M$7=\"1. Sun-Sat\",IF($E$15<VLOOKUP(T46,Table1,1,TRUE),VLOOKUP(T46,Table1,1,TRUE)-3,$E$15),IF($E$15<VLOOKUP(T46,Dates!$G$4:$G$40,1,TRUE),VLOOKUP(T46,Dates!$G$4:$G$40,1,TRUE),$E$15)))","v":""},"",null,{"$f":"VLOOKUP(Q46,'WEEKLY PAYMENTS'!A:M,13,FALSE)","v":""}]
[null,null,null,null,null,null,null,null,null,{"$f":"IF(M47=\"\",\"\",IF($M$7=\"1. Sun-Sat\",VLOOKUP(M47+4,Dates2!B:C,2,TRUE),VLOOKUP(M47,Dates2!B:C,2,TRUE)))","v":""},null,"","",null,{"$f":"IF(J47=\"\",\"\",VLOOKUP(Q47,'WEEKLY PAYMENTS'!A:L,12,FALSE))","v":""},null,{"$f":"IF(T47=\"\",\"\",VLOOKUP(T47,Dates2!B:C,2,TRUE))","v":""},null,{"$f":"IF(T47=\"\",\"\",IF($M$7=\"1. Sun-Sat\",IF($E$15<VLOOKUP(T47,Table1,1,TRUE),VLOOKUP(T47,Table1,1,TRUE)-3,$E$15),IF($E$15<VLOOKUP(T47,Dates!$G$4:$G$40,1,TRUE),VLOOKUP(T47,Dates!$G$4:$G$40,1,TRUE),$E$15)))","v":""},"",null,{"$f":"VLOOKUP(Q47,'WEEKLY PAYMENTS'!A:M,13,FALSE)","v":""}]
[null,null,null,null,null,null,null,null,null,{"$f":"IF(M48=\"\",\"\",IF($M$7=\"1. Sun-Sat\",VLOOKUP(M48+4,Dates2!B:C,2,TRUE),VLOOKUP(M48,Dates2!B:C,2,TRUE)))","v":""},null,"","",null,{"$f":"IF(J48=\"\",\"\",VLOOKUP(Q48,'WEEKLY PAYMENTS'!A:L,12,FALSE))","v":""},null,{"$f":"IF(T48=\"\",\"\",VLOOKUP(T48,Dates2!B:C,2,TRUE))","v":""},null,{"$f":"IF(T48=\"\",\"\",IF($M$7=\"1. Sun-Sat\",IF($E$15<VLOOKUP(T48,Table1,1,TRUE),VLOOKUP(T48,Table1,1,TRUE)-3,$E$15),IF($E$15<VLOOKUP(T48,Dates!$G$4:$G$40,1,TRUE),VLOOKUP(T48,Dates!$G$4:$G$40,1,TRUE),$E$15)))","v":""},"",null,{"$f":"VLOOKUP(Q48,'WEEKLY PAYMENTS'!A:M,13,FALSE)","v":""}]
[null,null,null,null,null,null,null,null,null,{"$f":"IF(M49=\"\",\"\",IF($M$7=\"1. Sun-Sat\",VLOOKUP(M49+4,Dates2!B:C,2,TRUE),VLOOKUP(M49,Dates2!B:C,2,TRUE)))","v":""},null,"","",null,{"$f":"IF(J49=\"\",\"\",VLOOKUP(Q49,'WEEKLY PAYMENTS'!A:L,12,FALSE))","v":""},null,{"$f":"IF(T49=\"\",\"\",VLOOKUP(T49,Dates2!B:C,2,TRUE))","v":""},null,{"$f":"IF(T49=\"\",\"\",IF($M$7=\"1. Sun-Sat\",IF($E$15<VLOOKUP(T49,Table1,1,TRUE),VLOOKUP(T49,Table1,1,TRUE)-3,$E$15),IF($E$15<VLOOKUP(T49,Dates!$G$4:$G$40,1,TRUE),VLOOKUP(T49,Dates!$G$4:$G$40,1,TRUE),$E$15)))","v":""},"",null,{"$f":"VLOOKUP(Q49,'WEEKLY PAYMENTS'!A:M,13,FALSE)","v":""}]
[null,null,null,null,null,null,null,null,null,{"$f":"IF(M50=\"\",\"\",IF($M$7=\"1. Sun-Sat\",VLOOKUP(M50+4,Dates2!B:C,2,TRUE),VLOOKUP(M50,Dates2!B:C,2,TRUE)))","v":""},null,"","",null,{"$f":"IF(J50=\"\",\"\",VLOOKUP(Q50,'WEEKLY PAYMENTS'!A:L,12,FALSE))","v":""},null,{"$f":"IF(T50=\"\",\"\",VLOOKUP(T50,Dates2!B:C,2,TRUE))","v":""},null,{"$f":"IF(T50=\"\",\"\",IF($M$7=\"1. Sun-Sat\",IF($E$15<VLOOKUP(T50,Table1,1,TRUE),VLOOKUP(T50,Table1,1,TRUE)-3,$E$15),IF($E$15<VLOOKUP(T50,Dates!$G$4:$G$40,1,TRUE),VLOOKUP(T50,Dates!$G$4:$G$40,1,TRUE),$E$15)))","v":""},"",null,{"$f":"VLOOKUP(Q50,'WEEKLY PAYMENTS'!A:M,13,FALSE)","v":""}]
[null,null,null,null,null,null,null,null,null,{"$f":"IF(M51=\"\",\"\",IF($M$7=\"1. Sun-Sat\",VLOOKUP(M51+4,Dates2!B:C,2,TRUE),VLOOKUP(M51,Dates2!B:C,2,TRUE)))","v":""},null,"","",null,{"$f":"IF(J51=\"\",\"\",VLOOKUP(Q51,'WEEKLY PAYMENTS'!A:L,12,FALSE))","v":""},null,{"$f":"IF(T51=\"\",\"\",VLOOKUP(T51,Dates2!B:C,2,TRUE))","v":""},null,{"$f":"IF(T51=\"\",\"\",IF($M$7=\"1. Sun-Sat\",IF($E$15<VLOOKUP(T51,Table1,1,TRUE),VLOOKUP(T51,Table1,1,TRUE)-3,$E$15),IF($E$15<VLOOKUP(T51,Dates!$G$4:$G$40,1,TRUE),VLOOKUP(T51,Dates!$G$4:$G$40,1,TRUE),$E$15)))","v":""},"",null,{"$f":"VLOOKUP(Q51,'WEEKLY PAYMENTS'!A:M,13,FALSE)","v":""}]
[null,null,null,null,null,null,null,null,null,{"$f":"IF(M52=\"\",\"\",IF($M$7=\"1. Sun-Sat\",VLOOKUP(M52+4,Dates2!B:C,2,TRUE),VLOOKUP(M52,Dates2!B:C,2,TRUE)))","v":""},null,"","",null,{"$f":"IF(J52=\"\",\"\",VLOOKUP(Q52,'WEEKLY PAYMENTS'!A:L,12,FALSE))","v":""},null,{"$f":"IF(T52=\"\",\"\",VLOOKUP(T52,Dates2!B:C,2,TRUE))","v":""},null,{"$f":"IF(T52=\"\",\"\",IF($M$7=\"1. Sun-Sat\",IF($E$15<VLOOKUP(T52,Table1,1,TRUE),VLOOKUP(T52,Table1,1,TRUE)-3,$E$15),IF($E$15<VLOOKUP(T52,Dates!$G$4:$G$40,1,TRUE),VLOOKUP(T52,Dates!$G$4:$G$40,1,TRUE),$E$15)))","v":""},"",null,{"$f":"VLOOKUP(Q52,'WEEKLY PAYMENTS'!A:M,13,FALSE)","v":""}]
[]
[]
[null,null,null,null,null,null,null,null,null,null,null,null,null,null,null,null,"Prepared by:",null,null,null,null,"            /         /"]
[]
[null,null,null,null,null,null,null,null,null,null,null,null,null,null,null,null,"Authorised by:",null,null,null,null,"            /         /"]

{"sheet":"Section 61(11) Summary","index":2,"n_rows":24,"n_cols":15,"rows_kept":24,"cut":false,"hidden":false,"merged":[[15,2,15,7],[15,9,15,14],[6,6,6,8],[6,12,6,14],[12,2,13,14],[1,0,1,16],[3,5,3,8],[8,12,8,13],[9,12,9,13],[10,12,10,13],[8,6,8,8],[10,6,10,8]]}
[]
["Section 61(11) Interest Summary"]
[]
[null,null,null,null,"Dependent - ",null,null,null,null,null,null,"Claim Number -"]
[]
[]
[null,null,"Claim Received Date",null,null,null,"Payment Activation Date",null,null,null,null,null,"Total Interest Payment "]
[]
[null,null,"Determination Date",null,null,null,"Account Credited Date",null,null,{"$f":"IF(J7=\"\",\"\",J7+CHOOSE(WEEKDAY(J7),3,2,2,2,4,4,4))","v":""},null,null,"Start Date",null,{"$f":"IF(E7=\"\",\"\",E7)","v":""}]
[null,null,null,null,null,null,null,null,null,null,null,null,"End Date",null,{"$f":"J9","v":""}]
[null,null,"Amount",null,null,null,"Interest Rate",null,null,{"$f":"IF(J9=\"\",\"\",VLOOKUP((J9+6),'WEEKLY PAYMENTS'!A:H,8)/100)","v":""},null,null,"Amount",null,{"$f":"IF(H19=\"\",\"\",H19+O19)","v":""}]
[]
[null,null,"Payment Breakdown"]
[]
[]
[null,null,"Non Taxable Payment - Curam payment code 'INTRX'",null,null,null,null,null,null,"Taxable Payment - Curam payment code 'INTR' "]
[]
[null,null,"Due Date",null,"Start Date","End Date",null,"Amount $",null,"Due Date",null,"Start Date","End Date",null,"Amount $"]
[null,null,{"$f":"IF(J7=\"\",\"\",J7)","v":""},null,{"$f":"IF(E7=\"\",\"\",E7)","v":""},{"$f":"IF(E9=\"\",\"\",E9)","v":""},null,{"$f":"IF(OR(E7=\"\",E9=\"\",E11=\"\",J7=\"\"),\"\",ROUND(E11*J11*((F19-E19+1)/365),2))","v":""},null,{"$f":"IF(J7=\"\",\"\",J7)","v":""},null,{"$f":"IF(E9=\"\",\"\",E9+1)","v":""},{"$f":"J9","v":""},null,{"$f":"IF(OR(E7=\"\",E9=\"\",E11=\"\",J7=\"\"),\"\",ROUND(E11*J11*((M19-L19+1)/365),2))","v":""}]
[]
[]
[null,null,null,null,null,null,null,null,null,"Prepared by:",null,null,null,null,"            /         /"]
[]
[null,null,null,null,null,null,null,null,null,"Authorised by:",null,null,null,null,"            /         /"]

{"sheet":"Dates","index":3,"n_rows":36,"n_cols":8,"rows_kept":36,"cut":false,"hidden":true,"merged":[[0,1,0,3],[0,5,0,7]]}
[null,"Sunday to Saturday",null,null,null,"Thursday to Wednesday"]
["Fin Year","Due Date","Payment Date From","Payment Date To",null,"Due Date","Payment Date From","Payment Date To"]
[]
["1986-1987","1987-06-24","1986-06-22","1987-06-20",null,"1987-06-24","1986-06-26","1987-06-24"]
["1987-1988","1988-06-29","1987-06-21","1988-06-25",null,"1988-06-29","1987-06-25","1988-06-29"]
["1988-1989","1989-06-28","1988-06-26","1989-06-24",null,"1989-06-28","1988-06-30","1989-06-28"]
["1989-1990","1990-06-27","1989-06-25","1990-06-23",null,"1990-06-27","1989-06-29","1990-06-27"]
["1990-1991","1991-06-26","1990-06-24","1991-06-22",null,"1991-06-26","1990-06-28","1991-06-26"]
["1991-1992","1992-06-24","1991-06-23","1992-06-20",null,"1992-06-24","1991-06-27","1992-06-24"]
["1992-1993","1993-06-30","1992-06-21","1993-06-26",null,"1993-06-30","1992-06-25","1993-06-30"]
["1993-1994","1994-06-29","1993-06-27","1994-06-25",null,"1994-06-29","1993-07-01","1994-06-29"]
["1994-1995","1995-06-28","1994-06-26","1995-06-24",null,"1995-06-28","1994-06-30","1995-06-28"]
["1995-1996","1996-06-26","1995-06-25","1996-06-22",null,"1996-06-26","1995-06-29","1996-06-26"]
["1996-1997","1997-06-25","1996-06-23","1997-06-21",null,"1997-06-25","1996-06-27","1997-06-25"]
["1997-1998","1998-06-24","1997-06-22","1998-06-20",null,"1998-06-24","1997-06-26","1998-06-24"]
["1998-1999","1999-06-30","1998-06-21","1999-06-26",null,"1999-06-30","1998-06-25","1999-06-30"]
["1999-2000","2000-06-28","1999-06-27","2000-06-24",null,"2000-06-28","1999-07-01","2000-06-28"]
["2000-2001","2001-06-27","2000-06-25","2001-06-23",null,"2001-06-27","2000-06-29","2001-06-27"]
["2001-2002","2002-06-26","2001-06-24","2002-06-22",null,"2002-06-26","2001-06-28","2002-06-26"]
["2002-2003","2003-06-25","2002-06-23","2003-06-21",null,"2003-06-25","2002-06-27","2003-06-25"]
["2003-2004","2004-06-30","2003-06-22","2004-06-26",null,"2004-06-30","2003-06-26","2004-06-30"]
["2004-2005","2005-06-29","2004-06-27","2005-06-25",null,"2005-06-29","2004-07-01","2005-06-29"]
["2005-2006","2006-06-28","2005-06-26","2006-06-24",null,"2006-06-28","2005-06-30","2006-06-28"]
["2006-2007","2007-06-27","2006-06-25","2007-06-23",null,"2007-06-27","2006-06-29","2007-06-27"]
["2007-2008","2008-06-25","2007-06-24","2008-06-21",null,"2008-06-25","2007-06-28","2008-06-25"]
["2008-2009","2009-06-24","2008-06-22","2009-06-20",null,"2009-06-24","2008-06-26","2009-06-24"]
["2009-2010","2010-06-30","2009-06-21","2010-06-26",null,"2010-06-30","2009-06-25","2010-06-30"]
["2010-2011","2011-06-29","2010-06-27","2011-06-25",null,"2011-06-29","2010-07-01","2011-06-29"]
["2011-2012","2012-06-27","2011-06-26","2012-06-23",null,"2012-06-27","2011-06-30","2012-06-27"]
["2012-2013","2013-06-26","2012-06-24","2013-06-22",null,"2013-06-26","2012-06-28","2013-06-26"]
["2013-2014","2014-06-25","2013-06-23","2014-06-21",null,"2014-06-25","2013-06-27","2014-06-25"]
["2014-2015","2015-06-24","2014-06-22","2015-06-20",null,"2015-06-24","2014-06-26","2015-06-24"]
["2015-2016","2016-06-29","2015-06-21","2016-06-25",null,"2016-06-29","2015-06-25","2016-06-29"]
["2016-2017","2017-06-28","2016-06-26","2017-06-24",null,"2017-06-28","2016-06-30","2017-06-28"]
["2017-2018","2018-06-27","2017-06-25","2018-06-23",null,"2018-06-27","2018-06-28","2018-06-27"]
["2018-2019","2019-06-26","2018-06-24","2019-06-22",null,"2019-06-26","2019-06-27","2019-06-26"]

{"sheet":"Dates2","index":4,"n_rows":3297,"n_cols":7,"rows_kept":3297,"cut":false,"hidden":true,"merged":[]}
["1986-06-18",{"$f":"A1+1","v":"1986-06-19"},{"$f":"B1+6","v":"1986-06-25"},null,null,"2010-07-01",2011]
["1986-06-25",{"$f":"B1+7","v":"1986-06-26"},"1986-07-02",null,null,"2010-07-02",2011]
[{"$f":"A2+7","v":"1986-07-02"},"1986-07-03","1986-07-09",null,null,"2010-07-03",2011]
["1986-07-09","1986-07-10","1986-07-16",null,null,"2010-07-04",2011]
["1986-07-16","1986-07-17","1986-07-23",null,null,"2010-07-05",2011]
["1986-07-23","1986-07-24","1986-07-30",null,null,"2010-07-06",2011]
["1986-07-30","1986-07-31","1986-08-06",null,null,"2010-07-07",2011]
["1986-08-06","1986-08-07","1986-08-13",null,null,"2010-07-08",2011]
["1986-08-13","1986-08-14","1986-08-20",null,null,"2010-07-09",2011]
["1986-08-20","1986-08-21","1986-08-27",null,null,"2010-07-10",2011]
["1986-08-27","1986-08-28","1986-09-03",null,null,"2010-07-11",2011]
["1986-09-03","1986-09-04","1986-09-10",null,null,"2010-07-12",2011]
["1986-09-10","1986-09-11","1986-09-17",null,null,"2010-07-13",2011]
["1986-09-17","1986-09-18","1986-09-24",null,null,"2010-07-14",2011]
["1986-09-24","1986-09-25","1986-10-01",null,null,"2010-07-15",2011]
["1986-10-01","1986-10-02","1986-10-08",null,null,"2010-07-16",2011]
["1986-10-08","1986-10-09","1986-10-15",null,null,"2010-07-17",2011]
["1986-10-15","1986-10-16","1986-10-22",null,null,"2010-07-18",2011]
["1986-10-22","1986-10-23","1986-10-29",null,null,"2010-07-19",2011]
["1986-10-29","1986-10-30","1986-11-05",null,null,"2010-07-20",2011]
["1986-11-05","1986-11-06","1986-11-12",null,null,"2010-07-21",2011]
["1986-11-12","1986-11-13","1986-11-19",null,null,"2010-07-22",2011]
["1986-11-19","1986-11-20","1986-11-26",null,null,"2010-07-23",2011]
["1986-11-26","1986-11-27","1986-12-03",null,null,"2010-07-24",2011]
["1986-12-03","1986-12-04","1986-12-10",null,null,"2010-07-25",2011]
["1986-12-10","1986-12-11","1986-12-17",null,null,"2010-07-26",2011]
["1986-12-17","1986-12-18","1986-12-24",null,null,"2010-07-27",2011]
["1986-12-24","1986-12-25","1986-12-31",null,null,"2010-07-28",2011]
["1986-12-31","1987-01-01","1987-01-07",null,null,"2010-07-29",2011]
["1987-01-07","1987-01-08","1987-01-14",null,null,"2010-07-30",2011]
["1987-01-14","1987-01-15","1987-01-21",null,null,"2010-07-31",2011]
["1987-01-21","1987-01-22","1987-01-28",null,null,"2010-08-01",2011]
["1987-01-28","1987-01-29","1987-02-04",null,null,"2010-08-02",2011]
["1987-02-04","1987-02-05","1987-02-11",null,null,"2010-08-03",2011]
["1987-02-11","1987-02-12","1987-02-18",null,null,"2010-08-04",2011]
["1987-02-18","1987-02-19","1987-02-25",null,null,"2010-08-05",2011]
["1987-02-25","1987-02-26","1987-03-04",null,null,"2010-08-06",2011]
["1987-03-04","1987-03-05","1987-03-11",null,null,"2010-08-07",2011]
["1987-03-11","1987-03-12","1987-03-18",null,null,"2010-08-08",2011]
["1987-03-18","1987-03-19","1987-03-25",null,null,"2010-08-09",2011]
["1987-03-25","1987-03-26","1987-04-01",null,null,"2010-08-10",2011]
["1987-04-01","1987-04-02","1987-04-08",null,null,"2010-08-11",2011]
["1987-04-08","1987-04-09","1987-04-15",null,null,"2010-08-12",2011]
["1987-04-15","1987-04-16","1987-04-22",null,null,"2010-08-13",2011]
["1987-04-22","1987-04-23","1987-04-29",null,null,"2010-08-14",2011]
["1987-04-29","1987-04-30","1987-05-06",null,null,"2010-08-15",2011]
["1987-05-06","1987-05-07","1987-05-13",null,null,"2010-08-16",2011]
["1987-05-13","1987-05-14","1987-05-20",null,null,"2010-08-17",2011]
["1987-05-20","1987-05-21","1987-05-27",null,null,"2010-08-18",2011]
["1987-05-27","1987-05-28","1987-06-03",null,null,"2010-08-19",2011]
["1987-06-03","1987-06-04","1987-06-10",null,null,"2010-08-20",2011]
["1987-06-10","1987-06-11","1987-06-17",null,null,"2010-08-21",2011]
["1987-06-17","1987-06-18","1987-06-24",null,null,"2010-08-22",2011]
["1987-06-24","1987-06-25","1987-07-01",null,null,"2010-08-23",2011]
["1987-07-01","1987-07-02","1987-07-08",null,null,"2010-08-24",2011]
["1987-07-08","1987-07-09","1987-07-15",null,null,"2010-08-25",2011]
["1987-07-15","1987-07-16","1987-07-22",null,null,"2010-08-26",2011]
["1987-07-22","1987-07-23","1987-07-29",null,null,"2010-08-27",2011]
["1987-07-29","1987-07-30","1987-08-05",null,null,"2010-08-28",2011]
["1987-08-05","1987-08-06","1987-08-12",null,null,"2010-08-29",2011]
["1987-08-12","1987-08-13","1987-08-19",null,null,"2010-08-30",2011]
["1987-08-19","1987-08-20","1987-08-26",null,null,"2010-08-31",2011]
["1987-08-26","1987-08-27","1987-09-02",null,null,"2010-09-01",2011]
["1987-09-02","1987-09-03","1987-09-09",null,null,"2010-09-02",2011]
["1987-09-09","1987-09-10",{"$f":"B65+6","v":"1987-09-16"},null,null,"2010-09-03",2011]
["1987-09-16",{"$f":"B65+7","v":"1987-09-17"},"1987-09-23",null,null,"2010-09-04",2011]
[{"$f":"A66+7","v":"1987-09-23"},"1987-09-24","1987-09-30",null,null,"2010-09-05",2011]
["1987-09-30","1987-10-01","1987-10-07",null,null,"2010-09-06",2011]
["1987-10-07","1987-10-08","1987-10-14",null,null,"2010-09-07",2011]
["1987-10-14","1987-10-15","1987-10-21",null,null,"2010-09-08",2011]
["1987-10-21","1987-10-22","1987-10-28",null,null,"2010-09-09",2011]
["1987-10-28","1987-10-29","1987-11-04",null,null,"2010-09-10",2011]
["1987-11-04","1987-11-05","1987-11-11",null,null,"2010-09-11",2011]
["1987-11-11","1987-11-12","1987-11-18",null,null,"2010-09-12",2011]
["1987-11-18","1987-11-19","1987-11-25",null,null,"2010-09-13",2011]
["1987-11-25","1987-11-26","1987-12-02",null,null,"2010-09-14",2011]
["1987-12-02","1987-12-03","1987-12-09",null,null,"2010-09-15",2011]
["1987-12-09","1987-12-10","1987-12-16",null,null,"2010-09-16",2011]
["1987-12-16","1987-12-17","1987-12-23",null,null,"2010-09-17",2011]
["1987-12-23","1987-12-24","1987-12-30",null,null,"2010-09-18",2011]
["1987-12-30","1987-12-31","1988-01-06",null,null,"2010-09-19",2011]
["1988-01-06","1988-01-07","1988-01-13",null,null,"2010-09-20",2011]
["1988-01-13","1988-01-14","1988-01-20",null,null,"2010-09-21",2011]
["1988-01-20","1988-01-21","1988-01-27",null,null,"2010-09-22",2011]
["1988-01-27","1988-01-28","1988-02-03",null,null,"2010-09-23",2011]
["1988-02-03","1988-02-04","1988-02-10",null,null,"2010-09-24",2011]
["1988-02-10","1988-02-11","1988-02-17",null,null,"2010-09-25",2011]
["1988-02-17","1988-02-18","1988-02-24",null,null,"2010-09-26",2011]
["1988-02-24","1988-02-25","1988-03-02",null,null,"2010-09-27",2011]
["1988-03-02","1988-03-03","1988-03-09",null,null,"2010-09-28",2011]
["1988-03-09","1988-03-10","1988-03-16",null,null,"2010-09-29",2011]
["1988-03-16","1988-03-17","1988-03-23",null,null,"2010-09-30",2011]
["1988-03-23","1988-03-24","1988-03-30",null,null,"2010-10-01",2011]
["1988-03-30","1988-03-31","1988-04-06",null,null,"2010-10-02",2011]
["1988-04-06","1988-04-07","1988-04-13",null,null,"2010-10-03",2011]
["1988-04-13","1988-04-14","1988-04-20",null,null,"2010-10-04",2011]
["1988-04-20","1988-04-21","1988-04-27",null,null,"2010-10-05",2011]
["1988-04-27","1988-04-28","1988-05-04",null,null,"2010-10-06",2011]
["1988-05-04","1988-05-05","1988-05-11",null,null,"2010-10-07",2011]
["1988-05-11","1988-05-12","1988-05-18",null,null,"2010-10-08",2011]
["1988-05-18","1988-05-19","1988-05-25",null,null,"2010-10-09",2011]
["1988-05-25","1988-05-26","1988-06-01",null,null,"2010-10-10",2011]
["1988-06-01","1988-06-02","1988-06-08",null,null,"2010-10-11",2011]
["1988-06-08","1988-06-09","1988-06-15",null,null,"2010-10-12",2011]
["1988-06-15","1988-06-16","1988-06-22",null,null,"2010-10-13",2011]
["1988-06-22","1988-06-23","1988-06-29",null,null,"2010-10-14",2011]
["1988-06-29","1988-06-30","1988-07-06",null,null,"2010-10-15",2011]
["1988-07-06","1988-07-07","1988-07-13",null,null,"2010-10-16",2011]
["1988-07-13","1988-07-14","1988-07-20",null,null,"2010-10-17",2011]
["1988-07-20","1988-07-21","1988-07-27",null,null,"2010-10-18",2011]
["1988-07-27","1988-07-28","1988-08-03",null,null,"2010-10-19",2011]
["1988-08-03","1988-08-04","1988-08-10",null,null,"2010-10-20",2011]
["1988-08-10","1988-08-11","1988-08-17",null,null,"2010-10-21",2011]
["1988-08-17","1988-08-18","1988-08-24",null,null,"2010-10-22",2011]
["1988-08-24","1988-08-25","1988-08-31",null,null,"2010-10-23",2011]
["1988-08-31","1988-09-01","1988-09-07",null,null,"2010-10-24",2011]
["1988-09-07","1988-09-08","1988-09-14",null,null,"2010-10-25",2011]
["1988-09-14","1988-09-15","1988-09-21",null,null,"2010-10-26",2011]
["1988-09-21","1988-09-22","1988-09-28",null,null,"2010-10-27",2011]
["1988-09-28","1988-09-29","1988-10-05",null,null,"2010-10-28",2011]
["1988-10-05","1988-10-06","1988-10-12",null,null,"2010-10-29",2011]
["1988-10-12","1988-10-13","1988-10-19",null,null,"2010-10-30",2011]
["1988-10-19","1988-10-20","1988-10-26",null,null,"2010-10-31",2011]
["1988-10-26","1988-10-27","1988-11-02",null,null,"2010-11-01",2011]
["1988-11-02","1988-11-03","1988-11-09",null,null,"2010-11-02",2011]
["1988-11-09","1988-11-10","1988-11-16",null,null,"2010-11-03",2011]
["1988-11-16","1988-11-17","1988-11-23",null,null,"2010-11-04",2011]
["1988-11-23","1988-11-24","1988-11-30",null,null,"2010-11-05",2011]
["1988-11-30","1988-12-01",{"$f":"B129+6","v":"1988-12-07"},null,null,"2010-11-06",2011]
["1988-12-07",{"$f":"B129+7","v":"1988-12-08"},"1988-12-14",null,null,"2010-11-07",2011]
[{"$f":"A130+7","v":"1988-12-14"},"1988-12-15","1988-12-21",null,null,"2010-11-08",2011]
["1988-12-21","1988-12-22","1988-12-28",null,null,"2010-11-09",2011]
["1988-12-28","1988-12-29","1989-01-04",null,null,"2010-11-10",2011]
["1989-01-04","1989-01-05","1989-01-11",null,null,"2010-11-11",2011]
["1989-01-11","1989-01-12","1989-01-18",null,null,"2010-11-12",2011]
["1989-01-18","1989-01-19","1989-01-25",null,null,"2010-11-13",2011]
["1989-01-25","1989-01-26","1989-02-01",null,null,"2010-11-14",2011]
["1989-02-01","1989-02-02","1989-02-08",null,null,"2010-11-15",2011]
["1989-02-08","1989-02-09","1989-02-15",null,null,"2010-11-16",2011]
["1989-02-15","1989-02-16","1989-02-22",null,null,"2010-11-17",2011]
["1989-02-22","1989-02-23","1989-03-01",null,null,"2010-11-18",2011]
["1989-03-01","1989-03-02","1989-03-08",null,null,"2010-11-19",2011]
["1989-03-08","1989-03-09","1989-03-15",null,null,"2010-11-20",2011]
["1989-03-15","1989-03-16","1989-03-22",null,null,"2010-11-21",2011]
["1989-03-22","1989-03-23","1989-03-29",null,null,"2010-11-22",2011]
["1989-03-29","1989-03-30","1989-04-05",null,null,"2010-11-23",2011]
["1989-04-05","1989-04-06","1989-04-12",null,null,"2010-11-24",2011]
["1989-04-12","1989-04-13","1989-04-19",null,null,"2010-11-25",2011]
["1989-04-19","1989-04-20","1989-04-26",null,null,"2010-11-26",2011]
["1989-04-26","1989-04-27","1989-05-03",null,null,"2010-11-27",2011]
["1989-05-03","1989-05-04","1989-05-10",null,null,"2010-11-28",2011]
["1989-05-10","1989-05-11","1989-05-17",null,null,"2010-11-29",2011]
["1989-05-17","1989-05-18","1989-05-24",null,null,"2010-11-30",2011]
["1989-05-24","1989-05-25","1989-05-31",null,null,"2010-12-01",2011]
["1989-05-31","1989-06-01","1989-06-07",null,null,"2010-12-02",2011]
["1989-06-07","1989-06-08","1989-06-14",null,null,"2010-12-03",2011]
["1989-06-14","1989-06-15","1989-06-21",null,null,"2010-12-04",2011]
["1989-06-21","1989-06-22","1989-06-28",null,null,"2010-12-05",2011]
["1989-06-28","1989-06-29","1989-07-05",null,null,"2010-12-06",2011]
["1989-07-05","1989-07-06","1989-07-12",null,null,"2010-12-07",2011]
["1989-07-12","1989-07-13","1989-07-19",null,null,"2010-12-08",2011]
["1989-07-19","1989-07-20","1989-07-26",null,null,"2010-12-09",2011]
["1989-07-26","1989-07-27","1989-08-02",null,null,"2010-12-10",2011]
["1989-08-02","1989-08-03","1989-08-09",null,null,"2010-12-11",2011]
["1989-08-09","1989-08-10","1989-08-16",null,null,"2010-12-12",2011]
["1989-08-16","1989-08-17","1989-08-23",null,null,"2010-12-13",2011]
["1989-08-23","1989-08-24","1989-08-30",null,null,"2010-12-14",2011]
["1989-08-30","1989-08-31","1989-09-06",null,null,"2010-12-15",2011]
["1989-09-06","1989-09-07","1989-09-13",null,null,"2010-12-16",2011]
["1989-09-13","1989-09-14","1989-09-20",null,null,"2010-12-17",2011]
["1989-09-20","1989-09-21","1989-09-27",null,null,"2010-12-18",2011]
["1989-09-27","1989-09-28","1989-10-04",null,null,"2010-12-19",2011]
["1989-10-04","1989-10-05","1989-10-11",null,null,"2010-12-20",2011]
["1989-10-11","1989-10-12","1989-10-18",null,null,"2010-12-21",2011]
["1989-10-18","1989-10-19","1989-10-25",null,null,"2010-12-22",2011]
["1989-10-25","1989-10-26","1989-11-01",null,null,"2010-12-23",2011]
["1989-11-01","1989-11-02","1989-11-08",null,null,"2010-12-24",2011]
["1989-11-08","1989-11-09","1989-11-15",null,null,"2010-12-25",2011]
["1989-11-15","1989-11-16","1989-11-22",null,null,"2010-12-26",2011]
["1989-11-22","1989-11-23","1989-11-29",null,null,"2010-12-27",2011]
["1989-11-29","1989-11-30","1989-12-06",null,null,"2010-12-28",2011]
["1989-12-06","1989-12-07","1989-12-13",null,null,"2010-12-29",2011]
["1989-12-13","1989-12-14","1989-12-20",null,null,"2010-12-30",2011]
["1989-12-20","1989-12-21","1989-12-27",null,null,"2010-12-31",2011]
["1989-12-27","1989-12-28","1990-01-03",null,null,"2011-01-01",2011]
["1990-01-03","1990-01-04","1990-01-10",null,null,"2011-01-02",2011]
["1990-01-10","1990-01-11","1990-01-17",null,null,"2011-01-03",2011]
["1990-01-17","1990-01-18","1990-01-24",null,null,"2011-01-04",2011]
["1990-01-24","1990-01-25","1990-01-31",null,null,"2011-01-05",2011]
["1990-01-31","1990-02-01","1990-02-07",null,null,"2011-01-06",2011]
["1990-02-07","1990-02-08","1990-02-14",null,null,"2011-01-07",2011]
["1990-02-14","1990-02-15","1990-02-21",null,null,"2011-01-08",2011]
["1990-02-21","1990-02-22",{"$f":"B193+6","v":"1990-02-28"},null,null,"2011-01-09",2011]
["1990-02-28",{"$f":"B193+7","v":"1990-03-01"},"1990-03-07",null,null,"2011-01-10",2011]
[{"$f":"A194+7","v":"1990-03-07"},"1990-03-08","1990-03-14",null,null,"2011-01-11",2011]
["1990-03-14","1990-03-15","1990-03-21",null,null,"2011-01-12",2011]
["1990-03-21","1990-03-22","1990-03-28",null,null,"2011-01-13",2011]
["1990-03-28","1990-03-29","1990-04-04",null,null,"2011-01-14",2011]
["1990-04-04","1990-04-05","1990-04-11",null,null,"2011-01-15",2011]
["1990-04-11","1990-04-12","1990-04-18",null,null,"2011-01-16",2011]
["1990-04-18","1990-04-19","1990-04-25",null,null,"2011-01-17",2011]
["1990-04-25","1990-04-26","1990-05-02",null,null,"2011-01-18",2011]
["1990-05-02","1990-05-03","1990-05-09",null,null,"2011-01-19",2011]
["1990-05-09","1990-05-10","1990-05-16",null,null,"2011-01-20",2011]
["1990-05-16","1990-05-17","1990-05-23",null,null,"2011-01-21",2011]
["1990-05-23","1990-05-24","1990-05-30",null,null,"2011-01-22",2011]
["1990-05-30","1990-05-31","1990-06-06",null,null,"2011-01-23",2011]
["1990-06-06","1990-06-07","1990-06-13",null,null,"2011-01-24",2011]
["1990-06-13","1990-06-14","1990-06-20",null,null,"2011-01-25",2011]
["1990-06-20","1990-06-21","1990-06-27",null,null,"2011-01-26",2011]
["1990-06-27","1990-06-28","1990-07-04",null,null,"2011-01-27",2011]
["1990-07-04","1990-07-05","1990-07-11",null,null,"2011-01-28",2011]
["1990-07-11","1990-07-12","1990-07-18",null,null,"2011-01-29",2011]
["1990-07-18","1990-07-19","1990-07-25",null,null,"2011-01-30",2011]
["1990-07-25","1990-07-26","1990-08-01",null,null,"2011-01-31",2011]
["1990-08-01","1990-08-02","1990-08-08",null,null,"2011-02-01",2011]
["1990-08-08","1990-08-09","1990-08-15",null,null,"2011-02-02",2011]
["1990-08-15","1990-08-16","1990-08-22",null,null,"2011-02-03",2011]
["1990-08-22","1990-08-23","1990-08-29",null,null,"2011-02-04",2011]
["1990-08-29","1990-08-30","1990-09-05",null,null,"2011-02-05",2011]
["1990-09-05","1990-09-06","1990-09-12",null,null,"2011-02-06",2011]
["1990-09-12","1990-09-13","1990-09-19",null,null,"2011-02-07",2011]
["1990-09-19","1990-09-20","1990-09-26",null,null,"2011-02-08",2011]
["1990-09-26","1990-09-27","1990-10-03",null,null,"2011-02-09",2011]
["1990-10-03","1990-10-04","1990-10-10",null,null,"2011-02-10",2011]
["1990-10-10","1990-10-11","1990-10-17",null,null,"2011-02-11",2011]
["1990-10-17","1990-10-18","1990-10-24",null,null,"2011-02-12",2011]
["1990-10-24","1990-10-25","1990-10-31",null,null,"2011-02-13",2011]
["1990-10-31","1990-11-01","1990-11-07",null,null,"2011-02-14",2011]
["1990-11-07","1990-11-08","1990-11-14",null,null,"2011-02-15",2011]
["1990-11-14","1990-11-15","1990-11-21",null,null,"2011-02-16",2011]
["1990-11-21","1990-11-22","1990-11-28",null,null,"2011-02-17",2011]
["1990-11-28","1990-11-29","1990-12-05",null,null,"2011-02-18",2011]
["1990-12-05","1990-12-06","1990-12-12",null,null,"2011-02-19",2011]
["1990-12-12","1990-12-13","1990-12-19",null,null,"2011-02-20",2011]
["1990-12-19","1990-12-20","1990-12-26",null,null,"2011-02-21",2011]
["1990-12-26","1990-12-27","1991-01-02",null,null,"2011-02-22",2011]
["1991-01-02","1991-01-03","1991-01-09",null,null,"2011-02-23",2011]
["1991-01-09","1991-01-10","1991-01-16",null,null,"2011-02-24",2011]
["1991-01-16","1991-01-17","1991-01-23",null,null,"2011-02-25",2011]
["1991-01-23","1991-01-24","1991-01-30",null,null,"2011-02-26",2011]
["1991-01-30","1991-01-31","1991-02-06",null,null,"2011-02-27",2011]
["1991-02-06","1991-02-07","1991-02-13",null,null,"2011-02-28",2011]
["1991-02-13","1991-02-14","1991-02-20",null,null,"2011-03-01",2011]
["1991-02-20","1991-02-21","1991-02-27",null,null,"2011-03-02",2011]
["1991-02-27","1991-02-28","1991-03-06",null,null,"2011-03-03",2011]
["1991-03-06","1991-03-07","1991-03-13",null,null,"2011-03-04",2011]
["1991-03-13","1991-03-14","1991-03-20",null,null,"2011-03-05",2011]
["1991-03-20","1991-03-21","1991-03-27",null,null,"2011-03-06",2011]
["1991-03-27","1991-03-28","1991-04-03",null,null,"2011-03-07",2011]
["1991-04-03","1991-04-04","1991-04-10",null,null,"2011-03-08",2011]
["1991-04-10","1991-04-11","1991-04-17",null,null,"2011-03-09",2011]
["1991-04-17","1991-04-18","1991-04-24",null,null,"2011-03-10",2011]
["1991-04-24","1991-04-25","1991-05-01",null,null,"2011-03-11",2011]
["1991-05-01","1991-05-02","1991-05-08",null,null,"2011-03-12",2011]
["1991-05-08","1991-05-09","1991-05-15",null,null,"2011-03-13",2011]
["1991-05-15","1991-05-16",{"$f":"B257+6","v":"1991-05-22"},null,null,"2011-03-14",2011]
["1991-05-22",{"$f":"B257+7","v":"1991-05-23"},"1991-05-29",null,null,"2011-03-15",2011]
[{"$f":"A258+7","v":"1991-05-29"},"1991-05-30","1991-06-05",null,null,"2011-03-16",2011]
["1991-06-05","1991-06-06","1991-06-12",null,null,"2011-03-17",2011]
["1991-06-12","1991-06-13","1991-06-19",null,null,"2011-03-18",2011]
["1991-06-19","1991-06-20","1991-06-26",null,null,"2011-03-19",2011]
["1991-06-26","1991-06-27","1991-07-03",null,null,"2011-03-20",2011]
["1991-07-03","1991-07-04","1991-07-10",null,null,"2011-03-21",2011]
["1991-07-10","1991-07-11","1991-07-17",null,null,"2011-03-22",2011]
["1991-07-17","1991-07-18","1991-07-24",null,null,"2011-03-23",2011]
["1991-07-24","1991-07-25","1991-07-31",null,null,"2011-03-24",2011]
["1991-07-31","1991-08-01","1991-08-07",null,null,"2011-03-25",2011]
["1991-08-07","1991-08-08","1991-08-14",null,null,"2011-03-26",2011]
["1991-08-14","1991-08-15","1991-08-21",null,null,"2011-03-27",2011]
["1991-08-21","1991-08-22","1991-08-28",null,null,"2011-03-28",2011]
["1991-08-28","1991-08-29","1991-09-04",null,null,"2011-03-29",2011]
["1991-09-04","1991-09-05","1991-09-11",null,null,"2011-03-30",2011]
["1991-09-11","1991-09-12","1991-09-18",null,null,"2011-03-31",2011]
["1991-09-18","1991-09-19","1991-09-25",null,null,"2011-04-01",2011]
["1991-09-25","1991-09-26","1991-10-02",null,null,"2011-04-02",2011]
["1991-10-02","1991-10-03","1991-10-09",null,null,"2011-04-03",2011]
["1991-10-09","1991-10-10","1991-10-16",null,null,"2011-04-04",2011]
["1991-10-16","1991-10-17","1991-10-23",null,null,"2011-04-05",2011]
["1991-10-23","1991-10-24","1991-10-30",null,null,"2011-04-06",2011]
["1991-10-30","1991-10-31","1991-11-06",null,null,"2011-04-07",2011]
["1991-11-06","1991-11-07","1991-11-13",null,null,"2011-04-08",2011]
["1991-11-13","1991-11-14","1991-11-20",null,null,"2011-04-09",2011]
["1991-11-20","1991-11-21","1991-11-27",null,null,"2011-04-10",2011]
["1991-11-27","1991-11-28","1991-12-04",null,null,"2011-04-11",2011]
["1991-12-04","1991-12-05","1991-12-11",null,null,"2011-04-12",2011]
["1991-12-11","1991-12-12","1991-12-18",null,null,"2011-04-13",2011]
["1991-12-18","1991-12-19","1991-12-25",null,null,"2011-04-14",2011]
["1991-12-25","1991-12-26","1992-01-01",null,null,"2011-04-15",2011]
["1992-01-01","1992-01-02","1992-01-08",null,null,"2011-04-16",2011]
["1992-01-08","1992-01-09","1992-01-15",null,null,"2011-04-17",2011]
["1992-01-15","1992-01-16","1992-01-22",null,null,"2011-04-18",2011]
["1992-01-22","1992-01-23","1992-01-29",null,null,"2011-04-19",2011]
["1992-01-29","1992-01-30","1992-02-05",null,null,"2011-04-20",2011]
["1992-02-05","1992-02-06","1992-02-12",null,null,"2011-04-21",2011]
["1992-02-12","1992-02-13","1992-02-19",null,null,"2011-04-22",2011]
["1992-02-19","1992-02-20","1992-02-26",null,null,"2011-04-23",2011]
["1992-02-26","1992-02-27","1992-03-04",null,null,"2011-04-24",2011]
["1992-03-04","1992-03-05","1992-03-11",null,null,"2011-04-25",2011]
["1992-03-11","1992-03-12","1992-03-18",null,null,"2011-04-26",2011]
["1992-03-18","1992-03-19","1992-03-25",null,null,"2011-04-27",2011]
["1992-03-25","1992-03-26","1992-04-01",null,null,"2011-04-28",2011]
["1992-04-01","1992-04-02","1992-04-08",null,null,"2011-04-29",2011]
["1992-04-08","1992-04-09","1992-04-15",null,null,"2011-04-30",2011]
["1992-04-15","1992-04-16","1992-04-22",null,null,"2011-05-01",2011]
["1992-04-22","1992-04-23","1992-04-29",null,null,"2011-05-02",2011]
["1992-04-29","1992-04-30","1992-05-06",null,null,"2011-05-03",2011]
["1992-05-06","1992-05-07","1992-05-13",null,null,"2011-05-04",2011]
["1992-05-13","1992-05-14","1992-05-20",null,null,"2011-05-05",2011]
["1992-05-20","1992-05-21","1992-05-27",null,null,"2011-05-06",2011]
["1992-05-27","1992-05-28","1992-06-03",null,null,"2011-05-07",2011]
["1992-06-03","1992-06-04","1992-06-10",null,null,"2011-05-08",2011]
["1992-06-10","1992-06-11","1992-06-17",null,null,"2011-05-09",2011]
["1992-06-17","1992-06-18","1992-06-24",null,null,"2011-05-10",2011]
["1992-06-24","1992-06-25","1992-07-01",null,null,"2011-05-11",2011]
["1992-07-01","1992-07-02","1992-07-08",null,null,"2011-05-12",2011]
["1992-07-08","1992-07-09","1992-07-15",null,null,"2011-05-13",2011]
["1992-07-15","1992-07-16","1992-07-22",null,null,"2011-05-14",2011]
["1992-07-22","1992-07-23","1992-07-29",null,null,"2011-05-15",2011]
["1992-07-29","1992-07-30","1992-08-05",null,null,"2011-05-16",2011]
["1992-08-05","1992-08-06",{"$f":"B321+6","v":"1992-08-12"},null,null,"2011-05-17",2011]
["1992-08-12",{"$f":"B321+7","v":"1992-08-13"},"1992-08-19",null,null,"2011-05-18",2011]
[{"$f":"A322+7","v":"1992-08-19"},"1992-08-20","1992-08-26",null,null,"2011-05-19",2011]
["1992-08-26","1992-08-27","1992-09-02",null,null,"2011-05-20",2011]
["1992-09-02","1992-09-03","1992-09-09",null,null,"2011-05-21",2011]
["1992-09-09","1992-09-10","1992-09-16",null,null,"2011-05-22",2011]
["1992-09-16","1992-09-17","1992-09-23",null,null,"2011-05-23",2011]
["1992-09-23","1992-09-24","1992-09-30",null,null,"2011-05-24",2011]
["1992-09-30","1992-10-01","1992-10-07",null,null,"2011-05-25",2011]
["1992-10-07","1992-10-08","1992-10-14",null,null,"2011-05-26",2011]
["1992-10-14","1992-10-15","1992-10-21",null,null,"2011-05-27",2011]
["1992-10-21","1992-10-22","1992-10-28",null,null,"2011-05-28",2011]
["1992-10-28","1992-10-29","1992-11-04",null,null,"2011-05-29",2011]
["1992-11-04","1992-11-05","1992-11-11",null,null,"2011-05-30",2011]
["1992-11-11","1992-11-12","1992-11-18",null,null,"2011-05-31",2011]
["1992-11-18","1992-11-19","1992-11-25",null,null,"2011-06-01",2011]
["1992-11-25","1992-11-26","1992-12-02",null,null,"2011-06-02",2011]
["1992-12-02","1992-12-03","1992-12-09",null,null,"2011-06-03",2011]
["1992-12-09","1992-12-10","1992-12-16",null,null,"2011-06-04",2011]
["1992-12-16","1992-12-17","1992-12-23",null,null,"2011-06-05",2011]
["1992-12-23","1992-12-24","1992-12-30",null,null,"2011-06-06",2011]
["1992-12-30","1992-12-31","1993-01-06",null,null,"2011-06-07",2011]
["1993-01-06","1993-01-07","1993-01-13",null,null,"2011-06-08",2011]
["1993-01-13","1993-01-14","1993-01-20",null,null,"2011-06-09",2011]
["1993-01-20","1993-01-21","1993-01-27",null,null,"2011-06-10",2011]
["1993-01-27","1993-01-28","1993-02-03",null,null,"2011-06-11",2011]
["1993-02-03","1993-02-04","1993-02-10",null,null,"2011-06-12",2011]
["1993-02-10","1993-02-11","1993-02-17",null,null,"2011-06-13",2011]
["1993-02-17","1993-02-18","1993-02-24",null,null,"2011-06-14",2011]
["1993-02-24","1993-02-25","1993-03-03",null,null,"2011-06-15",2011]
["1993-03-03","1993-03-04","1993-03-10",null,null,"2011-06-16",2011]
["1993-03-10","1993-03-11","1993-03-17",null,null,"2011-06-17",2011]
["1993-03-17","1993-03-18","1993-03-24",null,null,"2011-06-18",2011]
["1993-03-24","1993-03-25","1993-03-31",null,null,"2011-06-19",2011]
["1993-03-31","1993-04-01","1993-04-07",null,null,"2011-06-20",2011]
["1993-04-07","1993-04-08","1993-04-14",null,null,"2011-06-21",2011]
["1993-04-14","1993-04-15","1993-04-21",null,null,"2011-06-22",2011]
["1993-04-21","1993-04-22","1993-04-28",null,null,"2011-06-23",2011]
["1993-04-28","1993-04-29","1993-05-05",null,null,"2011-06-24",2011]
["1993-05-05","1993-05-06","1993-05-12",null,null,"2011-06-25",2011]
["1993-05-12","1993-05-13","1993-05-19",null,null,"2011-06-26",2011]
["1993-05-19","1993-05-20","1993-05-26",null,null,"2011-06-27",2011]
["1993-05-26","1993-05-27","1993-06-02",null,null,"2011-06-28",2011]
["1993-06-02","1993-06-03","1993-06-09",null,null,"2011-06-29",2011]
["1993-06-09","1993-06-10","1993-06-16",null,null,"2011-06-30",2012]
["1993-06-16","1993-06-17","1993-06-23",null,null,"2011-07-01",2012]
["1993-06-23","1993-06-24","1993-06-30",null,null,"2011-07-02",2012]
["1993-06-30","1993-07-01","1993-07-07",null,null,"2011-07-03",2012]
["1993-07-07","1993-07-08","1993-07-14",null,null,"2011-07-04",2012]
["1993-07-14","1993-07-15","1993-07-21",null,null,"2011-07-05",2012]
["1993-07-21","1993-07-22","1993-07-28",null,null,"2011-07-06",2012]
["1993-07-28","1993-07-29","1993-08-04",null,null,"2011-07-07",2012]
["1993-08-04","1993-08-05","1993-08-11",null,null,"2011-07-08",2012]
["1993-08-11","1993-08-12","1993-08-18",null,null,"2011-07-09",2012]
["1993-08-18","1993-08-19","1993-08-25",null,null,"2011-07-10",2012]
["1993-08-25","1993-08-26","1993-09-01",null,null,"2011-07-11",2012]
["1993-09-01","1993-09-02","1993-09-08",null,null,"2011-07-12",2012]
["1993-09-08","1993-09-09","1993-09-15",null,null,"2011-07-13",2012]
["1993-09-15","1993-09-16","1993-09-22",null,null,"2011-07-14",2012]
["1993-09-22","1993-09-23","1993-09-29",null,null,"2011-07-15",2012]
["1993-09-29","1993-09-30","1993-10-06",null,null,"2011-07-16",2012]
["1993-10-06","1993-10-07","1993-10-13",null,null,"2011-07-17",2012]
["1993-10-13","1993-10-14","1993-10-20",null,null,"2011-07-18",2012]
["1993-10-20","1993-10-21","1993-10-27",null,null,"2011-07-19",2012]
["1993-10-27","1993-10-28",{"$f":"B385+6","v":"1993-11-03"},null,null,"2011-07-20",2012]
["1993-11-03",{"$f":"B385+7","v":"1993-11-04"},"1993-11-10",null,null,"2011-07-21",2012]
[{"$f":"A386+7","v":"1993-11-10"},"1993-11-11","1993-11-17",null,null,"2011-07-22",2012]
["1993-11-17","1993-11-18","1993-11-24",null,null,"2011-07-23",2012]
["1993-11-24","1993-11-25","1993-12-01",null,null,"2011-07-24",2012]
["1993-12-01","1993-12-02","1993-12-08",null,null,"2011-07-25",2012]
["1993-12-08","1993-12-09","1993-12-15",null,null,"2011-07-26",2012]
["1993-12-15","1993-12-16","1993-12-22",null,null,"2011-07-27",2012]
["1993-12-22","1993-12-23","1993-12-29",null,null,"2011-07-28",2012]
["1993-12-29","1993-12-30","1994-01-05",null,null,"2011-07-29",2012]
["1994-01-05","1994-01-06","1994-01-12",null,null,"2011-07-30",2012]
["1994-01-12","1994-01-13","1994-01-19",null,null,"2011-07-31",2012]
["1994-01-19","1994-01-20","1994-01-26",null,null,"2011-08-01",2012]
["1994-01-26","1994-01-27","1994-02-02",null,null,"2011-08-02",2012]
["1994-02-02","1994-02-03","1994-02-09",null,null,"2011-08-03",2012]
["1994-02-09","1994-02-10","1994-02-16",null,null,"2011-08-04",2012]
["1994-02-16","1994-02-17","1994-02-23",null,null,"2011-08-05",2012]
["1994-02-23","1994-02-24","1994-03-02",null,null,"2011-08-06",2012]
["1994-03-02","1994-03-03","1994-03-09",null,null,"2011-08-07",2012]
["1994-03-09","1994-03-10","1994-03-16",null,null,"2011-08-08",2012]
["1994-03-16","1994-03-17","1994-03-23",null,null,"2011-08-09",2012]
["1994-03-23","1994-03-24","1994-03-30",null,null,"2011-08-10",2012]
["1994-03-30","1994-03-31","1994-04-06",null,null,"2011-08-11",2012]
["1994-04-06","1994-04-07","1994-04-13",null,null,"2011-08-12",2012]
["1994-04-13","1994-04-14","1994-04-20",null,null,"2011-08-13",2012]
["1994-04-20","1994-04-21","1994-04-27",null,null,"2011-08-14",2012]
["1994-04-27","1994-04-28","1994-05-04",null,null,"2011-08-15",2012]
["1994-05-04","1994-05-05","1994-05-11",null,null,"2011-08-16",2012]
["1994-05-11","1994-05-12","1994-05-18",null,null,"2011-08-17",2012]
["1994-05-18","1994-05-19","1994-05-25",null,null,"2011-08-18",2012]
["1994-05-25","1994-05-26","1994-06-01",null,null,"2011-08-19",2012]
["1994-06-01","1994-06-02","1994-06-08",null,null,"2011-08-20",2012]
["1994-06-08","1994-06-09","1994-06-15",null,null,"2011-08-21",2012]
["1994-06-15","1994-06-16","1994-06-22",null,null,"2011-08-22",2012]
["1994-06-22","1994-06-23","1994-06-29",null,null,"2011-08-23",2012]
["1994-06-29","1994-06-30","1994-07-06",null,null,"2011-08-24",2012]
["1994-07-06","1994-07-07","1994-07-13",null,null,"2011-08-25",2012]
["1994-07-13","1994-07-14","1994-07-20",null,null,"2011-08-26",2012]
["1994-07-20","1994-07-21","1994-07-27",null,null,"2011-08-27",2012]
["1994-07-27","1994-07-28","1994-08-03",null,null,"2011-08-28",2012]
["1994-08-03","1994-08-04","1994-08-10",null,null,"2011-08-29",2012]
["1994-08-10","1994-08-11","1994-08-17",null,null,"2011-08-30",2012]
["1994-08-17","1994-08-18","1994-08-24",null,null,"2011-08-31",2012]
["1994-08-24","1994-08-25","1994-08-31",null,null,"2011-09-01",2012]
["1994-08-31","1994-09-01","1994-09-07",null,null,"2011-09-02",2012]
["1994-09-07","1994-09-08","1994-09-14",null,null,"2011-09-03",2012]
["1994-09-14","1994-09-15","1994-09-21",null,null,"2011-09-04",2012]
["1994-09-21","1994-09-22","1994-09-28",null,null,"2011-09-05",2012]
["1994-09-28","1994-09-29","1994-10-05",null,null,"2011-09-06",2012]
["1994-10-05","1994-10-06","1994-10-12",null,null,"2011-09-07",2012]
["1994-10-12","1994-10-13","1994-10-19",null,null,"2011-09-08",2012]
["1994-10-19","1994-10-20","1994-10-26",null,null,"2011-09-09",2012]
["1994-10-26","1994-10-27","1994-11-02",null,null,"2011-09-10",2012]
["1994-11-02","1994-11-03","1994-11-09",null,null,"2011-09-11",2012]
["1994-11-09","1994-11-10","1994-11-16",null,null,"2011-09-12",2012]
["1994-11-16","1994-11-17","1994-11-23",null,null,"2011-09-13",2012]
["1994-11-23","1994-11-24","1994-11-30",null,null,"2011-09-14",2012]
["1994-11-30","1994-12-01","1994-12-07",null,null,"2011-09-15",2012]
["1994-12-07","1994-12-08","1994-12-14",null,null,"2011-09-16",2012]
["1994-12-14","1994-12-15","1994-12-21",null,null,"2011-09-17",2012]
["1994-12-21","1994-12-22","1994-12-28",null,null,"2011-09-18",2012]
["1994-12-28","1994-12-29","1995-01-04",null,null,"2011-09-19",2012]
["1995-01-04","1995-01-05","1995-01-11",null,null,"2011-09-20",2012]
["1995-01-11","1995-01-12","1995-01-18",null,null,"2011-09-21",2012]
["1995-01-18","1995-01-19",{"$f":"B449+6","v":"1995-01-25"},null,null,"2011-09-22",2012]
["1995-01-25",{"$f":"B449+7","v":"1995-01-26"},"1995-02-01",null,null,"2011-09-23",2012]
[{"$f":"A450+7","v":"1995-02-01"},"1995-02-02","1995-02-08",null,null,"2011-09-24",2012]
["1995-02-08","1995-02-09","1995-02-15",null,null,"2011-09-25",2012]
["1995-02-15","1995-02-16","1995-02-22",null,null,"2011-09-26",2012]
["1995-02-22","1995-02-23","1995-03-01",null,null,"2011-09-27",2012]
["1995-03-01","1995-03-02","1995-03-08",null,null,"2011-09-28",2012]
["1995-03-08","1995-03-09","1995-03-15",null,null,"2011-09-29",2012]
["1995-03-15","1995-03-16","1995-03-22",null,null,"2011-09-30",2012]
["1995-03-22","1995-03-23","1995-03-29",null,null,"2011-10-01",2012]
["1995-03-29","1995-03-30","1995-04-05",null,null,"2011-10-02",2012]
["1995-04-05","1995-04-06","1995-04-12",null,null,"2011-10-03",2012]
["1995-04-12","1995-04-13","1995-04-19",null,null,"2011-10-04",2012]
["1995-04-19","1995-04-20","1995-04-26",null,null,"2011-10-05",2012]
["1995-04-26","1995-04-27","1995-05-03",null,null,"2011-10-06",2012]
["1995-05-03","1995-05-04","1995-05-10",null,null,"2011-10-07",2012]
["1995-05-10","1995-05-11","1995-05-17",null,null,"2011-10-08",2012]
["1995-05-17","1995-05-18","1995-05-24",null,null,"2011-10-09",2012]
["1995-05-24","1995-05-25","1995-05-31",null,null,"2011-10-10",2012]
["1995-05-31","1995-06-01","1995-06-07",null,null,"2011-10-11",2012]
["1995-06-07","1995-06-08","1995-06-14",null,null,"2011-10-12",2012]
["1995-06-14","1995-06-15","1995-06-21",null,null,"2011-10-13",2012]
["1995-06-21","1995-06-22","1995-06-28",null,null,"2011-10-14",2012]
["1995-06-28","1995-06-29","1995-07-05",null,null,"2011-10-15",2012]
["1995-07-05","1995-07-06","1995-07-12",null,null,"2011-10-16",2012]
["1995-07-12","1995-07-13","1995-07-19",null,null,"2011-10-17",2012]
["1995-07-19","1995-07-20","1995-07-26",null,null,"2011-10-18",2012]
["1995-07-26","1995-07-27","1995-08-02",null,null,"2011-10-19",2012]
["1995-08-02","1995-08-03","1995-08-09",null,null,"2011-10-20",2012]
["1995-08-09","1995-08-10","1995-08-16",null,null,"2011-10-21",2012]
["1995-08-16","1995-08-17","1995-08-23",null,null,"2011-10-22",2012]
["1995-08-23","1995-08-24","1995-08-30",null,null,"2011-10-23",2012]
["1995-08-30","1995-08-31","1995-09-06",null,null,"2011-10-24",2012]
["1995-09-06","1995-09-07","1995-09-13",null,null,"2011-10-25",2012]
["1995-09-13","1995-09-14","1995-09-20",null,null,"2011-10-26",2012]
["1995-09-20","1995-09-21","1995-09-27",null,null,"2011-10-27",2012]
["1995-09-27","1995-09-28","1995-10-04",null,null,"2011-10-28",2012]
["1995-10-04","1995-10-05","1995-10-11",null,null,"2011-10-29",2012]
["1995-10-11","1995-10-12","1995-10-18",null,null,"2011-10-30",2012]
["1995-10-18","1995-10-19","1995-10-25",null,null,"2011-10-31",2012]
["1995-10-25","1995-10-26","1995-11-01",null,null,"2011-11-01",2012]
["1995-11-01","1995-11-02","1995-11-08",null,null,"2011-11-02",2012]
["1995-11-08","1995-11-09","1995-11-15",null,null,"2011-11-03",2012]
["1995-11-15","1995-11-16","1995-11-22",null,null,"2011-11-04",2012]
["1995-11-22","1995-11-23","1995-11-29",null,null,"2011-11-05",2012]
["1995-11-29","1995-11-30","1995-12-06",null,null,"2011-11-06",2012]
["1995-12-06","1995-12-07","1995-12-13",null,null,"2011-11-07",2012]
["1995-12-13","1995-12-14","1995-12-20",null,null,"2011-11-08",2012]
["1995-12-20","1995-12-21","1995-12-27",null,null,"2011-11-09",2012]
["1995-12-27","1995-12-28","1996-01-03",null,null,"2011-11-10",2012]
["1996-01-03","1996-01-04","1996-01-10",null,null,"2011-11-11",2012]
["1996-01-10","1996-01-11","1996-01-17",null,null,"2011-11-12",2012]
["1996-01-17","1996-01-18","1996-01-24",null,null,"2011-11-13",2012]
["1996-01-24","1996-01-25","1996-01-31",null,null,"2011-11-14",2012]
["1996-01-31","1996-02-01","1996-02-07",null,null,"2011-11-15",2012]
["1996-02-07","1996-02-08","1996-02-14",null,null,"2011-11-16",2012]
["1996-02-14","1996-02-15","1996-02-21",null,null,"2011-11-17",2012]
["1996-02-21","1996-02-22","1996-02-28",null,null,"2011-11-18",2012]
["1996-02-28","1996-02-29","1996-03-06",null,null,"2011-11-19",2012]
["1996-03-06","1996-03-07","1996-03-13",null,null,"2011-11-20",2012]
["1996-03-13","1996-03-14","1996-03-20",null,null,"2011-11-21",2012]
["1996-03-20","1996-03-21","1996-03-27",null,null,"2011-11-22",2012]
["1996-03-27","1996-03-28","1996-04-03",null,null,"2011-11-23",2012]
["1996-04-03","1996-04-04","1996-04-10",null,null,"2011-11-24",2012]
["1996-04-10","1996-04-11",{"$f":"B513+6","v":"1996-04-17"},null,null,"2011-11-25",2012]
["1996-04-17",{"$f":"B513+7","v":"1996-04-18"},"1996-04-24",null,null,"2011-11-26",2012]
[{"$f":"A514+7","v":"1996-04-24"},"1996-04-25","1996-05-01",null,null,"2011-11-27",2012]
["1996-05-01","1996-05-02","1996-05-08",null,null,"2011-11-28",2012]
["1996-05-08","1996-05-09","1996-05-15",null,null,"2011-11-29",2012]
["1996-05-15","1996-05-16","1996-05-22",null,null,"2011-11-30",2012]
["1996-05-22","1996-05-23","1996-05-29",null,null,"2011-12-01",2012]
["1996-05-29","1996-05-30","1996-06-05",null,null,"2011-12-02",2012]
["1996-06-05","1996-06-06","1996-06-12",null,null,"2011-12-03",2012]
["1996-06-12","1996-06-13","1996-06-19",null,null,"2011-12-04",2012]
["1996-06-19","1996-06-20","1996-06-26",null,null,"2011-12-05",2012]
["1996-06-26","1996-06-27","1996-07-03",null,null,"2011-12-06",2012]
["1996-07-03","1996-07-04","1996-07-10",null,null,"2011-12-07",2012]
["1996-07-10","1996-07-11","1996-07-17",null,null,"2011-12-08",2012]
["1996-07-17","1996-07-18","1996-07-24",null,null,"2011-12-09",2012]
["1996-07-24","1996-07-25","1996-07-31",null,null,"2011-12-10",2012]
["1996-07-31","1996-08-01","1996-08-07",null,null,"2011-12-11",2012]
["1996-08-07","1996-08-08","1996-08-14",null,null,"2011-12-12",2012]
["1996-08-14","1996-08-15","1996-08-21",null,null,"2011-12-13",2012]
["1996-08-21","1996-08-22","1996-08-28",null,null,"2011-12-14",2012]
["1996-08-28","1996-08-29","1996-09-04",null,null,"2011-12-15",2012]
["1996-09-04","1996-09-05","1996-09-11",null,null,"2011-12-16",2012]
["1996-09-11","1996-09-12","1996-09-18",null,null,"2011-12-17",2012]
["1996-09-18","1996-09-19","1996-09-25",null,null,"2011-12-18",2012]
["1996-09-25","1996-09-26","1996-10-02",null,null,"2011-12-19",2012]
["1996-10-02","1996-10-03","1996-10-09",null,null,"2011-12-20",2012]
["1996-10-09","1996-10-10","1996-10-16",null,null,"2011-12-21",2012]
["1996-10-16","1996-10-17","1996-10-23",null,null,"2011-12-22",2012]
["1996-10-23","1996-10-24","1996-10-30",null,null,"2011-12-23",2012]
["1996-10-30","1996-10-31","1996-11-06",null,null,"2011-12-24",2012]
["1996-11-06","1996-11-07","1996-11-13",null,null,"2011-12-25",2012]
["1996-11-13","1996-11-14","1996-11-20",null,null,"2011-12-26",2012]
["1996-11-20","1996-11-21","1996-11-27",null,null,"2011-12-27",2012]
["1996-11-27","1996-11-28","1996-12-04",null,null,"2011-12-28",2012]
["1996-12-04","1996-12-05","1996-12-11",null,null,"2011-12-29",2012]
["1996-12-11","1996-12-12","1996-12-18",null,null,"2011-12-30",2012]
["1996-12-18","1996-12-19","1996-12-25",null,null,"2011-12-31",2012]
["1996-12-25","1996-12-26","1997-01-01",null,null,"2012-01-01",2012]
["1997-01-01","1997-01-02","1997-01-08",null,null,"2012-01-02",2012]
["1997-01-08","1997-01-09","1997-01-15",null,null,"2012-01-03",2012]
["1997-01-15","1997-01-16","1997-01-22",null,null,"2012-01-04",2012]
["1997-01-22","1997-01-23","1997-01-29",null,null,"2012-01-05",2012]
["1997-01-29","1997-01-30","1997-02-05",null,null,"2012-01-06",2012]
["1997-02-05","1997-02-06","1997-02-12",null,null,"2012-01-07",2012]
["1997-02-12","1997-02-13","1997-02-19",null,null,"2012-01-08",2012]
["1997-02-19","1997-02-20","1997-02-26",null,null,"2012-01-09",2012]
["1997-02-26","1997-02-27","1997-03-05",null,null,"2012-01-10",2012]
["1997-03-05","1997-03-06","1997-03-12",null,null,"2012-01-11",2012]
["1997-03-12","1997-03-13","1997-03-19",null,null,"2012-01-12",2012]
["1997-03-19","1997-03-20","1997-03-26",null,null,"2012-01-13",2012]
["1997-03-26","1997-03-27","1997-04-02",null,null,"2012-01-14",2012]
["1997-04-02","1997-04-03","1997-04-09",null,null,"2012-01-15",2012]
["1997-04-09","1997-04-10","1997-04-16",null,null,"2012-01-16",2012]
["1997-04-16","1997-04-17","1997-04-23",null,null,"2012-01-17",2012]
["1997-04-23","1997-04-24","1997-04-30",null,null,"2012-01-18",2012]
["1997-04-30","1997-05-01","1997-05-07",null,null,"2012-01-19",2012]
["1997-05-07","1997-05-08","1997-05-14",null,null,"2012-01-20",2012]
["1997-05-14","1997-05-15","1997-05-21",null,null,"2012-01-21",2012]
["1997-05-21","1997-05-22","1997-05-28",null,null,"2012-01-22",2012]
["1997-05-28","1997-05-29","1997-06-04",null,null,"2012-01-23",2012]
["1997-06-04","1997-06-05","1997-06-11",null,null,"2012-01-24",2012]
["1997-06-11","1997-06-12","1997-06-18",null,null,"2012-01-25",2012]
["1997-06-18","1997-06-19","1997-06-25",null,null,"2012-01-26",2012]
["1997-06-25","1997-06-26","1997-07-02",null,null,"2012-01-27",2012]
["1997-07-02","1997-07-03",{"$f":"B577+6","v":"1997-07-09"},null,null,"2012-01-28",2012]
["1997-07-09",{"$f":"B577+7","v":"1997-07-10"},"1997-07-16",null,null,"2012-01-29",2012]
[{"$f":"A578+7","v":"1997-07-16"},"1997-07-17","1997-07-23",null,null,"2012-01-30",2012]
["1997-07-23","1997-07-24","1997-07-30",null,null,"2012-01-31",2012]
["1997-07-30","1997-07-31","1997-08-06",null,null,"2012-02-01",2012]
["1997-08-06","1997-08-07","1997-08-13",null,null,"2012-02-02",2012]
["1997-08-13","1997-08-14","1997-08-20",null,null,"2012-02-03",2012]
["1997-08-20","1997-08-21","1997-08-27",null,null,"2012-02-04",2012]
["1997-08-27","1997-08-28","1997-09-03",null,null,"2012-02-05",2012]
["1997-09-03","1997-09-04","1997-09-10",null,null,"2012-02-06",2012]
["1997-09-10","1997-09-11","1997-09-17",null,null,"2012-02-07",2012]
["1997-09-17","1997-09-18","1997-09-24",null,null,"2012-02-08",2012]
["1997-09-24","1997-09-25","1997-10-01",null,null,"2012-02-09",2012]
["1997-10-01","1997-10-02","1997-10-08",null,null,"2012-02-10",2012]
["1997-10-08","1997-10-09","1997-10-15",null,null,"2012-02-11",2012]
["1997-10-15","1997-10-16","1997-10-22",null,null,"2012-02-12",2012]
["1997-10-22","1997-10-23","1997-10-29",null,null,"2012-02-13",2012]
["1997-10-29","1997-10-30","1997-11-05",null,null,"2012-02-14",2012]
["1997-11-05","1997-11-06","1997-11-12",null,null,"2012-02-15",2012]
["1997-11-12","1997-11-13","1997-11-19",null,null,"2012-02-16",2012]
["1997-11-19","1997-11-20","1997-11-26",null,null,"2012-02-17",2012]
["1997-11-26","1997-11-27","1997-12-03",null,null,"2012-02-18",2012]
["1997-12-03","1997-12-04","1997-12-10",null,null,"2012-02-19",2012]
["1997-12-10","1997-12-11","1997-12-17",null,null,"2012-02-20",2012]
["1997-12-17","1997-12-18","1997-12-24",null,null,"2012-02-21",2012]
["1997-12-24","1997-12-25","1997-12-31",null,null,"2012-02-22",2012]
["1997-12-31","1998-01-01","1998-01-07",null,null,"2012-02-23",2012]
["1998-01-07","1998-01-08","1998-01-14",null,null,"2012-02-24",2012]
["1998-01-14","1998-01-15","1998-01-21",null,null,"2012-02-25",2012]
["1998-01-21","1998-01-22","1998-01-28",null,null,"2012-02-26",2012]
["1998-01-28","1998-01-29","1998-02-04",null,null,"2012-02-27",2012]
["1998-02-04","1998-02-05","1998-02-11",null,null,"2012-02-28",2012]
["1998-02-11","1998-02-12","1998-02-18",null,null,"2012-02-29",2012]
["1998-02-18","1998-02-19","1998-02-25",null,null,"2012-03-01",2012]
["1998-02-25","1998-02-26","1998-03-04",null,null,"2012-03-02",2012]
["1998-03-04","1998-03-05","1998-03-11",null,null,"2012-03-03",2012]
["1998-03-11","1998-03-12","1998-03-18",null,null,"2012-03-04",2012]
["1998-03-18","1998-03-19","1998-03-25",null,null,"2012-03-05",2012]
["1998-03-25","1998-03-26","1998-04-01",null,null,"2012-03-06",2012]
["1998-04-01","1998-04-02","1998-04-08",null,null,"2012-03-07",2012]
["1998-04-08","1998-04-09","1998-04-15",null,null,"2012-03-08",2012]
["1998-04-15","1998-04-16","1998-04-22",null,null,"2012-03-09",2012]
["1998-04-22","1998-04-23","1998-04-29",null,null,"2012-03-10",2012]
["1998-04-29","1998-04-30","1998-05-06",null,null,"2012-03-11",2012]
["1998-05-06","1998-05-07","1998-05-13",null,null,"2012-03-12",2012]
["1998-05-13","1998-05-14","1998-05-20",null,null,"2012-03-13",2012]
["1998-05-20","1998-05-21","1998-05-27",null,null,"2012-03-14",2012]
["1998-05-27","1998-05-28","1998-06-03",null,null,"2012-03-15",2012]
["1998-06-03","1998-06-04","1998-06-10",null,null,"2012-03-16",2012]
["1998-06-10","1998-06-11","1998-06-17",null,null,"2012-03-17",2012]
["1998-06-17","1998-06-18","1998-06-24",null,null,"2012-03-18",2012]
["1998-06-24","1998-06-25","1998-07-01",null,null,"2012-03-19",2012]
["1998-07-01","1998-07-02","1998-07-08",null,null,"2012-03-20",2012]
["1998-07-08","1998-07-09","1998-07-15",null,null,"2012-03-21",2012]
["1998-07-15","1998-07-16","1998-07-22",null,null,"2012-03-22",2012]
["1998-07-22","1998-07-23","1998-07-29",null,null,"2012-03-23",2012]
["1998-07-29","1998-07-30","1998-08-05",null,null,"2012-03-24",2012]
["1998-08-05","1998-08-06","1998-08-12",null,null,"2012-03-25",2012]
["1998-08-12","1998-08-13","1998-08-19",null,null,"2012-03-26",2012]
["1998-08-19","1998-08-20","1998-08-26",null,null,"2012-03-27",2012]
["1998-08-26","1998-08-27","1998-09-02",null,null,"2012-03-28",2012]
["1998-09-02","1998-09-03","1998-09-09",null,null,"2012-03-29",2012]
["1998-09-09","1998-09-10","1998-09-16",null,null,"2012-03-30",2012]
["1998-09-16","1998-09-17","1998-09-23",null,null,"2012-03-31",2012]
["1998-09-23","1998-09-24",{"$f":"B641+6","v":"1998-09-30"},null,null,"2012-04-01",2012]
["1998-09-30",{"$f":"B641+7","v":"1998-10-01"},"1998-10-07",null,null,"2012-04-02",2012]
[{"$f":"A642+7","v":"1998-10-07"},"1998-10-08","1998-10-14",null,null,"2012-04-03",2012]
["1998-10-14","1998-10-15","1998-10-21",null,null,"2012-04-04",2012]
["1998-10-21","1998-10-22","1998-10-28",null,null,"2012-04-05",2012]
["1998-10-28","1998-10-29","1998-11-04",null,null,"2012-04-06",2012]
["1998-11-04","1998-11-05","1998-11-11",null,null,"2012-04-07",2012]
["1998-11-11","1998-11-12","1998-11-18",null,null,"2012-04-08",2012]
["1998-11-18","1998-11-19","1998-11-25",null,null,"2012-04-09",2012]
["1998-11-25","1998-11-26","1998-12-02",null,null,"2012-04-10",2012]
["1998-12-02","1998-12-03","1998-12-09",null,null,"2012-04-11",2012]
["1998-12-09","1998-12-10","1998-12-16",null,null,"2012-04-12",2012]
["1998-12-16","1998-12-17","1998-12-23",null,null,"2012-04-13",2012]
["1998-12-23","1998-12-24","1998-12-30",null,null,"2012-04-14",2012]
["1998-12-30","1998-12-31","1999-01-06",null,null,"2012-04-15",2012]
["1999-01-06","1999-01-07","1999-01-13",null,null,"2012-04-16",2012]
["1999-01-13","1999-01-14","1999-01-20",null,null,"2012-04-17",2012]
["1999-01-20","1999-01-21","1999-01-27",null,null,"2012-04-18",2012]
["1999-01-27","1999-01-28","1999-02-03",null,null,"2012-04-19",2012]
["1999-02-03","1999-02-04","1999-02-10",null,null,"2012-04-20",2012]
["1999-02-10","1999-02-11","1999-02-17",null,null,"2012-04-21",2012]
["1999-02-17","1999-02-18","1999-02-24",null,null,"2012-04-22",2012]
["1999-02-24","1999-02-25","1999-03-03",null,null,"2012-04-23",2012]
["1999-03-03","1999-03-04","1999-03-10",null,null,"2012-04-24",2012]
["1999-03-10","1999-03-11","1999-03-17",null,null,"2012-04-25",2012]
["1999-03-17","1999-03-18","1999-03-24",null,null,"2012-04-26",2012]
["1999-03-24","1999-03-25","1999-03-31",null,null,"2012-04-27",2012]
["1999-03-31","1999-04-01","1999-04-07",null,null,"2012-04-28",2012]
["1999-04-07","1999-04-08","1999-04-14",null,null,"2012-04-29",2012]
["1999-04-14","1999-04-15","1999-04-21",null,null,"2012-04-30",2012]
["1999-04-21","1999-04-22","1999-04-28",null,null,"2012-05-01",2012]
["1999-04-28","1999-04-29","1999-05-05",null,null,"2012-05-02",2012]
["1999-05-05","1999-05-06","1999-05-12",null,null,"2012-05-03",2012]
["1999-05-12","1999-05-13","1999-05-19",null,null,"2012-05-04",2012]
["1999-05-19","1999-05-20","1999-05-26",null,null,"2012-05-05",2012]
["1999-05-26","1999-05-27","1999-06-02",null,null,"2012-05-06",2012]
["1999-06-02","1999-06-03","1999-06-09",null,null,"2012-05-07",2012]
["1999-06-09","1999-06-10","1999-06-16",null,null,"2012-05-08",2012]
["1999-06-16","1999-06-17","1999-06-23",null,null,"2012-05-09",2012]
["1999-06-23","1999-06-24","1999-06-30",null,null,"2012-05-10",2012]
["1999-06-30","1999-07-01","1999-07-07",null,null,"2012-05-11",2012]
["1999-07-07","1999-07-08","1999-07-14",null,null,"2012-05-12",2012]
["1999-07-14","1999-07-15","1999-07-21",null,null,"2012-05-13",2012]
["1999-07-21","1999-07-22","1999-07-28",null,null,"2012-05-14",2012]
["1999-07-28","1999-07-29","1999-08-04",null,null,"2012-05-15",2012]
["1999-08-04","1999-08-05","1999-08-11",null,null,"2012-05-16",2012]
["1999-08-11","1999-08-12","1999-08-18",null,null,"2012-05-17",2012]
["1999-08-18","1999-08-19","1999-08-25",null,null,"2012-05-18",2012]
["1999-08-25","1999-08-26","1999-09-01",null,null,"2012-05-19",2012]
["1999-09-01","1999-09-02","1999-09-08",null,null,"2012-05-20",2012]
["1999-09-08","1999-09-09","1999-09-15",null,null,"2012-05-21",2012]
["1999-09-15","1999-09-16","1999-09-22",null,null,"2012-05-22",2012]
["1999-09-22","1999-09-23","1999-09-29",null,null,"2012-05-23",2012]
["1999-09-29","1999-09-30","1999-10-06",null,null,"2012-05-24",2012]
["1999-10-06","1999-10-07","1999-10-13",null,null,"2012-05-25",2012]
["1999-10-13","1999-10-14","1999-10-20",null,null,"2012-05-26",2012]
["1999-10-20","1999-10-21","1999-10-27",null,null,"2012-05-27",2012]
["1999-10-27","1999-10-28","1999-11-03",null,null,"2012-05-28",2012]
["1999-11-03","1999-11-04","1999-11-10",null,null,"2012-05-29",2012]
["1999-11-10","1999-11-11","1999-11-17",null,null,"2012-05-30",2012]
["1999-11-17","1999-11-18","1999-11-24",null,null,"2012-05-31",2012]
["1999-11-24","1999-11-25","1999-12-01",null,null,"2012-06-01",2012]
["1999-12-01","1999-12-02","1999-12-08",null,null,"2012-06-02",2012]
["1999-12-08","1999-12-09","1999-12-15",null,null,"2012-06-03",2012]
["1999-12-15","1999-12-16",{"$f":"B705+6","v":"1999-12-22"},null,null,"2012-06-04",2012]
["1999-12-22",{"$f":"B705+7","v":"1999-12-23"},"1999-12-29",null,null,"2012-06-05",2012]
[{"$f":"A706+7","v":"1999-12-29"},"1999-12-30","2000-01-05",null,null,"2012-06-06",2012]
["2000-01-05","2000-01-06","2000-01-12",null,null,"2012-06-07",2012]
["2000-01-12","2000-01-13","2000-01-19",null,null,"2012-06-08",2012]
["2000-01-19","2000-01-20","2000-01-26",null,null,"2012-06-09",2012]
["2000-01-26","2000-01-27","2000-02-02",null,null,"2012-06-10",2012]
["2000-02-02","2000-02-03","2000-02-09",null,null,"2012-06-11",2012]
["2000-02-09","2000-02-10","2000-02-16",null,null,"2012-06-12",2012]
["2000-02-16","2000-02-17","2000-02-23",null,null,"2012-06-13",2012]
["2000-02-23","2000-02-24","2000-03-01",null,null,"2012-06-14",2012]
["2000-03-01","2000-03-02","2000-03-08",null,null,"2012-06-15",2012]
["2000-03-08","2000-03-09","2000-03-15",null,null,"2012-06-16",2012]
["2000-03-15","2000-03-16","2000-03-22",null,null,"2012-06-17",2012]
["2000-03-22","2000-03-23","2000-03-29",null,null,"2012-06-18",2012]
["2000-03-29","2000-03-30","2000-04-05",null,null,"2012-06-19",2012]
["2000-04-05","2000-04-06","2000-04-12",null,null,"2012-06-20",2012]
["2000-04-12","2000-04-13","2000-04-19",null,null,"2012-06-21",2012]
["2000-04-19","2000-04-20","2000-04-26",null,null,"2012-06-22",2012]
["2000-04-26","2000-04-27","2000-05-03",null,null,"2012-06-23",2012]
["2000-05-03","2000-05-04","2000-05-10",null,null,"2012-06-24",2012]
["2000-05-10","2000-05-11","2000-05-17",null,null,"2012-06-25",2012]
["2000-05-17","2000-05-18","2000-05-24",null,null,"2012-06-26",2012]
["2000-05-24","2000-05-25","2000-05-31",null,null,"2012-06-27",2012]
["2000-05-31","2000-06-01","2000-06-07",null,null,"2012-06-28",2013]
["2000-06-07","2000-06-08","2000-06-14",null,null,"2012-06-29",2013]
["2000-06-14","2000-06-15","2000-06-21",null,null,"2012-06-30",2013]
["2000-06-21","2000-06-22","2000-06-28",null,null,"2012-07-01",2013]
["2000-06-28","2000-06-29","2000-07-05",null,null,"2012-07-02",2013]
["2000-07-05","2000-07-06","2000-07-12",null,null,"2012-07-03",2013]
["2000-07-12","2000-07-13","2000-07-19",null,null,"2012-07-04",2013]
["2000-07-19","2000-07-20","2000-07-26",null,null,"2012-07-05",2013]
["2000-07-26","2000-07-27","2000-08-02",null,null,"2012-07-06",2013]
["2000-08-02","2000-08-03","2000-08-09",null,null,"2012-07-07",2013]
["2000-08-09","2000-08-10","2000-08-16",null,null,"2012-07-08",2013]
["2000-08-16","2000-08-17","2000-08-23",null,null,"2012-07-09",2013]
["2000-08-23","2000-08-24","2000-08-30",null,null,"2012-07-10",2013]
["2000-08-30","2000-08-31","2000-09-06",null,null,"2012-07-11",2013]
["2000-09-06","2000-09-07","2000-09-13",null,null,"2012-07-12",2013]
["2000-09-13","2000-09-14","2000-09-20",null,null,"2012-07-13",2013]
["2000-09-20","2000-09-21","2000-09-27",null,null,"2012-07-14",2013]
["2000-09-27","2000-09-28","2000-10-04",null,null,"2012-07-15",2013]
["2000-10-04","2000-10-05","2000-10-11",null,null,"2012-07-16",2013]
["2000-10-11","2000-10-12","2000-10-18",null,null,"2012-07-17",2013]
["2000-10-18","2000-10-19","2000-10-25",null,null,"2012-07-18",2013]
["2000-10-25","2000-10-26","2000-11-01",null,null,"2012-07-19",2013]
["2000-11-01","2000-11-02","2000-11-08",null,null,"2012-07-20",2013]
["2000-11-08","2000-11-09","2000-11-15",null,null,"2012-07-21",2013]
["2000-11-15","2000-11-16","2000-11-22",null,null,"2012-07-22",2013]
["2000-11-22","2000-11-23","2000-11-29",null,null,"2012-07-23",2013]
["2000-11-29","2000-11-30","2000-12-06",null,null,"2012-07-24",2013]
["2000-12-06","2000-12-07","2000-12-13",null,null,"2012-07-25",2013]
["2000-12-13","2000-12-14","2000-12-20",null,null,"2012-07-26",2013]
["2000-12-20","2000-12-21","2000-12-27",null,null,"2012-07-27",2013]
["2000-12-27","2000-12-28","2001-01-03",null,null,"2012-07-28",2013]
["2001-01-03","2001-01-04","2001-01-10",null,null,"2012-07-29",2013]
["2001-01-10","2001-01-11","2001-01-17",null,null,"2012-07-30",2013]
["2001-01-17","2001-01-18","2001-01-24",null,null,"2012-07-31",2013]
["2001-01-24","2001-01-25","2001-01-31",null,null,"2012-08-01",2013]
["2001-01-31","2001-02-01","2001-02-07",null,null,"2012-08-02",2013]
["2001-02-07","2001-02-08","2001-02-14",null,null,"2012-08-03",2013]
["2001-02-14","2001-02-15","2001-02-21",null,null,"2012-08-04",2013]
["2001-02-21","2001-02-22","2001-02-28",null,null,"2012-08-05",2013]
["2001-02-28","2001-03-01","2001-03-07",null,null,"2012-08-06",2013]
["2001-03-07","2001-03-08",{"$f":"B769+6","v":"2001-03-14"},null,null,"2012-08-07",2013]
["2001-03-14",{"$f":"B769+7","v":"2001-03-15"},"2001-03-21",null,null,"2012-08-08",2013]
[{"$f":"A770+7","v":"2001-03-21"},"2001-03-22","2001-03-28",null,null,"2012-08-09",2013]
["2001-03-28","2001-03-29","2001-04-04",null,null,"2012-08-10",2013]
["2001-04-04","2001-04-05","2001-04-11",null,null,"2012-08-11",2013]
["2001-04-11","2001-04-12","2001-04-18",null,null,"2012-08-12",2013]
["2001-04-18","2001-04-19","2001-04-25",null,null,"2012-08-13",2013]
["2001-04-25","2001-04-26","2001-05-02",null,null,"2012-08-14",2013]
["2001-05-02","2001-05-03","2001-05-09",null,null,"2012-08-15",2013]
["2001-05-09","2001-05-10","2001-05-16",null,null,"2012-08-16",2013]
["2001-05-16","2001-05-17","2001-05-23",null,null,"2012-08-17",2013]
["2001-05-23","2001-05-24","2001-05-30",null,null,"2012-08-18",2013]
["2001-05-30","2001-05-31","2001-06-06",null,null,"2012-08-19",2013]
["2001-06-06","2001-06-07","2001-06-13",null,null,"2012-08-20",2013]
["2001-06-13","2001-06-14","2001-06-20",null,null,"2012-08-21",2013]
["2001-06-20","2001-06-21","2001-06-27",null,null,"2012-08-22",2013]
["2001-06-27","2001-06-28","2001-07-04",null,null,"2012-08-23",2013]
["2001-07-04","2001-07-05","2001-07-11",null,null,"2012-08-24",2013]
["2001-07-11","2001-07-12","2001-07-18",null,null,"2012-08-25",2013]
["2001-07-18","2001-07-19","2001-07-25",null,null,"2012-08-26",2013]
["2001-07-25","2001-07-26","2001-08-01",null,null,"2012-08-27",2013]
["2001-08-01","2001-08-02","2001-08-08",null,null,"2012-08-28",2013]
["2001-08-08","2001-08-09","2001-08-15",null,null,"2012-08-29",2013]
["2001-08-15","2001-08-16","2001-08-22",null,null,"2012-08-30",2013]
["2001-08-22","2001-08-23","2001-08-29",null,null,"2012-08-31",2013]
["2001-08-29","2001-08-30","2001-09-05",null,null,"2012-09-01",2013]
["2001-09-05","2001-09-06","2001-09-12",null,null,"2012-09-02",2013]
["2001-09-12","2001-09-13","2001-09-19",null,null,"2012-09-03",2013]
["2001-09-19","2001-09-20","2001-09-26",null,null,"2012-09-04",2013]
["2001-09-26","2001-09-27","2001-10-03",null,null,"2012-09-05",2013]
["2001-10-03","2001-10-04","2001-10-10",null,null,"2012-09-06",2013]
["2001-10-10","2001-10-11","2001-10-17",null,null,"2012-09-07",2013]
["2001-10-17","2001-10-18","2001-10-24",null,null,"2012-09-08",2013]
["2001-10-24","2001-10-25","2001-10-31",null,null,"2012-09-09",2013]
["2001-10-31","2001-11-01","2001-11-07",null,null,"2012-09-10",2013]
["2001-11-07","2001-11-08","2001-11-14",null,null,"2012-09-11",2013]
["2001-11-14","2001-11-15","2001-11-21",null,null,"2012-09-12",2013]
["2001-11-21","2001-11-22","2001-11-28",null,null,"2012-09-13",2013]
["2001-11-28","2001-11-29","2001-12-05",null,null,"2012-09-14",2013]
["2001-12-05","2001-12-06","2001-12-12",null,null,"2012-09-15",2013]
["2001-12-12","2001-12-13","2001-12-19",null,null,"2012-09-16",2013]
["2001-12-19","2001-12-20","2001-12-26",null,null,"2012-09-17",2013]
["2001-12-26","2001-12-27","2002-01-02",null,null,"2012-09-18",2013]
["2002-01-02","2002-01-03","2002-01-09",null,null,"2012-09-19",2013]
["2002-01-09","2002-01-10","2002-01-16",null,null,"2012-09-20",2013]
["2002-01-16","2002-01-17","2002-01-23",null,null,"2012-09-21",2013]
["2002-01-23","2002-01-24","2002-01-30",null,null,"2012-09-22",2013]
["2002-01-30","2002-01-31","2002-02-06",null,null,"2012-09-23",2013]
["2002-02-06","2002-02-07","2002-02-13",null,null,"2012-09-24",2013]
["2002-02-13","2002-02-14","2002-02-20",null,null,"2012-09-25",2013]
["2002-02-20","2002-02-21","2002-02-27",null,null,"2012-09-26",2013]
["2002-02-27","2002-02-28","2002-03-06",null,null,"2012-09-27",2013]
["2002-03-06","2002-03-07","2002-03-13",null,null,"2012-09-28",2013]
["2002-03-13","2002-03-14","2002-03-20",null,null,"2012-09-29",2013]
["2002-03-20","2002-03-21","2002-03-27",null,null,"2012-09-30",2013]
["2002-03-27","2002-03-28","2002-04-03",null,null,"2012-10-01",2013]
["2002-04-03","2002-04-04","2002-04-10",null,null,"2012-10-02",2013]
["2002-04-10","2002-04-11","2002-04-17",null,null,"2012-10-03",2013]
["2002-04-17","2002-04-18","2002-04-24",null,null,"2012-10-04",2013]
["2002-04-24","2002-04-25","2002-05-01",null,null,"2012-10-05",2013]
["2002-05-01","2002-05-02","2002-05-08",null,null,"2012-10-06",2013]
["2002-05-08","2002-05-09","2002-05-15",null,null,"2012-10-07",2013]
["2002-05-15","2002-05-16","2002-05-22",null,null,"2012-10-08",2013]
["2002-05-22","2002-05-23","2002-05-29",null,null,"2012-10-09",2013]
["2002-05-29","2002-05-30",{"$f":"B833+6","v":"2002-06-05"},null,null,"2012-10-10",2013]
["2002-06-05",{"$f":"B833+7","v":"2002-06-06"},"2002-06-12",null,null,"2012-10-11",2013]
[{"$f":"A834+7","v":"2002-06-12"},"2002-06-13","2002-06-19",null,null,"2012-10-12",2013]
["2002-06-19","2002-06-20","2002-06-26",null,null,"2012-10-13",2013]
["2002-06-26","2002-06-27","2002-07-03",null,null,"2012-10-14",2013]
["2002-07-03","2002-07-04","2002-07-10",null,null,"2012-10-15",2013]
["2002-07-10","2002-07-11","2002-07-17",null,null,"2012-10-16",2013]
["2002-07-17","2002-07-18","2002-07-24",null,null,"2012-10-17",2013]
["2002-07-24","2002-07-25","2002-07-31",null,null,"2012-10-18",2013]
["2002-07-31","2002-08-01","2002-08-07",null,null,"2012-10-19",2013]
["2002-08-07","2002-08-08","2002-08-14",null,null,"2012-10-20",2013]
["2002-08-14","2002-08-15","2002-08-21",null,null,"2012-10-21",2013]
["2002-08-21","2002-08-22","2002-08-28",null,null,"2012-10-22",2013]
["2002-08-28","2002-08-29","2002-09-04",null,null,"2012-10-23",2013]
["2002-09-04","2002-09-05","2002-09-11",null,null,"2012-10-24",2013]
["2002-09-11","2002-09-12","2002-09-18",null,null,"2012-10-25",2013]
["2002-09-18","2002-09-19","2002-09-25",null,null,"2012-10-26",2013]
["2002-09-25","2002-09-26","2002-10-02",null,null,"2012-10-27",2013]
["2002-10-02","2002-10-03","2002-10-09",null,null,"2012-10-28",2013]
["2002-10-09","2002-10-10","2002-10-16",null,null,"2012-10-29",2013]
["2002-10-16","2002-10-17","2002-10-23",null,null,"2012-10-30",2013]
["2002-10-23","2002-10-24","2002-10-30",null,null,"2012-10-31",2013]
["2002-10-30","2002-10-31","2002-11-06",null,null,"2012-11-01",2013]
["2002-11-06","2002-11-07","2002-11-13",null,null,"2012-11-02",2013]
["2002-11-13","2002-11-14","2002-11-20",null,null,"2012-11-03",2013]
["2002-11-20","2002-11-21","2002-11-27",null,null,"2012-11-04",2013]
["2002-11-27","2002-11-28","2002-12-04",null,null,"2012-11-05",2013]
["2002-12-04","2002-12-05","2002-12-11",null,null,"2012-11-06",2013]
["2002-12-11","2002-12-12","2002-12-18",null,null,"2012-11-07",2013]
["2002-12-18","2002-12-19","2002-12-25",null,null,"2012-11-08",2013]
["2002-12-25","2002-12-26","2003-01-01",null,null,"2012-11-09",2013]
["2003-01-01","2003-01-02","2003-01-08",null,null,"2012-11-10",2013]
["2003-01-08","2003-01-09","2003-01-15",null,null,"2012-11-11",2013]
["2003-01-15","2003-01-16","2003-01-22",null,null,"2012-11-12",2013]
["2003-01-22","2003-01-23","2003-01-29",null,null,"2012-11-13",2013]
["2003-01-29","2003-01-30","2003-02-05",null,null,"2012-11-14",2013]
["2003-02-05","2003-02-06","2003-02-12",null,null,"2012-11-15",2013]
["2003-02-12","2003-02-13","2003-02-19",null,null,"2012-11-16",2013]
["2003-02-19","2003-02-20","2003-02-26",null,null,"2012-11-17",2013]
["2003-02-26","2003-02-27","2003-03-05",null,null,"2012-11-18",2013]
["2003-03-05","2003-03-06","2003-03-12",null,null,"2012-11-19",2013]
["2003-03-12","2003-03-13","2003-03-19",null,null,"2012-11-20",2013]
["2003-03-19","2003-03-20","2003-03-26",null,null,"2012-11-21",2013]
["2003-03-26","2003-03-27","2003-04-02",null,null,"2012-11-22",2013]
["2003-04-02","2003-04-03","2003-04-09",null,null,"2012-11-23",2013]
["2003-04-09","2003-04-10","2003-04-16",null,null,"2012-11-24",2013]
["2003-04-16","2003-04-17","2003-04-23",null,null,"2012-11-25",2013]
["2003-04-23","2003-04-24","2003-04-30",null,null,"2012-11-26",2013]
["2003-04-30","2003-05-01","2003-05-07",null,null,"2012-11-27",2013]
["2003-05-07","2003-05-08","2003-05-14",null,null,"2012-11-28",2013]
["2003-05-14","2003-05-15","2003-05-21",null,null,"2012-11-29",2013]
["2003-05-21","2003-05-22","2003-05-28",null,null,"2012-11-30",2013]
["2003-05-28","2003-05-29","2003-06-04",null,null,"2012-12-01",2013]
["2003-06-04","2003-06-05","2003-06-11",null,null,"2012-12-02",2013]
["2003-06-11","2003-06-12","2003-06-18",null,null,"2012-12-03",2013]
["2003-06-18","2003-06-19","2003-06-25",null,null,"2012-12-04",2013]
["2003-06-25","2003-06-26","2003-07-02",null,null,"2012-12-05",2013]
["2003-07-02","2003-07-03","2003-07-09",null,null,"2012-12-06",2013]
["2003-07-09","2003-07-10","2003-07-16",null,null,"2012-12-07",2013]
["2003-07-16","2003-07-17","2003-07-23",null,null,"2012-12-08",2013]
["2003-07-23","2003-07-24","2003-07-30",null,null,"2012-12-09",2013]
["2003-07-30","2003-07-31","2003-08-06",null,null,"2012-12-10",2013]
["2003-08-06","2003-08-07","2003-08-13",null,null,"2012-12-11",2013]
["2003-08-13","2003-08-14","2003-08-20",null,null,"2012-12-12",2013]
["2003-08-20","2003-08-21",{"$f":"B897+6","v":"2003-08-27"},null,null,"2012-12-13",2013]
["2003-08-27",{"$f":"B897+7","v":"2003-08-28"},"2003-09-03",null,null,"2012-12-14",2013]
[{"$f":"A898+7","v":"2003-09-03"},"2003-09-04","2003-09-10",null,null,"2012-12-15",2013]
["2003-09-10","2003-09-11","2003-09-17",null,null,"2012-12-16",2013]
["2003-09-17","2003-09-18","2003-09-24",null,null,"2012-12-17",2013]
["2003-09-24","2003-09-25","2003-10-01",null,null,"2012-12-18",2013]
["2003-10-01","2003-10-02","2003-10-08",null,null,"2012-12-19",2013]
["2003-10-08","2003-10-09","2003-10-15",null,null,"2012-12-20",2013]
["2003-10-15","2003-10-16","2003-10-22",null,null,"2012-12-21",2013]
["2003-10-22","2003-10-23","2003-10-29",null,null,"2012-12-22",2013]
["2003-10-29","2003-10-30","2003-11-05",null,null,"2012-12-23",2013]
["2003-11-05","2003-11-06","2003-11-12",null,null,"2012-12-24",2013]
["2003-11-12","2003-11-13","2003-11-19",null,null,"2012-12-25",2013]
["2003-11-19","2003-11-20","2003-11-26",null,null,"2012-12-26",2013]
["2003-11-26","2003-11-27","2003-12-03",null,null,"2012-12-27",2013]
["2003-12-03","2003-12-04","2003-12-10",null,null,"2012-12-28",2013]
["2003-12-10","2003-12-11","2003-12-17",null,null,"2012-12-29",2013]
["2003-12-17","2003-12-18","2003-12-24",null,null,"2012-12-30",2013]
["2003-12-24","2003-12-25","2003-12-31",null,null,"2012-12-31",2013]
["2003-12-31","2004-01-01","2004-01-07",null,null,"2013-01-01",2013]
["2004-01-07","2004-01-08","2004-01-14",null,null,"2013-01-02",2013]
["2004-01-14","2004-01-15","2004-01-21",null,null,"2013-01-03",2013]
["2004-01-21","2004-01-22","2004-01-28",null,null,"2013-01-04",2013]
["2004-01-28","2004-01-29","2004-02-04",null,null,"2013-01-05",2013]
["2004-02-04","2004-02-05","2004-02-11",null,null,"2013-01-06",2013]
["2004-02-11","2004-02-12","2004-02-18",null,null,"2013-01-07",2013]
["2004-02-18","2004-02-19","2004-02-25",null,null,"2013-01-08",2013]
["2004-02-25","2004-02-26","2004-03-03",null,null,"2013-01-09",2013]
["2004-03-03","2004-03-04","2004-03-10",null,null,"2013-01-10",2013]
["2004-03-10","2004-03-11","2004-03-17",null,null,"2013-01-11",2013]
["2004-03-17","2004-03-18","2004-03-24",null,null,"2013-01-12",2013]
["2004-03-24","2004-03-25","2004-03-31",null,null,"2013-01-13",2013]
["2004-03-31","2004-04-01","2004-04-07",null,null,"2013-01-14",2013]
["2004-04-07","2004-04-08","2004-04-14",null,null,"2013-01-15",2013]
["2004-04-14","2004-04-15","2004-04-21",null,null,"2013-01-16",2013]
["2004-04-21","2004-04-22","2004-04-28",null,null,"2013-01-17",2013]
["2004-04-28","2004-04-29","2004-05-05",null,null,"2013-01-18",2013]
["2004-05-05","2004-05-06","2004-05-12",null,null,"2013-01-19",2013]
["2004-05-12","2004-05-13","2004-05-19",null,null,"2013-01-20",2013]
["2004-05-19","2004-05-20","2004-05-26",null,null,"2013-01-21",2013]
["2004-05-26","2004-05-27","2004-06-02",null,null,"2013-01-22",2013]
["2004-06-02","2004-06-03","2004-06-09",null,null,"2013-01-23",2013]
["2004-06-09","2004-06-10","2004-06-16",null,null,"2013-01-24",2013]
["2004-06-16","2004-06-17","2004-06-23",null,null,"2013-01-25",2013]
["2004-06-23","2004-06-24","2004-06-30",null,null,"2013-01-26",2013]
["2004-06-30","2004-07-01","2004-07-07",null,null,"2013-01-27",2013]
["2004-07-07","2004-07-08","2004-07-14",null,null,"2013-01-28",2013]
["2004-07-14","2004-07-15","2004-07-21",null,null,"2013-01-29",2013]
["2004-07-21","2004-07-22","2004-07-28",null,null,"2013-01-30",2013]
["2004-07-28","2004-07-29","2004-08-04",null,null,"2013-01-31",2013]
["2004-08-04","2004-08-05","2004-08-11",null,null,"2013-02-01",2013]
["2004-08-11","2004-08-12","2004-08-18",null,null,"2013-02-02",2013]
["2004-08-18","2004-08-19","2004-08-25",null,null,"2013-02-03",2013]
["2004-08-25","2004-08-26","2004-09-01",null,null,"2013-02-04",2013]
["2004-09-01","2004-09-02","2004-09-08",null,null,"2013-02-05",2013]
["2004-09-08","2004-09-09","2004-09-15",null,null,"2013-02-06",2013]
["2004-09-15","2004-09-16","2004-09-22",null,null,"2013-02-07",2013]
["2004-09-22","2004-09-23","2004-09-29",null,null,"2013-02-08",2013]
["2004-09-29","2004-09-30","2004-10-06",null,null,"2013-02-09",2013]
["2004-10-06","2004-10-07","2004-10-13",null,null,"2013-02-10",2013]
["2004-10-13","2004-10-14","2004-10-20",null,null,"2013-02-11",2013]
["2004-10-20","2004-10-21","2004-10-27",null,null,"2013-02-12",2013]
["2004-10-27","2004-10-28","2004-11-03",null,null,"2013-02-13",2013]
["2004-11-03","2004-11-04","2004-11-10",null,null,"2013-02-14",2013]
["2004-11-10","2004-11-11",{"$f":"B961+6","v":"2004-11-17"},null,null,"2013-02-15",2013]
["2004-11-17",{"$f":"B961+7","v":"2004-11-18"},"2004-11-24",null,null,"2013-02-16",2013]
[{"$f":"A962+7","v":"2004-11-24"},"2004-11-25","2004-12-01",null,null,"2013-02-17",2013]
["2004-12-01","2004-12-02","2004-12-08",null,null,"2013-02-18",2013]
["2004-12-08","2004-12-09","2004-12-15",null,null,"2013-02-19",2013]
["2004-12-15","2004-12-16","2004-12-22",null,null,"2013-02-20",2013]
["2004-12-22","2004-12-23","2004-12-29",null,null,"2013-02-21",2013]
["2004-12-29","2004-12-30","2005-01-05",null,null,"2013-02-22",2013]
["2005-01-05","2005-01-06","2005-01-12",null,null,"2013-02-23",2013]
["2005-01-12","2005-01-13","2005-01-19",null,null,"2013-02-24",2013]
["2005-01-19","2005-01-20","2005-01-26",null,null,"2013-02-25",2013]
["2005-01-26","2005-01-27","2005-02-02",null,null,"2013-02-26",2013]
["2005-02-02","2005-02-03","2005-02-09",null,null,"2013-02-27",2013]
["2005-02-09","2005-02-10","2005-02-16",null,null,"2013-02-28",2013]
["2005-02-16","2005-02-17","2005-02-23",null,null,"2013-03-01",2013]
["2005-02-23","2005-02-24","2005-03-02",null,null,"2013-03-02",2013]
["2005-03-02","2005-03-03","2005-03-09",null,null,"2013-03-03",2013]
["2005-03-09","2005-03-10","2005-03-16",null,null,"2013-03-04",2013]
["2005-03-16","2005-03-17","2005-03-23",null,null,"2013-03-05",2013]
["2005-03-23","2005-03-24","2005-03-30",null,null,"2013-03-06",2013]
["2005-03-30","2005-03-31","2005-04-06",null,null,"2013-03-07",2013]
["2005-04-06","2005-04-07","2005-04-13",null,null,"2013-03-08",2013]
["2005-04-13","2005-04-14","2005-04-20",null,null,"2013-03-09",2013]
["2005-04-20","2005-04-21","2005-04-27",null,null,"2013-03-10",2013]
["2005-04-27","2005-04-28","2005-05-04",null,null,"2013-03-11",2013]
["2005-05-04","2005-05-05","2005-05-11",null,null,"2013-03-12",2013]
["2005-05-11","2005-05-12","2005-05-18",null,null,"2013-03-13",2013]
["2005-05-18","2005-05-19","2005-05-25",null,null,"2013-03-14",2013]
["2005-05-25","2005-05-26","2005-06-01",null,null,"2013-03-15",2013]
["2005-06-01","2005-06-02","2005-06-08",null,null,"2013-03-16",2013]
["2005-06-08","2005-06-09","2005-06-15",null,null,"2013-03-17",2013]
["2005-06-15","2005-06-16","2005-06-22",null,null,"2013-03-18",2013]
["2005-06-22","2005-06-23","2005-06-29",null,null,"2013-03-19",2013]
["2005-06-29","2005-06-30","2005-07-06",null,null,"2013-03-20",2013]
["2005-07-06","2005-07-07","2005-07-13",null,null,"2013-03-21",2013]
["2005-07-13","2005-07-14","2005-07-20",null,null,"2013-03-22",2013]
["2005-07-20","2005-07-21","2005-07-27",null,null,"2013-03-23",2013]
["2005-07-27","2005-07-28","2005-08-03",null,null,"2013-03-24",2013]
["2005-08-03","2005-08-04","2005-08-10",null,null,"2013-03-25",2013]
["2005-08-10","2005-08-11","2005-08-17",null,null,"2013-03-26",2013]
["2005-08-17","2005-08-18","2005-08-24",null,null,"2013-03-27",2013]
["2005-08-24","2005-08-25","2005-08-31",null,null,"2013-03-28",2013]
["2005-08-31","2005-09-01","2005-09-07",null,null,"2013-03-29",2013]
["2005-09-07","2005-09-08","2005-09-14",null,null,"2013-03-30",2013]
["2005-09-14","2005-09-15","2005-09-21",null,null,"2013-03-31",2013]
["2005-09-21","2005-09-22","2005-09-28",null,null,"2013-04-01",2013]
["2005-09-28","2005-09-29","2005-10-05",null,null,"2013-04-02",2013]
["2005-10-05","2005-10-06","2005-10-12",null,null,"2013-04-03",2013]
["2005-10-12","2005-10-13","2005-10-19",null,null,"2013-04-04",2013]
["2005-10-19","2005-10-20","2005-10-26",null,null,"2013-04-05",2013]
["2005-10-26","2005-10-27","2005-11-02",null,null,"2013-04-06",2013]
["2005-11-02","2005-11-03","2005-11-09",null,null,"2013-04-07",2013]
["2005-11-09","2005-11-10","2005-11-16",null,null,"2013-04-08",2013]
["2005-11-16","2005-11-17","2005-11-23",null,null,"2013-04-09",2013]
["2005-11-23","2005-11-24","2005-11-30",null,null,"2013-04-10",2013]
["2005-11-30","2005-12-01","2005-12-07",null,null,"2013-04-11",2013]
["2005-12-07","2005-12-08","2005-12-14",null,null,"2013-04-12",2013]
["2005-12-14","2005-12-15","2005-12-21",null,null,"2013-04-13",2013]
["2005-12-21","2005-12-22","2005-12-28",null,null,"2013-04-14",2013]
["2005-12-28","2005-12-29","2006-01-04",null,null,"2013-04-15",2013]
["2006-01-04","2006-01-05","2006-01-11",null,null,"2013-04-16",2013]
["2006-01-11","2006-01-12","2006-01-18",null,null,"2013-04-17",2013]
["2006-01-18","2006-01-19","2006-01-25",null,null,"2013-04-18",2013]
["2006-01-25","2006-01-26","2006-02-01",null,null,"2013-04-19",2013]
["2006-02-01","2006-02-02",{"$f":"B1025+6","v":"2006-02-08"},null,null,"2013-04-20",2013]
["2006-02-08",{"$f":"B1025+7","v":"2006-02-09"},"2006-02-15",null,null,"2013-04-21",2013]
[{"$f":"A1026+7","v":"2006-02-15"},"2006-02-16","2006-02-22",null,null,"2013-04-22",2013]
["2006-02-22","2006-02-23","2006-03-01",null,null,"2013-04-23",2013]
["2006-03-01","2006-03-02","2006-03-08",null,null,"2013-04-24",2013]
["2006-03-08","2006-03-09","2006-03-15",null,null,"2013-04-25",2013]
["2006-03-15","2006-03-16","2006-03-22",null,null,"2013-04-26",2013]
["2006-03-22","2006-03-23","2006-03-29",null,null,"2013-04-27",2013]
["2006-03-29","2006-03-30","2006-04-05",null,null,"2013-04-28",2013]
["2006-04-05","2006-04-06","2006-04-12",null,null,"2013-04-29",2013]
["2006-04-12","2006-04-13","2006-04-19",null,null,"2013-04-30",2013]
["2006-04-19","2006-04-20","2006-04-26",null,null,"2013-05-01",2013]
["2006-04-26","2006-04-27","2006-05-03",null,null,"2013-05-02",2013]
["2006-05-03","2006-05-04","2006-05-10",null,null,"2013-05-03",2013]
["2006-05-10","2006-05-11","2006-05-17",null,null,"2013-05-04",2013]
["2006-05-17","2006-05-18","2006-05-24",null,null,"2013-05-05",2013]
["2006-05-24","2006-05-25","2006-05-31",null,null,"2013-05-06",2013]
["2006-05-31","2006-06-01","2006-06-07",null,null,"2013-05-07",2013]
["2006-06-07","2006-06-08","2006-06-14",null,null,"2013-05-08",2013]
["2006-06-14","2006-06-15","2006-06-21",null,null,"2013-05-09",2013]
["2006-06-21","2006-06-22","2006-06-28",null,null,"2013-05-10",2013]
["2006-06-28","2006-06-29","2006-07-05",null,null,"2013-05-11",2013]
["2006-07-05","2006-07-06","2006-07-12",null,null,"2013-05-12",2013]
["2006-07-12","2006-07-13","2006-07-19",null,null,"2013-05-13",2013]
["2006-07-19","2006-07-20","2006-07-26",null,null,"2013-05-14",2013]
["2006-07-26","2006-07-27","2006-08-02",null,null,"2013-05-15",2013]
["2006-08-02","2006-08-03","2006-08-09",null,null,"2013-05-16",2013]
["2006-08-09","2006-08-10","2006-08-16",null,null,"2013-05-17",2013]
["2006-08-16","2006-08-17","2006-08-23",null,null,"2013-05-18",2013]
["2006-08-23","2006-08-24","2006-08-30",null,null,"2013-05-19",2013]
["2006-08-30","2006-08-31","2006-09-06",null,null,"2013-05-20",2013]
["2006-09-06","2006-09-07","2006-09-13",null,null,"2013-05-21",2013]
["2006-09-13","2006-09-14","2006-09-20",null,null,"2013-05-22",2013]
["2006-09-20","2006-09-21","2006-09-27",null,null,"2013-05-23",2013]
["2006-09-27","2006-09-28","2006-10-04",null,null,"2013-05-24",2013]
["2006-10-04","2006-10-05","2006-10-11",null,null,"2013-05-25",2013]
["2006-10-11","2006-10-12","2006-10-18",null,null,"2013-05-26",2013]
["2006-10-18","2006-10-19","2006-10-25",null,null,"2013-05-27",2013]
["2006-10-25","2006-10-26","2006-11-01",null,null,"2013-05-28",2013]
["2006-11-01","2006-11-02","2006-11-08",null,null,"2013-05-29",2013]
["2006-11-08","2006-11-09","2006-11-15",null,null,"2013-05-30",2013]
["2006-11-15","2006-11-16","2006-11-22",null,null,"2013-05-31",2013]
["2006-11-22","2006-11-23","2006-11-29",null,null,"2013-06-01",2013]
["2006-11-29","2006-11-30","2006-12-06",null,null,"2013-06-02",2013]
["2006-12-06","2006-12-07","2006-12-13",null,null,"2013-06-03",2013]
["2006-12-13","2006-12-14","2006-12-20",null,null,"2013-06-04",2013]
["2006-12-20","2006-12-21","2006-12-27",null,null,"2013-06-05",2013]
["2006-12-27","2006-12-28","2007-01-03",null,null,"2013-06-06",2013]
["2007-01-03","2007-01-04","2007-01-10",null,null,"2013-06-07",2013]
["2007-01-10","2007-01-11","2007-01-17",null,null,"2013-06-08",2013]
["2007-01-17","2007-01-18","2007-01-24",null,null,"2013-06-09",2013]
["2007-01-24","2007-01-25","2007-01-31",null,null,"2013-06-10",2013]
["2007-01-31","2007-02-01","2007-02-07",null,null,"2013-06-11",2013]
["2007-02-07","2007-02-08","2007-02-14",null,null,"2013-06-12",2013]
["2007-02-14","2007-02-15","2007-02-21",null,null,"2013-06-13",2013]
["2007-02-21","2007-02-22","2007-02-28",null,null,"2013-06-14",2013]
["2007-02-28","2007-03-01","2007-03-07",null,null,"2013-06-15",2013]
["2007-03-07","2007-03-08","2007-03-14",null,null,"2013-06-16",2013]
["2007-03-14","2007-03-15","2007-03-21",null,null,"2013-06-17",2013]
["2007-03-21","2007-03-22","2007-03-28",null,null,"2013-06-18",2013]
["2007-03-28","2007-03-29","2007-04-04",null,null,"2013-06-19",2013]
["2007-04-04","2007-04-05","2007-04-11",null,null,"2013-06-20",2013]
["2007-04-11","2007-04-12","2007-04-18",null,null,"2013-06-21",2013]
["2007-04-18","2007-04-19","2007-04-25",null,null,"2013-06-22",2013]
["2007-04-25","2007-04-26",{"$f":"B1089+6","v":"2007-05-02"},null,null,"2013-06-23",2013]
["2007-05-02",{"$f":"B1089+7","v":"2007-05-03"},"2007-05-09",null,null,"2013-06-24",2013]
[{"$f":"A1090+7","v":"2007-05-09"},"2007-05-10","2007-05-16",null,null,"2013-06-25",2013]
["2007-05-16","2007-05-17","2007-05-23",null,null,"2013-06-26",2013]
["2007-05-23","2007-05-24","2007-05-30",null,null,"2013-06-27",2014]
["2007-05-30","2007-05-31","2007-06-06",null,null,"2013-06-28",2014]
["2007-06-06","2007-06-07","2007-06-13",null,null,"2013-06-29",2014]
["2007-06-13","2007-06-14","2007-06-20",null,null,"2013-06-30",2014]
["2007-06-20","2007-06-21","2007-06-27",null,null,"2013-07-01",2014]
["2007-06-27","2007-06-28","2007-07-04",null,null,"2013-07-02",2014]
["2007-07-04","2007-07-05","2007-07-11",null,null,"2013-07-03",2014]
["2007-07-11","2007-07-12","2007-07-18",null,null,"2013-07-04",2014]
["2007-07-18","2007-07-19","2007-07-25",null,null,"2013-07-05",2014]
["2007-07-25","2007-07-26","2007-08-01",null,null,"2013-07-06",2014]
["2007-08-01","2007-08-02","2007-08-08",null,null,"2013-07-07",2014]
["2007-08-08","2007-08-09","2007-08-15",null,null,"2013-07-08",2014]
["2007-08-15","2007-08-16","2007-08-22",null,null,"2013-07-09",2014]
["2007-08-22","2007-08-23","2007-08-29",null,null,"2013-07-10",2014]
["2007-08-29","2007-08-30","2007-09-05",null,null,"2013-07-11",2014]
["2007-09-05","2007-09-06","2007-09-12",null,null,"2013-07-12",2014]
["2007-09-12","2007-09-13","2007-09-19",null,null,"2013-07-13",2014]
["2007-09-19","2007-09-20","2007-09-26",null,null,"2013-07-14",2014]
["2007-09-26","2007-09-27","2007-10-03",null,null,"2013-07-15",2014]
["2007-10-03","2007-10-04","2007-10-10",null,null,"2013-07-16",2014]
["2007-10-10","2007-10-11","2007-10-17",null,null,"2013-07-17",2014]
["2007-10-17","2007-10-18","2007-10-24",null,null,"2013-07-18",2014]
["2007-10-24","2007-10-25","2007-10-31",null,null,"2013-07-19",2014]
["2007-10-31","2007-11-01","2007-11-07",null,null,"2013-07-20",2014]
["2007-11-07","2007-11-08","2007-11-14",null,null,"2013-07-21",2014]
["2007-11-14","2007-11-15","2007-11-21",null,null,"2013-07-22",2014]
["2007-11-21","2007-11-22","2007-11-28",null,null,"2013-07-23",2014]
["2007-11-28","2007-11-29","2007-12-05",null,null,"2013-07-24",2014]
["2007-12-05","2007-12-06","2007-12-12",null,null,"2013-07-25",2014]
["2007-12-12","2007-12-13","2007-12-19",null,null,"2013-07-26",2014]
["2007-12-19","2007-12-20","2007-12-26",null,null,"2013-07-27",2014]
["2007-12-26","2007-12-27","2008-01-02",null,null,"2013-07-28",2014]
["2008-01-02","2008-01-03","2008-01-09",null,null,"2013-07-29",2014]
["2008-01-09","2008-01-10","2008-01-16",null,null,"2013-07-30",2014]
["2008-01-16","2008-01-17","2008-01-23",null,null,"2013-07-31",2014]
["2008-01-23","2008-01-24","2008-01-30",null,null,"2013-08-01",2014]
["2008-01-30","2008-01-31","2008-02-06",null,null,"2013-08-02",2014]
["2008-02-06","2008-02-07","2008-02-13",null,null,"2013-08-03",2014]
["2008-02-13","2008-02-14","2008-02-20",null,null,"2013-08-04",2014]
["2008-02-20","2008-02-21","2008-02-27",null,null,"2013-08-05",2014]
["2008-02-27","2008-02-28","2008-03-05",null,null,"2013-08-06",2014]
["2008-03-05","2008-03-06","2008-03-12",null,null,"2013-08-07",2014]
["2008-03-12","2008-03-13","2008-03-19",null,null,"2013-08-08",2014]
["2008-03-19","2008-03-20","2008-03-26",null,null,"2013-08-09",2014]
["2008-03-26","2008-03-27","2008-04-02",null,null,"2013-08-10",2014]
["2008-04-02","2008-04-03","2008-04-09",null,null,"2013-08-11",2014]
["2008-04-09","2008-04-10","2008-04-16",null,null,"2013-08-12",2014]
["2008-04-16","2008-04-17","2008-04-23",null,null,"2013-08-13",2014]
["2008-04-23","2008-04-24","2008-04-30",null,null,"2013-08-14",2014]
["2008-04-30","2008-05-01","2008-05-07",null,null,"2013-08-15",2014]
["2008-05-07","2008-05-08","2008-05-14",null,null,"2013-08-16",2014]
["2008-05-14","2008-05-15","2008-05-21",null,null,"2013-08-17",2014]
["2008-05-21","2008-05-22","2008-05-28",null,null,"2013-08-18",2014]
["2008-05-28","2008-05-29","2008-06-04",null,null,"2013-08-19",2014]
["2008-06-04","2008-06-05","2008-06-11",null,null,"2013-08-20",2014]
["2008-06-11","2008-06-12","2008-06-18",null,null,"2013-08-21",2014]
["2008-06-18","2008-06-19","2008-06-25",null,null,"2013-08-22",2014]
["2008-06-25","2008-06-26","2008-07-02",null,null,"2013-08-23",2014]
["2008-07-02","2008-07-03","2008-07-09",null,null,"2013-08-24",2014]
["2008-07-09","2008-07-10","2008-07-16",null,null,"2013-08-25",2014]
["2008-07-16","2008-07-17",{"$f":"B1153+6","v":"2008-07-23"},null,null,"2013-08-26",2014]
["2008-07-23",{"$f":"B1153+7","v":"2008-07-24"},"2008-07-30",null,null,"2013-08-27",2014]
[{"$f":"A1154+7","v":"2008-07-30"},"2008-07-31","2008-08-06",null,null,"2013-08-28",2014]
["2008-08-06","2008-08-07","2008-08-13",null,null,"2013-08-29",2014]
["2008-08-13","2008-08-14","2008-08-20",null,null,"2013-08-30",2014]
["2008-08-20","2008-08-21","2008-08-27",null,null,"2013-08-31",2014]
["2008-08-27","2008-08-28","2008-09-03",null,null,"2013-09-01",2014]
["2008-09-03","2008-09-04","2008-09-10",null,null,"2013-09-02",2014]
["2008-09-10","2008-09-11","2008-09-17",null,null,"2013-09-03",2014]
["2008-09-17","2008-09-18","2008-09-24",null,null,"2013-09-04",2014]
["2008-09-24","2008-09-25","2008-10-01",null,null,"2013-09-05",2014]
["2008-10-01","2008-10-02","2008-10-08",null,null,"2013-09-06",2014]
["2008-10-08","2008-10-09","2008-10-15",null,null,"2013-09-07",2014]
["2008-10-15","2008-10-16","2008-10-22",null,null,"2013-09-08",2014]
["2008-10-22","2008-10-23","2008-10-29",null,null,"2013-09-09",2014]
["2008-10-29","2008-10-30","2008-11-05",null,null,"2013-09-10",2014]
["2008-11-05","2008-11-06","2008-11-12",null,null,"2013-09-11",2014]
["2008-11-12","2008-11-13","2008-11-19",null,null,"2013-09-12",2014]
["2008-11-19","2008-11-20","2008-11-26",null,null,"2013-09-13",2014]
["2008-11-26","2008-11-27","2008-12-03",null,null,"2013-09-14",2014]
["2008-12-03","2008-12-04","2008-12-10",null,null,"2013-09-15",2014]
["2008-12-10","2008-12-11","2008-12-17",null,null,"2013-09-16",2014]
["2008-12-17","2008-12-18","2008-12-24",null,null,"2013-09-17",2014]
["2008-12-24","2008-12-25","2008-12-31",null,null,"2013-09-18",2014]
["2008-12-31","2009-01-01","2009-01-07",null,null,"2013-09-19",2014]
["2009-01-07","2009-01-08","2009-01-14",null,null,"2013-09-20",2014]
["2009-01-14","2009-01-15","2009-01-21",null,null,"2013-09-21",2014]
["2009-01-21","2009-01-22","2009-01-28",null,null,"2013-09-22",2014]
["2009-01-28","2009-01-29","2009-02-04",null,null,"2013-09-23",2014]
["2009-02-04","2009-02-05","2009-02-11",null,null,"2013-09-24",2014]
["2009-02-11","2009-02-12","2009-02-18",null,null,"2013-09-25",2014]
["2009-02-18","2009-02-19","2009-02-25",null,null,"2013-09-26",2014]
["2009-02-25","2009-02-26","2009-03-04",null,null,"2013-09-27",2014]
["2009-03-04","2009-03-05","2009-03-11",null,null,"2013-09-28",2014]
["2009-03-11","2009-03-12","2009-03-18",null,null,"2013-09-29",2014]
["2009-03-18","2009-03-19","2009-03-25",null,null,"2013-09-30",2014]
["2009-03-25","2009-03-26","2009-04-01",null,null,"2013-10-01",2014]
["2009-04-01","2009-04-02","2009-04-08",null,null,"2013-10-02",2014]
["2009-04-08","2009-04-09","2009-04-15",null,null,"2013-10-03",2014]
["2009-04-15","2009-04-16","2009-04-22",null,null,"2013-10-04",2014]
["2009-04-22","2009-04-23","2009-04-29",null,null,"2013-10-05",2014]
["2009-04-29","2009-04-30","2009-05-06",null,null,"2013-10-06",2014]
["2009-05-06","2009-05-07","2009-05-13",null,null,"2013-10-07",2014]
["2009-05-13","2009-05-14","2009-05-20",null,null,"2013-10-08",2014]
["2009-05-20","2009-05-21","2009-05-27",null,null,"2013-10-09",2014]
["2009-05-27","2009-05-28","2009-06-03",null,null,"2013-10-10",2014]
["2009-06-03","2009-06-04","2009-06-10",null,null,"2013-10-11",2014]
["2009-06-10","2009-06-11","2009-06-17",null,null,"2013-10-12",2014]
["2009-06-17","2009-06-18","2009-06-24",null,null,"2013-10-13",2014]
["2009-06-24","2009-06-25","2009-07-01",null,null,"2013-10-14",2014]
["2009-07-01","2009-07-02","2009-07-08",null,null,"2013-10-15",2014]
["2009-07-08","2009-07-09","2009-07-15",null,null,"2013-10-16",2014]
["2009-07-15","2009-07-16","2009-07-22",null,null,"2013-10-17",2014]
["2009-07-22","2009-07-23","2009-07-29",null,null,"2013-10-18",2014]
["2009-07-29","2009-07-30","2009-08-05",null,null,"2013-10-19",2014]
["2009-08-05","2009-08-06","2009-08-12",null,null,"2013-10-20",2014]
["2009-08-12","2009-08-13","2009-08-19",null,null,"2013-10-21",2014]
["2009-08-19","2009-08-20","2009-08-26",null,null,"2013-10-22",2014]
["2009-08-26","2009-08-27","2009-09-02",null,null,"2013-10-23",2014]
["2009-09-02","2009-09-03","2009-09-09",null,null,"2013-10-24",2014]
["2009-09-09","2009-09-10","2009-09-16",null,null,"2013-10-25",2014]
["2009-09-16","2009-09-17","2009-09-23",null,null,"2013-10-26",2014]
["2009-09-23","2009-09-24","2009-09-30",null,null,"2013-10-27",2014]
["2009-09-30","2009-10-01","2009-10-07",null,null,"2013-10-28",2014]
["2009-10-07","2009-10-08",{"$f":"B1217+6","v":"2009-10-14"},null,null,"2013-10-29",2014]
["2009-10-14",{"$f":"B1217+7","v":"2009-10-15"},"2009-10-21",null,null,"2013-10-30",2014]
[{"$f":"A1218+7","v":"2009-10-21"},"2009-10-22","2009-10-28",null,null,"2013-10-31",2014]
["2009-10-28","2009-10-29","2009-11-04",null,null,"2013-11-01",2014]
["2009-11-04","2009-11-05","2009-11-11",null,null,"2013-11-02",2014]
["2009-11-11","2009-11-12","2009-11-18",null,null,"2013-11-03",2014]
["2009-11-18","2009-11-19","2009-11-25",null,null,"2013-11-04",2014]
["2009-11-25","2009-11-26","2009-12-02",null,null,"2013-11-05",2014]
["2009-12-02","2009-12-03","2009-12-09",null,null,"2013-11-06",2014]
["2009-12-09","2009-12-10","2009-12-16",null,null,"2013-11-07",2014]
["2009-12-16","2009-12-17","2009-12-23",null,null,"2013-11-08",2014]
["2009-12-23","2009-12-24","2009-12-30",null,null,"2013-11-09",2014]
["2009-12-30","2009-12-31","2010-01-06",null,null,"2013-11-10",2014]
["2010-01-06","2010-01-07","2010-01-13",null,null,"2013-11-11",2014]
["2010-01-13","2010-01-14","2010-01-20",null,null,"2013-11-12",2014]
["2010-01-20","2010-01-21","2010-01-27",null,null,"2013-11-13",2014]
["2010-01-27","2010-01-28","2010-02-03",null,null,"2013-11-14",2014]
["2010-02-03","2010-02-04","2010-02-10",null,null,"2013-11-15",2014]
["2010-02-10","2010-02-11","2010-02-17",null,null,"2013-11-16",2014]
["2010-02-17","2010-02-18","2010-02-24",null,null,"2013-11-17",2014]
["2010-02-24","2010-02-25","2010-03-03",null,null,"2013-11-18",2014]
["2010-03-03","2010-03-04","2010-03-10",null,null,"2013-11-19",2014]
["2010-03-10","2010-03-11","2010-03-17",null,null,"2013-11-20",2014]
["2010-03-17","2010-03-18","2010-03-24",null,null,"2013-11-21",2014]
["2010-03-24","2010-03-25","2010-03-31",null,null,"2013-11-22",2014]
["2010-03-31","2010-04-01","2010-04-07",null,null,"2013-11-23",2014]
["2010-04-07","2010-04-08","2010-04-14",null,null,"2013-11-24",2014]
["2010-04-14","2010-04-15","2010-04-21",null,null,"2013-11-25",2014]
["2010-04-21","2010-04-22","2010-04-28",null,null,"2013-11-26",2014]
["2010-04-28","2010-04-29","2010-05-05",null,null,"2013-11-27",2014]
["2010-05-05","2010-05-06","2010-05-12",null,null,"2013-11-28",2014]
["2010-05-12","2010-05-13","2010-05-19",null,null,"2013-11-29",2014]
["2010-05-19","2010-05-20","2010-05-26",null,null,"2013-11-30",2014]
["2010-05-26","2010-05-27","2010-06-02",null,null,"2013-12-01",2014]
["2010-06-02","2010-06-03","2010-06-09",null,null,"2013-12-02",2014]
["2010-06-09","2010-06-10","2010-06-16",null,null,"2013-12-03",2014]
["2010-06-16","2010-06-17","2010-06-23",null,null,"2013-12-04",2014]
["2010-06-23","2010-06-24","2010-06-30",null,null,"2013-12-05",2014]
["2010-06-30","2010-07-01","2010-07-07",null,null,"2013-12-06",2014]
["2010-07-07","2010-07-08","2010-07-14",null,null,"2013-12-07",2014]
["2010-07-14","2010-07-15","2010-07-21",null,null,"2013-12-08",2014]
["2010-07-21","2010-07-22","2010-07-28",null,null,"2013-12-09",2014]
["2010-07-28","2010-07-29","2010-08-04",null,null,"2013-12-10",2014]
["2010-08-04","2010-08-05","2010-08-11",null,null,"2013-12-11",2014]
["2010-08-11","2010-08-12","2010-08-18",null,null,"2013-12-12",2014]
["2010-08-18","2010-08-19","2010-08-25",null,null,"2013-12-13",2014]
["2010-08-25","2010-08-26","2010-09-01",null,null,"2013-12-14",2014]
["2010-09-01","2010-09-02","2010-09-08",null,null,"2013-12-15",2014]
["2010-09-08","2010-09-09","2010-09-15",null,null,"2013-12-16",2014]
["2010-09-15","2010-09-16","2010-09-22",null,null,"2013-12-17",2014]
["2010-09-22","2010-09-23","2010-09-29",null,null,"2013-12-18",2014]
["2010-09-29","2010-09-30","2010-10-06",null,null,"2013-12-19",2014]
["2010-10-06","2010-10-07","2010-10-13",null,null,"2013-12-20",2014]
["2010-10-13","2010-10-14","2010-10-20",null,null,"2013-12-21",2014]
["2010-10-20","2010-10-21","2010-10-27",null,null,"2013-12-22",2014]
["2010-10-27","2010-10-28","2010-11-03",null,null,"2013-12-23",2014]
["2010-11-03","2010-11-04","2010-11-10",null,null,"2013-12-24",2014]
["2010-11-10","2010-11-11","2010-11-17",null,null,"2013-12-25",2014]
["2010-11-17","2010-11-18","2010-11-24",null,null,"2013-12-26",2014]
["2010-11-24","2010-11-25","2010-12-01",null,null,"2013-12-27",2014]
["2010-12-01","2010-12-02","2010-12-08",null,null,"2013-12-28",2014]
["2010-12-08","2010-12-09","2010-12-15",null,null,"2013-12-29",2014]
["2010-12-15","2010-12-16","2010-12-22",null,null,"2013-12-30",2014]
["2010-12-22","2010-12-23","2010-12-29",null,null,"2013-12-31",2014]
["2010-12-29","2010-12-30",{"$f":"B1281+6","v":"2011-01-05"},null,null,"2014-01-01",2014]
["2011-01-05",{"$f":"B1281+7","v":"2011-01-06"},"2011-01-12",null,null,"2014-01-02",2014]
[{"$f":"A1282+7","v":"2011-01-12"},"2011-01-13","2011-01-19",null,null,"2014-01-03",2014]
["2011-01-19","2011-01-20","2011-01-26",null,null,"2014-01-04",2014]
["2011-01-26","2011-01-27","2011-02-02",null,null,"2014-01-05",2014]
["2011-02-02","2011-02-03","2011-02-09",null,null,"2014-01-06",2014]
["2011-02-09","2011-02-10","2011-02-16",null,null,"2014-01-07",2014]
["2011-02-16","2011-02-17","2011-02-23",null,null,"2014-01-08",2014]
["2011-02-23","2011-02-24","2011-03-02",null,null,"2014-01-09",2014]
["2011-03-02","2011-03-03","2011-03-09",null,null,"2014-01-10",2014]
["2011-03-09","2011-03-10","2011-03-16",null,null,"2014-01-11",2014]
["2011-03-16","2011-03-17","2011-03-23",null,null,"2014-01-12",2014]
["2011-03-23","2011-03-24","2011-03-30",null,null,"2014-01-13",2014]
["2011-03-30","2011-03-31","2011-04-06",null,null,"2014-01-14",2014]
["2011-04-06","2011-04-07","2011-04-13",null,null,"2014-01-15",2014]
["2011-04-13","2011-04-14","2011-04-20",null,null,"2014-01-16",2014]
["2011-04-20","2011-04-21","2011-04-27",null,null,"2014-01-17",2014]
["2011-04-27","2011-04-28","2011-05-04",null,null,"2014-01-18",2014]
["2011-05-04","2011-05-05","2011-05-11",null,null,"2014-01-19",2014]
["2011-05-11","2011-05-12","2011-05-18",null,null,"2014-01-20",2014]
["2011-05-18","2011-05-19","2011-05-25",null,null,"2014-01-21",2014]
["2011-05-25","2011-05-26","2011-06-01",null,null,"2014-01-22",2014]
["2011-06-01","2011-06-02","2011-06-08",null,null,"2014-01-23",2014]
["2011-06-08","2011-06-09","2011-06-15",null,null,"2014-01-24",2014]
["2011-06-15","2011-06-16","2011-06-22",null,null,"2014-01-25",2014]
["2011-06-22","2011-06-23","2011-06-29",null,null,"2014-01-26",2014]
["2011-06-29","2011-06-30","2011-07-06",null,null,"2014-01-27",2014]
["2011-07-06","2011-07-07","2011-07-13",null,null,"2014-01-28",2014]
["2011-07-13","2011-07-14","2011-07-20",null,null,"2014-01-29",2014]
["2011-07-20","2011-07-21","2011-07-27",null,null,"2014-01-30",2014]
["2011-07-27","2011-07-28","2011-08-03",null,null,"2014-01-31",2014]
["2011-08-03","2011-08-04","2011-08-10",null,null,"2014-02-01",2014]
["2011-08-10","2011-08-11","2011-08-17",null,null,"2014-02-02",2014]
["2011-08-17","2011-08-18","2011-08-24",null,null,"2014-02-03",2014]
["2011-08-24","2011-08-25","2011-08-31",null,null,"2014-02-04",2014]
["2011-08-31","2011-09-01","2011-09-07",null,null,"2014-02-05",2014]
["2011-09-07","2011-09-08","2011-09-14",null,null,"2014-02-06",2014]
["2011-09-14","2011-09-15","2011-09-21",null,null,"2014-02-07",2014]
["2011-09-21","2011-09-22","2011-09-28",null,null,"2014-02-08",2014]
["2011-09-28","2011-09-29","2011-10-05",null,null,"2014-02-09",2014]
["2011-10-05","2011-10-06","2011-10-12",null,null,"2014-02-10",2014]
["2011-10-12","2011-10-13","2011-10-19",null,null,"2014-02-11",2014]
["2011-10-19","2011-10-20","2011-10-26",null,null,"2014-02-12",2014]
["2011-10-26","2011-10-27","2011-11-02",null,null,"2014-02-13",2014]
["2011-11-02","2011-11-03","2011-11-09",null,null,"2014-02-14",2014]
["2011-11-09","2011-11-10","2011-11-16",null,null,"2014-02-15",2014]
["2011-11-16","2011-11-17","2011-11-23",null,null,"2014-02-16",2014]
["2011-11-23","2011-11-24","2011-11-30",null,null,"2014-02-17",2014]
["2011-11-30","2011-12-01","2011-12-07",null,null,"2014-02-18",2014]
["2011-12-07","2011-12-08","2011-12-14",null,null,"2014-02-19",2014]
["2011-12-14","2011-12-15","2011-12-21",null,null,"2014-02-20",2014]
["2011-12-21","2011-12-22","2011-12-28",null,null,"2014-02-21",2014]
["2011-12-28","2011-12-29","2012-01-04",null,null,"2014-02-22",2014]
["2012-01-04","2012-01-05","2012-01-11",null,null,"2014-02-23",2014]
["2012-01-11","2012-01-12","2012-01-18",null,null,"2014-02-24",2014]
["2012-01-18","2012-01-19","2012-01-25",null,null,"2014-02-25",2014]
["2012-01-25","2012-01-26","2012-02-01",null,null,"2014-02-26",2014]
["2012-02-01","2012-02-02","2012-02-08",null,null,"2014-02-27",2014]
["2012-02-08","2012-02-09","2012-02-15",null,null,"2014-02-28",2014]
["2012-02-15","2012-02-16","2012-02-22",null,null,"2014-03-01",2014]
["2012-02-22","2012-02-23","2012-02-29",null,null,"2014-03-02",2014]
["2012-02-29","2012-03-01","2012-03-07",null,null,"2014-03-03",2014]
["2012-03-07","2012-03-08","2012-03-14",null,null,"2014-03-04",2014]
["2012-03-14","2012-03-15","2012-03-21",null,null,"2014-03-05",2014]
["2012-03-21","2012-03-22",{"$f":"B1345+6","v":"2012-03-28"},null,null,"2014-03-06",2014]
["2012-03-28",{"$f":"B1345+7","v":"2012-03-29"},"2012-04-04",null,null,"2014-03-07",2014]
[{"$f":"A1346+7","v":"2012-04-04"},"2012-04-05","2012-04-11",null,null,"2014-03-08",2014]
["2012-04-11","2012-04-12","2012-04-18",null,null,"2014-03-09",2014]
["2012-04-18","2012-04-19","2012-04-25",null,null,"2014-03-10",2014]
["2012-04-25","2012-04-26","2012-05-02",null,null,"2014-03-11",2014]
["2012-05-02","2012-05-03","2012-05-09",null,null,"2014-03-12",2014]
["2012-05-09","2012-05-10","2012-05-16",null,null,"2014-03-13",2014]
["2012-05-16","2012-05-17","2012-05-23",null,null,"2014-03-14",2014]
["2012-05-23","2012-05-24","2012-05-30",null,null,"2014-03-15",2014]
["2012-05-30","2012-05-31","2012-06-06",null,null,"2014-03-16",2014]
["2012-06-06","2012-06-07","2012-06-13",null,null,"2014-03-17",2014]
["2012-06-13","2012-06-14","2012-06-20",null,null,"2014-03-18",2014]
["2012-06-20","2012-06-21","2012-06-27",null,null,"2014-03-19",2014]
["2012-06-27","2012-06-28","2012-07-04",null,null,"2014-03-20",2014]
["2012-07-04","2012-07-05","2012-07-11",null,null,"2014-03-21",2014]
["2012-07-11","2012-07-12","2012-07-18",null,null,"2014-03-22",2014]
["2012-07-18","2012-07-19","2012-07-25",null,null,"2014-03-23",2014]
["2012-07-25","2012-07-26","2012-08-01",null,null,"2014-03-24",2014]
["2012-08-01","2012-08-02","2012-08-08",null,null,"2014-03-25",2014]
["2012-08-08","2012-08-09","2012-08-15",null,null,"2014-03-26",2014]
["2012-08-15","2012-08-16","2012-08-22",null,null,"2014-03-27",2014]
["2012-08-22","2012-08-23","2012-08-29",null,null,"2014-03-28",2014]
["2012-08-29","2012-08-30","2012-09-05",null,null,"2014-03-29",2014]
["2012-09-05","2012-09-06","2012-09-12",null,null,"2014-03-30",2014]
["2012-09-12","2012-09-13","2012-09-19",null,null,"2014-03-31",2014]
["2012-09-19","2012-09-20","2012-09-26",null,null,"2014-04-01",2014]
["2012-09-26","2012-09-27","2012-10-03",null,null,"2014-04-02",2014]
["2012-10-03","2012-10-04","2012-10-10",null,null,"2014-04-03",2014]
["2012-10-10","2012-10-11","2012-10-17",null,null,"2014-04-04",2014]
["2012-10-17","2012-10-18","2012-10-24",null,null,"2014-04-05",2014]
["2012-10-24","2012-10-25","2012-10-31",null,null,"2014-04-06",2014]
["2012-10-31","2012-11-01","2012-11-07",null,null,"2014-04-07",2014]
["2012-11-07","2012-11-08","2012-11-14",null,null,"2014-04-08",2014]
["2012-11-14","2012-11-15","2012-11-21",null,null,"2014-04-09",2014]
["2012-11-21","2012-11-22","2012-11-28",null,null,"2014-04-10",2014]
["2012-11-28","2012-11-29","2012-12-05",null,null,"2014-04-11",2014]
["2012-12-05","2012-12-06","2012-12-12",null,null,"2014-04-12",2014]
["2012-12-12","2012-12-13","2012-12-19",null,null,"2014-04-13",2014]
["2012-12-19","2012-12-20","2012-12-26",null,null,"2014-04-14",2014]
["2012-12-26","2012-12-27","2013-01-02",null,null,"2014-04-15",2014]
["2013-01-02","2013-01-03","2013-01-09",null,null,"2014-04-16",2014]
["2013-01-09","2013-01-10","2013-01-16",null,null,"2014-04-17",2014]
["2013-01-16","2013-01-17","2013-01-23",null,null,"2014-04-18",2014]
["2013-01-23","2013-01-24","2013-01-30",null,null,"2014-04-19",2014]
["2013-01-30","2013-01-31","2013-02-06",null,null,"2014-04-20",2014]
["2013-02-06","2013-02-07","2013-02-13",null,null,"2014-04-21",2014]
["2013-02-13","2013-02-14","2013-02-20",null,null,"2014-04-22",2014]
["2013-02-20","2013-02-21","2013-02-27",null,null,"2014-04-23",2014]
["2013-02-27","2013-02-28","2013-03-06",null,null,"2014-04-24",2014]
["2013-03-06","2013-03-07","2013-03-13",null,null,"2014-04-25",2014]
["2013-03-13","2013-03-14","2013-03-20",null,null,"2014-04-26",2014]
["2013-03-20","2013-03-21","2013-03-27",null,null,"2014-04-27",2014]
["2013-03-27","2013-03-28","2013-04-03",null,null,"2014-04-28",2014]
["2013-04-03","2013-04-04","2013-04-10",null,null,"2014-04-29",2014]
["2013-04-10","2013-04-11","2013-04-17",null,null,"2014-04-30",2014]
["2013-04-17","2013-04-18","2013-04-24",null,null,"2014-05-01",2014]
["2013-04-24","2013-04-25","2013-05-01",null,null,"2014-05-02",2014]
["2013-05-01","2013-05-02","2013-05-08",null,null,"2014-05-03",2014]
["2013-05-08","2013-05-09","2013-05-15",null,null,"2014-05-04",2014]
["2013-05-15","2013-05-16","2013-05-22",null,null,"2014-05-05",2014]
["2013-05-22","2013-05-23","2013-05-29",null,null,"2014-05-06",2014]
["2013-05-29","2013-05-30","2013-06-05",null,null,"2014-05-07",2014]
["2013-06-05","2013-06-06","2013-06-12",null,null,"2014-05-08",2014]
["2013-06-12","2013-06-13",{"$f":"B1409+6","v":"2013-06-19"},null,null,"2014-05-09",2014]
["2013-06-19",{"$f":"B1409+7","v":"2013-06-20"},"2013-06-26",null,null,"2014-05-10",2014]
[{"$f":"A1410+7","v":"2013-06-26"},"2013-06-27","2013-07-03",null,null,"2014-05-11",2014]
["2013-07-03","2013-07-04","2013-07-10",null,null,"2014-05-12",2014]
["2013-07-10","2013-07-11","2013-07-17",null,null,"2014-05-13",2014]
["2013-07-17","2013-07-18","2013-07-24",null,null,"2014-05-14",2014]
["2013-07-24","2013-07-25","2013-07-31",null,null,"2014-05-15",2014]
["2013-07-31","2013-08-01","2013-08-07",null,null,"2014-05-16",2014]
["2013-08-07","2013-08-08","2013-08-14",null,null,"2014-05-17",2014]
["2013-08-14","2013-08-15","2013-08-21",null,null,"2014-05-18",2014]
["2013-08-21","2013-08-22","2013-08-28",null,null,"2014-05-19",2014]
["2013-08-28","2013-08-29","2013-09-04",null,null,"2014-05-20",2014]
["2013-09-04","2013-09-05","2013-09-11",null,null,"2014-05-21",2014]
["2013-09-11","2013-09-12","2013-09-18",null,null,"2014-05-22",2014]
["2013-09-18","2013-09-19","2013-09-25",null,null,"2014-05-23",2014]
["2013-09-25","2013-09-26","2013-10-02",null,null,"2014-05-24",2014]
["2013-10-02","2013-10-03","2013-10-09",null,null,"2014-05-25",2014]
["2013-10-09","2013-10-10","2013-10-16",null,null,"2014-05-26",2014]
["2013-10-16","2013-10-17","2013-10-23",null,null,"2014-05-27",2014]
["2013-10-23","2013-10-24","2013-10-30",null,null,"2014-05-28",2014]
["2013-10-30","2013-10-31","2013-11-06",null,null,"2014-05-29",2014]
["2013-11-06","2013-11-07","2013-11-13",null,null,"2014-05-30",2014]
["2013-11-13","2013-11-14","2013-11-20",null,null,"2014-05-31",2014]
["2013-11-20","2013-11-21","2013-11-27",null,null,"2014-06-01",2014]
["2013-11-27","2013-11-28","2013-12-04",null,null,"2014-06-02",2014]
["2013-12-04","2013-12-05","2013-12-11",null,null,"2014-06-03",2014]
["2013-12-11","2013-12-12","2013-12-18",null,null,"2014-06-04",2014]
["2013-12-18","2013-12-19","2013-12-25",null,null,"2014-06-05",2014]
["2013-12-25","2013-12-26","2014-01-01",null,null,"2014-06-06",2014]
["2014-01-01","2014-01-02","2014-01-08",null,null,"2014-06-07",2014]
["2014-01-08","2014-01-09","2014-01-15",null,null,"2014-06-08",2014]
["2014-01-15","2014-01-16","2014-01-22",null,null,"2014-06-09",2014]
["2014-01-22","2014-01-23","2014-01-29",null,null,"2014-06-10",2014]
["2014-01-29","2014-01-30","2014-02-05",null,null,"2014-06-11",2014]
["2014-02-05","2014-02-06","2014-02-12",null,null,"2014-06-12",2014]
["2014-02-12","2014-02-13","2014-02-19",null,null,"2014-06-13",2014]
["2014-02-19","2014-02-20","2014-02-26",null,null,"2014-06-14",2014]
["2014-02-26","2014-02-27","2014-03-05",null,null,"2014-06-15",2014]
["2014-03-05","2014-03-06","2014-03-12",null,null,"2014-06-16",2014]
["2014-03-12","2014-03-13","2014-03-19",null,null,"2014-06-17",2014]
["2014-03-19","2014-03-20","2014-03-26",null,null,"2014-06-18",2014]
["2014-03-26","2014-03-27","2014-04-02",null,null,"2014-06-19",2014]
["2014-04-02","2014-04-03","2014-04-09",null,null,"2014-06-20",2014]
["2014-04-09","2014-04-10","2014-04-16",null,null,"2014-06-21",2014]
["2014-04-16","2014-04-17","2014-04-23",null,null,"2014-06-22",2014]
["2014-04-23","2014-04-24","2014-04-30",null,null,"2014-06-23",2014]
["2014-04-30","2014-05-01","2014-05-07",null,null,"2014-06-24",2014]
["2014-05-07","2014-05-08","2014-05-14",null,null,"2014-06-25",2014]
["2014-05-14","2014-05-15","2014-05-21",null,null,"2014-06-26",2015]
["2014-05-21","2014-05-22","2014-05-28",null,null,"2014-06-27",2015]
["2014-05-28","2014-05-29","2014-06-04",null,null,"2014-06-28",2015]
["2014-06-04","2014-06-05","2014-06-11",null,null,"2014-06-29",2015]
["2014-06-11","2014-06-12","2014-06-18",null,null,"2014-06-30",2015]
["2014-06-18","2014-06-19","2014-06-25",null,null,"2014-07-01",2015]
["2014-06-25","2014-06-26","2014-07-02",null,null,"2014-07-02",2015]
["2014-07-02","2014-07-03","2014-07-09",null,null,"2014-07-03",2015]
["2014-07-09","2014-07-10","2014-07-16",null,null,"2014-07-04",2015]
["2014-07-16","2014-07-17","2014-07-23",null,null,"2014-07-05",2015]
["2014-07-23","2014-07-24","2014-07-30",null,null,"2014-07-06",2015]
["2014-07-30","2014-07-31","2014-08-06",null,null,"2014-07-07",2015]
["2014-08-06","2014-08-07","2014-08-13",null,null,"2014-07-08",2015]
["2014-08-13","2014-08-14","2014-08-20",null,null,"2014-07-09",2015]
["2014-08-20","2014-08-21","2014-08-27",null,null,"2014-07-10",2015]
["2014-08-27","2014-08-28","2014-09-03",null,null,"2014-07-11",2015]
["2014-09-03","2014-09-04",{"$f":"B1473+6","v":"2014-09-10"},null,null,"2014-07-12",2015]
["2014-09-10",{"$f":"B1473+7","v":"2014-09-11"},"2014-09-17",null,null,"2014-07-13",2015]
[{"$f":"A1474+7","v":"2014-09-17"},"2014-09-18","2014-09-24",null,null,"2014-07-14",2015]
["2014-09-24","2014-09-25","2014-10-01",null,null,"2014-07-15",2015]
["2014-10-01","2014-10-02","2014-10-08",null,null,"2014-07-16",2015]
["2014-10-08","2014-10-09","2014-10-15",null,null,"2014-07-17",2015]
["2014-10-15","2014-10-16","2014-10-22",null,null,"2014-07-18",2015]
["2014-10-22","2014-10-23","2014-10-29",null,null,"2014-07-19",2015]
["2014-10-29","2014-10-30","2014-11-05",null,null,"2014-07-20",2015]
["2014-11-05","2014-11-06","2014-11-12",null,null,"2014-07-21",2015]
["2014-11-12","2014-11-13","2014-11-19",null,null,"2014-07-22",2015]
["2014-11-19","2014-11-20","2014-11-26",null,null,"2014-07-23",2015]
["2014-11-26","2014-11-27","2014-12-03",null,null,"2014-07-24",2015]
["2014-12-03","2014-12-04","2014-12-10",null,null,"2014-07-25",2015]
["2014-12-10","2014-12-11","2014-12-17",null,null,"2014-07-26",2015]
["2014-12-17","2014-12-18","2014-12-24",null,null,"2014-07-27",2015]
["2014-12-24","2014-12-25","2014-12-31",null,null,"2014-07-28",2015]
["2014-12-31","2015-01-01","2015-01-07",null,null,"2014-07-29",2015]
["2015-01-07","2015-01-08","2015-01-14",null,null,"2014-07-30",2015]
["2015-01-14","2015-01-15","2015-01-21",null,null,"2014-07-31",2015]
["2015-01-21","2015-01-22","2015-01-28",null,null,"2014-08-01",2015]
["2015-01-28","2015-01-29","2015-02-04",null,null,"2014-08-02",2015]
["2015-02-04","2015-02-05","2015-02-11",null,null,"2014-08-03",2015]
["2015-02-11","2015-02-12","2015-02-18",null,null,"2014-08-04",2015]
["2015-02-18","2015-02-19","2015-02-25",null,null,"2014-08-05",2015]
["2015-02-25","2015-02-26","2015-03-04",null,null,"2014-08-06",2015]
["2015-03-04","2015-03-05","2015-03-11",null,null,"2014-08-07",2015]
["2015-03-11","2015-03-12","2015-03-18",null,null,"2014-08-08",2015]
["2015-03-18","2015-03-19","2015-03-25",null,null,"2014-08-09",2015]
["2015-03-25","2015-03-26","2015-04-01",null,null,"2014-08-10",2015]
["2015-04-01","2015-04-02","2015-04-08",null,null,"2014-08-11",2015]
["2015-04-08","2015-04-09","2015-04-15",null,null,"2014-08-12",2015]
["2015-04-15","2015-04-16","2015-04-22",null,null,"2014-08-13",2015]
["2015-04-22","2015-04-23","2015-04-29",null,null,"2014-08-14",2015]
["2015-04-29","2015-04-30","2015-05-06",null,null,"2014-08-15",2015]
["2015-05-06","2015-05-07","2015-05-13",null,null,"2014-08-16",2015]
["2015-05-13","2015-05-14","2015-05-20",null,null,"2014-08-17",2015]
["2015-05-20","2015-05-21","2015-05-27",null,null,"2014-08-18",2015]
["2015-05-27","2015-05-28","2015-06-03",null,null,"2014-08-19",2015]
["2015-06-03","2015-06-04","2015-06-10",null,null,"2014-08-20",2015]
["2015-06-10","2015-06-11","2015-06-17",null,null,"2014-08-21",2015]
["2015-06-17","2015-06-18","2015-06-24",null,null,"2014-08-22",2015]
["2015-06-24","2015-06-25","2015-07-01",null,null,"2014-08-23",2015]
["2015-07-01","2015-07-02","2015-07-08",null,null,"2014-08-24",2015]
["2015-07-08","2015-07-09","2015-07-15",null,null,"2014-08-25",2015]
["2015-07-15","2015-07-16","2015-07-22",null,null,"2014-08-26",2015]
["2015-07-22","2015-07-23","2015-07-29",null,null,"2014-08-27",2015]
["2015-07-29","2015-07-30","2015-08-05",null,null,"2014-08-28",2015]
["2015-08-05","2015-08-06","2015-08-12",null,null,"2014-08-29",2015]
["2015-08-12","2015-08-13","2015-08-19",null,null,"2014-08-30",2015]
["2015-08-19","2015-08-20","2015-08-26",null,null,"2014-08-31",2015]
["2015-08-26","2015-08-27","2015-09-02",null,null,"2014-09-01",2015]
["2015-09-02","2015-09-03","2015-09-09",null,null,"2014-09-02",2015]
["2015-09-09","2015-09-10","2015-09-16",null,null,"2014-09-03",2015]
["2015-09-16","2015-09-17","2015-09-23",null,null,"2014-09-04",2015]
["2015-09-23","2015-09-24","2015-09-30",null,null,"2014-09-05",2015]
["2015-09-30","2015-10-01","2015-10-07",null,null,"2014-09-06",2015]
["2015-10-07","2015-10-08","2015-10-14",null,null,"2014-09-07",2015]
["2015-10-14","2015-10-15","2015-10-21",null,null,"2014-09-08",2015]
["2015-10-21","2015-10-22","2015-10-28",null,null,"2014-09-09",2015]
["2015-10-28","2015-10-29","2015-11-04",null,null,"2014-09-10",2015]
["2015-11-04","2015-11-05","2015-11-11",null,null,"2014-09-11",2015]
["2015-11-11","2015-11-12","2015-11-18",null,null,"2014-09-12",2015]
["2015-11-18","2015-11-19","2015-11-25",null,null,"2014-09-13",2015]
["2015-11-25","2015-11-26",{"$f":"B1537+6","v":"2015-12-02"},null,null,"2014-09-14",2015]
["2015-12-02",{"$f":"B1537+7","v":"2015-12-03"},"2015-12-09",null,null,"2014-09-15",2015]
[{"$f":"A1538+7","v":"2015-12-09"},"2015-12-10","2015-12-16",null,null,"2014-09-16",2015]
["2015-12-16","2015-12-17","2015-12-23",null,null,"2014-09-17",2015]
["2015-12-23","2015-12-24","2015-12-30",null,null,"2014-09-18",2015]
["2015-12-30","2015-12-31","2016-01-06",null,null,"2014-09-19",2015]
["2016-01-06","2016-01-07","2016-01-13",null,null,"2014-09-20",2015]
["2016-01-13","2016-01-14","2016-01-20",null,null,"2014-09-21",2015]
["2016-01-20","2016-01-21","2016-01-27",null,null,"2014-09-22",2015]
["2016-01-27","2016-01-28","2016-02-03",null,null,"2014-09-23",2015]
["2016-02-03","2016-02-04","2016-02-10",null,null,"2014-09-24",2015]
["2016-02-10","2016-02-11","2016-02-17",null,null,"2014-09-25",2015]
["2016-02-17","2016-02-18","2016-02-24",null,null,"2014-09-26",2015]
["2016-02-24","2016-02-25","2016-03-02",null,null,"2014-09-27",2015]
["2016-03-02","2016-03-03","2016-03-09",null,null,"2014-09-28",2015]
["2016-03-09","2016-03-10","2016-03-16",null,null,"2014-09-29",2015]
["2016-03-16","2016-03-17","2016-03-23",null,null,"2014-09-30",2015]
["2016-03-23","2016-03-24","2016-03-30",null,null,"2014-10-01",2015]
["2016-03-30","2016-03-31","2016-04-06",null,null,"2014-10-02",2015]
["2016-04-06","2016-04-07","2016-04-13",null,null,"2014-10-03",2015]
["2016-04-13","2016-04-14","2016-04-20",null,null,"2014-10-04",2015]
["2016-04-20","2016-04-21","2016-04-27",null,null,"2014-10-05",2015]
["2016-04-27","2016-04-28","2016-05-04",null,null,"2014-10-06",2015]
["2016-05-04","2016-05-05","2016-05-11",null,null,"2014-10-07",2015]
["2016-05-11","2016-05-12","2016-05-18",null,null,"2014-10-08",2015]
["2016-05-18","2016-05-19","2016-05-25",null,null,"2014-10-09",2015]
["2016-05-25","2016-05-26","2016-06-01",null,null,"2014-10-10",2015]
["2016-06-01","2016-06-02","2016-06-08",null,null,"2014-10-11",2015]
["2016-06-08","2016-06-09","2016-06-15",null,null,"2014-10-12",2015]
["2016-06-15","2016-06-16","2016-06-22",null,null,"2014-10-13",2015]
["2016-06-22","2016-06-23","2016-06-29",null,null,"2014-10-14",2015]
["2016-06-29","2016-06-30","2016-07-06",null,null,"2014-10-15",2015]
["2016-07-06","2016-07-07","2016-07-13",null,null,"2014-10-16",2015]
["2016-07-13","2016-07-14","2016-07-20",null,null,"2014-10-17",2015]
["2016-07-20","2016-07-21","2016-07-27",null,null,"2014-10-18",2015]
["2016-07-27","2016-07-28","2016-08-03",null,null,"2014-10-19",2015]
["2016-08-03","2016-08-04","2016-08-10",null,null,"2014-10-20",2015]
["2016-08-10","2016-08-11","2016-08-17",null,null,"2014-10-21",2015]
["2016-08-17","2016-08-18","2016-08-24",null,null,"2014-10-22",2015]
["2016-08-24","2016-08-25","2016-08-31",null,null,"2014-10-23",2015]
["2016-08-31","2016-09-01","2016-09-07",null,null,"2014-10-24",2015]
["2016-09-07","2016-09-08","2016-09-14",null,null,"2014-10-25",2015]
["2016-09-14","2016-09-15","2016-09-21",null,null,"2014-10-26",2015]
["2016-09-21","2016-09-22","2016-09-28",null,null,"2014-10-27",2015]
["2016-09-28","2016-09-29","2016-10-05",null,null,"2014-10-28",2015]
["2016-10-05","2016-10-06","2016-10-12",null,null,"2014-10-29",2015]
["2016-10-12","2016-10-13","2016-10-19",null,null,"2014-10-30",2015]
["2016-10-19","2016-10-20","2016-10-26",null,null,"2014-10-31",2015]
["2016-10-26","2016-10-27","2016-11-02",null,null,"2014-11-01",2015]
["2016-11-02","2016-11-03","2016-11-09",null,null,"2014-11-02",2015]
["2016-11-09","2016-11-10","2016-11-16",null,null,"2014-11-03",2015]
["2016-11-16","2016-11-17","2016-11-23",null,null,"2014-11-04",2015]
["2016-11-23","2016-11-24","2016-11-30",null,null,"2014-11-05",2015]
["2016-11-30","2016-12-01","2016-12-07",null,null,"2014-11-06",2015]
["2016-12-07","2016-12-08","2016-12-14",null,null,"2014-11-07",2015]
["2016-12-14","2016-12-15","2016-12-21",null,null,"2014-11-08",2015]
["2016-12-21","2016-12-22","2016-12-28",null,null,"2014-11-09",2015]
["2016-12-28","2016-12-29","2017-01-04",null,null,"2014-11-10",2015]
["2017-01-04","2017-01-05","2017-01-11",null,null,"2014-11-11",2015]
["2017-01-11","2017-01-12","2017-01-18",null,null,"2014-11-12",2015]
["2017-01-18","2017-01-19","2017-01-25",null,null,"2014-11-13",2015]
["2017-01-25","2017-01-26","2017-02-01",null,null,"2014-11-14",2015]
["2017-02-01","2017-02-02","2017-02-08",null,null,"2014-11-15",2015]
["2017-02-08","2017-02-09","2017-02-15",null,null,"2014-11-16",2015]
["2017-02-15","2017-02-16",{"$f":"B1601+6","v":"2017-02-22"},null,null,"2014-11-17",2015]
["2017-02-22",{"$f":"B1601+7","v":"2017-02-23"},"2017-03-01",null,null,"2014-11-18",2015]
[{"$f":"A1602+7","v":"2017-03-01"},"2017-03-02","2017-03-08",null,null,"2014-11-19",2015]
["2017-03-08","2017-03-09","2017-03-15",null,null,"2014-11-20",2015]
["2017-03-15","2017-03-16","2017-03-22",null,null,"2014-11-21",2015]
["2017-03-22","2017-03-23","2017-03-29",null,null,"2014-11-22",2015]
["2017-03-29","2017-03-30","2017-04-05",null,null,"2014-11-23",2015]
["2017-04-05","2017-04-06","2017-04-12",null,null,"2014-11-24",2015]
["2017-04-12","2017-04-13","2017-04-19",null,null,"2014-11-25",2015]
["2017-04-19","2017-04-20","2017-04-26",null,null,"2014-11-26",2015]
["2017-04-26","2017-04-27","2017-05-03",null,null,"2014-11-27",2015]
["2017-05-03","2017-05-04","2017-05-10",null,null,"2014-11-28",2015]
["2017-05-10","2017-05-11","2017-05-17",null,null,"2014-11-29",2015]
["2017-05-17","2017-05-18","2017-05-24",null,null,"2014-11-30",2015]
["2017-05-24","2017-05-25","2017-05-31",null,null,"2014-12-01",2015]
["2017-05-31","2017-06-01","2017-06-07",null,null,"2014-12-02",2015]
["2017-06-07","2017-06-08","2017-06-14",null,null,"2014-12-03",2015]
["2017-06-14","2017-06-15","2017-06-21",null,null,"2014-12-04",2015]
["2017-06-21","2017-06-22","2017-06-28",null,null,"2014-12-05",2015]
["2017-06-28","2017-06-29","2017-07-05",null,null,"2014-12-06",2015]
["2017-07-05","2017-07-06","2017-07-12",null,null,"2014-12-07",2015]
["2017-07-12","2017-07-13","2017-07-19",null,null,"2014-12-08",2015]
["2017-07-19","2017-07-20","2017-07-26",null,null,"2014-12-09",2015]
["2017-07-26","2017-07-27","2017-08-02",null,null,"2014-12-10",2015]
["2017-08-02","2017-08-03","2017-08-09",null,null,"2014-12-11",2015]
["2017-08-09","2017-08-10","2017-08-16",null,null,"2014-12-12",2015]
["2017-08-16","2017-08-17","2017-08-23",null,null,"2014-12-13",2015]
["2017-08-23","2017-08-24","2017-08-30",null,null,"2014-12-14",2015]
["2017-08-30","2017-08-31","2017-09-06",null,null,"2014-12-15",2015]
["2017-09-06","2017-09-07","2017-09-13",null,null,"2014-12-16",2015]
["2017-09-13","2017-09-14","2017-09-20",null,null,"2014-12-17",2015]
["2017-09-20","2017-09-21","2017-09-27",null,null,"2014-12-18",2015]
["2017-09-27","2017-09-28","2017-10-04",null,null,"2014-12-19",2015]
["2017-10-04","2017-10-05","2017-10-11",null,null,"2014-12-20",2015]
["2017-10-11","2017-10-12","2017-10-18",null,null,"2014-12-21",2015]
["2017-10-18","2017-10-19","2017-10-25",null,null,"2014-12-22",2015]
["2017-10-25","2017-10-26","2017-11-01",null,null,"2014-12-23",2015]
["2017-11-01","2017-11-02","2017-11-08",null,null,"2014-12-24",2015]
["2017-11-08","2017-11-09","2017-11-15",null,null,"2014-12-25",2015]
["2017-11-15","2017-11-16","2017-11-22",null,null,"2014-12-26",2015]
["2017-11-22","2017-11-23","2017-11-29",null,null,"2014-12-27",2015]
["2017-11-29","2017-11-30","2017-12-06",null,null,"2014-12-28",2015]
["2017-12-06","2017-12-07","2017-12-13",null,null,"2014-12-29",2015]
["2017-12-13","2017-12-14","2017-12-20",null,null,"2014-12-30",2015]
["2017-12-20","2017-12-21","2017-12-27",null,null,"2014-12-31",2015]
["2017-12-27","2017-12-28","2018-01-03",null,null,"2015-01-01",2015]
["2018-01-03","2018-01-04","2018-01-10",null,null,"2015-01-02",2015]
["2018-01-10","2018-01-11","2018-01-17",null,null,"2015-01-03",2015]
["2018-01-17","2018-01-18","2018-01-24",null,null,"2015-01-04",2015]
["2018-01-24","2018-01-25","2018-01-31",null,null,"2015-01-05",2015]
["2018-01-31","2018-02-01","2018-02-07",null,null,"2015-01-06",2015]
["2018-02-07","2018-02-08","2018-02-14",null,null,"2015-01-07",2015]
["2018-02-14","2018-02-15","2018-02-21",null,null,"2015-01-08",2015]
["2018-02-21","2018-02-22","2018-02-28",null,null,"2015-01-09",2015]
["2018-02-28","2018-03-01","2018-03-07",null,null,"2015-01-10",2015]
["2018-03-07","2018-03-08","2018-03-14",null,null,"2015-01-11",2015]
["2018-03-14","2018-03-15","2018-03-21",null,null,"2015-01-12",2015]
["2018-03-21","2018-03-22","2018-03-28",null,null,"2015-01-13",2015]
["2018-03-28","2018-03-29","2018-04-04",null,null,"2015-01-14",2015]
["2018-04-04","2018-04-05","2018-04-11",null,null,"2015-01-15",2015]
["2018-04-11","2018-04-12","2018-04-18",null,null,"2015-01-16",2015]
["2018-04-18","2018-04-19","2018-04-25",null,null,"2015-01-17",2015]
["2018-04-25","2018-04-26","2018-05-02",null,null,"2015-01-18",2015]
["2018-05-02","2018-05-03","2018-05-09",null,null,"2015-01-19",2015]
["2018-05-09","2018-05-10",{"$f":"B1665+6","v":"2018-05-16"},null,null,"2015-01-20",2015]
["2018-05-16",{"$f":"B1665+7","v":"2018-05-17"},"2018-05-23",null,null,"2015-01-21",2015]
[{"$f":"A1666+7","v":"2018-05-23"},"2018-05-24","2018-05-30",null,null,"2015-01-22",2015]
["2018-05-30","2018-05-31","2018-06-06",null,null,"2015-01-23",2015]
["2018-06-06","2018-06-07","2018-06-13",null,null,"2015-01-24",2015]
["2018-06-13","2018-06-14","2018-06-20",null,null,"2015-01-25",2015]
["2018-06-20","2018-06-21","2018-06-27",null,null,"2015-01-26",2015]
["2018-06-27","2018-06-28","2018-07-04",null,null,"2015-01-27",2015]
["2018-07-04","2018-07-05","2018-07-11",null,null,"2015-01-28",2015]
["2018-07-11","2018-07-12","2018-07-18",null,null,"2015-01-29",2015]
["2018-07-18","2018-07-19","2018-07-25",null,null,"2015-01-30",2015]
["2018-07-25","2018-07-26","2018-08-01",null,null,"2015-01-31",2015]
["2018-08-01","2018-08-02","2018-08-08",null,null,"2015-02-01",2015]
["2018-08-08","2018-08-09","2018-08-15",null,null,"2015-02-02",2015]
["2018-08-15","2018-08-16","2018-08-22",null,null,"2015-02-03",2015]
["2018-08-22","2018-08-23","2018-08-29",null,null,"2015-02-04",2015]
["2018-08-29","2018-08-30","2018-09-05",null,null,"2015-02-05",2015]
["2018-09-05","2018-09-06","2018-09-12",null,null,"2015-02-06",2015]
["2018-09-12","2018-09-13","2018-09-19",null,null,"2015-02-07",2015]
["2018-09-19","2018-09-20","2018-09-26",null,null,"2015-02-08",2015]
["2018-09-26","2018-09-27","2018-10-03",null,null,"2015-02-09",2015]
["2018-10-03","2018-10-04","2018-10-10",null,null,"2015-02-10",2015]
["2018-10-10","2018-10-11","2018-10-17",null,null,"2015-02-11",2015]
["2018-10-17","2018-10-18","2018-10-24",null,null,"2015-02-12",2015]
["2018-10-24","2018-10-25","2018-10-31",null,null,"2015-02-13",2015]
["2018-10-31","2018-11-01","2018-11-07",null,null,"2015-02-14",2015]
["2018-11-07","2018-11-08","2018-11-14",null,null,"2015-02-15",2015]
["2018-11-14","2018-11-15","2018-11-21",null,null,"2015-02-16",2015]
["2018-11-21","2018-11-22","2018-11-28",null,null,"2015-02-17",2015]
["2018-11-28","2018-11-29","2018-12-05",null,null,"2015-02-18",2015]
["2018-12-05","2018-12-06","2018-12-12",null,null,"2015-02-19",2015]
["2018-12-12","2018-12-13","2018-12-19",null,null,"2015-02-20",2015]
["2018-12-19","2018-12-20","2018-12-26",null,null,"2015-02-21",2015]
["2018-12-26","2018-12-27","2019-01-02",null,null,"2015-02-22",2015]
["2019-01-02","2019-01-03","2019-01-09",null,null,"2015-02-23",2015]
["2019-01-09","2019-01-10","2019-01-16",null,null,"2015-02-24",2015]
["2019-01-16","2019-01-17","2019-01-23",null,null,"2015-02-25",2015]
["2019-01-23","2019-01-24","2019-01-30",null,null,"2015-02-26",2015]
["2019-01-30","2019-01-31","2019-02-06",null,null,"2015-02-27",2015]
["2019-02-06","2019-02-07","2019-02-13",null,null,"2015-02-28",2015]
["2019-02-13","2019-02-14","2019-02-20",null,null,"2015-03-01",2015]
["2019-02-20","2019-02-21","2019-02-27",null,null,"2015-03-02",2015]
["2019-02-27","2019-02-28","2019-03-06",null,null,"2015-03-03",2015]
["2019-03-06","2019-03-07","2019-03-13",null,null,"2015-03-04",2015]
["2019-03-13","2019-03-14","2019-03-20",null,null,"2015-03-05",2015]
["2019-03-20","2019-03-21","2019-03-27",null,null,"2015-03-06",2015]
["2019-03-27","2019-03-28","2019-04-03",null,null,"2015-03-07",2015]
["2019-04-03","2019-04-04","2019-04-10",null,null,"2015-03-08",2015]
["2019-04-10","2019-04-11","2019-04-17",null,null,"2015-03-09",2015]
["2019-04-17","2019-04-18","2019-04-24",null,null,"2015-03-10",2015]
["2019-04-24","2019-04-25","2019-05-01",null,null,"2015-03-11",2015]
["2019-05-01","2019-05-02","2019-05-08",null,null,"2015-03-12",2015]
["2019-05-08","2019-05-09","2019-05-15",null,null,"2015-03-13",2015]
["2019-05-15","2019-05-16","2019-05-22",null,null,"2015-03-14",2015]
["2019-05-22","2019-05-23","2019-05-29",null,null,"2015-03-15",2015]
["2019-05-29","2019-05-30","2019-06-05",null,null,"2015-03-16",2015]
["2019-06-05","2019-06-06","2019-06-12",null,null,"2015-03-17",2015]
["2019-06-12","2019-06-13","2019-06-19",null,null,"2015-03-18",2015]
["2019-06-19","2019-06-20","2019-06-26",null,null,"2015-03-19",2015]
["2019-06-26","2019-06-27","2019-07-03",null,null,"2015-03-20",2015]
["2019-07-03","2019-07-04","2019-07-10",null,null,"2015-03-21",2015]
["2019-07-10","2019-07-11","2019-07-17",null,null,"2015-03-22",2015]
["2019-07-17","2019-07-18","2019-07-24",null,null,"2015-03-23",2015]
["2019-07-24","2019-07-25","2019-07-31",null,null,"2015-03-24",2015]
["2019-07-31","2019-08-01",{"$f":"B1729+6","v":"2019-08-07"},null,null,"2015-03-25",2015]
["2019-08-07",{"$f":"B1729+7","v":"2019-08-08"},"2019-08-14",null,null,"2015-03-26",2015]
[{"$f":"A1730+7","v":"2019-08-14"},"2019-08-15","2019-08-21",null,null,"2015-03-27",2015]
["2019-08-21","2019-08-22","2019-08-28",null,null,"2015-03-28",2015]
["2019-08-28","2019-08-29","2019-09-04",null,null,"2015-03-29",2015]
["2019-09-04","2019-09-05","2019-09-11",null,null,"2015-03-30",2015]
["2019-09-11","2019-09-12","2019-09-18",null,null,"2015-03-31",2015]
["2019-09-18","2019-09-19","2019-09-25",null,null,"2015-04-01",2015]
["2019-09-25","2019-09-26","2019-10-02",null,null,"2015-04-02",2015]
["2019-10-02","2019-10-03","2019-10-09",null,null,"2015-04-03",2015]
["2019-10-09","2019-10-10","2019-10-16",null,null,"2015-04-04",2015]
["2019-10-16","2019-10-17","2019-10-23",null,null,"2015-04-05",2015]
["2019-10-23","2019-10-24","2019-10-30",null,null,"2015-04-06",2015]
["2019-10-30","2019-10-31","2019-11-06",null,null,"2015-04-07",2015]
["2019-11-06","2019-11-07","2019-11-13",null,null,"2015-04-08",2015]
["2019-11-13","2019-11-14","2019-11-20",null,null,"2015-04-09",2015]
["2019-11-20","2019-11-21","2019-11-27",null,null,"2015-04-10",2015]
["2019-11-27","2019-11-28","2019-12-04",null,null,"2015-04-11",2015]
["2019-12-04","2019-12-05","2019-12-11",null,null,"2015-04-12",2015]
["2019-12-11","2019-12-12","2019-12-18",null,null,"2015-04-13",2015]
["2019-12-18","2019-12-19","2019-12-25",null,null,"2015-04-14",2015]
["2019-12-25","2019-12-26","2020-01-01",null,null,"2015-04-15",2015]
["2020-01-01","2020-01-02","2020-01-08",null,null,"2015-04-16",2015]
["2020-01-08","2020-01-09","2020-01-15",null,null,"2015-04-17",2015]
["2020-01-15","2020-01-16","2020-01-22",null,null,"2015-04-18",2015]
["2020-01-22","2020-01-23","2020-01-29",null,null,"2015-04-19",2015]
["2020-01-29","2020-01-30","2020-02-05",null,null,"2015-04-20",2015]
["2020-02-05","2020-02-06","2020-02-12",null,null,"2015-04-21",2015]
["2020-02-12","2020-02-13","2020-02-19",null,null,"2015-04-22",2015]
["2020-02-19","2020-02-20","2020-02-26",null,null,"2015-04-23",2015]
["2020-02-26","2020-02-27","2020-03-04",null,null,"2015-04-24",2015]
["2020-03-04","2020-03-05","2020-03-11",null,null,"2015-04-25",2015]
["2020-03-11","2020-03-12","2020-03-18",null,null,"2015-04-26",2015]
["2020-03-18","2020-03-19","2020-03-25",null,null,"2015-04-27",2015]
["2020-03-25","2020-03-26","2020-04-01",null,null,"2015-04-28",2015]
["2020-04-01","2020-04-02","2020-04-08",null,null,"2015-04-29",2015]
["2020-04-08","2020-04-09","2020-04-15",null,null,"2015-04-30",2015]
["2020-04-15","2020-04-16","2020-04-22",null,null,"2015-05-01",2015]
["2020-04-22","2020-04-23","2020-04-29",null,null,"2015-05-02",2015]
["2020-04-29","2020-04-30","2020-05-06",null,null,"2015-05-03",2015]
["2020-05-06","2020-05-07","2020-05-13",null,null,"2015-05-04",2015]
["2020-05-13","2020-05-14","2020-05-20",null,null,"2015-05-05",2015]
["2020-05-20","2020-05-21","2020-05-27",null,null,"2015-05-06",2015]
["2020-05-27","2020-05-28","2020-06-03",null,null,"2015-05-07",2015]
["2020-06-03","2020-06-04","2020-06-10",null,null,"2015-05-08",2015]
["2020-06-10","2020-06-11","2020-06-17",null,null,"2015-05-09",2015]
["2020-06-17","2020-06-18","2020-06-24",null,null,"2015-05-10",2015]
["2020-06-24","2020-06-25","2020-07-01",null,null,"2015-05-11",2015]
["2020-07-01","2020-07-02","2020-07-08",null,null,"2015-05-12",2015]
["2020-07-08","2020-07-09","2020-07-15",null,null,"2015-05-13",2015]
["2020-07-15","2020-07-16","2020-07-22",null,null,"2015-05-14",2015]
["2020-07-22","2020-07-23","2020-07-29",null,null,"2015-05-15",2015]
["2020-07-29","2020-07-30","2020-08-05",null,null,"2015-05-16",2015]
["2020-08-05","2020-08-06","2020-08-12",null,null,"2015-05-17",2015]
["2020-08-12","2020-08-13","2020-08-19",null,null,"2015-05-18",2015]
["2020-08-19","2020-08-20","2020-08-26",null,null,"2015-05-19",2015]
["2020-08-26","2020-08-27","2020-09-02",null,null,"2015-05-20",2015]
["2020-09-02","2020-09-03","2020-09-09",null,null,"2015-05-21",2015]
["2020-09-09","2020-09-10","2020-09-16",null,null,"2015-05-22",2015]
["2020-09-16","2020-09-17","2020-09-23",null,null,"2015-05-23",2015]
["2020-09-23","2020-09-24","2020-09-30",null,null,"2015-05-24",2015]
["2020-09-30","2020-10-01","2020-10-07",null,null,"2015-05-25",2015]
["2020-10-07","2020-10-08","2020-10-14",null,null,"2015-05-26",2015]
["2020-10-14","2020-10-15","2020-10-21",null,null,"2015-05-27",2015]
["2020-10-21","2020-10-22",{"$f":"B1793+6","v":"2020-10-28"},null,null,"2015-05-28",2015]
["2020-10-28",{"$f":"B1793+7","v":"2020-10-29"},"2020-11-04",null,null,"2015-05-29",2015]
[{"$f":"A1794+7","v":"2020-11-04"},"2020-11-05","2020-11-11",null,null,"2015-05-30",2015]
["2020-11-11","2020-11-12","2020-11-18",null,null,"2015-05-31",2015]
["2020-11-18","2020-11-19","2020-11-25",null,null,"2015-06-01",2015]
["2020-11-25","2020-11-26","2020-12-02",null,null,"2015-06-02",2015]
["2020-12-02","2020-12-03","2020-12-09",null,null,"2015-06-03",2015]
["2020-12-09","2020-12-10","2020-12-16",null,null,"2015-06-04",2015]
["2020-12-16","2020-12-17","2020-12-23",null,null,"2015-06-05",2015]
["2020-12-23","2020-12-24","2020-12-30",null,null,"2015-06-06",2015]
["2020-12-30","2020-12-31","2021-01-06",null,null,"2015-06-07",2015]
["2021-01-06","2021-01-07","2021-01-13",null,null,"2015-06-08",2015]
["2021-01-13","2021-01-14","2021-01-20",null,null,"2015-06-09",2015]
["2021-01-20","2021-01-21","2021-01-27",null,null,"2015-06-10",2015]
["2021-01-27","2021-01-28","2021-02-03",null,null,"2015-06-11",2015]
["2021-02-03","2021-02-04","2021-02-10",null,null,"2015-06-12",2015]
["2021-02-10","2021-02-11","2021-02-17",null,null,"2015-06-13",2015]
["2021-02-17","2021-02-18","2021-02-24",null,null,"2015-06-14",2015]
["2021-02-24","2021-02-25","2021-03-03",null,null,"2015-06-15",2015]
["2021-03-03","2021-03-04","2021-03-10",null,null,"2015-06-16",2015]
["2021-03-10","2021-03-11","2021-03-17",null,null,"2015-06-17",2015]
["2021-03-17","2021-03-18","2021-03-24",null,null,"2015-06-18",2015]
["2021-03-24","2021-03-25","2021-03-31",null,null,"2015-06-19",2015]
["2021-03-31","2021-04-01","2021-04-07",null,null,"2015-06-20",2015]
["2021-04-07","2021-04-08","2021-04-14",null,null,"2015-06-21",2015]
["2021-04-14","2021-04-15","2021-04-21",null,null,"2015-06-22",2015]
["2021-04-21","2021-04-22","2021-04-28",null,null,"2015-06-23",2015]
["2021-04-28","2021-04-29","2021-05-05",null,null,"2015-06-24",2015]
["2021-05-05","2021-05-06","2021-05-12",null,null,"2015-06-25",2016]
["2021-05-12","2021-05-13","2021-05-19",null,null,"2015-06-26",2016]
["2021-05-19","2021-05-20","2021-05-26",null,null,"2015-06-27",2016]
["2021-05-26","2021-05-27","2021-06-02",null,null,"2015-06-28",2016]
["2021-06-02","2021-06-03","2021-06-09",null,null,"2015-06-29",2016]
["2021-06-09","2021-06-10","2021-06-16",null,null,"2015-06-30",2016]
["2021-06-16","2021-06-17","2021-06-23",null,null,"2015-07-01",2016]
["2021-06-23","2021-06-24","2021-06-30",null,null,"2015-07-02",2016]
["2021-06-30","2021-07-01","2021-07-07",null,null,"2015-07-03",2016]
["2021-07-07","2021-07-08","2021-07-14",null,null,"2015-07-04",2016]
["2021-07-14","2021-07-15","2021-07-21",null,null,"2015-07-05",2016]
["2021-07-21","2021-07-22","2021-07-28",null,null,"2015-07-06",2016]
["2021-07-28","2021-07-29","2021-08-04",null,null,"2015-07-07",2016]
["2021-08-04","2021-08-05","2021-08-11",null,null,"2015-07-08",2016]
["2021-08-11","2021-08-12","2021-08-18",null,null,"2015-07-09",2016]
["2021-08-18","2021-08-19","2021-08-25",null,null,"2015-07-10",2016]
["2021-08-25","2021-08-26","2021-09-01",null,null,"2015-07-11",2016]
["2021-09-01","2021-09-02","2021-09-08",null,null,"2015-07-12",2016]
["2021-09-08","2021-09-09","2021-09-15",null,null,"2015-07-13",2016]
["2021-09-15","2021-09-16","2021-09-22",null,null,"2015-07-14",2016]
["2021-09-22","2021-09-23","2021-09-29",null,null,"2015-07-15",2016]
["2021-09-29","2021-09-30","2021-10-06",null,null,"2015-07-16",2016]
["2021-10-06","2021-10-07","2021-10-13",null,null,"2015-07-17",2016]
["2021-10-13","2021-10-14","2021-10-20",null,null,"2015-07-18",2016]
["2021-10-20","2021-10-21","2021-10-27",null,null,"2015-07-19",2016]
["2021-10-27","2021-10-28","2021-11-03",null,null,"2015-07-20",2016]
["2021-11-03","2021-11-04","2021-11-10",null,null,"2015-07-21",2016]
["2021-11-10","2021-11-11","2021-11-17",null,null,"2015-07-22",2016]
["2021-11-17","2021-11-18","2021-11-24",null,null,"2015-07-23",2016]
["2021-11-24","2021-11-25","2021-12-01",null,null,"2015-07-24",2016]
["2021-12-01","2021-12-02","2021-12-08",null,null,"2015-07-25",2016]
["2021-12-08","2021-12-09","2021-12-15",null,null,"2015-07-26",2016]
["2021-12-15","2021-12-16","2021-12-22",null,null,"2015-07-27",2016]
["2021-12-22","2021-12-23","2021-12-29",null,null,"2015-07-28",2016]
["2021-12-29","2021-12-30","2022-01-05",null,null,"2015-07-29",2016]
["2022-01-05","2022-01-06","2022-01-12",null,null,"2015-07-30",2016]
["2022-01-12","2022-01-13",{"$f":"B1857+6","v":"2022-01-19"},null,null,"2015-07-31",2016]
["2022-01-19",{"$f":"B1857+7","v":"2022-01-20"},"2022-01-26",null,null,"2015-08-01",2016]
[{"$f":"A1858+7","v":"2022-01-26"},"2022-01-27","2022-02-02",null,null,"2015-08-02",2016]
["2022-02-02","2022-02-03","2022-02-09",null,null,"2015-08-03",2016]
["2022-02-09","2022-02-10","2022-02-16",null,null,"2015-08-04",2016]
["2022-02-16","2022-02-17","2022-02-23",null,null,"2015-08-05",2016]
["2022-02-23","2022-02-24","2022-03-02",null,null,"2015-08-06",2016]
["2022-03-02","2022-03-03","2022-03-09",null,null,"2015-08-07",2016]
["2022-03-09","2022-03-10","2022-03-16",null,null,"2015-08-08",2016]
["2022-03-16","2022-03-17","2022-03-23",null,null,"2015-08-09",2016]
["2022-03-23","2022-03-24","2022-03-30",null,null,"2015-08-10",2016]
["2022-03-30","2022-03-31","2022-04-06",null,null,"2015-08-11",2016]
["2022-04-06","2022-04-07","2022-04-13",null,null,"2015-08-12",2016]
["2022-04-13","2022-04-14","2022-04-20",null,null,"2015-08-13",2016]
["2022-04-20","2022-04-21","2022-04-27",null,null,"2015-08-14",2016]
["2022-04-27","2022-04-28","2022-05-04",null,null,"2015-08-15",2016]
["2022-05-04","2022-05-05","2022-05-11",null,null,"2015-08-16",2016]
["2022-05-11","2022-05-12","2022-05-18",null,null,"2015-08-17",2016]
["2022-05-18","2022-05-19","2022-05-25",null,null,"2015-08-18",2016]
["2022-05-25","2022-05-26","2022-06-01",null,null,"2015-08-19",2016]
["2022-06-01","2022-06-02","2022-06-08",null,null,"2015-08-20",2016]
["2022-06-08","2022-06-09","2022-06-15",null,null,"2015-08-21",2016]
["2022-06-15","2022-06-16","2022-06-22",null,null,"2015-08-22",2016]
["2022-06-22","2022-06-23","2022-06-29",null,null,"2015-08-23",2016]
["2022-06-29","2022-06-30","2022-07-06",null,null,"2015-08-24",2016]
["2022-07-06","2022-07-07","2022-07-13",null,null,"2015-08-25",2016]
["2022-07-13","2022-07-14","2022-07-20",null,null,"2015-08-26",2016]
["2022-07-20","2022-07-21","2022-07-27",null,null,"2015-08-27",2016]
["2022-07-27","2022-07-28","2022-08-03",null,null,"2015-08-28",2016]
["2022-08-03","2022-08-04","2022-08-10",null,null,"2015-08-29",2016]
["2022-08-10","2022-08-11","2022-08-17",null,null,"2015-08-30",2016]
["2022-08-17","2022-08-18","2022-08-24",null,null,"2015-08-31",2016]
["2022-08-24","2022-08-25","2022-08-31",null,null,"2015-09-01",2016]
["2022-08-31","2022-09-01","2022-09-07",null,null,"2015-09-02",2016]
["2022-09-07","2022-09-08","2022-09-14",null,null,"2015-09-03",2016]
["2022-09-14","2022-09-15","2022-09-21",null,null,"2015-09-04",2016]
["2022-09-21","2022-09-22","2022-09-28",null,null,"2015-09-05",2016]
["2022-09-28","2022-09-29","2022-10-05",null,null,"2015-09-06",2016]
["2022-10-05","2022-10-06","2022-10-12",null,null,"2015-09-07",2016]
["2022-10-12","2022-10-13","2022-10-19",null,null,"2015-09-08",2016]
["2022-10-19","2022-10-20","2022-10-26",null,null,"2015-09-09",2016]
["2022-10-26","2022-10-27","2022-11-02",null,null,"2015-09-10",2016]
["2022-11-02","2022-11-03","2022-11-09",null,null,"2015-09-11",2016]
["2022-11-09","2022-11-10","2022-11-16",null,null,"2015-09-12",2016]
["2022-11-16","2022-11-17","2022-11-23",null,null,"2015-09-13",2016]
["2022-11-23","2022-11-24","2022-11-30",null,null,"2015-09-14",2016]
["2022-11-30","2022-12-01","2022-12-07",null,null,"2015-09-15",2016]
["2022-12-07","2022-12-08","2022-12-14",null,null,"2015-09-16",2016]
["2022-12-14","2022-12-15","2022-12-21",null,null,"2015-09-17",2016]
["2022-12-21","2022-12-22","2022-12-28",null,null,"2015-09-18",2016]
["2022-12-28","2022-12-29","2023-01-04",null,null,"2015-09-19",2016]
["2023-01-04","2023-01-05","2023-01-11",null,null,"2015-09-20",2016]
["2023-01-11","2023-01-12","2023-01-18",null,null,"2015-09-21",2016]
["2023-01-18","2023-01-19","2023-01-25",null,null,"2015-09-22",2016]
["2023-01-25","2023-01-26","2023-02-01",null,null,"2015-09-23",2016]
["2023-02-01","2023-02-02","2023-02-08",null,null,"2015-09-24",2016]
["2023-02-08","2023-02-09","2023-02-15",null,null,"2015-09-25",2016]
["2023-02-15","2023-02-16","2023-02-22",null,null,"2015-09-26",2016]
["2023-02-22","2023-02-23","2023-03-01",null,null,"2015-09-27",2016]
["2023-03-01","2023-03-02","2023-03-08",null,null,"2015-09-28",2016]
["2023-03-08","2023-03-09","2023-03-15",null,null,"2015-09-29",2016]
["2023-03-15","2023-03-16","2023-03-22",null,null,"2015-09-30",2016]
["2023-03-22","2023-03-23","2023-03-29",null,null,"2015-10-01",2016]
["2023-03-29","2023-03-30","2023-04-05",null,null,"2015-10-02",2016]
["2023-04-05","2023-04-06",{"$f":"B1921+6","v":"2023-04-12"},null,null,"2015-10-03",2016]
["2023-04-12",{"$f":"B1921+7","v":"2023-04-13"},"2023-04-19",null,null,"2015-10-04",2016]
[{"$f":"A1922+7","v":"2023-04-19"},"2023-04-20","2023-04-26",null,null,"2015-10-05",2016]
["2023-04-26","2023-04-27","2023-05-03",null,null,"2015-10-06",2016]
["2023-05-03","2023-05-04","2023-05-10",null,null,"2015-10-07",2016]
["2023-05-10","2023-05-11","2023-05-17",null,null,"2015-10-08",2016]
["2023-05-17","2023-05-18","2023-05-24",null,null,"2015-10-09",2016]
["2023-05-24","2023-05-25","2023-05-31",null,null,"2015-10-10",2016]
["2023-05-31","2023-06-01","2023-06-07",null,null,"2015-10-11",2016]
["2023-06-07","2023-06-08","2023-06-14",null,null,"2015-10-12",2016]
["2023-06-14","2023-06-15","2023-06-21",null,null,"2015-10-13",2016]
["2023-06-21","2023-06-22","2023-06-28",null,null,"2015-10-14",2016]
["2023-06-28","2023-06-29","2023-07-05",null,null,"2015-10-15",2016]
["2023-07-05","2023-07-06","2023-07-12",null,null,"2015-10-16",2016]
["2023-07-12","2023-07-13","2023-07-19",null,null,"2015-10-17",2016]
["2023-07-19","2023-07-20","2023-07-26",null,null,"2015-10-18",2016]
["2023-07-26","2023-07-27","2023-08-02",null,null,"2015-10-19",2016]
["2023-08-02","2023-08-03","2023-08-09",null,null,"2015-10-20",2016]
["2023-08-09","2023-08-10","2023-08-16",null,null,"2015-10-21",2016]
["2023-08-16","2023-08-17","2023-08-23",null,null,"2015-10-22",2016]
["2023-08-23","2023-08-24","2023-08-30",null,null,"2015-10-23",2016]
["2023-08-30","2023-08-31","2023-09-06",null,null,"2015-10-24",2016]
["2023-09-06","2023-09-07","2023-09-13",null,null,"2015-10-25",2016]
["2023-09-13","2023-09-14","2023-09-20",null,null,"2015-10-26",2016]
["2023-09-20","2023-09-21","2023-09-27",null,null,"2015-10-27",2016]
["2023-09-27","2023-09-28","2023-10-04",null,null,"2015-10-28",2016]
["2023-10-04","2023-10-05","2023-10-11",null,null,"2015-10-29",2016]
["2023-10-11","2023-10-12","2023-10-18",null,null,"2015-10-30",2016]
["2023-10-18","2023-10-19","2023-10-25",null,null,"2015-10-31",2016]
["2023-10-25","2023-10-26","2023-11-01",null,null,"2015-11-01",2016]
["2023-11-01","2023-11-02","2023-11-08",null,null,"2015-11-02",2016]
["2023-11-08","2023-11-09","2023-11-15",null,null,"2015-11-03",2016]
["2023-11-15","2023-11-16","2023-11-22",null,null,"2015-11-04",2016]
["2023-11-22","2023-11-23","2023-11-29",null,null,"2015-11-05",2016]
["2023-11-29","2023-11-30","2023-12-06",null,null,"2015-11-06",2016]
["2023-12-06","2023-12-07","2023-12-13",null,null,"2015-11-07",2016]
["2023-12-13","2023-12-14","2023-12-20",null,null,"2015-11-08",2016]
["2023-12-20","2023-12-21","2023-12-27",null,null,"2015-11-09",2016]
["2023-12-27","2023-12-28","2024-01-03",null,null,"2015-11-10",2016]
["2024-01-03","2024-01-04","2024-01-10",null,null,"2015-11-11",2016]
["2024-01-10","2024-01-11","2024-01-17",null,null,"2015-11-12",2016]
["2024-01-17","2024-01-18","2024-01-24",null,null,"2015-11-13",2016]
["2024-01-24","2024-01-25","2024-01-31",null,null,"2015-11-14",2016]
["2024-01-31","2024-02-01","2024-02-07",null,null,"2015-11-15",2016]
["2024-02-07","2024-02-08","2024-02-14",null,null,"2015-11-16",2016]
["2024-02-14","2024-02-15","2024-02-21",null,null,"2015-11-17",2016]
["2024-02-21","2024-02-22","2024-02-28",null,null,"2015-11-18",2016]
["2024-02-28","2024-02-29","2024-03-06",null,null,"2015-11-19",2016]
["2024-03-06","2024-03-07","2024-03-13",null,null,"2015-11-20",2016]
["2024-03-13","2024-03-14","2024-03-20",null,null,"2015-11-21",2016]
["2024-03-20","2024-03-21","2024-03-27",null,null,"2015-11-22",2016]
["2024-03-27","2024-03-28","2024-04-03",null,null,"2015-11-23",2016]
["2024-04-03","2024-04-04","2024-04-10",null,null,"2015-11-24",2016]
["2024-04-10","2024-04-11","2024-04-17",null,null,"2015-11-25",2016]
["2024-04-17","2024-04-18","2024-04-24",null,null,"2015-11-26",2016]
["2024-04-24","2024-04-25","2024-05-01",null,null,"2015-11-27",2016]
["2024-05-01","2024-05-02","2024-05-08",null,null,"2015-11-28",2016]
["2024-05-08","2024-05-09","2024-05-15",null,null,"2015-11-29",2016]
["2024-05-15","2024-05-16","2024-05-22",null,null,"2015-11-30",2016]
["2024-05-22","2024-05-23","2024-05-29",null,null,"2015-12-01",2016]
["2024-05-29","2024-05-30","2024-06-05",null,null,"2015-12-02",2016]
["2024-06-05","2024-06-06","2024-06-12",null,null,"2015-12-03",2016]
["2024-06-12","2024-06-13","2024-06-19",null,null,"2015-12-04",2016]
["2024-06-19","2024-06-20","2024-06-26",null,null,"2015-12-05",2016]
["2024-06-26","2024-06-27",{"$f":"B1985+6","v":"2024-07-03"},null,null,"2015-12-06",2016]
["2024-07-03",{"$f":"B1985+7","v":"2024-07-04"},"2024-07-10",null,null,"2015-12-07",2016]
[{"$f":"A1986+7","v":"2024-07-10"},"2024-07-11","2024-07-17",null,null,"2015-12-08",2016]
["2024-07-17","2024-07-18","2024-07-24",null,null,"2015-12-09",2016]
["2024-07-24","2024-07-25","2024-07-31",null,null,"2015-12-10",2016]
["2024-07-31","2024-08-01","2024-08-07",null,null,"2015-12-11",2016]
["2024-08-07","2024-08-08","2024-08-14",null,null,"2015-12-12",2016]
["2024-08-14","2024-08-15","2024-08-21",null,null,"2015-12-13",2016]
["2024-08-21","2024-08-22","2024-08-28",null,null,"2015-12-14",2016]
["2024-08-28","2024-08-29","2024-09-04",null,null,"2015-12-15",2016]
["2024-09-04","2024-09-05","2024-09-11",null,null,"2015-12-16",2016]
["2024-09-11","2024-09-12","2024-09-18",null,null,"2015-12-17",2016]
["2024-09-18","2024-09-19","2024-09-25",null,null,"2015-12-18",2016]
["2024-09-25","2024-09-26","2024-10-02",null,null,"2015-12-19",2016]
["2024-10-02","2024-10-03","2024-10-09",null,null,"2015-12-20",2016]
["2024-10-09","2024-10-10","2024-10-16",null,null,"2015-12-21",2016]
["2024-10-16","2024-10-17","2024-10-23",null,null,"2015-12-22",2016]
["2024-10-23","2024-10-24","2024-10-30",null,null,"2015-12-23",2016]
["2024-10-30","2024-10-31","2024-11-06",null,null,"2015-12-24",2016]
["2024-11-06","2024-11-07","2024-11-13",null,null,"2015-12-25",2016]
["2024-11-13","2024-11-14","2024-11-20",null,null,"2015-12-26",2016]
["2024-11-20","2024-11-21","2024-11-27",null,null,"2015-12-27",2016]
["2024-11-27","2024-11-28","2024-12-04",null,null,"2015-12-28",2016]
["2024-12-04","2024-12-05","2024-12-11",null,null,"2015-12-29",2016]
["2024-12-11","2024-12-12","2024-12-18",null,null,"2015-12-30",2016]
["2024-12-18","2024-12-19","2024-12-25",null,null,"2015-12-31",2016]
["2024-12-25","2024-12-26","2025-01-01",null,null,"2016-01-01",2016]
["2025-01-01","2025-01-02","2025-01-08",null,null,"2016-01-02",2016]
["2025-01-08","2025-01-09","2025-01-15",null,null,"2016-01-03",2016]
["2025-01-15","2025-01-16","2025-01-22",null,null,"2016-01-04",2016]
["2025-01-22","2025-01-23","2025-01-29",null,null,"2016-01-05",2016]
["2025-01-29","2025-01-30","2025-02-05",null,null,"2016-01-06",2016]
["2025-02-05","2025-02-06","2025-02-12",null,null,"2016-01-07",2016]
["2025-02-12","2025-02-13","2025-02-19",null,null,"2016-01-08",2016]
["2025-02-19","2025-02-20","2025-02-26",null,null,"2016-01-09",2016]
["2025-02-26","2025-02-27","2025-03-05",null,null,"2016-01-10",2016]
["2025-03-05","2025-03-06","2025-03-12",null,null,"2016-01-11",2016]
["2025-03-12","2025-03-13","2025-03-19",null,null,"2016-01-12",2016]
["2025-03-19","2025-03-20","2025-03-26",null,null,"2016-01-13",2016]
["2025-03-26","2025-03-27","2025-04-02",null,null,"2016-01-14",2016]
["2025-04-02","2025-04-03","2025-04-09",null,null,"2016-01-15",2016]
["2025-04-09","2025-04-10","2025-04-16",null,null,"2016-01-16",2016]
["2025-04-16","2025-04-17","2025-04-23",null,null,"2016-01-17",2016]
["2025-04-23","2025-04-24","2025-04-30",null,null,"2016-01-18",2016]
["2025-04-30","2025-05-01","2025-05-07",null,null,"2016-01-19",2016]
["2025-05-07","2025-05-08","2025-05-14",null,null,"2016-01-20",2016]
["2025-05-14","2025-05-15","2025-05-21",null,null,"2016-01-21",2016]
["2025-05-21","2025-05-22","2025-05-28",null,null,"2016-01-22",2016]
["2025-05-28","2025-05-29","2025-06-04",null,null,"2016-01-23",2016]
["2025-06-04","2025-06-05","2025-06-11",null,null,"2016-01-24",2016]
["2025-06-11","2025-06-12","2025-06-18",null,null,"2016-01-25",2016]
["2025-06-18","2025-06-19","2025-06-25",null,null,"2016-01-26",2016]
["2025-06-25","2025-06-26","2025-07-02",null,null,"2016-01-27",2016]
["2025-07-02","2025-07-03","2025-07-09",null,null,"2016-01-28",2016]
["2025-07-09","2025-07-10","2025-07-16",null,null,"2016-01-29",2016]
["2025-07-16","2025-07-17","2025-07-23",null,null,"2016-01-30",2016]
["2025-07-23","2025-07-24","2025-07-30",null,null,"2016-01-31",2016]
["2025-07-30","2025-07-31","2025-08-06",null,null,"2016-02-01",2016]
["2025-08-06","2025-08-07","2025-08-13",null,null,"2016-02-02",2016]
["2025-08-13","2025-08-14","2025-08-20",null,null,"2016-02-03",2016]
["2025-08-20","2025-08-21","2025-08-27",null,null,"2016-02-04",2016]
["2025-08-27","2025-08-28","2025-09-03",null,null,"2016-02-05",2016]
["2025-09-03","2025-09-04","2025-09-10",null,null,"2016-02-06",2016]
["2025-09-10","2025-09-11","2025-09-17",null,null,"2016-02-07",2016]
["2025-09-17","2025-09-18",{"$f":"B2049+6","v":"2025-09-24"},null,null,"2016-02-08",2016]
["2025-09-24","2025-09-25",{"$f":"B2050+6","v":"2025-10-01"},null,null,"2016-02-09",2016]
["2025-10-01",null,null,null,null,"2016-02-10",2016]
[null,null,null,null,null,"2016-02-11",2016]
[null,null,null,null,null,"2016-02-12",2016]
[null,null,null,null,null,"2016-02-13",2016]
[null,null,null,null,null,"2016-02-14",2016]
[null,null,null,null,null,"2016-02-15",2016]
[null,null,null,null,null,"2016-02-16",2016]
[null,null,null,null,null,"2016-02-17",2016]
[null,null,null,null,null,"2016-02-18",2016]
[null,null,null,null,null,"2016-02-19",2016]
[null,null,null,null,null,"2016-02-20",2016]
[null,null,null,null,null,"2016-02-21",2016]
[null,null,null,null,null,"2016-02-22",2016]
[null,null,null,null,null,"2016-02-23",2016]
[null,null,null,null,null,"2016-02-24",2016]
[null,null,null,null,null,"2016-02-25",2016]
[null,null,null,null,null,"2016-02-26",2016]
[null,null,null,null,null,"2016-02-27",2016]
[null,null,null,null,null,"2016-02-28",2016]
[null,null,null,null,null,"2016-02-29",2016]
[null,null,null,null,null,"2016-03-01",2016]
[null,null,null,null,null,"2016-03-02",2016]
[null,null,null,null,null,"2016-03-03",2016]
[null,null,null,null,null,"2016-03-04",2016]
[null,null,null,null,null,"2016-03-05",2016]
[null,null,null,null,null,"2016-03-06",2016]
[null,null,null,null,null,"2016-03-07",2016]
[null,null,null,null,null,"2016-03-08",2016]
[null,null,null,null,null,"2016-03-09",2016]
[null,null,null,null,null,"2016-03-10",2016]
[null,null,null,null,null,"2016-03-11",2016]
[null,null,null,null,null,"2016-03-12",2016]
[null,null,null,null,null,"2016-03-13",2016]
[null,null,null,null,null,"2016-03-14",2016]
[null,null,null,null,null,"2016-03-15",2016]
[null,null,null,null,null,"2016-03-16",2016]
[null,null,null,null,null,"2016-03-17",2016]
[null,null,null,null,null,"2016-03-18",2016]
[null,null,null,null,null,"2016-03-19",2016]
[null,null,null,null,null,"2016-03-20",2016]
[null,null,null,null,null,"2016-03-21",2016]
[null,null,null,null,null,"2016-03-22",2016]
[null,null,null,null,null,"2016-03-23",2016]
[null,null,null,null,null,"2016-03-24",2016]
[null,null,null,null,null,"2016-03-25",2016]
[null,null,null,null,null,"2016-03-26",2016]
[null,null,null,null,null,"2016-03-27",2016]
[null,null,null,null,null,"2016-03-28",2016]
[null,null,null,null,null,"2016-03-29",2016]
[null,null,null,null,null,"2016-03-30",2016]
[null,null,null,null,null,"2016-03-31",2016]
[null,null,null,null,null,"2016-04-01",2016]
[null,null,null,null,null,"2016-04-02",2016]
[null,null,null,null,null,"2016-04-03",2016]
[null,null,null,null,null,"2016-04-04",2016]
[null,null,null,null,null,"2016-04-05",2016]
[null,null,null,null,null,"2016-04-06",2016]
[null,null,null,null,null,"2016-04-07",2016]
[null,null,null,null,null,"2016-04-08",2016]
[null,null,null,null,null,"2016-04-09",2016]
[null,null,null,null,null,"2016-04-10",2016]
[null,null,null,null,null,"2016-04-11",2016]
[null,null,null,null,null,"2016-04-12",2016]
[null,null,null,null,null,"2016-04-13",2016]
[null,null,null,null,null,"2016-04-14",2016]
[null,null,null,null,null,"2016-04-15",2016]
[null,null,null,null,null,"2016-04-16",2016]
[null,null,null,null,null,"2016-04-17",2016]
[null,null,null,null,null,"2016-04-18",2016]
[null,null,null,null,null,"2016-04-19",2016]
[null,null,null,null,null,"2016-04-20",2016]
[null,null,null,null,null,"2016-04-21",2016]
[null,null,null,null,null,"2016-04-22",2016]
[null,null,null,null,null,"2016-04-23",2016]
[null,null,null,null,null,"2016-04-24",2016]
[null,null,null,null,null,"2016-04-25",2016]
[null,null,null,null,null,"2016-04-26",2016]
[null,null,null,null,null,"2016-04-27",2016]
[null,null,null,null,null,"2016-04-28",2016]
[null,null,null,null,null,"2016-04-29",2016]
[null,null,null,null,null,"2016-04-30",2016]
[null,null,null,null,null,"2016-05-01",2016]
[null,null,null,null,null,"2016-05-02",2016]
[null,null,null,null,null,"2016-05-03",2016]
[null,null,null,null,null,"2016-05-04",2016]
[null,null,null,null,null,"2016-05-05",2016]
[null,null,null,null,null,"2016-05-06",2016]
[null,null,null,null,null,"2016-05-07",2016]
[null,null,null,null,null,"2016-05-08",2016]
[null,null,null,null,null,"2016-05-09",2016]
[null,null,null,null,null,"2016-05-10",2016]
[null,null,null,null,null,"2016-05-11",2016]
[null,null,null,null,null,"2016-05-12",2016]
[null,null,null,null,null,"2016-05-13",2016]
[null,null,null,null,null,"2016-05-14",2016]
[null,null,null,null,null,"2016-05-15",2016]
[null,null,null,null,null,"2016-05-16",2016]
[null,null,null,null,null,"2016-05-17",2016]
[null,null,null,null,null,"2016-05-18",2016]
[null,null,null,null,null,"2016-05-19",2016]
[null,null,null,null,null,"2016-05-20",2016]
[null,null,null,null,null,"2016-05-21",2016]
[null,null,null,null,null,"2016-05-22",2016]
[null,null,null,null,null,"2016-05-23",2016]
[null,null,null,null,null,"2016-05-24",2016]
[null,null,null,null,null,"2016-05-25",2016]
[null,null,null,null,null,"2016-05-26",2016]
[null,null,null,null,null,"2016-05-27",2016]
[null,null,null,null,null,"2016-05-28",2016]
[null,null,null,null,null,"2016-05-29",2016]
[null,null,null,null,null,"2016-05-30",2016]
[null,null,null,null,null,"2016-05-31",2016]
[null,null,null,null,null,"2016-06-01",2016]
[null,null,null,null,null,"2016-06-02",2016]
[null,null,null,null,null,"2016-06-03",2016]
[null,null,null,null,null,"2016-06-04",2016]
[null,null,null,null,null,"2016-06-05",2016]
[null,null,null,null,null,"2016-06-06",2016]
[null,null,null,null,null,"2016-06-07",2016]
[null,null,null,null,null,"2016-06-08",2016]
[null,null,null,null,null,"2016-06-09",2016]
[null,null,null,null,null,"2016-06-10",2016]
[null,null,null,null,null,"2016-06-11",2016]
[null,null,null,null,null,"2016-06-12",2016]
[null,null,null,null,null,"2016-06-13",2016]
[null,null,null,null,null,"2016-06-14",2016]
[null,null,null,null,null,"2016-06-15",2016]
[null,null,null,null,null,"2016-06-16",2016]
[null,null,null,null,null,"2016-06-17",2016]
[null,null,null,null,null,"2016-06-18",2016]
[null,null,null,null,null,"2016-06-19",2016]
[null,null,null,null,null,"2016-06-20",2016]
[null,null,null,null,null,"2016-06-21",2016]
[null,null,null,null,null,"2016-06-22",2016]
[null,null,null,null,null,"2016-06-23",2016]
[null,null,null,null,null,"2016-06-24",2016]
[null,null,null,null,null,"2016-06-25",2016]
[null,null,null,null,null,"2016-06-26",2016]
[null,null,null,null,null,"2016-06-27",2016]
[null,null,null,null,null,"2016-06-28",2016]
[null,null,null,null,null,"2016-06-29",2016]
[null,null,null,null,null,"2016-06-30",2017]
[null,null,null,null,null,"2016-07-01",2017]
[null,null,null,null,null,"2016-07-02",2017]
[null,null,null,null,null,"2016-07-03",2017]
[null,null,null,null,null,"2016-07-04",2017]
[null,null,null,null,null,"2016-07-05",2017]
[null,null,null,null,null,"2016-07-06",2017]
[null,null,null,null,null,"2016-07-07",2017]
[null,null,null,null,null,"2016-07-08",2017]
[null,null,null,null,null,"2016-07-09",2017]
[null,null,null,null,null,"2016-07-10",2017]
[null,null,null,null,null,"2016-07-11",2017]
[null,null,null,null,null,"2016-07-12",2017]
[null,null,null,null,null,"2016-07-13",2017]
[null,null,null,null,null,"2016-07-14",2017]
[null,null,null,null,null,"2016-07-15",2017]
[null,null,null,null,null,"2016-07-16",2017]
[null,null,null,null,null,"2016-07-17",2017]
[null,null,null,null,null,"2016-07-18",2017]
[null,null,null,null,null,"2016-07-19",2017]
[null,null,null,null,null,"2016-07-20",2017]
[null,null,null,null,null,"2016-07-21",2017]
[null,null,null,null,null,"2016-07-22",2017]
[null,null,null,null,null,"2016-07-23",2017]
[null,null,null,null,null,"2016-07-24",2017]
[null,null,null,null,null,"2016-07-25",2017]
[null,null,null,null,null,"2016-07-26",2017]
[null,null,null,null,null,"2016-07-27",2017]
[null,null,null,null,null,"2016-07-28",2017]
[null,null,null,null,null,"2016-07-29",2017]
[null,null,null,null,null,"2016-07-30",2017]
[null,null,null,null,null,"2016-07-31",2017]
[null,null,null,null,null,"2016-08-01",2017]
[null,null,null,null,null,"2016-08-02",2017]
[null,null,null,null,null,"2016-08-03",2017]
[null,null,null,null,null,"2016-08-04",2017]
[null,null,null,null,null,"2016-08-05",2017]
[null,null,null,null,null,"2016-08-06",2017]
[null,null,null,null,null,"2016-08-07",2017]
[null,null,null,null,null,"2016-08-08",2017]
[null,null,null,null,null,"2016-08-09",2017]
[null,null,null,null,null,"2016-08-10",2017]
[null,null,null,null,null,"2016-08-11",2017]
[null,null,null,null,null,"2016-08-12",2017]
[null,null,null,null,null,"2016-08-13",2017]
[null,null,null,null,null,"2016-08-14",2017]
[null,null,null,null,null,"2016-08-15",2017]
[null,null,null,null,null,"2016-08-16",2017]
[null,null,null,null,null,"2016-08-17",2017]
[null,null,null,null,null,"2016-08-18",2017]
[null,null,null,null,null,"2016-08-19",2017]
[null,null,null,null,null,"2016-08-20",2017]
[null,null,null,null,null,"2016-08-21",2017]
[null,null,null,null,null,"2016-08-22",2017]
[null,null,null,null,null,"2016-08-23",2017]
[null,null,null,null,null,"2016-08-24",2017]
[null,null,null,null,null,"2016-08-25",2017]
[null,null,null,null,null,"2016-08-26",2017]
[null,null,null,null,null,"2016-08-27",2017]
[null,null,null,null,null,"2016-08-28",2017]
[null,null,null,null,null,"2016-08-29",2017]
[null,null,null,null,null,"2016-08-30",2017]
[null,null,null,null,null,"2016-08-31",2017]
[null,null,null,null,null,"2016-09-01",2017]
[null,null,null,null,null,"2016-09-02",2017]
[null,null,null,null,null,"2016-09-03",2017]
[null,null,null,null,null,"2016-09-04",2017]
[null,null,null,null,null,"2016-09-05",2017]
[null,null,null,null,null,"2016-09-06",2017]
[null,null,null,null,null,"2016-09-07",2017]
[null,null,null,null,null,"2016-09-08",2017]
[null,null,null,null,null,"2016-09-09",2017]
[null,null,null,null,null,"2016-09-10",2017]
[null,null,null,null,null,"2016-09-11",2017]
[null,null,null,null,null,"2016-09-12",2017]
[null,null,null,null,null,"2016-09-13",2017]
[null,null,null,null,null,"2016-09-14",2017]
[null,null,null,null,null,"2016-09-15",2017]
[null,null,null,null,null,"2016-09-16",2017]
[null,null,null,null,null,"2016-09-17",2017]
[null,null,null,null,null,"2016-09-18",2017]
[null,null,null,null,null,"2016-09-19",2017]
[null,null,null,null,null,"2016-09-20",2017]
[null,null,null,null,null,"2016-09-21",2017]
[null,null,null,null,null,"2016-09-22",2017]
[null,null,null,null,null,"2016-09-23",2017]
[null,null,null,null,null,"2016-09-24",2017]
[null,null,null,null,null,"2016-09-25",2017]
[null,null,null,null,null,"2016-09-26",2017]
[null,null,null,null,null,"2016-09-27",2017]
[null,null,null,null,null,"2016-09-28",2017]
[null,null,null,null,null,"2016-09-29",2017]
[null,null,null,null,null,"2016-09-30",2017]
[null,null,null,null,null,"2016-10-01",2017]
[null,null,null,null,null,"2016-10-02",2017]
[null,null,null,null,null,"2016-10-03",2017]
[null,null,null,null,null,"2016-10-04",2017]
[null,null,null,null,null,"2016-10-05",2017]
[null,null,null,null,null,"2016-10-06",2017]
[null,null,null,null,null,"2016-10-07",2017]
[null,null,null,null,null,"2016-10-08",2017]
[null,null,null,null,null,"2016-10-09",2017]
[null,null,null,null,null,"2016-10-10",2017]
[null,null,null,null,null,"2016-10-11",2017]
[null,null,null,null,null,"2016-10-12",2017]
[null,null,null,null,null,"2016-10-13",2017]
[null,null,null,null,null,"2016-10-14",2017]
[null,null,null,null,null,"2016-10-15",2017]
[null,null,null,null,null,"2016-10-16",2017]
[null,null,null,null,null,"2016-10-17",2017]
[null,null,null,null,null,"2016-10-18",2017]
[null,null,null,null,null,"2016-10-19",2017]
[null,null,null,null,null,"2016-10-20",2017]
[null,null,null,null,null,"2016-10-21",2017]
[null,null,null,null,null,"2016-10-22",2017]
[null,null,null,null,null,"2016-10-23",2017]
[null,null,null,null,null,"2016-10-24",2017]
[null,null,null,null,null,"2016-10-25",2017]
[null,null,null,null,null,"2016-10-26",2017]
[null,null,null,null,null,"2016-10-27",2017]
[null,null,null,null,null,"2016-10-28",2017]
[null,null,null,null,null,"2016-10-29",2017]
[null,null,null,null,null,"2016-10-30",2017]
[null,null,null,null,null,"2016-10-31",2017]
[null,null,null,null,null,"2016-11-01",2017]
[null,null,null,null,null,"2016-11-02",2017]
[null,null,null,null,null,"2016-11-03",2017]
[null,null,null,null,null,"2016-11-04",2017]
[null,null,null,null,null,"2016-11-05",2017]
[null,null,null,null,null,"2016-11-06",2017]
[null,null,null,null,null,"2016-11-07",2017]
[null,null,null,null,null,"2016-11-08",2017]
[null,null,null,null,null,"2016-11-09",2017]
[null,null,null,null,null,"2016-11-10",2017]
[null,null,null,null,null,"2016-11-11",2017]
[null,null,null,null,null,"2016-11-12",2017]
[null,null,null,null,null,"2016-11-13",2017]
[null,null,null,null,null,"2016-11-14",2017]
[null,null,null,null,null,"2016-11-15",2017]
[null,null,null,null,null,"2016-11-16",2017]
[null,null,null,null,null,"2016-11-17",2017]
[null,null,null,null,null,"2016-11-18",2017]
[null,null,null,null,null,"2016-11-19",2017]
[null,null,null,null,null,"2016-11-20",2017]
[null,null,null,null,null,"2016-11-21",2017]
[null,null,null,null,null,"2016-11-22",2017]
[null,null,null,null,null,"2016-11-23",2017]
[null,null,null,null,null,"2016-11-24",2017]
[null,null,null,null,null,"2016-11-25",2017]
[null,null,null,null,null,"2016-11-26",2017]
[null,null,null,null,null,"2016-11-27",2017]
[null,null,null,null,null,"2016-11-28",2017]
[null,null,null,null,null,"2016-11-29",2017]
[null,null,null,null,null,"2016-11-30",2017]
[null,null,null,null,null,"2016-12-01",2017]
[null,null,null,null,null,"2016-12-02",2017]
[null,null,null,null,null,"2016-12-03",2017]
[null,null,null,null,null,"2016-12-04",2017]
[null,null,null,null,null,"2016-12-05",2017]
[null,null,null,null,null,"2016-12-06",2017]
[null,null,null,null,null,"2016-12-07",2017]
[null,null,null,null,null,"2016-12-08",2017]
[null,null,null,null,null,"2016-12-09",2017]
[null,null,null,null,null,"2016-12-10",2017]
[null,null,null,null,null,"2016-12-11",2017]
[null,null,null,null,null,"2016-12-12",2017]
[null,null,null,null,null,"2016-12-13",2017]
[null,null,null,null,null,"2016-12-14",2017]
[null,null,null,null,null,"2016-12-15",2017]
[null,null,null,null,null,"2016-12-16",2017]
[null,null,null,null,null,"2016-12-17",2017]
[null,null,null,null,null,"2016-12-18",2017]
[null,null,null,null,null,"2016-12-19",2017]
[null,null,null,null,null,"2016-12-20",2017]
[null,null,null,null,null,"2016-12-21",2017]
[null,null,null,null,null,"2016-12-22",2017]
[null,null,null,null,null,"2016-12-23",2017]
[null,null,null,null,null,"2016-12-24",2017]
[null,null,null,null,null,"2016-12-25",2017]
[null,null,null,null,null,"2016-12-26",2017]
[null,null,null,null,null,"2016-12-27",2017]
[null,null,null,null,null,"2016-12-28",2017]
[null,null,null,null,null,"2016-12-29",2017]
[null,null,null,null,null,"2016-12-30",2017]
[null,null,null,null,null,"2016-12-31",2017]
[null,null,null,null,null,"2017-01-01",2017]
[null,null,null,null,null,"2017-01-02",2017]
[null,null,null,null,null,"2017-01-03",2017]
[null,null,null,null,null,"2017-01-04",2017]
[null,null,null,null,null,"2017-01-05",2017]
[null,null,null,null,null,"2017-01-06",2017]
[null,null,null,null,null,"2017-01-07",2017]
[null,null,null,null,null,"2017-01-08",2017]
[null,null,null,null,null,"2017-01-09",2017]
[null,null,null,null,null,"2017-01-10",2017]
[null,null,null,null,null,"2017-01-11",2017]
[null,null,null,null,null,"2017-01-12",2017]
[null,null,null,null,null,"2017-01-13",2017]
[null,null,null,null,null,"2017-01-14",2017]
[null,null,null,null,null,"2017-01-15",2017]
[null,null,null,null,null,"2017-01-16",2017]
[null,null,null,null,null,"2017-01-17",2017]
[null,null,null,null,null,"2017-01-18",2017]
[null,null,null,null,null,"2017-01-19",2017]
[null,null,null,null,null,"2017-01-20",2017]
[null,null,null,null,null,"2017-01-21",2017]
[null,null,null,null,null,"2017-01-22",2017]
[null,null,null,null,null,"2017-01-23",2017]
[null,null,null,null,null,"2017-01-24",2017]
[null,null,null,null,null,"2017-01-25",2017]
[null,null,null,null,null,"2017-01-26",2017]
[null,null,null,null,null,"2017-01-27",2017]
[null,null,null,null,null,"2017-01-28",2017]
[null,null,null,null,null,"2017-01-29",2017]
[null,null,null,null,null,"2017-01-30",2017]
[null,null,null,null,null,"2017-01-31",2017]
[null,null,null,null,null,"2017-02-01",2017]
[null,null,null,null,null,"2017-02-02",2017]
[null,null,null,null,null,"2017-02-03",2017]
[null,null,null,null,null,"2017-02-04",2017]
[null,null,null,null,null,"2017-02-05",2017]
[null,null,null,null,null,"2017-02-06",2017]
[null,null,null,null,null,"2017-02-07",2017]
[null,null,null,null,null,"2017-02-08",2017]
[null,null,null,null,null,"2017-02-09",2017]
[null,null,null,null,null,"2017-02-10",2017]
[null,null,null,null,null,"2017-02-11",2017]
[null,null,null,null,null,"2017-02-12",2017]
[null,null,null,null,null,"2017-02-13",2017]
[null,null,null,null,null,"2017-02-14",2017]
[null,null,null,null,null,"2017-02-15",2017]
[null,null,null,null,null,"2017-02-16",2017]
[null,null,null,null,null,"2017-02-17",2017]
[null,null,null,null,null,"2017-02-18",2017]
[null,null,null,null,null,"2017-02-19",2017]
[null,null,null,null,null,"2017-02-20",2017]
[null,null,null,null,null,"2017-02-21",2017]
[null,null,null,null,null,"2017-02-22",2017]
[null,null,null,null,null,"2017-02-23",2017]
[null,null,null,null,null,"2017-02-24",2017]
[null,null,null,null,null,"2017-02-25",2017]
[null,null,null,null,null,"2017-02-26",2017]
[null,null,null,null,null,"2017-02-27",2017]
[null,null,null,null,null,"2017-02-28",2017]
[null,null,null,null,null,"2017-03-01",2017]
[null,null,null,null,null,"2017-03-02",2017]
[null,null,null,null,null,"2017-03-03",2017]
[null,null,null,null,null,"2017-03-04",2017]
[null,null,null,null,null,"2017-03-05",2017]
[null,null,null,null,null,"2017-03-06",2017]
[null,null,null,null,null,"2017-03-07",2017]
[null,null,null,null,null,"2017-03-08",2017]
[null,null,null,null,null,"2017-03-09",2017]
[null,null,null,null,null,"2017-03-10",2017]
[null,null,null,null,null,"2017-03-11",2017]
[null,null,null,null,null,"2017-03-12",2017]
[null,null,null,null,null,"2017-03-13",2017]
[null,null,null,null,null,"2017-03-14",2017]
[null,null,null,null,null,"2017-03-15",2017]
[null,null,null,null,null,"2017-03-16",2017]
[null,null,null,null,null,"2017-03-17",2017]
[null,null,null,null,null,"2017-03-18",2017]
[null,null,null,null,null,"2017-03-19",2017]
[null,null,null,null,null,"2017-03-20",2017]
[null,null,null,null,null,"2017-03-21",2017]
[null,null,null,null,null,"2017-03-22",2017]
[null,null,null,null,null,"2017-03-23",2017]
[null,null,null,null,null,"2017-03-24",2017]
[null,null,null,null,null,"2017-03-25",2017]
[null,null,null,null,null,"2017-03-26",2017]
[null,null,null,null,null,"2017-03-27",2017]
[null,null,null,null,null,"2017-03-28",2017]
[null,null,null,null,null,"2017-03-29",2017]
[null,null,null,null,null,"2017-03-30",2017]
[null,null,null,null,null,"2017-03-31",2017]
[null,null,null,null,null,"2017-04-01",2017]
[null,null,null,null,null,"2017-04-02",2017]
[null,null,null,null,null,"2017-04-03",2017]
[null,null,null,null,null,"2017-04-04",2017]
[null,null,null,null,null,"2017-04-05",2017]
[null,null,null,null,null,"2017-04-06",2017]
[null,null,null,null,null,"2017-04-07",2017]
[null,null,null,null,null,"2017-04-08",2017]
[null,null,null,null,null,"2017-04-09",2017]
[null,null,null,null,null,"2017-04-10",2017]
[null,null,null,null,null,"2017-04-11",2017]
[null,null,null,null,null,"2017-04-12",2017]
[null,null,null,null,null,"2017-04-13",2017]
[null,null,null,null,null,"2017-04-14",2017]
[null,null,null,null,null,"2017-04-15",2017]
[null,null,null,null,null,"2017-04-16",2017]
[null,null,null,null,null,"2017-04-17",2017]
[null,null,null,null,null,"2017-04-18",2017]
[null,null,null,null,null,"2017-04-19",2017]
[null,null,null,null,null,"2017-04-20",2017]
[null,null,null,null,null,"2017-04-21",2017]
[null,null,null,null,null,"2017-04-22",2017]
[null,null,null,null,null,"2017-04-23",2017]
[null,null,null,null,null,"2017-04-24",2017]
[null,null,null,null,null,"2017-04-25",2017]
[null,null,null,null,null,"2017-04-26",2017]
[null,null,null,null,null,"2017-04-27",2017]
[null,null,null,null,null,"2017-04-28",2017]
[null,null,null,null,null,"2017-04-29",2017]
[null,null,null,null,null,"2017-04-30",2017]
[null,null,null,null,null,"2017-05-01",2017]
[null,null,null,null,null,"2017-05-02",2017]
[null,null,null,null,null,"2017-05-03",2017]
[null,null,null,null,null,"2017-05-04",2017]
[null,null,null,null,null,"2017-05-05",2017]
[null,null,null,null,null,"2017-05-06",2017]
[null,null,null,null,null,"2017-05-07",2017]
[null,null,null,null,null,"2017-05-08",2017]
[null,null,null,null,null,"2017-05-09",2017]
[null,null,null,null,null,"2017-05-10",2017]
[null,null,null,null,null,"2017-05-11",2017]
[null,null,null,null,null,"2017-05-12",2017]
[null,null,null,null,null,"2017-05-13",2017]
[null,null,null,null,null,"2017-05-14",2017]
[null,null,null,null,null,"2017-05-15",2017]
[null,null,null,null,null,"2017-05-16",2017]
[null,null,null,null,null,"2017-05-17",2017]
[null,null,null,null,null,"2017-05-18",2017]
[null,null,null,null,null,"2017-05-19",2017]
[null,null,null,null,null,"2017-05-20",2017]
[null,null,null,null,null,"2017-05-21",2017]
[null,null,null,null,null,"2017-05-22",2017]
[null,null,null,null,null,"2017-05-23",2017]
[null,null,null,null,null,"2017-05-24",2017]
[null,null,null,null,null,"2017-05-25",2017]
[null,null,null,null,null,"2017-05-26",2017]
[null,null,null,null,null,"2017-05-27",2017]
[null,null,null,null,null,"2017-05-28",2017]
[null,null,null,null,null,"2017-05-29",2017]
[null,null,null,null,null,"2017-05-30",2017]
[null,null,null,null,null,"2017-05-31",2017]
[null,null,null,null,null,"2017-06-01",2017]
[null,null,null,null,null,"2017-06-02",2017]
[null,null,null,null,null,"2017-06-03",2017]
[null,null,null,null,null,"2017-06-04",2017]
[null,null,null,null,null,"2017-06-05",2017]
[null,null,null,null,null,"2017-06-06",2017]
[null,null,null,null,null,"2017-06-07",2017]
[null,null,null,null,null,"2017-06-08",2017]
[null,null,null,null,null,"2017-06-09",2017]
[null,null,null,null,null,"2017-06-10",2017]
[null,null,null,null,null,"2017-06-11",2017]
[null,null,null,null,null,"2017-06-12",2017]
[null,null,null,null,null,"2017-06-13",2017]
[null,null,null,null,null,"2017-06-14",2017]
[null,null,null,null,null,"2017-06-15",2017]
[null,null,null,null,null,"2017-06-16",2017]
[null,null,null,null,null,"2017-06-17",2017]
[null,null,null,null,null,"2017-06-18",2017]
[null,null,null,null,null,"2017-06-19",2017]
[null,null,null,null,null,"2017-06-20",2017]
[null,null,null,null,null,"2017-06-21",2017]
[null,null,null,null,null,"2017-06-22",2017]
[null,null,null,null,null,"2017-06-23",2017]
[null,null,null,null,null,"2017-06-24",2017]
[null,null,null,null,null,"2017-06-25",2017]
[null,null,null,null,null,"2017-06-26",2017]
[null,null,null,null,null,"2017-06-27",2017]
[null,null,null,null,null,"2017-06-28",2017]
[null,null,null,null,null,"2017-06-29",2018]
[null,null,null,null,null,"2017-06-30",2018]
[null,null,null,null,null,"2017-07-01",2018]
[null,null,null,null,null,"2017-07-02",2018]
[null,null,null,null,null,"2017-07-03",2018]
[null,null,null,null,null,"2017-07-04",2018]
[null,null,null,null,null,"2017-07-05",2018]
[null,null,null,null,null,"2017-07-06",2018]
[null,null,null,null,null,"2017-07-07",2018]
[null,null,null,null,null,"2017-07-08",2018]
[null,null,null,null,null,"2017-07-09",2018]
[null,null,null,null,null,"2017-07-10",2018]
[null,null,null,null,null,"2017-07-11",2018]
[null,null,null,null,null,"2017-07-12",2018]
[null,null,null,null,null,"2017-07-13",2018]
[null,null,null,null,null,"2017-07-14",2018]
[null,null,null,null,null,"2017-07-15",2018]
[null,null,null,null,null,"2017-07-16",2018]
[null,null,null,null,null,"2017-07-17",2018]
[null,null,null,null,null,"2017-07-18",2018]
[null,null,null,null,null,"2017-07-19",2018]
[null,null,null,null,null,"2017-07-20",2018]
[null,null,null,null,null,"2017-07-21",2018]
[null,null,null,null,null,"2017-07-22",2018]
[null,null,null,null,null,"2017-07-23",2018]
[null,null,null,null,null,"2017-07-24",2018]
[null,null,null,null,null,"2017-07-25",2018]
[null,null,null,null,null,"2017-07-26",2018]
[null,null,null,null,null,"2017-07-27",2018]
[null,null,null,null,null,"2017-07-28",2018]
[null,null,null,null,null,"2017-07-29",2018]
[null,null,null,null,null,"2017-07-30",2018]
[null,null,null,null,null,"2017-07-31",2018]
[null,null,null,null,null,"2017-08-01",2018]
[null,null,null,null,null,"2017-08-02",2018]
[null,null,null,null,null,"2017-08-03",2018]
[null,null,null,null,null,"2017-08-04",2018]
[null,null,null,null,null,"2017-08-05",2018]
[null,null,null,null,null,"2017-08-06",2018]
[null,null,null,null,null,"2017-08-07",2018]
[null,null,null,null,null,"2017-08-08",2018]
[null,null,null,null,null,"2017-08-09",2018]
[null,null,null,null,null,"2017-08-10",2018]
[null,null,null,null,null,"2017-08-11",2018]
[null,null,null,null,null,"2017-08-12",2018]
[null,null,null,null,null,"2017-08-13",2018]
[null,null,null,null,null,"2017-08-14",2018]
[null,null,null,null,null,"2017-08-15",2018]
[null,null,null,null,null,"2017-08-16",2018]
[null,null,null,null,null,"2017-08-17",2018]
[null,null,null,null,null,"2017-08-18",2018]
[null,null,null,null,null,"2017-08-19",2018]
[null,null,null,null,null,"2017-08-20",2018]
[null,null,null,null,null,"2017-08-21",2018]
[null,null,null,null,null,"2017-08-22",2018]
[null,null,null,null,null,"2017-08-23",2018]
[null,null,null,null,null,"2017-08-24",2018]
[null,null,null,null,null,"2017-08-25",2018]
[null,null,null,null,null,"2017-08-26",2018]
[null,null,null,null,null,"2017-08-27",2018]
[null,null,null,null,null,"2017-08-28",2018]
[null,null,null,null,null,"2017-08-29",2018]
[null,null,null,null,null,"2017-08-30",2018]
[null,null,null,null,null,"2017-08-31",2018]
[null,null,null,null,null,"2017-09-01",2018]
[null,null,null,null,null,"2017-09-02",2018]
[null,null,null,null,null,"2017-09-03",2018]
[null,null,null,null,null,"2017-09-04",2018]
[null,null,null,null,null,"2017-09-05",2018]
[null,null,null,null,null,"2017-09-06",2018]
[null,null,null,null,null,"2017-09-07",2018]
[null,null,null,null,null,"2017-09-08",2018]
[null,null,null,null,null,"2017-09-09",2018]
[null,null,null,null,null,"2017-09-10",2018]
[null,null,null,null,null,"2017-09-11",2018]
[null,null,null,null,null,"2017-09-12",2018]
[null,null,null,null,null,"2017-09-13",2018]
[null,null,null,null,null,"2017-09-14",2018]
[null,null,null,null,null,"2017-09-15",2018]
[null,null,null,null,null,"2017-09-16",2018]
[null,null,null,null,null,"2017-09-17",2018]
[null,null,null,null,null,"2017-09-18",2018]
[null,null,null,null,null,"2017-09-19",2018]
[null,null,null,null,null,"2017-09-20",2018]
[null,null,null,null,null,"2017-09-21",2018]
[null,null,null,null,null,"2017-09-22",2018]
[null,null,null,null,null,"2017-09-23",2018]
[null,null,null,null,null,"2017-09-24",2018]
[null,null,null,null,null,"2017-09-25",2018]
[null,null,null,null,null,"2017-09-26",2018]
[null,null,null,null,null,"2017-09-27",2018]
[null,null,null,null,null,"2017-09-28",2018]
[null,null,null,null,null,"2017-09-29",2018]
[null,null,null,null,null,"2017-09-30",2018]
[null,null,null,null,null,"2017-10-01",2018]
[null,null,null,null,null,"2017-10-02",2018]
[null,null,null,null,null,"2017-10-03",2018]
[null,null,null,null,null,"2017-10-04",2018]
[null,null,null,null,null,"2017-10-05",2018]
[null,null,null,null,null,"2017-10-06",2018]
[null,null,null,null,null,"2017-10-07",2018]
[null,null,null,null,null,"2017-10-08",2018]
[null,null,null,null,null,"2017-10-09",2018]
[null,null,null,null,null,"2017-10-10",2018]
[null,null,null,null,null,"2017-10-11",2018]
[null,null,null,null,null,"2017-10-12",2018]
[null,null,null,null,null,"2017-10-13",2018]
[null,null,null,null,null,"2017-10-14",2018]
[null,null,null,null,null,"2017-10-15",2018]
[null,null,null,null,null,"2017-10-16",2018]
[null,null,null,null,null,"2017-10-17",2018]
[null,null,null,null,null,"2017-10-18",2018]
[null,null,null,null,null,"2017-10-19",2018]
[null,null,null,null,null,"2017-10-20",2018]
[null,null,null,null,null,"2017-10-21",2018]
[null,null,null,null,null,"2017-10-22",2018]
[null,null,null,null,null,"2017-10-23",2018]
[null,null,null,null,null,"2017-10-24",2018]
[null,null,null,null,null,"2017-10-25",2018]
[null,null,null,null,null,"2017-10-26",2018]
[null,null,null,null,null,"2017-10-27",2018]
[null,null,null,null,null,"2017-10-28",2018]
[null,null,null,null,null,"2017-10-29",2018]
[null,null,null,null,null,"2017-10-30",2018]
[null,null,null,null,null,"2017-10-31",2018]
[null,null,null,null,null,"2017-11-01",2018]
[null,null,null,null,null,"2017-11-02",2018]
[null,null,null,null,null,"2017-11-03",2018]
[null,null,null,null,null,"2017-11-04",2018]
[null,null,null,null,null,"2017-11-05",2018]
[null,null,null,null,null,"2017-11-06",2018]
[null,null,null,null,null,"2017-11-07",2018]
[null,null,null,null,null,"2017-11-08",2018]
[null,null,null,null,null,"2017-11-09",2018]
[null,null,null,null,null,"2017-11-10",2018]
[null,null,null,null,null,"2017-11-11",2018]
[null,null,null,null,null,"2017-11-12",2018]
[null,null,null,null,null,"2017-11-13",2018]
[null,null,null,null,null,"2017-11-14",2018]
[null,null,null,null,null,"2017-11-15",2018]
[null,null,null,null,null,"2017-11-16",2018]
[null,null,null,null,null,"2017-11-17",2018]
[null,null,null,null,null,"2017-11-18",2018]
[null,null,null,null,null,"2017-11-19",2018]
[null,null,null,null,null,"2017-11-20",2018]
[null,null,null,null,null,"2017-11-21",2018]
[null,null,null,null,null,"2017-11-22",2018]
[null,null,null,null,null,"2017-11-23",2018]
[null,null,null,null,null,"2017-11-24",2018]
[null,null,null,null,null,"2017-11-25",2018]
[null,null,null,null,null,"2017-11-26",2018]
[null,null,null,null,null,"2017-11-27",2018]
[null,null,null,null,null,"2017-11-28",2018]
[null,null,null,null,null,"2017-11-29",2018]
[null,null,null,null,null,"2017-11-30",2018]
[null,null,null,null,null,"2017-12-01",2018]
[null,null,null,null,null,"2017-12-02",2018]
[null,null,null,null,null,"2017-12-03",2018]
[null,null,null,null,null,"2017-12-04",2018]
[null,null,null,null,null,"2017-12-05",2018]
[null,null,null,null,null,"2017-12-06",2018]
[null,null,null,null,null,"2017-12-07",2018]
[null,null,null,null,null,"2017-12-08",2018]
[null,null,null,null,null,"2017-12-09",2018]
[null,null,null,null,null,"2017-12-10",2018]
[null,null,null,null,null,"2017-12-11",2018]
[null,null,null,null,null,"2017-12-12",2018]
[null,null,null,null,null,"2017-12-13",2018]
[null,null,null,null,null,"2017-12-14",2018]
[null,null,null,null,null,"2017-12-15",2018]
[null,null,null,null,null,"2017-12-16",2018]
[null,null,null,null,null,"2017-12-17",2018]
[null,null,null,null,null,"2017-12-18",2018]
[null,null,null,null,null,"2017-12-19",2018]
[null,null,null,null,null,"2017-12-20",2018]
[null,null,null,null,null,"2017-12-21",2018]
[null,null,null,null,null,"2017-12-22",2018]
[null,null,null,null,null,"2017-12-23",2018]
[null,null,null,null,null,"2017-12-24",2018]
[null,null,null,null,null,"2017-12-25",2018]
[null,null,null,null,null,"2017-12-26",2018]
[null,null,null,null,null,"2017-12-27",2018]
[null,null,null,null,null,"2017-12-28",2018]
[null,null,null,null,null,"2017-12-29",2018]
[null,null,null,null,null,"2017-12-30",2018]
[null,null,null,null,null,"2017-12-31",2018]
[null,null,null,null,null,"2018-01-01",2018]
[null,null,null,null,null,"2018-01-02",2018]
[null,null,null,null,null,"2018-01-03",2018]
[null,null,null,null,null,"2018-01-04",2018]
[null,null,null,null,null,"2018-01-05",2018]
[null,null,null,null,null,"2018-01-06",2018]
[null,null,null,null,null,"2018-01-07",2018]
[null,null,null,null,null,"2018-01-08",2018]
[null,null,null,null,null,"2018-01-09",2018]
[null,null,null,null,null,"2018-01-10",2018]
[null,null,null,null,null,"2018-01-11",2018]
[null,null,null,null,null,"2018-01-12",2018]
[null,null,null,null,null,"2018-01-13",2018]
[null,null,null,null,null,"2018-01-14",2018]
[null,null,null,null,null,"2018-01-15",2018]
[null,null,null,null,null,"2018-01-16",2018]
[null,null,null,null,null,"2018-01-17",2018]
[null,null,null,null,null,"2018-01-18",2018]
[null,null,null,null,null,"2018-01-19",2018]
[null,null,null,null,null,"2018-01-20",2018]
[null,null,null,null,null,"2018-01-21",2018]
[null,null,null,null,null,"2018-01-22",2018]
[null,null,null,null,null,"2018-01-23",2018]
[null,null,null,null,null,"2018-01-24",2018]
[null,null,null,null,null,"2018-01-25",2018]
[null,null,null,null,null,"2018-01-26",2018]
[null,null,null,null,null,"2018-01-27",2018]
[null,null,null,null,null,"2018-01-28",2018]
[null,null,null,null,null,"2018-01-29",2018]
[null,null,null,null,null,"2018-01-30",2018]
[null,null,null,null,null,"2018-01-31",2018]
[null,null,null,null,null,"2018-02-01",2018]
[null,null,null,null,null,"2018-02-02",2018]
[null,null,null,null,null,"2018-02-03",2018]
[null,null,null,null,null,"2018-02-04",2018]
[null,null,null,null,null,"2018-02-05",2018]
[null,null,null,null,null,"2018-02-06",2018]
[null,null,null,null,null,"2018-02-07",2018]
[null,null,null,null,null,"2018-02-08",2018]
[null,null,null,null,null,"2018-02-09",2018]
[null,null,null,null,null,"2018-02-10",2018]
[null,null,null,null,null,"2018-02-11",2018]
[null,null,null,null,null,"2018-02-12",2018]
[null,null,null,null,null,"2018-02-13",2018]
[null,null,null,null,null,"2018-02-14",2018]
[null,null,null,null,null,"2018-02-15",2018]
[null,null,null,null,null,"2018-02-16",2018]
[null,null,null,null,null,"2018-02-17",2018]
[null,null,null,null,null,"2018-02-18",2018]
[null,null,null,null,null,"2018-02-19",2018]
[null,null,null,null,null,"2018-02-20",2018]
[null,null,null,null,null,"2018-02-21",2018]
[null,null,null,null,null,"2018-02-22",2018]
[null,null,null,null,null,"2018-02-23",2018]
[null,null,null,null,null,"2018-02-24",2018]
[null,null,null,null,null,"2018-02-25",2018]
[null,null,null,null,null,"2018-02-26",2018]
[null,null,null,null,null,"2018-02-27",2018]
[null,null,null,null,null,"2018-02-28",2018]
[null,null,null,null,null,"2018-03-01",2018]
[null,null,null,null,null,"2018-03-02",2018]
[null,null,null,null,null,"2018-03-03",2018]
[null,null,null,null,null,"2018-03-04",2018]
[null,null,null,null,null,"2018-03-05",2018]
[null,null,null,null,null,"2018-03-06",2018]
[null,null,null,null,null,"2018-03-07",2018]
[null,null,null,null,null,"2018-03-08",2018]
[null,null,null,null,null,"2018-03-09",2018]
[null,null,null,null,null,"2018-03-10",2018]
[null,null,null,null,null,"2018-03-11",2018]
[null,null,null,null,null,"2018-03-12",2018]
[null,null,null,null,null,"2018-03-13",2018]
[null,null,null,null,null,"2018-03-14",2018]
[null,null,null,null,null,"2018-03-15",2018]
[null,null,null,null,null,"2018-03-16",2018]
[null,null,null,null,null,"2018-03-17",2018]
[null,null,null,null,null,"2018-03-18",2018]
[null,null,null,null,null,"2018-03-19",2018]
[null,null,null,null,null,"2018-03-20",2018]
[null,null,null,null,null,"2018-03-21",2018]
[null,null,null,null,null,"2018-03-22",2018]
[null,null,null,null,null,"2018-03-23",2018]
[null,null,null,null,null,"2018-03-24",2018]
[null,null,null,null,null,"2018-03-25",2018]
[null,null,null,null,null,"2018-03-26",2018]
[null,null,null,null,null,"2018-03-27",2018]
[null,null,null,null,null,"2018-03-28",2018]
[null,null,null,null,null,"2018-03-29",2018]
[null,null,null,null,null,"2018-03-30",2018]
[null,null,null,null,null,"2018-03-31",2018]
[null,null,null,null,null,"2018-04-01",2018]
[null,null,null,null,null,"2018-04-02",2018]
[null,null,null,null,null,"2018-04-03",2018]
[null,null,null,null,null,"2018-04-04",2018]
[null,null,null,null,null,"2018-04-05",2018]
[null,null,null,null,null,"2018-04-06",2018]
[null,null,null,null,null,"2018-04-07",2018]
[null,null,null,null,null,"2018-04-08",2018]
[null,null,null,null,null,"2018-04-09",2018]
[null,null,null,null,null,"2018-04-10",2018]
[null,null,null,null,null,"2018-04-11",2018]
[null,null,null,null,null,"2018-04-12",2018]
[null,null,null,null,null,"2018-04-13",2018]
[null,null,null,null,null,"2018-04-14",2018]
[null,null,null,null,null,"2018-04-15",2018]
[null,null,null,null,null,"2018-04-16",2018]
[null,null,null,null,null,"2018-04-17",2018]
[null,null,null,null,null,"2018-04-18",2018]
[null,null,null,null,null,"2018-04-19",2018]
[null,null,null,null,null,"2018-04-20",2018]
[null,null,null,null,null,"2018-04-21",2018]
[null,null,null,null,null,"2018-04-22",2018]
[null,null,null,null,null,"2018-04-23",2018]
[null,null,null,null,null,"2018-04-24",2018]
[null,null,null,null,null,"2018-04-25",2018]
[null,null,null,null,null,"2018-04-26",2018]
[null,null,null,null,null,"2018-04-27",2018]
[null,null,null,null,null,"2018-04-28",2018]
[null,null,null,null,null,"2018-04-29",2018]
[null,null,null,null,null,"2018-04-30",2018]
[null,null,null,null,null,"2018-05-01",2018]
[null,null,null,null,null,"2018-05-02",2018]
[null,null,null,null,null,"2018-05-03",2018]
[null,null,null,null,null,"2018-05-04",2018]
[null,null,null,null,null,"2018-05-05",2018]
[null,null,null,null,null,"2018-05-06",2018]
[null,null,null,null,null,"2018-05-07",2018]
[null,null,null,null,null,"2018-05-08",2018]
[null,null,null,null,null,"2018-05-09",2018]
[null,null,null,null,null,"2018-05-10",2018]
[null,null,null,null,null,"2018-05-11",2018]
[null,null,null,null,null,"2018-05-12",2018]
[null,null,null,null,null,"2018-05-13",2018]
[null,null,null,null,null,"2018-05-14",2018]
[null,null,null,null,null,"2018-05-15",2018]
[null,null,null,null,null,"2018-05-16",2018]
[null,null,null,null,null,"2018-05-17",2018]
[null,null,null,null,null,"2018-05-18",2018]
[null,null,null,null,null,"2018-05-19",2018]
[null,null,null,null,null,"2018-05-20",2018]
[null,null,null,null,null,"2018-05-21",2018]
[null,null,null,null,null,"2018-05-22",2018]
[null,null,null,null,null,"2018-05-23",2018]
[null,null,null,null,null,"2018-05-24",2018]
[null,null,null,null,null,"2018-05-25",2018]
[null,null,null,null,null,"2018-05-26",2018]
[null,null,null,null,null,"2018-05-27",2018]
[null,null,null,null,null,"2018-05-28",2018]
[null,null,null,null,null,"2018-05-29",2018]
[null,null,null,null,null,"2018-05-30",2018]
[null,null,null,null,null,"2018-05-31",2018]
[null,null,null,null,null,"2018-06-01",2018]
[null,null,null,null,null,"2018-06-02",2018]
[null,null,null,null,null,"2018-06-03",2018]
[null,null,null,null,null,"2018-06-04",2018]
[null,null,null,null,null,"2018-06-05",2018]
[null,null,null,null,null,"2018-06-06",2018]
[null,null,null,null,null,"2018-06-07",2018]
[null,null,null,null,null,"2018-06-08",2018]
[null,null,null,null,null,"2018-06-09",2018]
[null,null,null,null,null,"2018-06-10",2018]
[null,null,null,null,null,"2018-06-11",2018]
[null,null,null,null,null,"2018-06-12",2018]
[null,null,null,null,null,"2018-06-13",2018]
[null,null,null,null,null,"2018-06-14",2018]
[null,null,null,null,null,"2018-06-15",2018]
[null,null,null,null,null,"2018-06-16",2018]
[null,null,null,null,null,"2018-06-17",2018]
[null,null,null,null,null,"2018-06-18",2018]
[null,null,null,null,null,"2018-06-19",2018]
[null,null,null,null,null,"2018-06-20",2018]
[null,null,null,null,null,"2018-06-21",2018]
[null,null,null,null,null,"2018-06-22",2018]
[null,null,null,null,null,"2018-06-23",2018]
[null,null,null,null,null,"2018-06-24",2018]
[null,null,null,null,null,"2018-06-25",2018]
[null,null,null,null,null,"2018-06-26",2018]
[null,null,null,null,null,"2018-06-27",2018]
[null,null,null,null,null,"2018-06-28",2019]
[null,null,null,null,null,"2018-06-29",2019]
[null,null,null,null,null,"2018-06-30",2019]
[null,null,null,null,null,"2018-07-01",2019]
[null,null,null,null,null,"2018-07-02",2019]
[null,null,null,null,null,"2018-07-03",2019]
[null,null,null,null,null,"2018-07-04",2019]
[null,null,null,null,null,"2018-07-05",2019]
[null,null,null,null,null,"2018-07-06",2019]
[null,null,null,null,null,"2018-07-07",2019]
[null,null,null,null,null,"2018-07-08",2019]
[null,null,null,null,null,"2018-07-09",2019]
[null,null,null,null,null,"2018-07-10",2019]
[null,null,null,null,null,"2018-07-11",2019]
[null,null,null,null,null,"2018-07-12",2019]
[null,null,null,null,null,"2018-07-13",2019]
[null,null,null,null,null,"2018-07-14",2019]
[null,null,null,null,null,"2018-07-15",2019]
[null,null,null,null,null,"2018-07-16",2019]
[null,null,null,null,null,"2018-07-17",2019]
[null,null,null,null,null,"2018-07-18",2019]
[null,null,null,null,null,"2018-07-19",2019]
[null,null,null,null,null,"2018-07-20",2019]
[null,null,null,null,null,"2018-07-21",2019]
[null,null,null,null,null,"2018-07-22",2019]
[null,null,null,null,null,"2018-07-23",2019]
[null,null,null,null,null,"2018-07-24",2019]
[null,null,null,null,null,"2018-07-25",2019]
[null,null,null,null,null,"2018-07-26",2019]
[null,null,null,null,null,"2018-07-27",2019]
[null,null,null,null,null,"2018-07-28",2019]
[null,null,null,null,null,"2018-07-29",2019]
[null,null,null,null,null,"2018-07-30",2019]
[null,null,null,null,null,"2018-07-31",2019]
[null,null,null,null,null,"2018-08-01",2019]
[null,null,null,null,null,"2018-08-02",2019]
[null,null,null,null,null,"2018-08-03",2019]
[null,null,null,null,null,"2018-08-04",2019]
[null,null,null,null,null,"2018-08-05",2019]
[null,null,null,null,null,"2018-08-06",2019]
[null,null,null,null,null,"2018-08-07",2019]
[null,null,null,null,null,"2018-08-08",2019]
[null,null,null,null,null,"2018-08-09",2019]
[null,null,null,null,null,"2018-08-10",2019]
[null,null,null,null,null,"2018-08-11",2019]
[null,null,null,null,null,"2018-08-12",2019]
[null,null,null,null,null,"2018-08-13",2019]
[null,null,null,null,null,"2018-08-14",2019]
[null,null,null,null,null,"2018-08-15",2019]
[null,null,null,null,null,"2018-08-16",2019]
[null,null,null,null,null,"2018-08-17",2019]
[null,null,null,null,null,"2018-08-18",2019]
[null,null,null,null,null,"2018-08-19",2019]
[null,null,null,null,null,"2018-08-20",2019]
[null,null,null,null,null,"2018-08-21",2019]
[null,null,null,null,null,"2018-08-22",2019]
[null,null,null,null,null,"2018-08-23",2019]
[null,null,null,null,null,"2018-08-24",2019]
[null,null,null,null,null,"2018-08-25",2019]
[null,null,null,null,null,"2018-08-26",2019]
[null,null,null,null,null,"2018-08-27",2019]
[null,null,null,null,null,"2018-08-28",2019]
[null,null,null,null,null,"2018-08-29",2019]
[null,null,null,null,null,"2018-08-30",2019]
[null,null,null,null,null,"2018-08-31",2019]
[null,null,null,null,null,"2018-09-01",2019]
[null,null,null,null,null,"2018-09-02",2019]
[null,null,null,null,null,"2018-09-03",2019]
[null,null,null,null,null,"2018-09-04",2019]
[null,null,null,null,null,"2018-09-05",2019]
[null,null,null,null,null,"2018-09-06",2019]
[null,null,null,null,null,"2018-09-07",2019]
[null,null,null,null,null,"2018-09-08",2019]
[null,null,null,null,null,"2018-09-09",2019]
[null,null,null,null,null,"2018-09-10",2019]
[null,null,null,null,null,"2018-09-11",2019]
[null,null,null,null,null,"2018-09-12",2019]
[null,null,null,null,null,"2018-09-13",2019]
[null,null,null,null,null,"2018-09-14",2019]
[null,null,null,null,null,"2018-09-15",2019]
[null,null,null,null,null,"2018-09-16",2019]
[null,null,null,null,null,"2018-09-17",2019]
[null,null,null,null,null,"2018-09-18",2019]
[null,null,null,null,null,"2018-09-19",2019]
[null,null,null,null,null,"2018-09-20",2019]
[null,null,null,null,null,"2018-09-21",2019]
[null,null,null,null,null,"2018-09-22",2019]
[null,null,null,null,null,"2018-09-23",2019]
[null,null,null,null,null,"2018-09-24",2019]
[null,null,null,null,null,"2018-09-25",2019]
[null,null,null,null,null,"2018-09-26",2019]
[null,null,null,null,null,"2018-09-27",2019]
[null,null,null,null,null,"2018-09-28",2019]
[null,null,null,null,null,"2018-09-29",2019]
[null,null,null,null,null,"2018-09-30",2019]
[null,null,null,null,null,"2018-10-01",2019]
[null,null,null,null,null,"2018-10-02",2019]
[null,null,null,null,null,"2018-10-03",2019]
[null,null,null,null,null,"2018-10-04",2019]
[null,null,null,null,null,"2018-10-05",2019]
[null,null,null,null,null,"2018-10-06",2019]
[null,null,null,null,null,"2018-10-07",2019]
[null,null,null,null,null,"2018-10-08",2019]
[null,null,null,null,null,"2018-10-09",2019]
[null,null,null,null,null,"2018-10-10",2019]
[null,null,null,null,null,"2018-10-11",2019]
[null,null,null,null,null,"2018-10-12",2019]
[null,null,null,null,null,"2018-10-13",2019]
[null,null,null,null,null,"2018-10-14",2019]
[null,null,null,null,null,"2018-10-15",2019]
[null,null,null,null,null,"2018-10-16",2019]
[null,null,null,null,null,"2018-10-17",2019]
[null,null,null,null,null,"2018-10-18",2019]
[null,null,null,null,null,"2018-10-19",2019]
[null,null,null,null,null,"2018-10-20",2019]
[null,null,null,null,null,"2018-10-21",2019]
[null,null,null,null,null,"2018-10-22",2019]
[null,null,null,null,null,"2018-10-23",2019]
[null,null,null,null,null,"2018-10-24",2019]
[null,null,null,null,null,"2018-10-25",2019]
[null,null,null,null,null,"2018-10-26",2019]
[null,null,null,null,null,"2018-10-27",2019]
[null,null,null,null,null,"2018-10-28",2019]
[null,null,null,null,null,"2018-10-29",2019]
[null,null,null,null,null,"2018-10-30",2019]
[null,null,null,null,null,"2018-10-31",2019]
[null,null,null,null,null,"2018-11-01",2019]
[null,null,null,null,null,"2018-11-02",2019]
[null,null,null,null,null,"2018-11-03",2019]
[null,null,null,null,null,"2018-11-04",2019]
[null,null,null,null,null,"2018-11-05",2019]
[null,null,null,null,null,"2018-11-06",2019]
[null,null,null,null,null,"2018-11-07",2019]
[null,null,null,null,null,"2018-11-08",2019]
[null,null,null,null,null,"2018-11-09",2019]
[null,null,null,null,null,"2018-11-10",2019]
[null,null,null,null,null,"2018-11-11",2019]
[null,null,null,null,null,"2018-11-12",2019]
[null,null,null,null,null,"2018-11-13",2019]
[null,null,null,null,null,"2018-11-14",2019]
[null,null,null,null,null,"2018-11-15",2019]
[null,null,null,null,null,"2018-11-16",2019]
[null,null,null,null,null,"2018-11-17",2019]
[null,null,null,null,null,"2018-11-18",2019]
[null,null,null,null,null,"2018-11-19",2019]
[null,null,null,null,null,"2018-11-20",2019]
[null,null,null,null,null,"2018-11-21",2019]
[null,null,null,null,null,"2018-11-22",2019]
[null,null,null,null,null,"2018-11-23",2019]
[null,null,null,null,null,"2018-11-24",2019]
[null,null,null,null,null,"2018-11-25",2019]
[null,null,null,null,null,"2018-11-26",2019]
[null,null,null,null,null,"2018-11-27",2019]
[null,null,null,null,null,"2018-11-28",2019]
[null,null,null,null,null,"2018-11-29",2019]
[null,null,null,null,null,"2018-11-30",2019]
[null,null,null,null,null,"2018-12-01",2019]
[null,null,null,null,null,"2018-12-02",2019]
[null,null,null,null,null,"2018-12-03",2019]
[null,null,null,null,null,"2018-12-04",2019]
[null,null,null,null,null,"2018-12-05",2019]
[null,null,null,null,null,"2018-12-06",2019]
[null,null,null,null,null,"2018-12-07",2019]
[null,null,null,null,null,"2018-12-08",2019]
[null,null,null,null,null,"2018-12-09",2019]
[null,null,null,null,null,"2018-12-10",2019]
[null,null,null,null,null,"2018-12-11",2019]
[null,null,null,null,null,"2018-12-12",2019]
[null,null,null,null,null,"2018-12-13",2019]
[null,null,null,null,null,"2018-12-14",2019]
[null,null,null,null,null,"2018-12-15",2019]
[null,null,null,null,null,"2018-12-16",2019]
[null,null,null,null,null,"2018-12-17",2019]
[null,null,null,null,null,"2018-12-18",2019]
[null,null,null,null,null,"2018-12-19",2019]
[null,null,null,null,null,"2018-12-20",2019]
[null,null,null,null,null,"2018-12-21",2019]
[null,null,null,null,null,"2018-12-22",2019]
[null,null,null,null,null,"2018-12-23",2019]
[null,null,null,null,null,"2018-12-24",2019]
[null,null,null,null,null,"2018-12-25",2019]
[null,null,null,null,null,"2018-12-26",2019]
[null,null,null,null,null,"2018-12-27",2019]
[null,null,null,null,null,"2018-12-28",2019]
[null,null,null,null,null,"2018-12-29",2019]
[null,null,null,null,null,"2018-12-30",2019]
[null,null,null,null,null,"2018-12-31",2019]
[null,null,null,null,null,"2019-01-01",2019]
[null,null,null,null,null,"2019-01-02",2019]
[null,null,null,null,null,"2019-01-03",2019]
[null,null,null,null,null,"2019-01-04",2019]
[null,null,null,null,null,"2019-01-05",2019]
[null,null,null,null,null,"2019-01-06",2019]
[null,null,null,null,null,"2019-01-07",2019]
[null,null,null,null,null,"2019-01-08",2019]
[null,null,null,null,null,"2019-01-09",2019]
[null,null,null,null,null,"2019-01-10",2019]
[null,null,null,null,null,"2019-01-11",2019]
[null,null,null,null,null,"2019-01-12",2019]
[null,null,null,null,null,"2019-01-13",2019]
[null,null,null,null,null,"2019-01-14",2019]
[null,null,null,null,null,"2019-01-15",2019]
[null,null,null,null,null,"2019-01-16",2019]
[null,null,null,null,null,"2019-01-17",2019]
[null,null,null,null,null,"2019-01-18",2019]
[null,null,null,null,null,"2019-01-19",2019]
[null,null,null,null,null,"2019-01-20",2019]
[null,null,null,null,null,"2019-01-21",2019]
[null,null,null,null,null,"2019-01-22",2019]
[null,null,null,null,null,"2019-01-23",2019]
[null,null,null,null,null,"2019-01-24",2019]
[null,null,null,null,null,"2019-01-25",2019]
[null,null,null,null,null,"2019-01-26",2019]
[null,null,null,null,null,"2019-01-27",2019]
[null,null,null,null,null,"2019-01-28",2019]
[null,null,null,null,null,"2019-01-29",2019]
[null,null,null,null,null,"2019-01-30",2019]
[null,null,null,null,null,"2019-01-31",2019]
[null,null,null,null,null,"2019-02-01",2019]
[null,null,null,null,null,"2019-02-02",2019]
[null,null,null,null,null,"2019-02-03",2019]
[null,null,null,null,null,"2019-02-04",2019]
[null,null,null,null,null,"2019-02-05",2019]
[null,null,null,null,null,"2019-02-06",2019]
[null,null,null,null,null,"2019-02-07",2019]
[null,null,null,null,null,"2019-02-08",2019]
[null,null,null,null,null,"2019-02-09",2019]
[null,null,null,null,null,"2019-02-10",2019]
[null,null,null,null,null,"2019-02-11",2019]
[null,null,null,null,null,"2019-02-12",2019]
[null,null,null,null,null,"2019-02-13",2019]
[null,null,null,null,null,"2019-02-14",2019]
[null,null,null,null,null,"2019-02-15",2019]
[null,null,null,null,null,"2019-02-16",2019]
[null,null,null,null,null,"2019-02-17",2019]
[null,null,null,null,null,"2019-02-18",2019]
[null,null,null,null,null,"2019-02-19",2019]
[null,null,null,null,null,"2019-02-20",2019]
[null,null,null,null,null,"2019-02-21",2019]
[null,null,null,null,null,"2019-02-22",2019]
[null,null,null,null,null,"2019-02-23",2019]
[null,null,null,null,null,"2019-02-24",2019]
[null,null,null,null,null,"2019-02-25",2019]
[null,null,null,null,null,"2019-02-26",2019]
[null,null,null,null,null,"2019-02-27",2019]
[null,null,null,null,null,"2019-02-28",2019]
[null,null,null,null,null,"2019-03-01",2019]
[null,null,null,null,null,"2019-03-02",2019]
[null,null,null,null,null,"2019-03-03",2019]
[null,null,null,null,null,"2019-03-04",2019]
[null,null,null,null,null,"2019-03-05",2019]
[null,null,null,null,null,"2019-03-06",2019]
[null,null,null,null,null,"2019-03-07",2019]
[null,null,null,null,null,"2019-03-08",2019]
[null,null,null,null,null,"2019-03-09",2019]
[null,null,null,null,null,"2019-03-10",2019]
[null,null,null,null,null,"2019-03-11",2019]
[null,null,null,null,null,"2019-03-12",2019]
[null,null,null,null,null,"2019-03-13",2019]
[null,null,null,null,null,"2019-03-14",2019]
[null,null,null,null,null,"2019-03-15",2019]
[null,null,null,null,null,"2019-03-16",2019]
[null,null,null,null,null,"2019-03-17",2019]
[null,null,null,null,null,"2019-03-18",2019]
[null,null,null,null,null,"2019-03-19",2019]
[null,null,null,null,null,"2019-03-20",2019]
[null,null,null,null,null,"2019-03-21",2019]
[null,null,null,null,null,"2019-03-22",2019]
[null,null,null,null,null,"2019-03-23",2019]
[null,null,null,null,null,"2019-03-24",2019]
[null,null,null,null,null,"2019-03-25",2019]
[null,null,null,null,null,"2019-03-26",2019]
[null,null,null,null,null,"2019-03-27",2019]
[null,null,null,null,null,"2019-03-28",2019]
[null,null,null,null,null,"2019-03-29",2019]
[null,null,null,null,null,"2019-03-30",2019]
[null,null,null,null,null,"2019-03-31",2019]
[null,null,null,null,null,"2019-04-01",2019]
[null,null,null,null,null,"2019-04-02",2019]
[null,null,null,null,null,"2019-04-03",2019]
[null,null,null,null,null,"2019-04-04",2019]
[null,null,null,null,null,"2019-04-05",2019]
[null,null,null,null,null,"2019-04-06",2019]
[null,null,null,null,null,"2019-04-07",2019]
[null,null,null,null,null,"2019-04-08",2019]
[null,null,null,null,null,"2019-04-09",2019]
[null,null,null,null,null,"2019-04-10",2019]
[null,null,null,null,null,"2019-04-11",2019]
[null,null,null,null,null,"2019-04-12",2019]
[null,null,null,null,null,"2019-04-13",2019]
[null,null,null,null,null,"2019-04-14",2019]
[null,null,null,null,null,"2019-04-15",2019]
[null,null,null,null,null,"2019-04-16",2019]
[null,null,null,null,null,"2019-04-17",2019]
[null,null,null,null,null,"2019-04-18",2019]
[null,null,null,null,null,"2019-04-19",2019]
[null,null,null,null,null,"2019-04-20",2019]
[null,null,null,null,null,"2019-04-21",2019]
[null,null,null,null,null,"2019-04-22",2019]
[null,null,null,null,null,"2019-04-23",2019]
[null,null,null,null,null,"2019-04-24",2019]
[null,null,null,null,null,"2019-04-25",2019]
[null,null,null,null,null,"2019-04-26",2019]
[null,null,null,null,null,"2019-04-27",2019]
[null,null,null,null,null,"2019-04-28",2019]
[null,null,null,null,null,"2019-04-29",2019]
[null,null,null,null,null,"2019-04-30",2019]
[null,null,null,null,null,"2019-05-01",2019]
[null,null,null,null,null,"2019-05-02",2019]
[null,null,null,null,null,"2019-05-03",2019]
[null,null,null,null,null,"2019-05-04",2019]
[null,null,null,null,null,"2019-05-05",2019]
[null,null,null,null,null,"2019-05-06",2019]
[null,null,null,null,null,"2019-05-07",2019]
[null,null,null,null,null,"2019-05-08",2019]
[null,null,null,null,null,"2019-05-09",2019]
[null,null,null,null,null,"2019-05-10",2019]
[null,null,null,null,null,"2019-05-11",2019]
[null,null,null,null,null,"2019-05-12",2019]
[null,null,null,null,null,"2019-05-13",2019]
[null,null,null,null,null,"2019-05-14",2019]
[null,null,null,null,null,"2019-05-15",2019]
[null,null,null,null,null,"2019-05-16",2019]
[null,null,null,null,null,"2019-05-17",2019]
[null,null,null,null,null,"2019-05-18",2019]
[null,null,null,null,null,"2019-05-19",2019]
[null,null,null,null,null,"2019-05-20",2019]
[null,null,null,null,null,"2019-05-21",2019]
[null,null,null,null,null,"2019-05-22",2019]
[null,null,null,null,null,"2019-05-23",2019]
[null,null,null,null,null,"2019-05-24",2019]
[null,null,null,null,null,"2019-05-25",2019]
[null,null,null,null,null,"2019-05-26",2019]
[null,null,null,null,null,"2019-05-27",2019]
[null,null,null,null,null,"2019-05-28",2019]
[null,null,null,null,null,"2019-05-29",2019]
[null,null,null,null,null,"2019-05-30",2019]
[null,null,null,null,null,"2019-05-31",2019]
[null,null,null,null,null,"2019-06-01",2019]
[null,null,null,null,null,"2019-06-02",2019]
[null,null,null,null,null,"2019-06-03",2019]
[null,null,null,null,null,"2019-06-04",2019]
[null,null,null,null,null,"2019-06-05",2019]
[null,null,null,null,null,"2019-06-06",2019]
[null,null,null,null,null,"2019-06-07",2019]
[null,null,null,null,null,"2019-06-08",2019]
[null,null,null,null,null,"2019-06-09",2019]
[null,null,null,null,null,"2019-06-10",2019]
[null,null,null,null,null,"2019-06-11",2019]
[null,null,null,null,null,"2019-06-12",2019]
[null,null,null,null,null,"2019-06-13",2019]
[null,null,null,null,null,"2019-06-14",2019]
[null,null,null,null,null,"2019-06-15",2019]
[null,null,null,null,null,"2019-06-16",2019]
[null,null,null,null,null,"2019-06-17",2019]
[null,null,null,null,null,"2019-06-18",2019]
[null,null,null,null,null,"2019-06-19",2019]
[null,null,null,null,null,"2019-06-20",2019]
[null,null,null,null,null,"2019-06-21",2019]
[null,null,null,null,null,"2019-06-22",2019]
[null,null,null,null,null,"2019-06-23",2019]
[null,null,null,null,null,"2019-06-24",2019]
[null,null,null,null,null,"2019-06-25",2019]
[null,null,null,null,null,"2019-06-26",2019]
[null,null,null,null,null,"2019-06-27",2020]
[null,null,null,null,null,"2019-06-28",2020]
[null,null,null,null,null,"2019-06-29",2020]
[null,null,null,null,null,"2019-06-30",2020]
[null,null,null,null,null,"2019-07-01",2020]
[null,null,null,null,null,"2019-07-02",2020]
[null,null,null,null,null,"2019-07-03",2020]
[null,null,null,null,null,"2019-07-04",2020]
[null,null,null,null,null,"2019-07-05",2020]
[null,null,null,null,null,"2019-07-06",2020]
[null,null,null,null,null,"2019-07-07",2020]
[null,null,null,null,null,"2019-07-08",2020]
[null,null,null,null,null,"2019-07-09",2020]
[null,null,null,null,null,"2019-07-10",2020]

{"sheet":"Tax ranges","index":5,"n_rows":20,"n_cols":11,"rows_kept":20,"cut":false,"hidden":true,"merged":[[9,0,15,10],[19,0,22,10]]}
[]
[]
[null,"Range 1","Range 2","Range 3","Range 4","Range 5","Range 6","Range 7","Range 8","Range 9","Range 10"]
["TFT %",0,0,0.15,0.25,0.16500000000000001,0.185,0.33500000000000002,0.315,0.39500000000000002,0.46500000000000002]
["TFT to Value",0,198,342,402,576,673,1225,1538,3461,3461]
["No TFT %",0,0,0,0,0.16500000000000001,0.2346,0.33500000000000002,0.315,0.39500000000000002,0.46500000000000002]
["No TFT to value",0,0,0,0,259,355,908,1221,3144,3144]
[]
[]
["It is onportant to note that range 10 holds the last rate. The early ranges are zero filled."]
[]
[]
[]
[]
[]
[]
[]
[]
[]
["This Spreadsheet was created by Matthew Nichollas & Graham Kirkman in October 2007 at WorkCover SA."]

{"sheet":"Tax Scales","index":6,"n_rows":1200,"n_cols":43,"rows_kept":1200,"cut":false,"hidden":true,"merged":[[1,21,5,21],[1,42,5,42],[3,22,5,22],[4,0,5,0],[1,0,2,0],[1,20,5,20],[0,1,0,2],[0,3,0,4],[0,5,0,6],[0,7,0,8],[0,25,0,26],[0,27,0,28],[0,9,0,10],[0,11,0,12],[0,13,0,14],[0,15,0,16],[0,17,0,18],[0,23,0,24],[0,37,0,38],[0,39,0,40],[0,29,0,30],[0,31,0,32],[0,33,0,34],[0,35,0,36]]}
[null,"Scale 1",null,"Scale 2",null,"Scale 3",null,"Scale 4",null,"Scale 5",null,"Scale 6",null,"Scale 7",null,"Scale 8",null,"Scale 9",null,"Scale 10",null,null,null,"Scale 1",null,"Scale 2",null,"Scale 3",null,"Scale 4",null,"Scale 5",null,"Scale 6",null,"Scale 7",null,"Scale 8",null,"Scale 9",null,"Scale 10"]
["Tax Scales TFT Claimed",{"$f":"IF('WEEKLY PAYMENTS'!$P$1=TRUE,'Tax ranges'!B4,'Tax ranges'!B6)","v":0},{"$f":"IF('WEEKLY PAYMENTS'!$P$1=TRUE,'Tax ranges'!B4,'Tax ranges'!B6)","v":0},{"$f":"IF('WEEKLY PAYMENTS'!$P$1=TRUE,'Tax ranges'!C4,'Tax ranges'!C6)","v":0},{"$f":"IF('WEEKLY PAYMENTS'!$P$1=TRUE,'Tax ranges'!C4,'Tax ranges'!C6)","v":0},{"$f":"IF('WEEKLY PAYMENTS'!$P$1=TRUE,'Tax ranges'!D4,'Tax ranges'!D6)","v":0.15},null,{"$f":"IF('WEEKLY PAYMENTS'!$P$1=TRUE,'Tax ranges'!E4,'Tax ranges'!E6)","v":0.25},null,{"$f":"IF('WEEKLY PAYMENTS'!$P$1=TRUE,'Tax ranges'!F4,'Tax ranges'!F6)","v":0.16500000000000001},null,{"$f":"IF('WEEKLY PAYMENTS'!$P$1=TRUE,'Tax ranges'!G4,'Tax ranges'!G6)","v":0.185},null,{"$f":"IF('WEEKLY PAYMENTS'!$P$1=TRUE,'Tax ranges'!H4,'Tax ranges'!H6)","v":0.33500000000000002},null,{"$f":"IF('WEEKLY PAYMENTS'!$P$1=TRUE,'Tax ranges'!I4,'Tax ranges'!I6)","v":0.315},null,{"$f":"IF('WEEKLY PAYMENTS'!$P$1=TRUE,'Tax ranges'!J4,'Tax ranges'!J6)","v":0.39500000000000002},null,{"$f":"IF('WEEKLY PAYMENTS'!$P$1=TRUE,'Tax ranges'!K4,'Tax ranges'!K6)","v":0.46500000000000002},"Tax",null,null,{"$f":"B2","v":0},null,{"$f":"D2","v":0},null,{"$f":"F2","v":0.15},null,{"$f":"H2","v":0.25},null,{"$f":"J2","v":0.16500000000000001},null,{"$f":"L2","v":0.185},null,{"$f":"N2","v":0.33500000000000002},null,{"$f":"P2","v":0.315},null,{"$f":"R2","v":0.39500000000000002},null,{"$f":"T2","v":0.46500000000000002},"Tax"]
[null,{"$f":"IF('WEEKLY PAYMENTS'!$P$1=TRUE,'Tax ranges'!B5,'Tax ranges'!B7)","v":0},{"$f":"IF('WEEKLY PAYMENTS'!$P$1=TRUE,'Tax ranges'!B5,'Tax ranges'!B7)","v":0},{"$f":"IF('WEEKLY PAYMENTS'!$P$1=TRUE,'Tax ranges'!C5,'Tax ranges'!C7)","v":198},{"$f":"IF('WEEKLY PAYMENTS'!$P$1=TRUE,'Tax ranges'!C5,'Tax ranges'!C7)","v":198},{"$f":"IF('WEEKLY PAYMENTS'!$P$1=TRUE,'Tax ranges'!D5,'Tax ranges'!D7)","v":342},null,{"$f":"IF('WEEKLY PAYMENTS'!$P$1=TRUE,'Tax ranges'!E5,'Tax ranges'!E7)","v":402},null,{"$f":"IF('WEEKLY PAYMENTS'!$P$1=TRUE,'Tax ranges'!F5,'Tax ranges'!F7)","v":576},null,{"$f":"IF('WEEKLY PAYMENTS'!$P$1=TRUE,'Tax ranges'!G5,'Tax ranges'!G7)","v":673},null,{"$f":"IF('WEEKLY PAYMENTS'!$P$1=TRUE,'Tax ranges'!H5,'Tax ranges'!H7)","v":1225},null,{"$f":"IF('WEEKLY PAYMENTS'!$P$1=TRUE,'Tax ranges'!I5,'Tax ranges'!I7)","v":1538},null,{"$f":"IF('WEEKLY PAYMENTS'!$P$1=TRUE,'Tax ranges'!J5,'Tax ranges'!J7)","v":3461},null,{"$f":"IF('WEEKLY PAYMENTS'!$P$1=TRUE,'Tax ranges'!K5,'Tax ranges'!K7)","v":3461},null,null,null,{"$f":"B3","v":0},null,{"$f":"D3","v":198},null,{"$f":"F3","v":342},null,{"$f":"H3","v":402},null,{"$f":"J3","v":576},null,{"$f":"L3","v":673},null,{"$f":"N3","v":1225},null,{"$f":"P3","v":1538},null,{"$f":"R3","v":3461},null,{"$f":"T3","v":3461}]
["Applied on",null,null,{"$f":"D3-B3","v":198},null,{"$f":"F3-D3","v":144},null,{"$f":"H3-F3","v":60},null,{"$f":"J3-H3","v":174},null,{"$f":"L3-J3","v":97},null,{"$f":"N3-L3","v":552},null,{"$f":"P3-N3","v":313},null,{"$f":"R3-P3","v":1923},null,null,null,null,"Backpay + Interest",null,null,{"$f":"Z3-X3","v":198},null,{"$f":"AB3-Z3","v":144},null,{"$f":"AD3-AB3","v":60},null,{"$f":"AF3-AD3","v":174},null,{"$f":"AH3-AF3","v":97},null,{"$f":"AJ3-AH3","v":552},null,{"$f":"AL3-AJ3","v":313},null,{"$f":"AN3-AL3","v":1923}]
["Backpay"]
[]
[{"$f":"'WEEKLY PAYMENTS'!L4/52+'WEEKLY PAYMENTS'!C5","v":0},null,{"$f":"A7-$B$3","v":0},{"$f":"IF(C7>0,IF(C7<$D$4,C7*$D$2,$D$4*$D$2),0)","v":0},{"$f":"C7-$D$4","v":-198},{"$f":"IF(E7>0,IF(E7<$F$4,E7*$F$2,$F$4*$F$2),0)","v":0},{"$f":"E7-$F$4","v":-342},{"$f":"IF(G7>0,IF(G7<$H$4,G7*$H$2,$H$4*$H$2),0)","v":0},{"$f":"G7-$H$4","v":-402},{"$f":"IF(I7>0,IF(I7<$J$4,I7*$J$2,$J$4*$J$2),0)","v":0},{"$f":"I7-$J$4","v":-576},{"$f":"IF(K7>0,IF(K7<$L$4,K7*$L$2,$L$4*$L$2),0)","v":0},{"$f":"K7-$L$4","v":-673},{"$f":"IF(M7>0,IF(M7<$N$4,M7*$N$2,$N$4*$N$2),0)","v":0},{"$f":"M7-$N$4","v":-1225},{"$f":"IF(O7>0,IF(O7<$P$4,O7*$P$2,$P$4*$P$2),0)","v":0},{"$f":"O7-$P$4","v":-1538},{"$f":"IF(Q7>0,IF(Q7<$R$4,Q7*$R$2,$R$4*$R$2),0)","v":0},{"$f":"Q7-$R$4","v":-3461},{"$f":"IF(S7>0,S7*$T$2,0)","v":0},{"$f":"D7+F7+H7+J7+L7+T7+N7+P7+R7","v":0},null,{"$f":"A7+'WEEKLY PAYMENTS'!M4/52","v":0},null,{"$f":"W7-$B$3","v":0},{"$f":"IF(Y7>0,IF(Y7<$D$4,Y7*$D$2,$D$4*$D$2),0)","v":0},{"$f":"Y7-$D$4","v":-198},{"$f":"IF(AA7>0,IF(AA7<$F$4,AA7*$F$2,$F$4*$F$2),0)","v":0},{"$f":"AA7-$F$4","v":-342},{"$f":"IF(AC7>0,IF(AC7<$H$4,AC7*$H$2,$H$4*$H$2),0)","v":0},{"$f":"AC7-$H$4","v":-402},{"$f":"IF(AE7>0,IF(AE7<$J$4,AE7*$J$2,$J$4*$J$2),0)","v":0},{"$f":"AE7-$J$4","v":-576},{"$f":"IF(AG7>0,IF(AG7<$L$4,AG7*$L$2,$L$4*$L$2),0)","v":0},{"$f":"AG7-$L$4","v":-673},{"$f":"IF(AI7>0,IF(AI7<$N$4,AI7*$N$2,$N$4*$N$2),0)","v":0},{"$f":"AI7-$N$4","v":-1225},{"$f":"IF(AK7>0,IF(AK7<$P$4,AK7*$P$2,$P$4*$P$2),0)","v":0},{"$f":"AK7-$P$4","v":-1538},{"$f":"IF(AM7>0,IF(AM7<$R$4,AM7*$R$2,$R$4*$R$2),0)","v":0},{"$f":"AM7-$R$4","v":-3461},{"$f":"IF(AO7>0,AO7*$T$2,0)","v":0},{"$f":"Z7+AB7+AD7+AF7+AH7+AP7+AJ7+AL7+AN7","v":0}]
[]
[]
[]
[]
[]
[]
[]
[]
[]
[]
[]
[]
[]
[]
[]
[]
[]
[]
[]
[]
[]
[]
[]
[]
[]
[]
[]
[]
[]
[]
[]
[]
[]
[]
[]
[]
[]
[]
[]
[]
[]
[]
[]
[]
[]
[]
[]
[]
[]
[]
[]
[]
[]
[]
[]
[]
[]
[]
[]
[]
[]
[]
[]
[]
[]
[]
[]
[]
[]
[]
[]
[]
[]
[]
[]
[]
[]
[]
[]
[]
[]
[]
[]
[]
[]
[]
[]
[]
[]
[]
[]
[]
[]
[]
[]
[]
[]
[]
[]
[]
[]
[]
[]
[]
[]
[]
[]
[]
[]
[]
[]
[]
[]
[]
[]
[]
[]
[]
[]
[]
[]
[]
[]
[]
[]
[]
[]
[]
[]
[]
[]
[]
[]
[]
[]
[]
[]
[]
[]
[]
[]
[]
[]
[]
[]
[]
[]
[]
[]
[]
[]
[]
[]
[]
[]
[]
[]
[]
[]
[]
[]
[]
[]
[]
[]
[]
[]
[]
[]
[]
[]
[]
[]
[]
[]
[]
[]
[]
[]
[]
[]
[]
[]
[]
[]
[]
[]
[]
[]
[]
[]
[]
[]
[]
[]
[]
[]
[]
[]
[]
[]
[]
[]
[]
[]
[]
[]
[]
[]
[]
[]
[]
[]
[]
[]
[]
[]
[]
[]
[]
[]
[]
[]
[]
[]
[]
[]
[]
[]
[]
[]
[]
[]
[]
[]
[]
[]
[]
[]
[]
[]
[]
[]
[]
[]
[]
[]
[]
[]
[]
[]
[]
[]
[]
[]
[]
[]
[]
[]
[]
[]
[]
[]
[]
[]
[]
[]
[]
[]
[]
[]
[]
[]
[]
[]
[]
[]
[]
[]
[]
[]
[]
[]
[]
[]
[]
[]
[]
[]
[]
[]
[]
[]
[]
[]
[]
[]
[]
[]
[]
[]
[]
[]
[]
[]
[]
[]
[]
[]
[]
[]
[]
[]
[]
[]
[]
[]
[]
[]
[]
[]
[]
[]
[]
[]
[]
[]
[]
[]
[]
[]
[]
[]
[]
[]
[]
[]
[]
[]
[]
[]
[]
[]
[]
[]
[]
[]
[]
[]
[]
[]
[]
[]
[]
[]
[]
[]
[]
[]
[]
[]
[]
[]
[]
[]
[]
[]
[]
[]
[]
[]
[]
[]
[]
[]
[]
[]
[]
[]
[]
[]
[]
[]
[]
[]
[]
[]
[]
[]
[]
[]
[]
[]
[]
[]
[]
[]
[]
[]
[]
[]
[]
[]
[]
[]
[]
[]
[]
[]
[]
[]
[]
[]
[]
[]
[]
[]
[]
[]
[]
[]
[]
[]
[]
[]
[]
[]
[]
[]
[]
[]
[]
[]
[]
[]
[]
[]
[]
[]
[]
[]
[]
[]
[]
[]
[]
[]
[]
[]
[]
[]
[]
[]
[]
[]
[]
[]
[]
[]
[]
[]
[]
[]
[]
[]
[]
[]
[]
[]
[]
[]
[]
[]
[]
[]
[]
[]
[]
[]
[]
[]
[]
[]
[]
[]
[]
[]
[]
[]
[]
[]
[]
[]
[]
[]
[]
[]
[]
[]
[]
[]
[]
[]
[]
[]
[]
[]
[]
[]
[]
[]
[]
[]
[]
[]
[]
[]
[]
[]
[]
[]
[]
[]
[]
[]
[]
[]
[]
[]
[]
[]
[]
[]
[]
[]
[]
[]
[]
[]
[]
[]
[]
[]
[]
[]
[]
[]
[]
[]
[]
[]
[]
[]
[]
[]
[]
[]
[]
[]
[]
[]
[]
[]
[]
[]
[]
[]
[]
[]
[]
[]
[]
[]
[]
[]
[]
[]
[]
[]
[]
[]
[]
[]
[]
[]
[]
[]
[]
[]
[]
[]
[]
[]
[]
[]
[]
[]
[]
[]
[]
[]
[]
[]
[]
[]
[]
[]
[]
[]
[]
[]
[]
[]
[]
[]
[]
[]
[]
[]
[]
[]
[]
[]
[]
[]
[]
[]
[]
[]
[]
[]
[]
[]
[]
[]
[]
[]
[]
[]
[]
[]
[]
[]
[]
[]
[]
[]
[]
[]
[]
[]
[]
[]
[]
[]
[]
[]
[]
[]
[]
[]
[]
[]
[]
[]
[]
[]
[]
[]
[]
[]
[]
[]
[]
[]
[]
[]
[]
[]
[]
[]
[]
[]
[]
[]
[]
[]
[]
[]
[]
[]
[]
[]
[]
[]
[]
[]
[]
[]
[]
[]
[]
[]
[]
[]
[]
[]
[]
[]
[]
[]
[]
[]
[]
[]
[]
[]
[]
[]
[]
[]
[]
[]
[]
[]
[]
[]
[]
[]
[]
[]
[]
[]
[]
[]
[]
[]
[]
[]
[]
[]
[]
[]
[]
[]
[]
[]
[]
[]
[]
[]
[]
[]
[]
[]
[]
[]
[]
[]
[]
[]
[]
[]
[]
[]
[]
[]
[]
[]
[]
[]
[]
[]
[]
[]
[]
[]
[]
[]
[]
[]
[]
[]
[]
[]
[]
[]
[]
[]
[]
[]
[]
[]
[]
[]
[]
[]
[]
[]
[]
[]
[]
[]
[]
[]
[]
[]
[]
[]
[]
[]
[]
[]
[]
[]
[]
[]
[]
[]
[]
[]
[]
[]
[]
[]
[]
[]
[]
[]
[]
[]
[]
[]
[]
[]
[]
[]
[]
[]
[]
[]
[]
[]
[]
[]
[]
[]
[]
[]
[]
[]
[]
[]
[]
[]
[]
[]
[]
[]
[]
[]
[]
[]
[]
[]
[]
[]
[]
[]
[]
[]
[]
[]
[]
[]
[]
[]
[]
[]
[]
[]
[]
[]
[]
[]
[]
[]
[]
[]
[]
[]
[]
[]
[]
[]
[]
[]
[]
[]
[]
[]
[]
[]
[]
[]
[]
[]
[]
[]
[]
[]
[]
[]
[]
[]
[]
[]
[]
[]
[]
[]
[]
[]
[]
[]
[]
[]
[]
[]
[]
[]
[]
[]
[]
[]
[]
[]
[]
[]
[]
[]
[]
[]
[]
[]
[]
[]
[]
[]
[]
[]
[]
[]
[]
[]
[]
[]
[]
[]
[]
[]
[]
[]
[]
[]
[]
[]
[]
[]
[]
[]
[]
[]
[]
[]
[]
[]
[]
[]
[]
[]
[]
[]
[]
[]
[]
[]
[]
[]
[]
[]
[]
[]
[]
[]
[]
[]
[]
[]
[]
[]
[]
[]
[]
[]
[]
[]
[]
[]
[]
[]
[]
[]
[]
[]
[]
[]
[]
[]
[]
[]
[]
[]
[]
[]
[]
[]
[]
[]
[]
[{"$f":"'WEEKLY PAYMENTS'!B1038","v":0},null,{"$f":"A1038-$B$3","v":0},{"$f":"IF(C1038>0,IF(C1038<$D$4,C1038*$D$2,$D$4*$D$2),0)","v":0},{"$f":"C1038-$D$4","v":-198},{"$f":"IF(E1038>0,IF(E1038<$F$4,E1038*$F$2,$F$4*$F$2),0)","v":0},{"$f":"E1038-$F$4","v":-342},{"$f":"IF(G1038>0,IF(G1038<$H$4,G1038*$H$2,$H$4*$H$2),0)","v":0},{"$f":"G1038-$H$4","v":-402},{"$f":"IF(I1038>0,IF(I1038<$J$4,I1038*$J$2,$J$4*$J$2),0)","v":0},{"$f":"I1038-$J$4","v":-576},{"$f":"IF(K1038>0,IF(K1038<$L$4,K1038*$L$2,$L$4*$L$2),0)","v":0},{"$f":"K1038-$L$4","v":-673},{"$f":"IF(M1038>0,IF(M1038<$N$4,M1038*$N$2,$N$4*$N$2),0)","v":0},{"$f":"M1038-$N$4","v":-1225},{"$f":"IF(O1038>0,IF(O1038<$P$4,O1038*$P$2,$P$4*$P$2),0)","v":0},{"$f":"O1038-$P$4","v":-1538},{"$f":"IF(Q1038>0,IF(Q1038<$R$4,Q1038*$R$2,$R$4*$R$2),0)","v":0},{"$f":"Q1038-$R$4","v":-3461},{"$f":"IF(S1038>0,S1038*$T$2,0)","v":0},{"$f":"D1038+F1038+H1038+J1038+L1038+T1038+N1038+P1038+R1038","v":0},null,{"$f":"'WEEKLY PAYMENTS'!B1038+'WEEKLY PAYMENTS'!G1038","v":0},null,{"$f":"W1038-$B$3","v":0},{"$f":"IF(Y1038>0,IF(Y1038<$D$4,Y1038*$D$2,$D$4*$D$2),0)","v":0},{"$f":"Y1038-$D$4","v":-198},{"$f":"IF(AA1038>0,IF(AA1038<$F$4,AA1038*$F$2,$F$4*$F$2),0)","v":0},{"$f":"AA1038-$F$4","v":-342},{"$f":"IF(AC1038>0,IF(AC1038<$H$4,AC1038*$H$2,$H$4*$H$2),0)","v":0},{"$f":"AC1038-$H$4","v":-402},{"$f":"IF(AE1038>0,IF(AE1038<$J$4,AE1038*$J$2,$J$4*$J$2),0)","v":0},{"$f":"AE1038-$J$4","v":-576},{"$f":"IF(AG1038>0,IF(AG1038<$L$4,AG1038*$L$2,$L$4*$L$2),0)","v":0},{"$f":"AG1038-$L$4","v":-673},{"$f":"IF(AI1038>0,IF(AI1038<$N$4,AI1038*$N$2,$N$4*$N$2),0)","v":0},{"$f":"AI1038-$N$4","v":-1225},{"$f":"IF(AK1038>0,IF(AK1038<$P$4,AK1038*$P$2,$P$4*$P$2),0)","v":0},{"$f":"AK1038-$P$4","v":-1538},{"$f":"IF(AM1038>0,IF(AM1038<$R$4,AM1038*$R$2,$R$4*$R$2),0)","v":0},{"$f":"AM1038-$R$4","v":-3461},{"$f":"IF(AO1038>0,AO1038*$T$2,0)","v":0},{"$f":"Z1038+AB1038+AD1038+AF1038+AH1038+AP1038+AJ1038+AL1038+AN1038-U1038","v":0}]
[{"$f":"'WEEKLY PAYMENTS'!B1039","v":0},null,{"$f":"A1039-$B$3","v":0},{"$f":"IF(C1039>0,IF(C1039<$D$4,C1039*$D$2,$D$4*$D$2),0)","v":0},{"$f":"C1039-$D$4","v":-198},{"$f":"IF(E1039>0,IF(E1039<$F$4,E1039*$F$2,$F$4*$F$2),0)","v":0},{"$f":"E1039-$F$4","v":-342},{"$f":"IF(G1039>0,IF(G1039<$H$4,G1039*$H$2,$H$4*$H$2),0)","v":0},{"$f":"G1039-$H$4","v":-402},{"$f":"IF(I1039>0,IF(I1039<$J$4,I1039*$J$2,$J$4*$J$2),0)","v":0},{"$f":"I1039-$J$4","v":-576},{"$f":"IF(K1039>0,IF(K1039<$L$4,K1039*$L$2,$L$4*$L$2),0)","v":0},{"$f":"K1039-$L$4","v":-673},{"$f":"IF(M1039>0,IF(M1039<$N$4,M1039*$N$2,$N$4*$N$2),0)","v":0},{"$f":"M1039-$N$4","v":-1225},{"$f":"IF(O1039>0,IF(O1039<$P$4,O1039*$P$2,$P$4*$P$2),0)","v":0},{"$f":"O1039-$P$4","v":-1538},{"$f":"IF(Q1039>0,IF(Q1039<$R$4,Q1039*$R$2,$R$4*$R$2),0)","v":0},{"$f":"Q1039-$R$4","v":-3461},{"$f":"IF(S1039>0,S1039*$T$2,0)","v":0},{"$f":"D1039+F1039+H1039+J1039+L1039+T1039+N1039+P1039+R1039","v":0},null,{"$f":"'WEEKLY PAYMENTS'!B1039+'WEEKLY PAYMENTS'!G1039","v":0},null,{"$f":"W1039-$B$3","v":0},{"$f":"IF(Y1039>0,IF(Y1039<$D$4,Y1039*$D$2,$D$4*$D$2),0)","v":0},{"$f":"Y1039-$D$4","v":-198},{"$f":"IF(AA1039>0,IF(AA1039<$F$4,AA1039*$F$2,$F$4*$F$2),0)","v":0},{"$f":"AA1039-$F$4","v":-342},{"$f":"IF(AC1039>0,IF(AC1039<$H$4,AC1039*$H$2,$H$4*$H$2),0)","v":0},{"$f":"AC1039-$H$4","v":-402},{"$f":"IF(AE1039>0,IF(AE1039<$J$4,AE1039*$J$2,$J$4*$J$2),0)","v":0},{"$f":"AE1039-$J$4","v":-576},{"$f":"IF(AG1039>0,IF(AG1039<$L$4,AG1039*$L$2,$L$4*$L$2),0)","v":0},{"$f":"AG1039-$L$4","v":-673},{"$f":"IF(AI1039>0,IF(AI1039<$N$4,AI1039*$N$2,$N$4*$N$2),0)","v":0},{"$f":"AI1039-$N$4","v":-1225},{"$f":"IF(AK1039>0,IF(AK1039<$P$4,AK1039*$P$2,$P$4*$P$2),0)","v":0},{"$f":"AK1039-$P$4","v":-1538},{"$f":"IF(AM1039>0,IF(AM1039<$R$4,AM1039*$R$2,$R$4*$R$2),0)","v":0},{"$f":"AM1039-$R$4","v":-3461},{"$f":"IF(AO1039>0,AO1039*$T$2,0)","v":0},{"$f":"Z1039+AB1039+AD1039+AF1039+AH1039+AP1039+AJ1039+AL1039+AN1039-U1039","v":0}]
[{"$f":"'WEEKLY PAYMENTS'!B1040","v":0},null,0,0,-198,0,-342,0,-402,0,-576,0,-673,0,-1225,0,-1538,0,-3461,0,0,null,{"$f":"'WEEKLY PAYMENTS'!B1040+'WEEKLY PAYMENTS'!G1040","v":0},null,0,0,-198,0,-342,0,-402,0,-576,0,-673,0,-1225,0,-1538,0,-3461,0,0]
[{"$f":"'WEEKLY PAYMENTS'!B1041","v":0},null,0,0,-198,0,-342,0,-402,0,-576,0,-673,0,-1225,0,-1538,0,-3461,0,0,null,{"$f":"'WEEKLY PAYMENTS'!B1041+'WEEKLY PAYMENTS'!G1041","v":0},null,0,0,-198,0,-342,0,-402,0,-576,0,-673,0,-1225,0,-1538,0,-3461,0,0]
[{"$f":"'WEEKLY PAYMENTS'!B1042","v":0},null,0,0,-198,0,-342,0,-402,0,-576,0,-673,0,-1225,0,-1538,0,-3461,0,0,null,{"$f":"'WEEKLY PAYMENTS'!B1042+'WEEKLY PAYMENTS'!G1042","v":0},null,0,0,-198,0,-342,0,-402,0,-576,0,-673,0,-1225,0,-1538,0,-3461,0,0]
[{"$f":"'WEEKLY PAYMENTS'!B1043","v":0},null,0,0,-198,0,-342,0,-402,0,-576,0,-673,0,-1225,0,-1538,0,-3461,0,0,null,{"$f":"'WEEKLY PAYMENTS'!B1043+'WEEKLY PAYMENTS'!G1043","v":0},null,0,0,-198,0,-342,0,-402,0,-576,0,-673,0,-1225,0,-1538,0,-3461,0,0]
[{"$f":"'WEEKLY PAYMENTS'!B1044","v":0},null,0,0,-198,0,-342,0,-402,0,-576,0,-673,0,-1225,0,-1538,0,-3461,0,0,null,{"$f":"'WEEKLY PAYMENTS'!B1044+'WEEKLY PAYMENTS'!G1044","v":0},null,0,0,-198,0,-342,0,-402,0,-576,0,-673,0,-1225,0,-1538,0,-3461,0,0]
[{"$f":"'WEEKLY PAYMENTS'!B1045","v":0},null,0,0,-198,0,-342,0,-402,0,-576,0,-673,0,-1225,0,-1538,0,-3461,0,0,null,{"$f":"'WEEKLY PAYMENTS'!B1045+'WEEKLY PAYMENTS'!G1045","v":0},null,0,0,-198,0,-342,0,-402,0,-576,0,-673,0,-1225,0,-1538,0,-3461,0,0]
[{"$f":"'WEEKLY PAYMENTS'!B1046","v":0},null,0,0,-198,0,-342,0,-402,0,-576,0,-673,0,-1225,0,-1538,0,-3461,0,0,null,{"$f":"'WEEKLY PAYMENTS'!B1046+'WEEKLY PAYMENTS'!G1046","v":0},null,0,0,-198,0,-342,0,-402,0,-576,0,-673,0,-1225,0,-1538,0,-3461,0,0]
[{"$f":"'WEEKLY PAYMENTS'!B1047","v":0},null,0,0,-198,0,-342,0,-402,0,-576,0,-673,0,-1225,0,-1538,0,-3461,0,0,null,{"$f":"'WEEKLY PAYMENTS'!B1047+'WEEKLY PAYMENTS'!G1047","v":0},null,0,0,-198,0,-342,0,-402,0,-576,0,-673,0,-1225,0,-1538,0,-3461,0,0]
[{"$f":"'WEEKLY PAYMENTS'!B1048","v":0},null,0,0,-198,0,-342,0,-402,0,-576,0,-673,0,-1225,0,-1538,0,-3461,0,0,null,{"$f":"'WEEKLY PAYMENTS'!B1048+'WEEKLY PAYMENTS'!G1048","v":0},null,0,0,-198,0,-342,0,-402,0,-576,0,-673,0,-1225,0,-1538,0,-3461,0,0]
[{"$f":"'WEEKLY PAYMENTS'!B1049","v":0},null,0,0,-198,0,-342,0,-402,0,-576,0,-673,0,-1225,0,-1538,0,-3461,0,0,null,{"$f":"'WEEKLY PAYMENTS'!B1049+'WEEKLY PAYMENTS'!G1049","v":0},null,0,0,-198,0,-342,0,-402,0,-576,0,-673,0,-1225,0,-1538,0,-3461,0,0]
[{"$f":"'WEEKLY PAYMENTS'!B1050","v":0},null,0,0,-198,0,-342,0,-402,0,-576,0,-673,0,-1225,0,-1538,0,-3461,0,0,null,{"$f":"'WEEKLY PAYMENTS'!B1050+'WEEKLY PAYMENTS'!G1050","v":0},null,0,0,-198,0,-342,0,-402,0,-576,0,-673,0,-1225,0,-1538,0,-3461,0,0]
[{"$f":"'WEEKLY PAYMENTS'!B1051","v":0},null,0,0,-198,0,-342,0,-402,0,-576,0,-673,0,-1225,0,-1538,0,-3461,0,0,null,{"$f":"'WEEKLY PAYMENTS'!B1051+'WEEKLY PAYMENTS'!G1051","v":0},null,0,0,-198,0,-342,0,-402,0,-576,0,-673,0,-1225,0,-1538,0,-3461,0,0]
[{"$f":"'WEEKLY PAYMENTS'!B1052","v":0},null,0,0,-198,0,-342,0,-402,0,-576,0,-673,0,-1225,0,-1538,0,-3461,0,0,null,{"$f":"'WEEKLY PAYMENTS'!B1052+'WEEKLY PAYMENTS'!G1052","v":0},null,0,0,-198,0,-342,0,-402,0,-576,0,-673,0,-1225,0,-1538,0,-3461,0,0]
[{"$f":"'WEEKLY PAYMENTS'!B1053","v":0},null,0,0,-198,0,-342,0,-402,0,-576,0,-673,0,-1225,0,-1538,0,-3461,0,0,null,{"$f":"'WEEKLY PAYMENTS'!B1053+'WEEKLY PAYMENTS'!G1053","v":0},null,0,0,-198,0,-342,0,-402,0,-576,0,-673,0,-1225,0,-1538,0,-3461,0,0]
[{"$f":"'WEEKLY PAYMENTS'!B1054","v":0},null,0,0,-198,0,-342,0,-402,0,-576,0,-673,0,-1225,0,-1538,0,-3461,0,0,null,{"$f":"'WEEKLY PAYMENTS'!B1054+'WEEKLY PAYMENTS'!G1054","v":0},null,0,0,-198,0,-342,0,-402,0,-576,0,-673,0,-1225,0,-1538,0,-3461,0,0]
[{"$f":"'WEEKLY PAYMENTS'!B1055","v":0},null,0,0,-198,0,-342,0,-402,0,-576,0,-673,0,-1225,0,-1538,0,-3461,0,0,null,{"$f":"'WEEKLY PAYMENTS'!B1055+'WEEKLY PAYMENTS'!G1055","v":0},null,0,0,-198,0,-342,0,-402,0,-576,0,-673,0,-1225,0,-1538,0,-3461,0,0]
[{"$f":"'WEEKLY PAYMENTS'!B1056","v":0},null,0,0,-198,0,-342,0,-402,0,-576,0,-673,0,-1225,0,-1538,0,-3461,0,0,null,{"$f":"'WEEKLY PAYMENTS'!B1056+'WEEKLY PAYMENTS'!G1056","v":0},null,0,0,-198,0,-342,0,-402,0,-576,0,-673,0,-1225,0,-1538,0,-3461,0,0]
[{"$f":"'WEEKLY PAYMENTS'!B1057","v":0},null,0,0,-198,0,-342,0,-402,0,-576,0,-673,0,-1225,0,-1538,0,-3461,0,0,null,{"$f":"'WEEKLY PAYMENTS'!B1057+'WEEKLY PAYMENTS'!G1057","v":0},null,0,0,-198,0,-342,0,-402,0,-576,0,-673,0,-1225,0,-1538,0,-3461,0,0]
[{"$f":"'WEEKLY PAYMENTS'!B1058","v":0},null,0,0,-198,0,-342,0,-402,0,-576,0,-673,0,-1225,0,-1538,0,-3461,0,0,null,{"$f":"IF('WEEKLY PAYMENTS'!B1058<>\"\",'WEEKLY PAYMENTS'!B1058+'WEEKLY PAYMENTS'!G1058,0)","v":0},null,0,0,-198,0,-342,0,-402,0,-576,0,-673,0,-1225,0,-1538,0,-3461,0,0]
[{"$f":"'WEEKLY PAYMENTS'!B1059","v":0},null,0,0,-198,0,-342,0,-402,0,-576,0,-673,0,-1225,0,-1538,0,-3461,0,0,null,{"$f":"IF('WEEKLY PAYMENTS'!B1059<>\"\",'WEEKLY PAYMENTS'!B1059+'WEEKLY PAYMENTS'!G1059,0)","v":0},null,0,0,-198,0,-342,0,-402,0,-576,0,-673,0,-1225,0,-1538,0,-3461,0,0]
[{"$f":"'WEEKLY PAYMENTS'!B1060","v":0},null,0,0,-198,0,-342,0,-402,0,-576,0,-673,0,-1225,0,-1538,0,-3461,0,0,null,{"$f":"IF('WEEKLY PAYMENTS'!B1060<>\"\",'WEEKLY PAYMENTS'!B1060+'WEEKLY PAYMENTS'!G1060,0)","v":0},null,0,0,-198,0,-342,0,-402,0,-576,0,-673,0,-1225,0,-1538,0,-3461,0,0]
[{"$f":"'WEEKLY PAYMENTS'!B1061","v":0},null,0,0,-198,0,-342,0,-402,0,-576,0,-673,0,-1225,0,-1538,0,-3461,0,0,null,{"$f":"IF('WEEKLY PAYMENTS'!B1061<>\"\",'WEEKLY PAYMENTS'!B1061+'WEEKLY PAYMENTS'!G1061,0)","v":0},null,0,0,-198,0,-342,0,-402,0,-576,0,-673,0,-1225,0,-1538,0,-3461,0,0]
[{"$f":"'WEEKLY PAYMENTS'!B1062","v":0},null,0,0,-198,0,-342,0,-402,0,-576,0,-673,0,-1225,0,-1538,0,-3461,0,0,null,{"$f":"IF('WEEKLY PAYMENTS'!B1062<>\"\",'WEEKLY PAYMENTS'!B1062+'WEEKLY PAYMENTS'!G1062,0)","v":0},null,0,0,-198,0,-342,0,-402,0,-576,0,-673,0,-1225,0,-1538,0,-3461,0,0]
[{"$f":"'WEEKLY PAYMENTS'!B1063","v":0},null,0,0,-198,0,-342,0,-402,0,-576,0,-673,0,-1225,0,-1538,0,-3461,0,0,null,{"$f":"IF('WEEKLY PAYMENTS'!B1063<>\"\",'WEEKLY PAYMENTS'!B1063+'WEEKLY PAYMENTS'!G1063,0)","v":0},null,0,0,-198,0,-342,0,-402,0,-576,0,-673,0,-1225,0,-1538,0,-3461,0,0]
[{"$f":"'WEEKLY PAYMENTS'!B1064","v":0},null,0,0,-198,0,-342,0,-402,0,-576,0,-673,0,-1225,0,-1538,0,-3461,0,0,null,{"$f":"IF('WEEKLY PAYMENTS'!B1064<>\"\",'WEEKLY PAYMENTS'!B1064+'WEEKLY PAYMENTS'!G1064,0)","v":0},null,0,0,-198,0,-342,0,-402,0,-576,0,-673,0,-1225,0,-1538,0,-3461,0,0]
[{"$f":"'WEEKLY PAYMENTS'!B1065","v":0},null,0,0,-198,0,-342,0,-402,0,-576,0,-673,0,-1225,0,-1538,0,-3461,0,0,null,{"$f":"IF('WEEKLY PAYMENTS'!B1065<>\"\",'WEEKLY PAYMENTS'!B1065+'WEEKLY PAYMENTS'!G1065,0)","v":0},null,0,0,-198,0,-342,0,-402,0,-576,0,-673,0,-1225,0,-1538,0,-3461,0,0]
[{"$f":"'WEEKLY PAYMENTS'!B1066","v":0},null,0,0,-198,0,-342,0,-402,0,-576,0,-673,0,-1225,0,-1538,0,-3461,0,0,null,{"$f":"IF('WEEKLY PAYMENTS'!B1066<>\"\",'WEEKLY PAYMENTS'!B1066+'WEEKLY PAYMENTS'!G1066,0)","v":0},null,0,0,-198,0,-342,0,-402,0,-576,0,-673,0,-1225,0,-1538,0,-3461,0,0]
[{"$f":"'WEEKLY PAYMENTS'!B1067","v":0},null,0,0,-198,0,-342,0,-402,0,-576,0,-673,0,-1225,0,-1538,0,-3461,0,0,null,{"$f":"IF('WEEKLY PAYMENTS'!B1067<>\"\",'WEEKLY PAYMENTS'!B1067+'WEEKLY PAYMENTS'!G1067,0)","v":0},null,0,0,-198,0,-342,0,-402,0,-576,0,-673,0,-1225,0,-1538,0,-3461,0,0]
[{"$f":"'WEEKLY PAYMENTS'!B1068","v":0},null,0,0,-198,0,-342,0,-402,0,-576,0,-673,0,-1225,0,-1538,0,-3461,0,0,null,{"$f":"IF('WEEKLY PAYMENTS'!B1068<>\"\",'WEEKLY PAYMENTS'!B1068+'WEEKLY PAYMENTS'!G1068,0)","v":0},null,0,0,-198,0,-342,0,-402,0,-576,0,-673,0,-1225,0,-1538,0,-3461,0,0]
[{"$f":"'WEEKLY PAYMENTS'!B1069","v":0},null,0,0,-198,0,-342,0,-402,0,-576,0,-673,0,-1225,0,-1538,0,-3461,0,0,null,{"$f":"IF('WEEKLY PAYMENTS'!B1069<>\"\",'WEEKLY PAYMENTS'!B1069+'WEEKLY PAYMENTS'!G1069,0)","v":0},null,0,0,-198,0,-342,0,-402,0,-576,0,-673,0,-1225,0,-1538,0,-3461,0,0]
[{"$f":"'WEEKLY PAYMENTS'!B1070","v":0},null,0,0,-198,0,-342,0,-402,0,-576,0,-673,0,-1225,0,-1538,0,-3461,0,0,null,{"$f":"IF('WEEKLY PAYMENTS'!B1070<>\"\",'WEEKLY PAYMENTS'!B1070+'WEEKLY PAYMENTS'!G1070,0)","v":0},null,0,0,-198,0,-342,0,-402,0,-576,0,-673,0,-1225,0,-1538,0,-3461,0,0]
[{"$f":"'WEEKLY PAYMENTS'!B1071","v":0},null,0,0,-198,0,-342,0,-402,0,-576,0,-673,0,-1225,0,-1538,0,-3461,0,0,null,{"$f":"IF('WEEKLY PAYMENTS'!B1071<>\"\",'WEEKLY PAYMENTS'!B1071+'WEEKLY PAYMENTS'!G1071,0)","v":0},null,0,0,-198,0,-342,0,-402,0,-576,0,-673,0,-1225,0,-1538,0,-3461,0,0]
[{"$f":"'WEEKLY PAYMENTS'!B1072","v":0},null,0,0,-198,0,-342,0,-402,0,-576,0,-673,0,-1225,0,-1538,0,-3461,0,0,null,{"$f":"IF('WEEKLY PAYMENTS'!B1072<>\"\",'WEEKLY PAYMENTS'!B1072+'WEEKLY PAYMENTS'!G1072,0)","v":0},null,0,0,-198,0,-342,0,-402,0,-576,0,-673,0,-1225,0,-1538,0,-3461,0,0]
[{"$f":"'WEEKLY PAYMENTS'!B1073","v":0},null,0,0,-198,0,-342,0,-402,0,-576,0,-673,0,-1225,0,-1538,0,-3461,0,0,null,{"$f":"IF('WEEKLY PAYMENTS'!B1073<>\"\",'WEEKLY PAYMENTS'!B1073+'WEEKLY PAYMENTS'!G1073,0)","v":0},null,0,0,-198,0,-342,0,-402,0,-576,0,-673,0,-1225,0,-1538,0,-3461,0,0]
[{"$f":"'WEEKLY PAYMENTS'!B1074","v":0},null,0,0,-198,0,-342,0,-402,0,-576,0,-673,0,-1225,0,-1538,0,-3461,0,0,null,{"$f":"IF('WEEKLY PAYMENTS'!B1074<>\"\",'WEEKLY PAYMENTS'!B1074+'WEEKLY PAYMENTS'!G1074,0)","v":0},null,0,0,-198,0,-342,0,-402,0,-576,0,-673,0,-1225,0,-1538,0,-3461,0,0]
[{"$f":"'WEEKLY PAYMENTS'!B1075","v":0},null,0,0,-198,0,-342,0,-402,0,-576,0,-673,0,-1225,0,-1538,0,-3461,0,0,null,{"$f":"IF('WEEKLY PAYMENTS'!B1075<>\"\",'WEEKLY PAYMENTS'!B1075+'WEEKLY PAYMENTS'!G1075,0)","v":0},null,0,0,-198,0,-342,0,-402,0,-576,0,-673,0,-1225,0,-1538,0,-3461,0,0]
[{"$f":"'WEEKLY PAYMENTS'!B1076","v":0},null,0,0,-198,0,-342,0,-402,0,-576,0,-673,0,-1225,0,-1538,0,-3461,0,0,null,{"$f":"IF('WEEKLY PAYMENTS'!B1076<>\"\",'WEEKLY PAYMENTS'!B1076+'WEEKLY PAYMENTS'!G1076,0)","v":0},null,0,0,-198,0,-342,0,-402,0,-576,0,-673,0,-1225,0,-1538,0,-3461,0,0]
[{"$f":"'WEEKLY PAYMENTS'!B1077","v":0},null,0,0,-198,0,-342,0,-402,0,-576,0,-673,0,-1225,0,-1538,0,-3461,0,0,null,{"$f":"IF('WEEKLY PAYMENTS'!B1077<>\"\",'WEEKLY PAYMENTS'!B1077+'WEEKLY PAYMENTS'!G1077,0)","v":0},null,0,0,-198,0,-342,0,-402,0,-576,0,-673,0,-1225,0,-1538,0,-3461,0,0]
[{"$f":"'WEEKLY PAYMENTS'!B1078","v":0},null,0,0,-198,0,-342,0,-402,0,-576,0,-673,0,-1225,0,-1538,0,-3461,0,0,null,{"$f":"IF('WEEKLY PAYMENTS'!B1078<>\"\",'WEEKLY PAYMENTS'!B1078+'WEEKLY PAYMENTS'!G1078,0)","v":0},null,0,0,-198,0,-342,0,-402,0,-576,0,-673,0,-1225,0,-1538,0,-3461,0,0]
[{"$f":"'WEEKLY PAYMENTS'!B1079","v":0},null,0,0,-198,0,-342,0,-402,0,-576,0,-673,0,-1225,0,-1538,0,-3461,0,0,null,{"$f":"IF('WEEKLY PAYMENTS'!B1079<>\"\",'WEEKLY PAYMENTS'!B1079+'WEEKLY PAYMENTS'!G1079,0)","v":0},null,0,0,-198,0,-342,0,-402,0,-576,0,-673,0,-1225,0,-1538,0,-3461,0,0]
[{"$f":"'WEEKLY PAYMENTS'!B1080","v":0},null,0,0,-198,0,-342,0,-402,0,-576,0,-673,0,-1225,0,-1538,0,-3461,0,0,null,{"$f":"IF('WEEKLY PAYMENTS'!B1080<>\"\",'WEEKLY PAYMENTS'!B1080+'WEEKLY PAYMENTS'!G1080,0)","v":0},null,0,0,-198,0,-342,0,-402,0,-576,0,-673,0,-1225,0,-1538,0,-3461,0,0]
[{"$f":"'WEEKLY PAYMENTS'!B1081","v":0},null,0,0,-198,0,-342,0,-402,0,-576,0,-673,0,-1225,0,-1538,0,-3461,0,0,null,{"$f":"IF('WEEKLY PAYMENTS'!B1081<>\"\",'WEEKLY PAYMENTS'!B1081+'WEEKLY PAYMENTS'!G1081,0)","v":0},null,0,0,-198,0,-342,0,-402,0,-576,0,-673,0,-1225,0,-1538,0,-3461,0,0]
[{"$f":"'WEEKLY PAYMENTS'!B1082","v":0},null,0,0,-198,0,-342,0,-402,0,-576,0,-673,0,-1225,0,-1538,0,-3461,0,0,null,{"$f":"IF('WEEKLY PAYMENTS'!B1082<>\"\",'WEEKLY PAYMENTS'!B1082+'WEEKLY PAYMENTS'!G1082,0)","v":0},null,0,0,-198,0,-342,0,-402,0,-576,0,-673,0,-1225,0,-1538,0,-3461,0,0]
[{"$f":"'WEEKLY PAYMENTS'!B1083","v":0},null,0,0,-198,0,-342,0,-402,0,-576,0,-673,0,-1225,0,-1538,0,-3461,0,0,null,{"$f":"IF('WEEKLY PAYMENTS'!B1083<>\"\",'WEEKLY PAYMENTS'!B1083+'WEEKLY PAYMENTS'!G1083,0)","v":0},null,0,0,-198,0,-342,0,-402,0,-576,0,-673,0,-1225,0,-1538,0,-3461,0,0]
[{"$f":"'WEEKLY PAYMENTS'!B1084","v":0},null,0,0,-198,0,-342,0,-402,0,-576,0,-673,0,-1225,0,-1538,0,-3461,0,0,null,{"$f":"IF('WEEKLY PAYMENTS'!B1084<>\"\",'WEEKLY PAYMENTS'!B1084+'WEEKLY PAYMENTS'!G1084,0)","v":0},null,0,0,-198,0,-342,0,-402,0,-576,0,-673,0,-1225,0,-1538,0,-3461,0,0]
[{"$f":"'WEEKLY PAYMENTS'!B1085","v":0},null,0,0,-198,0,-342,0,-402,0,-576,0,-673,0,-1225,0,-1538,0,-3461,0,0,null,{"$f":"IF('WEEKLY PAYMENTS'!B1085<>\"\",'WEEKLY PAYMENTS'!B1085+'WEEKLY PAYMENTS'!G1085,0)","v":0},null,0,0,-198,0,-342,0,-402,0,-576,0,-673,0,-1225,0,-1538,0,-3461,0,0]
[{"$f":"'WEEKLY PAYMENTS'!B1086","v":0},null,0,0,-198,0,-342,0,-402,0,-576,0,-673,0,-1225,0,-1538,0,-3461,0,0,null,{"$f":"IF('WEEKLY PAYMENTS'!B1086<>\"\",'WEEKLY PAYMENTS'!B1086+'WEEKLY PAYMENTS'!G1086,0)","v":0},null,0,0,-198,0,-342,0,-402,0,-576,0,-673,0,-1225,0,-1538,0,-3461,0,0]
[{"$f":"'WEEKLY PAYMENTS'!B1087","v":0},null,0,0,-198,0,-342,0,-402,0,-576,0,-673,0,-1225,0,-1538,0,-3461,0,0,null,{"$f":"IF('WEEKLY PAYMENTS'!B1087<>\"\",'WEEKLY PAYMENTS'!B1087+'WEEKLY PAYMENTS'!G1087,0)","v":0},null,0,0,-198,0,-342,0,-402,0,-576,0,-673,0,-1225,0,-1538,0,-3461,0,0]
[{"$f":"'WEEKLY PAYMENTS'!B1088","v":0},null,0,0,-198,0,-342,0,-402,0,-576,0,-673,0,-1225,0,-1538,0,-3461,0,0,null,{"$f":"IF('WEEKLY PAYMENTS'!B1088<>\"\",'WEEKLY PAYMENTS'!B1088+'WEEKLY PAYMENTS'!G1088,0)","v":0},null,0,0,-198,0,-342,0,-402,0,-576,0,-673,0,-1225,0,-1538,0,-3461,0,0]
[{"$f":"'WEEKLY PAYMENTS'!B1089","v":0},null,0,0,-198,0,-342,0,-402,0,-576,0,-673,0,-1225,0,-1538,0,-3461,0,0,null,{"$f":"IF('WEEKLY PAYMENTS'!B1089<>\"\",'WEEKLY PAYMENTS'!B1089+'WEEKLY PAYMENTS'!G1089,0)","v":0},null,0,0,-198,0,-342,0,-402,0,-576,0,-673,0,-1225,0,-1538,0,-3461,0,0]
[{"$f":"'WEEKLY PAYMENTS'!B1090","v":0},null,0,0,-198,0,-342,0,-402,0,-576,0,-673,0,-1225,0,-1538,0,-3461,0,0,null,{"$f":"IF('WEEKLY PAYMENTS'!B1090<>\"\",'WEEKLY PAYMENTS'!B1090+'WEEKLY PAYMENTS'!G1090,0)","v":0},null,0,0,-198,0,-342,0,-402,0,-576,0,-673,0,-1225,0,-1538,0,-3461,0,0]
[{"$f":"'WEEKLY PAYMENTS'!B1091","v":0},null,0,0,-198,0,-342,0,-402,0,-576,0,-673,0,-1225,0,-1538,0,-3461,0,0,null,{"$f":"IF('WEEKLY PAYMENTS'!B1091<>\"\",'WEEKLY PAYMENTS'!B1091+'WEEKLY PAYMENTS'!G1091,0)","v":0},null,0,0,-198,0,-342,0,-402,0,-576,0,-673,0,-1225,0,-1538,0,-3461,0,0]
[{"$f":"'WEEKLY PAYMENTS'!B1092","v":0},null,0,0,-198,0,-342,0,-402,0,-576,0,-673,0,-1225,0,-1538,0,-3461,0,0,null,{"$f":"IF('WEEKLY PAYMENTS'!B1092<>\"\",'WEEKLY PAYMENTS'!B1092+'WEEKLY PAYMENTS'!G1092,0)","v":0},null,0,0,-198,0,-342,0,-402,0,-576,0,-673,0,-1225,0,-1538,0,-3461,0,0]
[{"$f":"'WEEKLY PAYMENTS'!B1093","v":0},null,0,0,-198,0,-342,0,-402,0,-576,0,-673,0,-1225,0,-1538,0,-3461,0,0,null,{"$f":"IF('WEEKLY PAYMENTS'!B1093<>\"\",'WEEKLY PAYMENTS'!B1093+'WEEKLY PAYMENTS'!G1093,0)","v":0},null,0,0,-198,0,-342,0,-402,0,-576,0,-673,0,-1225,0,-1538,0,-3461,0,0]
[{"$f":"'WEEKLY PAYMENTS'!B1094","v":0},null,0,0,-198,0,-342,0,-402,0,-576,0,-673,0,-1225,0,-1538,0,-3461,0,0,null,{"$f":"IF('WEEKLY PAYMENTS'!B1094<>\"\",'WEEKLY PAYMENTS'!B1094+'WEEKLY PAYMENTS'!G1094,0)","v":0},null,0,0,-198,0,-342,0,-402,0,-576,0,-673,0,-1225,0,-1538,0,-3461,0,0]
[{"$f":"'WEEKLY PAYMENTS'!B1095","v":0},null,0,0,-198,0,-342,0,-402,0,-576,0,-673,0,-1225,0,-1538,0,-3461,0,0,null,{"$f":"IF('WEEKLY PAYMENTS'!B1095<>\"\",'WEEKLY PAYMENTS'!B1095+'WEEKLY PAYMENTS'!G1095,0)","v":0},null,0,0,-198,0,-342,0,-402,0,-576,0,-673,0,-1225,0,-1538,0,-3461,0,0]
[{"$f":"'WEEKLY PAYMENTS'!B1096","v":0},null,0,0,-198,0,-342,0,-402,0,-576,0,-673,0,-1225,0,-1538,0,-3461,0,0,null,{"$f":"IF('WEEKLY PAYMENTS'!B1096<>\"\",'WEEKLY PAYMENTS'!B1096+'WEEKLY PAYMENTS'!G1096,0)","v":0},null,0,0,-198,0,-342,0,-402,0,-576,0,-673,0,-1225,0,-1538,0,-3461,0,0]
[{"$f":"'WEEKLY PAYMENTS'!B1097","v":0},null,0,0,-198,0,-342,0,-402,0,-576,0,-673,0,-1225,0,-1538,0,-3461,0,0,null,{"$f":"IF('WEEKLY PAYMENTS'!B1097<>\"\",'WEEKLY PAYMENTS'!B1097+'WEEKLY PAYMENTS'!G1097,0)","v":0},null,0,0,-198,0,-342,0,-402,0,-576,0,-673,0,-1225,0,-1538,0,-3461,0,0]
[{"$f":"'WEEKLY PAYMENTS'!B1098","v":0},null,0,0,-198,0,-342,0,-402,0,-576,0,-673,0,-1225,0,-1538,0,-3461,0,0,null,{"$f":"IF('WEEKLY PAYMENTS'!B1098<>\"\",'WEEKLY PAYMENTS'!B1098+'WEEKLY PAYMENTS'!G1098,0)","v":0},null,0,0,-198,0,-342,0,-402,0,-576,0,-673,0,-1225,0,-1538,0,-3461,0,0]
[{"$f":"'WEEKLY PAYMENTS'!B1099","v":0},null,0,0,-198,0,-342,0,-402,0,-576,0,-673,0,-1225,0,-1538,0,-3461,0,0,null,{"$f":"IF('WEEKLY PAYMENTS'!B1099<>\"\",'WEEKLY PAYMENTS'!B1099+'WEEKLY PAYMENTS'!G1099,0)","v":0},null,0,0,-198,0,-342,0,-402,0,-576,0,-673,0,-1225,0,-1538,0,-3461,0,0]
[{"$f":"'WEEKLY PAYMENTS'!B1100","v":0},null,0,0,-198,0,-342,0,-402,0,-576,0,-673,0,-1225,0,-1538,0,-3461,0,0,null,{"$f":"IF('WEEKLY PAYMENTS'!B1100<>\"\",'WEEKLY PAYMENTS'!B1100+'WEEKLY PAYMENTS'!G1100,0)","v":0},null,0,0,-198,0,-342,0,-402,0,-576,0,-673,0,-1225,0,-1538,0,-3461,0,0]
[{"$f":"'WEEKLY PAYMENTS'!B1101","v":0},null,0,0,-198,0,-342,0,-402,0,-576,0,-673,0,-1225,0,-1538,0,-3461,0,0,null,{"$f":"IF('WEEKLY PAYMENTS'!B1101<>\"\",'WEEKLY PAYMENTS'!B1101+'WEEKLY PAYMENTS'!G1101,0)","v":0},null,0,0,-198,0,-342,0,-402,0,-576,0,-673,0,-1225,0,-1538,0,-3461,0,0]
[{"$f":"'WEEKLY PAYMENTS'!B1102","v":0},null,0,0,-198,0,-342,0,-402,0,-576,0,-673,0,-1225,0,-1538,0,-3461,0,0,null,{"$f":"IF('WEEKLY PAYMENTS'!B1102<>\"\",'WEEKLY PAYMENTS'!B1102+'WEEKLY PAYMENTS'!G1102,0)","v":0},null,0,0,-198,0,-342,0,-402,0,-576,0,-673,0,-1225,0,-1538,0,-3461,0,0]
[{"$f":"'WEEKLY PAYMENTS'!B1103","v":0},null,{"$f":"A1103-$B$3","v":0},{"$f":"IF(C1103>0,IF(C1103<$D$4,C1103*$D$2,$D$4*$D$2),0)","v":0},{"$f":"C1103-$D$4","v":-198},{"$f":"IF(E1103>0,IF(E1103<$F$4,E1103*$F$2,$F$4*$F$2),0)","v":0},{"$f":"E1103-$F$4","v":-342},{"$f":"IF(G1103>0,IF(G1103<$H$4,G1103*$H$2,$H$4*$H$2),0)","v":0},{"$f":"G1103-$H$4","v":-402},{"$f":"IF(I1103>0,IF(I1103<$J$4,I1103*$J$2,$J$4*$J$2),0)","v":0},{"$f":"I1103-$J$4","v":-576},{"$f":"IF(K1103>0,IF(K1103<$L$4,K1103*$L$2,$L$4*$L$2),0)","v":0},{"$f":"K1103-$L$4","v":-673},{"$f":"IF(M1103>0,IF(M1103<$N$4,M1103*$N$2,$N$4*$N$2),0)","v":0},{"$f":"M1103-$N$4","v":-1225},{"$f":"IF(O1103>0,IF(O1103<$P$4,O1103*$P$2,$P$4*$P$2),0)","v":0},{"$f":"O1103-$P$4","v":-1538},{"$f":"IF(Q1103>0,IF(Q1103<$R$4,Q1103*$R$2,$R$4*$R$2),0)","v":0},{"$f":"Q1103-$R$4","v":-3461},{"$f":"IF(S1103>0,S1103*$T$2,0)","v":0},{"$f":"D1103+F1103+H1103+J1103+L1103+T1103+N1103+P1103+R1103","v":0},null,{"$f":"IF('WEEKLY PAYMENTS'!B1103<>\"\",'WEEKLY PAYMENTS'!B1103+'WEEKLY PAYMENTS'!G1103,0)","v":0},null,{"$f":"W1103-$B$3","v":0},{"$f":"IF(Y1103>0,IF(Y1103<$D$4,Y1103*$D$2,$D$4*$D$2),0)","v":0},{"$f":"Y1103-$D$4","v":-198},{"$f":"IF(AA1103>0,IF(AA1103<$F$4,AA1103*$F$2,$F$4*$F$2),0)","v":0},{"$f":"AA1103-$F$4","v":-342},{"$f":"IF(AC1103>0,IF(AC1103<$H$4,AC1103*$H$2,$H$4*$H$2),0)","v":0},{"$f":"AC1103-$H$4","v":-402},{"$f":"IF(AE1103>0,IF(AE1103<$J$4,AE1103*$J$2,$J$4*$J$2),0)","v":0},{"$f":"AE1103-$J$4","v":-576},{"$f":"IF(AG1103>0,IF(AG1103<$L$4,AG1103*$L$2,$L$4*$L$2),0)","v":0},{"$f":"AG1103-$L$4","v":-673},{"$f":"IF(AI1103>0,IF(AI1103<$N$4,AI1103*$N$2,$N$4*$N$2),0)","v":0},{"$f":"AI1103-$N$4","v":-1225},{"$f":"IF(AK1103>0,IF(AK1103<$P$4,AK1103*$P$2,$P$4*$P$2),0)","v":0},{"$f":"AK1103-$P$4","v":-1538},{"$f":"IF(AM1103>0,IF(AM1103<$R$4,AM1103*$R$2,$R$4*$R$2),0)","v":0},{"$f":"AM1103-$R$4","v":-3461},{"$f":"IF(AO1103>0,AO1103*$T$2,0)","v":0},{"$f":"Z1103+AB1103+AD1103+AF1103+AH1103+AP1103+AJ1103+AL1103+AN1103-U1103","v":0}]
[{"$f":"'WEEKLY PAYMENTS'!B1104","v":0},null,0,0,-198,0,-342,0,-402,0,-576,0,-673,0,-1225,0,-1538,0,-3461,0,0,null,{"$f":"IF('WEEKLY PAYMENTS'!B1104<>\"\",'WEEKLY PAYMENTS'!B1104+'WEEKLY PAYMENTS'!G1104,0)","v":0},null,0,0,-198,0,-342,0,-402,0,-576,0,-673,0,-1225,0,-1538,0,-3461,0,0]
[{"$f":"'WEEKLY PAYMENTS'!B1105","v":0},null,0,0,-198,0,-342,0,-402,0,-576,0,-673,0,-1225,0,-1538,0,-3461,0,0,null,{"$f":"IF('WEEKLY PAYMENTS'!B1105<>\"\",'WEEKLY PAYMENTS'!B1105+'WEEKLY PAYMENTS'!G1105,0)","v":0},null,0,0,-198,0,-342,0,-402,0,-576,0,-673,0,-1225,0,-1538,0,-3461,0,0]
[{"$f":"'WEEKLY PAYMENTS'!B1106","v":0},null,0,0,-198,0,-342,0,-402,0,-576,0,-673,0,-1225,0,-1538,0,-3461,0,0,null,{"$f":"IF('WEEKLY PAYMENTS'!B1106<>\"\",'WEEKLY PAYMENTS'!B1106+'WEEKLY PAYMENTS'!G1106,0)","v":0},null,0,0,-198,0,-342,0,-402,0,-576,0,-673,0,-1225,0,-1538,0,-3461,0,0]
[{"$f":"'WEEKLY PAYMENTS'!B1107","v":0},null,0,0,-198,0,-342,0,-402,0,-576,0,-673,0,-1225,0,-1538,0,-3461,0,0,null,{"$f":"IF('WEEKLY PAYMENTS'!B1107<>\"\",'WEEKLY PAYMENTS'!B1107+'WEEKLY PAYMENTS'!G1107,0)","v":0},null,0,0,-198,0,-342,0,-402,0,-576,0,-673,0,-1225,0,-1538,0,-3461,0,0]
[{"$f":"'WEEKLY PAYMENTS'!B1108","v":0},null,0,0,-198,0,-342,0,-402,0,-576,0,-673,0,-1225,0,-1538,0,-3461,0,0,null,{"$f":"IF('WEEKLY PAYMENTS'!B1108<>\"\",'WEEKLY PAYMENTS'!B1108+'WEEKLY PAYMENTS'!G1108,0)","v":0},null,0,0,-198,0,-342,0,-402,0,-576,0,-673,0,-1225,0,-1538,0,-3461,0,0]
[{"$f":"'WEEKLY PAYMENTS'!B1109","v":0},null,0,0,-198,0,-342,0,-402,0,-576,0,-673,0,-1225,0,-1538,0,-3461,0,0,null,{"$f":"IF('WEEKLY PAYMENTS'!B1109<>\"\",'WEEKLY PAYMENTS'!B1109+'WEEKLY PAYMENTS'!G1109,0)","v":0},null,0,0,-198,0,-342,0,-402,0,-576,0,-673,0,-1225,0,-1538,0,-3461,0,0]
[{"$f":"'WEEKLY PAYMENTS'!B1110","v":0},null,0,0,-198,0,-342,0,-402,0,-576,0,-673,0,-1225,0,-1538,0,-3461,0,0,null,{"$f":"IF('WEEKLY PAYMENTS'!B1110<>\"\",'WEEKLY PAYMENTS'!B1110+'WEEKLY PAYMENTS'!G1110,0)","v":0},null,0,0,-198,0,-342,0,-402,0,-576,0,-673,0,-1225,0,-1538,0,-3461,0,0]
[{"$f":"'WEEKLY PAYMENTS'!B1111","v":0},null,0,0,-198,0,-342,0,-402,0,-576,0,-673,0,-1225,0,-1538,0,-3461,0,0,null,{"$f":"IF('WEEKLY PAYMENTS'!B1111<>\"\",'WEEKLY PAYMENTS'!B1111+'WEEKLY PAYMENTS'!G1111,0)","v":0},null,0,0,-198,0,-342,0,-402,0,-576,0,-673,0,-1225,0,-1538,0,-3461,0,0]
[{"$f":"'WEEKLY PAYMENTS'!B1112","v":0},null,0,0,-198,0,-342,0,-402,0,-576,0,-673,0,-1225,0,-1538,0,-3461,0,0,null,{"$f":"IF('WEEKLY PAYMENTS'!B1112<>\"\",'WEEKLY PAYMENTS'!B1112+'WEEKLY PAYMENTS'!G1112,0)","v":0},null,0,0,-198,0,-342,0,-402,0,-576,0,-673,0,-1225,0,-1538,0,-3461,0,0]
[{"$f":"'WEEKLY PAYMENTS'!B1113","v":0},null,0,0,-198,0,-342,0,-402,0,-576,0,-673,0,-1225,0,-1538,0,-3461,0,0,null,{"$f":"IF('WEEKLY PAYMENTS'!B1113<>\"\",'WEEKLY PAYMENTS'!B1113+'WEEKLY PAYMENTS'!G1113,0)","v":0},null,0,0,-198,0,-342,0,-402,0,-576,0,-673,0,-1225,0,-1538,0,-3461,0,0]
[{"$f":"'WEEKLY PAYMENTS'!B1114","v":0},null,0,0,-198,0,-342,0,-402,0,-576,0,-673,0,-1225,0,-1538,0,-3461,0,0,null,{"$f":"IF('WEEKLY PAYMENTS'!B1114<>\"\",'WEEKLY PAYMENTS'!B1114+'WEEKLY PAYMENTS'!G1114,0)","v":0},null,0,0,-198,0,-342,0,-402,0,-576,0,-673,0,-1225,0,-1538,0,-3461,0,0]
[{"$f":"'WEEKLY PAYMENTS'!B1115","v":0},null,0,0,-198,0,-342,0,-402,0,-576,0,-673,0,-1225,0,-1538,0,-3461,0,0,null,{"$f":"IF('WEEKLY PAYMENTS'!B1115<>\"\",'WEEKLY PAYMENTS'!B1115+'WEEKLY PAYMENTS'!G1115,0)","v":0},null,0,0,-198,0,-342,0,-402,0,-576,0,-673,0,-1225,0,-1538,0,-3461,0,0]
[{"$f":"'WEEKLY PAYMENTS'!B1116","v":0},null,0,0,-198,0,-342,0,-402,0,-576,0,-673,0,-1225,0,-1538,0,-3461,0,0,null,{"$f":"IF('WEEKLY PAYMENTS'!B1116<>\"\",'WEEKLY PAYMENTS'!B1116+'WEEKLY PAYMENTS'!G1116,0)","v":0},null,0,0,-198,0,-342,0,-402,0,-576,0,-673,0,-1225,0,-1538,0,-3461,0,0]
[{"$f":"'WEEKLY PAYMENTS'!B1117","v":0},null,0,0,-198,0,-342,0,-402,0,-576,0,-673,0,-1225,0,-1538,0,-3461,0,0,null,{"$f":"IF('WEEKLY PAYMENTS'!B1117<>\"\",'WEEKLY PAYMENTS'!B1117+'WEEKLY PAYMENTS'!G1117,0)","v":0},null,0,0,-198,0,-342,0,-402,0,-576,0,-673,0,-1225,0,-1538,0,-3461,0,0]
[{"$f":"'WEEKLY PAYMENTS'!B1118","v":0},null,0,0,-198,0,-342,0,-402,0,-576,0,-673,0,-1225,0,-1538,0,-3461,0,0,null,{"$f":"IF('WEEKLY PAYMENTS'!B1118<>\"\",'WEEKLY PAYMENTS'!B1118+'WEEKLY PAYMENTS'!G1118,0)","v":0},null,0,0,-198,0,-342,0,-402,0,-576,0,-673,0,-1225,0,-1538,0,-3461,0,0]
[{"$f":"'WEEKLY PAYMENTS'!B1119","v":0},null,0,0,-198,0,-342,0,-402,0,-576,0,-673,0,-1225,0,-1538,0,-3461,0,0,null,{"$f":"IF('WEEKLY PAYMENTS'!B1119<>\"\",'WEEKLY PAYMENTS'!B1119+'WEEKLY PAYMENTS'!G1119,0)","v":0},null,0,0,-198,0,-342,0,-402,0,-576,0,-673,0,-1225,0,-1538,0,-3461,0,0]
[{"$f":"'WEEKLY PAYMENTS'!B1120","v":0},null,0,0,-198,0,-342,0,-402,0,-576,0,-673,0,-1225,0,-1538,0,-3461,0,0,null,{"$f":"IF('WEEKLY PAYMENTS'!B1120<>\"\",'WEEKLY PAYMENTS'!B1120+'WEEKLY PAYMENTS'!G1120,0)","v":0},null,0,0,-198,0,-342,0,-402,0,-576,0,-673,0,-1225,0,-1538,0,-3461,0,0]
[{"$f":"'WEEKLY PAYMENTS'!B1121","v":0},null,0,0,-198,0,-342,0,-402,0,-576,0,-673,0,-1225,0,-1538,0,-3461,0,0,null,{"$f":"IF('WEEKLY PAYMENTS'!B1121<>\"\",'WEEKLY PAYMENTS'!B1121+'WEEKLY PAYMENTS'!G1121,0)","v":0},null,0,0,-198,0,-342,0,-402,0,-576,0,-673,0,-1225,0,-1538,0,-3461,0,0]
[{"$f":"'WEEKLY PAYMENTS'!B1122","v":0},null,0,0,-198,0,-342,0,-402,0,-576,0,-673,0,-1225,0,-1538,0,-3461,0,0,null,{"$f":"IF('WEEKLY PAYMENTS'!B1122<>\"\",'WEEKLY PAYMENTS'!B1122+'WEEKLY PAYMENTS'!G1122,0)","v":0},null,0,0,-198,0,-342,0,-402,0,-576,0,-673,0,-1225,0,-1538,0,-3461,0,0]
[{"$f":"'WEEKLY PAYMENTS'!B1123","v":0},null,0,0,-198,0,-342,0,-402,0,-576,0,-673,0,-1225,0,-1538,0,-3461,0,0,null,{"$f":"IF('WEEKLY PAYMENTS'!B1123<>\"\",'WEEKLY PAYMENTS'!B1123+'WEEKLY PAYMENTS'!G1123,0)","v":0},null,0,0,-198,0,-342,0,-402,0,-576,0,-673,0,-1225,0,-1538,0,-3461,0,0]
[{"$f":"'WEEKLY PAYMENTS'!B1124","v":0},null,0,0,-198,0,-342,0,-402,0,-576,0,-673,0,-1225,0,-1538,0,-3461,0,0,null,{"$f":"IF('WEEKLY PAYMENTS'!B1124<>\"\",'WEEKLY PAYMENTS'!B1124+'WEEKLY PAYMENTS'!G1124,0)","v":0},null,0,0,-198,0,-342,0,-402,0,-576,0,-673,0,-1225,0,-1538,0,-3461,0,0]
[{"$f":"'WEEKLY PAYMENTS'!B1125","v":0},null,0,0,-198,0,-342,0,-402,0,-576,0,-673,0,-1225,0,-1538,0,-3461,0,0,null,{"$f":"IF('WEEKLY PAYMENTS'!B1125<>\"\",'WEEKLY PAYMENTS'!B1125+'WEEKLY PAYMENTS'!G1125,0)","v":0},null,0,0,-198,0,-342,0,-402,0,-576,0,-673,0,-1225,0,-1538,0,-3461,0,0]
[{"$f":"'WEEKLY PAYMENTS'!B1126","v":0},null,0,0,-198,0,-342,0,-402,0,-576,0,-673,0,-1225,0,-1538,0,-3461,0,0,null,{"$f":"IF('WEEKLY PAYMENTS'!B1126<>\"\",'WEEKLY PAYMENTS'!B1126+'WEEKLY PAYMENTS'!G1126,0)","v":0},null,0,0,-198,0,-342,0,-402,0,-576,0,-673,0,-1225,0,-1538,0,-3461,0,0]
[{"$f":"'WEEKLY PAYMENTS'!B1127","v":0},null,0,0,-198,0,-342,0,-402,0,-576,0,-673,0,-1225,0,-1538,0,-3461,0,0,null,{"$f":"IF('WEEKLY PAYMENTS'!B1127<>\"\",'WEEKLY PAYMENTS'!B1127+'WEEKLY PAYMENTS'!G1127,0)","v":0},null,0,0,-198,0,-342,0,-402,0,-576,0,-673,0,-1225,0,-1538,0,-3461,0,0]
[{"$f":"'WEEKLY PAYMENTS'!B1128","v":0},null,0,0,-198,0,-342,0,-402,0,-576,0,-673,0,-1225,0,-1538,0,-3461,0,0,null,{"$f":"IF('WEEKLY PAYMENTS'!B1128<>\"\",'WEEKLY PAYMENTS'!B1128+'WEEKLY PAYMENTS'!G1128,0)","v":0},null,0,0,-198,0,-342,0,-402,0,-576,0,-673,0,-1225,0,-1538,0,-3461,0,0]
[{"$f":"'WEEKLY PAYMENTS'!B1129","v":0},null,0,0,-198,0,-342,0,-402,0,-576,0,-673,0,-1225,0,-1538,0,-3461,0,0,null,{"$f":"IF('WEEKLY PAYMENTS'!B1129<>\"\",'WEEKLY PAYMENTS'!B1129+'WEEKLY PAYMENTS'!G1129,0)","v":0},null,0,0,-198,0,-342,0,-402,0,-576,0,-673,0,-1225,0,-1538,0,-3461,0,0]
[{"$f":"'WEEKLY PAYMENTS'!B1130","v":0},null,0,0,-198,0,-342,0,-402,0,-576,0,-673,0,-1225,0,-1538,0,-3461,0,0,null,{"$f":"IF('WEEKLY PAYMENTS'!B1130<>\"\",'WEEKLY PAYMENTS'!B1130+'WEEKLY PAYMENTS'!G1130,0)","v":0},null,0,0,-198,0,-342,0,-402,0,-576,0,-673,0,-1225,0,-1538,0,-3461,0,0]
[{"$f":"'WEEKLY PAYMENTS'!B1131","v":0},null,0,0,-198,0,-342,0,-402,0,-576,0,-673,0,-1225,0,-1538,0,-3461,0,0,null,{"$f":"IF('WEEKLY PAYMENTS'!B1131<>\"\",'WEEKLY PAYMENTS'!B1131+'WEEKLY PAYMENTS'!G1131,0)","v":0},null,0,0,-198,0,-342,0,-402,0,-576,0,-673,0,-1225,0,-1538,0,-3461,0,0]
[{"$f":"'WEEKLY PAYMENTS'!B1132","v":0},null,0,0,-198,0,-342,0,-402,0,-576,0,-673,0,-1225,0,-1538,0,-3461,0,0,null,{"$f":"IF('WEEKLY PAYMENTS'!B1132<>\"\",'WEEKLY PAYMENTS'!B1132+'WEEKLY PAYMENTS'!G1132,0)","v":0},null,0,0,-198,0,-342,0,-402,0,-576,0,-673,0,-1225,0,-1538,0,-3461,0,0]
[{"$f":"'WEEKLY PAYMENTS'!B1133","v":0},null,0,0,-198,0,-342,0,-402,0,-576,0,-673,0,-1225,0,-1538,0,-3461,0,0,null,{"$f":"IF('WEEKLY PAYMENTS'!B1133<>\"\",'WEEKLY PAYMENTS'!B1133+'WEEKLY PAYMENTS'!G1133,0)","v":0},null,0,0,-198,0,-342,0,-402,0,-576,0,-673,0,-1225,0,-1538,0,-3461,0,0]
[{"$f":"'WEEKLY PAYMENTS'!B1134","v":0},null,0,0,-198,0,-342,0,-402,0,-576,0,-673,0,-1225,0,-1538,0,-3461,0,0,null,{"$f":"IF('WEEKLY PAYMENTS'!B1134<>\"\",'WEEKLY PAYMENTS'!B1134+'WEEKLY PAYMENTS'!G1134,0)","v":0},null,0,0,-198,0,-342,0,-402,0,-576,0,-673,0,-1225,0,-1538,0,-3461,0,0]
[{"$f":"'WEEKLY PAYMENTS'!B1135","v":0},null,0,0,-198,0,-342,0,-402,0,-576,0,-673,0,-1225,0,-1538,0,-3461,0,0,null,{"$f":"IF('WEEKLY PAYMENTS'!B1135<>\"\",'WEEKLY PAYMENTS'!B1135+'WEEKLY PAYMENTS'!G1135,0)","v":0},null,0,0,-198,0,-342,0,-402,0,-576,0,-673,0,-1225,0,-1538,0,-3461,0,0]
[{"$f":"'WEEKLY PAYMENTS'!B1136","v":0},null,0,0,-198,0,-342,0,-402,0,-576,0,-673,0,-1225,0,-1538,0,-3461,0,0,null,{"$f":"IF('WEEKLY PAYMENTS'!B1136<>\"\",'WEEKLY PAYMENTS'!B1136+'WEEKLY PAYMENTS'!G1136,0)","v":0},null,0,0,-198,0,-342,0,-402,0,-576,0,-673,0,-1225,0,-1538,0,-3461,0,0]
[{"$f":"'WEEKLY PAYMENTS'!B1137","v":0},null,0,0,-198,0,-342,0,-402,0,-576,0,-673,0,-1225,0,-1538,0,-3461,0,0,null,{"$f":"IF('WEEKLY PAYMENTS'!B1137<>\"\",'WEEKLY PAYMENTS'!B1137+'WEEKLY PAYMENTS'!G1137,0)","v":0},null,0,0,-198,0,-342,0,-402,0,-576,0,-673,0,-1225,0,-1538,0,-3461,0,0]
[{"$f":"'WEEKLY PAYMENTS'!B1138","v":0},null,0,0,-198,0,-342,0,-402,0,-576,0,-673,0,-1225,0,-1538,0,-3461,0,0,null,{"$f":"IF('WEEKLY PAYMENTS'!B1138<>\"\",'WEEKLY PAYMENTS'!B1138+'WEEKLY PAYMENTS'!G1138,0)","v":0},null,0,0,-198,0,-342,0,-402,0,-576,0,-673,0,-1225,0,-1538,0,-3461,0,0]
[{"$f":"'WEEKLY PAYMENTS'!B1139","v":0},null,0,0,-198,0,-342,0,-402,0,-576,0,-673,0,-1225,0,-1538,0,-3461,0,0,null,{"$f":"IF('WEEKLY PAYMENTS'!B1139<>\"\",'WEEKLY PAYMENTS'!B1139+'WEEKLY PAYMENTS'!G1139,0)","v":0},null,0,0,-198,0,-342,0,-402,0,-576,0,-673,0,-1225,0,-1538,0,-3461,0,0]
[{"$f":"'WEEKLY PAYMENTS'!B1140","v":0},null,0,0,-198,0,-342,0,-402,0,-576,0,-673,0,-1225,0,-1538,0,-3461,0,0,null,{"$f":"IF('WEEKLY PAYMENTS'!B1140<>\"\",'WEEKLY PAYMENTS'!B1140+'WEEKLY PAYMENTS'!G1140,0)","v":0},null,0,0,-198,0,-342,0,-402,0,-576,0,-673,0,-1225,0,-1538,0,-3461,0,0]
[{"$f":"'WEEKLY PAYMENTS'!B1141","v":0},null,0,0,-198,0,-342,0,-402,0,-576,0,-673,0,-1225,0,-1538,0,-3461,0,0,null,{"$f":"IF('WEEKLY PAYMENTS'!B1141<>\"\",'WEEKLY PAYMENTS'!B1141+'WEEKLY PAYMENTS'!G1141,0)","v":0},null,0,0,-198,0,-342,0,-402,0,-576,0,-673,0,-1225,0,-1538,0,-3461,0,0]
[{"$f":"'WEEKLY PAYMENTS'!B1142","v":0},null,0,0,-198,0,-342,0,-402,0,-576,0,-673,0,-1225,0,-1538,0,-3461,0,0,null,{"$f":"IF('WEEKLY PAYMENTS'!B1142<>\"\",'WEEKLY PAYMENTS'!B1142+'WEEKLY PAYMENTS'!G1142,0)","v":0},null,0,0,-198,0,-342,0,-402,0,-576,0,-673,0,-1225,0,-1538,0,-3461,0,0]
[{"$f":"'WEEKLY PAYMENTS'!B1143","v":0},null,0,0,-198,0,-342,0,-402,0,-576,0,-673,0,-1225,0,-1538,0,-3461,0,0,null,{"$f":"IF('WEEKLY PAYMENTS'!B1143<>\"\",'WEEKLY PAYMENTS'!B1143+'WEEKLY PAYMENTS'!G1143,0)","v":0},null,0,0,-198,0,-342,0,-402,0,-576,0,-673,0,-1225,0,-1538,0,-3461,0,0]
[{"$f":"'WEEKLY PAYMENTS'!B1144","v":0},null,0,0,-198,0,-342,0,-402,0,-576,0,-673,0,-1225,0,-1538,0,-3461,0,0,null,{"$f":"IF('WEEKLY PAYMENTS'!B1144<>\"\",'WEEKLY PAYMENTS'!B1144+'WEEKLY PAYMENTS'!G1144,0)","v":0},null,0,0,-198,0,-342,0,-402,0,-576,0,-673,0,-1225,0,-1538,0,-3461,0,0]
[{"$f":"'WEEKLY PAYMENTS'!B1145","v":0},null,0,0,-198,0,-342,0,-402,0,-576,0,-673,0,-1225,0,-1538,0,-3461,0,0,null,{"$f":"IF('WEEKLY PAYMENTS'!B1145<>\"\",'WEEKLY PAYMENTS'!B1145+'WEEKLY PAYMENTS'!G1145,0)","v":0},null,0,0,-198,0,-342,0,-402,0,-576,0,-673,0,-1225,0,-1538,0,-3461,0,0]
[{"$f":"'WEEKLY PAYMENTS'!B1146","v":0},null,0,0,-198,0,-342,0,-402,0,-576,0,-673,0,-1225,0,-1538,0,-3461,0,0,null,{"$f":"IF('WEEKLY PAYMENTS'!B1146<>\"\",'WEEKLY PAYMENTS'!B1146+'WEEKLY PAYMENTS'!G1146,0)","v":0},null,0,0,-198,0,-342,0,-402,0,-576,0,-673,0,-1225,0,-1538,0,-3461,0,0]
[{"$f":"'WEEKLY PAYMENTS'!B1147","v":0},null,0,0,-198,0,-342,0,-402,0,-576,0,-673,0,-1225,0,-1538,0,-3461,0,0,null,{"$f":"IF('WEEKLY PAYMENTS'!B1147<>\"\",'WEEKLY PAYMENTS'!B1147+'WEEKLY PAYMENTS'!G1147,0)","v":0},null,0,0,-198,0,-342,0,-402,0,-576,0,-673,0,-1225,0,-1538,0,-3461,0,0]
[{"$f":"'WEEKLY PAYMENTS'!B1148","v":0},null,0,0,-198,0,-342,0,-402,0,-576,0,-673,0,-1225,0,-1538,0,-3461,0,0,null,{"$f":"IF('WEEKLY PAYMENTS'!B1148<>\"\",'WEEKLY PAYMENTS'!B1148+'WEEKLY PAYMENTS'!G1148,0)","v":0},null,0,0,-198,0,-342,0,-402,0,-576,0,-673,0,-1225,0,-1538,0,-3461,0,0]
[{"$f":"'WEEKLY PAYMENTS'!B1149","v":0},null,0,0,-198,0,-342,0,-402,0,-576,0,-673,0,-1225,0,-1538,0,-3461,0,0,null,{"$f":"IF('WEEKLY PAYMENTS'!B1149<>\"\",'WEEKLY PAYMENTS'!B1149+'WEEKLY PAYMENTS'!G1149,0)","v":0},null,0,0,-198,0,-342,0,-402,0,-576,0,-673,0,-1225,0,-1538,0,-3461,0,0]
[{"$f":"'WEEKLY PAYMENTS'!B1150","v":0},null,0,0,-198,0,-342,0,-402,0,-576,0,-673,0,-1225,0,-1538,0,-3461,0,0,null,{"$f":"IF('WEEKLY PAYMENTS'!B1150<>\"\",'WEEKLY PAYMENTS'!B1150+'WEEKLY PAYMENTS'!G1150,0)","v":0},null,0,0,-198,0,-342,0,-402,0,-576,0,-673,0,-1225,0,-1538,0,-3461,0,0]
[{"$f":"'WEEKLY PAYMENTS'!B1151","v":0},null,0,0,-198,0,-342,0,-402,0,-576,0,-673,0,-1225,0,-1538,0,-3461,0,0,null,{"$f":"IF('WEEKLY PAYMENTS'!B1151<>\"\",'WEEKLY PAYMENTS'!B1151+'WEEKLY PAYMENTS'!G1151,0)","v":0},null,0,0,-198,0,-342,0,-402,0,-576,0,-673,0,-1225,0,-1538,0,-3461,0,0]
[{"$f":"'WEEKLY PAYMENTS'!B1152","v":0},null,0,0,-198,0,-342,0,-402,0,-576,0,-673,0,-1225,0,-1538,0,-3461,0,0,null,{"$f":"IF('WEEKLY PAYMENTS'!B1152<>\"\",'WEEKLY PAYMENTS'!B1152+'WEEKLY PAYMENTS'!G1152,0)","v":0},null,0,0,-198,0,-342,0,-402,0,-576,0,-673,0,-1225,0,-1538,0,-3461,0,0]
[{"$f":"'WEEKLY PAYMENTS'!B1153","v":0},null,0,0,-198,0,-342,0,-402,0,-576,0,-673,0,-1225,0,-1538,0,-3461,0,0,null,{"$f":"IF('WEEKLY PAYMENTS'!B1153<>\"\",'WEEKLY PAYMENTS'!B1153+'WEEKLY PAYMENTS'!G1153,0)","v":0},null,0,0,-198,0,-342,0,-402,0,-576,0,-673,0,-1225,0,-1538,0,-3461,0,0]
[{"$f":"'WEEKLY PAYMENTS'!B1154","v":0},null,0,0,-198,0,-342,0,-402,0,-576,0,-673,0,-1225,0,-1538,0,-3461,0,0,null,{"$f":"IF('WEEKLY PAYMENTS'!B1154<>\"\",'WEEKLY PAYMENTS'!B1154+'WEEKLY PAYMENTS'!G1154,0)","v":0},null,0,0,-198,0,-342,0,-402,0,-576,0,-673,0,-1225,0,-1538,0,-3461,0,0]
[{"$f":"'WEEKLY PAYMENTS'!B1155","v":0},null,0,0,-198,0,-342,0,-402,0,-576,0,-673,0,-1225,0,-1538,0,-3461,0,0,null,{"$f":"IF('WEEKLY PAYMENTS'!B1155<>\"\",'WEEKLY PAYMENTS'!B1155+'WEEKLY PAYMENTS'!G1155,0)","v":0},null,0,0,-198,0,-342,0,-402,0,-576,0,-673,0,-1225,0,-1538,0,-3461,0,0]
[{"$f":"'WEEKLY PAYMENTS'!B1156","v":0},null,0,0,-198,0,-342,0,-402,0,-576,0,-673,0,-1225,0,-1538,0,-3461,0,0,null,{"$f":"IF('WEEKLY PAYMENTS'!B1156<>\"\",'WEEKLY PAYMENTS'!B1156+'WEEKLY PAYMENTS'!G1156,0)","v":0},null,0,0,-198,0,-342,0,-402,0,-576,0,-673,0,-1225,0,-1538,0,-3461,0,0]
[{"$f":"'WEEKLY PAYMENTS'!B1157","v":0},null,0,0,-198,0,-342,0,-402,0,-576,0,-673,0,-1225,0,-1538,0,-3461,0,0,null,{"$f":"IF('WEEKLY PAYMENTS'!B1157<>\"\",'WEEKLY PAYMENTS'!B1157+'WEEKLY PAYMENTS'!G1157,0)","v":0},null,0,0,-198,0,-342,0,-402,0,-576,0,-673,0,-1225,0,-1538,0,-3461,0,0]
[{"$f":"'WEEKLY PAYMENTS'!B1158","v":0},null,0,0,-198,0,-342,0,-402,0,-576,0,-673,0,-1225,0,-1538,0,-3461,0,0,null,{"$f":"IF('WEEKLY PAYMENTS'!B1158<>\"\",'WEEKLY PAYMENTS'!B1158+'WEEKLY PAYMENTS'!G1158,0)","v":0},null,0,0,-198,0,-342,0,-402,0,-576,0,-673,0,-1225,0,-1538,0,-3461,0,0]
[{"$f":"'WEEKLY PAYMENTS'!B1159","v":0},null,0,0,-198,0,-342,0,-402,0,-576,0,-673,0,-1225,0,-1538,0,-3461,0,0,null,{"$f":"IF('WEEKLY PAYMENTS'!B1159<>\"\",'WEEKLY PAYMENTS'!B1159+'WEEKLY PAYMENTS'!G1159,0)","v":0},null,0,0,-198,0,-342,0,-402,0,-576,0,-673,0,-1225,0,-1538,0,-3461,0,0]
[{"$f":"'WEEKLY PAYMENTS'!B1160","v":0},null,0,0,-198,0,-342,0,-402,0,-576,0,-673,0,-1225,0,-1538,0,-3461,0,0,null,{"$f":"IF('WEEKLY PAYMENTS'!B1160<>\"\",'WEEKLY PAYMENTS'!B1160+'WEEKLY PAYMENTS'!G1160,0)","v":0},null,0,0,-198,0,-342,0,-402,0,-576,0,-673,0,-1225,0,-1538,0,-3461,0,0]
[{"$f":"'WEEKLY PAYMENTS'!B1161","v":0},null,0,0,-198,0,-342,0,-402,0,-576,0,-673,0,-1225,0,-1538,0,-3461,0,0,null,{"$f":"IF('WEEKLY PAYMENTS'!B1161<>\"\",'WEEKLY PAYMENTS'!B1161+'WEEKLY PAYMENTS'!G1161,0)","v":0},null,0,0,-198,0,-342,0,-402,0,-576,0,-673,0,-1225,0,-1538,0,-3461,0,0]
[{"$f":"'WEEKLY PAYMENTS'!B1162","v":0},null,0,0,-198,0,-342,0,-402,0,-576,0,-673,0,-1225,0,-1538,0,-3461,0,0,null,{"$f":"IF('WEEKLY PAYMENTS'!B1162<>\"\",'WEEKLY PAYMENTS'!B1162+'WEEKLY PAYMENTS'!G1162,0)","v":0},null,0,0,-198,0,-342,0,-402,0,-576,0,-673,0,-1225,0,-1538,0,-3461,0,0]
[{"$f":"'WEEKLY PAYMENTS'!B1163","v":0},null,0,0,-198,0,-342,0,-402,0,-576,0,-673,0,-1225,0,-1538,0,-3461,0,0,null,{"$f":"IF('WEEKLY PAYMENTS'!B1163<>\"\",'WEEKLY PAYMENTS'!B1163+'WEEKLY PAYMENTS'!G1163,0)","v":0},null,0,0,-198,0,-342,0,-402,0,-576,0,-673,0,-1225,0,-1538,0,-3461,0,0]
[{"$f":"'WEEKLY PAYMENTS'!B1164","v":0},null,0,0,-198,0,-342,0,-402,0,-576,0,-673,0,-1225,0,-1538,0,-3461,0,0,null,{"$f":"IF('WEEKLY PAYMENTS'!B1164<>\"\",'WEEKLY PAYMENTS'!B1164+'WEEKLY PAYMENTS'!G1164,0)","v":0},null,0,0,-198,0,-342,0,-402,0,-576,0,-673,0,-1225,0,-1538,0,-3461,0,0]
[{"$f":"'WEEKLY PAYMENTS'!B1165","v":0},null,0,0,-198,0,-342,0,-402,0,-576,0,-673,0,-1225,0,-1538,0,-3461,0,0,null,{"$f":"IF('WEEKLY PAYMENTS'!B1165<>\"\",'WEEKLY PAYMENTS'!B1165+'WEEKLY PAYMENTS'!G1165,0)","v":0},null,0,0,-198,0,-342,0,-402,0,-576,0,-673,0,-1225,0,-1538,0,-3461,0,0]
[{"$f":"'WEEKLY PAYMENTS'!B1166","v":0},null,0,0,-198,0,-342,0,-402,0,-576,0,-673,0,-1225,0,-1538,0,-3461,0,0,null,{"$f":"IF('WEEKLY PAYMENTS'!B1166<>\"\",'WEEKLY PAYMENTS'!B1166+'WEEKLY PAYMENTS'!G1166,0)","v":0},null,0,0,-198,0,-342,0,-402,0,-576,0,-673,0,-1225,0,-1538,0,-3461,0,0]
[{"$f":"'WEEKLY PAYMENTS'!B1167","v":0},null,{"$f":"A1167-$B$3","v":0},{"$f":"IF(C1167>0,IF(C1167<$D$4,C1167*$D$2,$D$4*$D$2),0)","v":0},{"$f":"C1167-$D$4","v":-198},{"$f":"IF(E1167>0,IF(E1167<$F$4,E1167*$F$2,$F$4*$F$2),0)","v":0},{"$f":"E1167-$F$4","v":-342},{"$f":"IF(G1167>0,IF(G1167<$H$4,G1167*$H$2,$H$4*$H$2),0)","v":0},{"$f":"G1167-$H$4","v":-402},{"$f":"IF(I1167>0,IF(I1167<$J$4,I1167*$J$2,$J$4*$J$2),0)","v":0},{"$f":"I1167-$J$4","v":-576},{"$f":"IF(K1167>0,IF(K1167<$L$4,K1167*$L$2,$L$4*$L$2),0)","v":0},{"$f":"K1167-$L$4","v":-673},{"$f":"IF(M1167>0,IF(M1167<$N$4,M1167*$N$2,$N$4*$N$2),0)","v":0},{"$f":"M1167-$N$4","v":-1225},{"$f":"IF(O1167>0,IF(O1167<$P$4,O1167*$P$2,$P$4*$P$2),0)","v":0},{"$f":"O1167-$P$4","v":-1538},{"$f":"IF(Q1167>0,IF(Q1167<$R$4,Q1167*$R$2,$R$4*$R$2),0)","v":0},{"$f":"Q1167-$R$4","v":-3461},{"$f":"IF(S1167>0,S1167*$T$2,0)","v":0},{"$f":"D1167+F1167+H1167+J1167+L1167+T1167+N1167+P1167+R1167","v":0},null,{"$f":"IF('WEEKLY PAYMENTS'!B1167<>\"\",'WEEKLY PAYMENTS'!B1167+'WEEKLY PAYMENTS'!G1167,0)","v":0},null,{"$f":"W1167-$B$3","v":0},{"$f":"IF(Y1167>0,IF(Y1167<$D$4,Y1167*$D$2,$D$4*$D$2),0)","v":0},{"$f":"Y1167-$D$4","v":-198},{"$f":"IF(AA1167>0,IF(AA1167<$F$4,AA1167*$F$2,$F$4*$F$2),0)","v":0},{"$f":"AA1167-$F$4","v":-342},{"$f":"IF(AC1167>0,IF(AC1167<$H$4,AC1167*$H$2,$H$4*$H$2),0)","v":0},{"$f":"AC1167-$H$4","v":-402},{"$f":"IF(AE1167>0,IF(AE1167<$J$4,AE1167*$J$2,$J$4*$J$2),0)","v":0},{"$f":"AE1167-$J$4","v":-576},{"$f":"IF(AG1167>0,IF(AG1167<$L$4,AG1167*$L$2,$L$4*$L$2),0)","v":0},{"$f":"AG1167-$L$4","v":-673},{"$f":"IF(AI1167>0,IF(AI1167<$N$4,AI1167*$N$2,$N$4*$N$2),0)","v":0},{"$f":"AI1167-$N$4","v":-1225},{"$f":"IF(AK1167>0,IF(AK1167<$P$4,AK1167*$P$2,$P$4*$P$2),0)","v":0},{"$f":"AK1167-$P$4","v":-1538},{"$f":"IF(AM1167>0,IF(AM1167<$R$4,AM1167*$R$2,$R$4*$R$2),0)","v":0},{"$f":"AM1167-$R$4","v":-3461},{"$f":"IF(AO1167>0,AO1167*$T$2,0)","v":0},{"$f":"Z1167+AB1167+AD1167+AF1167+AH1167+AP1167+AJ1167+AL1167+AN1167-U1167","v":0}]
[{"$f":"'WEEKLY PAYMENTS'!B1168","v":0},null,0,0,-198,0,-342,0,-402,0,-576,0,-673,0,-1225,0,-1538,0,-3461,0,0,null,{"$f":"IF('WEEKLY PAYMENTS'!B1168<>\"\",'WEEKLY PAYMENTS'!B1168+'WEEKLY PAYMENTS'!G1168,0)","v":0},null,0,0,-198,0,-342,0,-402,0,-576,0,-673,0,-1225,0,-1538,0,-3461,0,0]
[{"$f":"'WEEKLY PAYMENTS'!B1169","v":0},null,0,0,-198,0,-342,0,-402,0,-576,0,-673,0,-1225,0,-1538,0,-3461,0,0,null,{"$f":"IF('WEEKLY PAYMENTS'!B1169<>\"\",'WEEKLY PAYMENTS'!B1169+'WEEKLY PAYMENTS'!G1169,0)","v":0},null,0,0,-198,0,-342,0,-402,0,-576,0,-673,0,-1225,0,-1538,0,-3461,0,0]
[{"$f":"'WEEKLY PAYMENTS'!B1170","v":0},null,0,0,-198,0,-342,0,-402,0,-576,0,-673,0,-1225,0,-1538,0,-3461,0,0,null,{"$f":"IF('WEEKLY PAYMENTS'!B1170<>\"\",'WEEKLY PAYMENTS'!B1170+'WEEKLY PAYMENTS'!G1170,0)","v":0},null,0,0,-198,0,-342,0,-402,0,-576,0,-673,0,-1225,0,-1538,0,-3461,0,0]
[{"$f":"'WEEKLY PAYMENTS'!B1171","v":0},null,0,0,-198,0,-342,0,-402,0,-576,0,-673,0,-1225,0,-1538,0,-3461,0,0,null,{"$f":"IF('WEEKLY PAYMENTS'!B1171<>\"\",'WEEKLY PAYMENTS'!B1171+'WEEKLY PAYMENTS'!G1171,0)","v":0},null,0,0,-198,0,-342,0,-402,0,-576,0,-673,0,-1225,0,-1538,0,-3461,0,0]
[{"$f":"'WEEKLY PAYMENTS'!B1172","v":0},null,0,0,-198,0,-342,0,-402,0,-576,0,-673,0,-1225,0,-1538,0,-3461,0,0,null,{"$f":"IF('WEEKLY PAYMENTS'!B1172<>\"\",'WEEKLY PAYMENTS'!B1172+'WEEKLY PAYMENTS'!G1172,0)","v":0},null,0,0,-198,0,-342,0,-402,0,-576,0,-673,0,-1225,0,-1538,0,-3461,0,0]
[{"$f":"'WEEKLY PAYMENTS'!B1173","v":0},null,0,0,-198,0,-342,0,-402,0,-576,0,-673,0,-1225,0,-1538,0,-3461,0,0,null,{"$f":"IF('WEEKLY PAYMENTS'!B1173<>\"\",'WEEKLY PAYMENTS'!B1173+'WEEKLY PAYMENTS'!G1173,0)","v":0},null,0,0,-198,0,-342,0,-402,0,-576,0,-673,0,-1225,0,-1538,0,-3461,0,0]
[{"$f":"'WEEKLY PAYMENTS'!B1174","v":0},null,0,0,-198,0,-342,0,-402,0,-576,0,-673,0,-1225,0,-1538,0,-3461,0,0,null,{"$f":"IF('WEEKLY PAYMENTS'!B1174<>\"\",'WEEKLY PAYMENTS'!B1174+'WEEKLY PAYMENTS'!G1174,0)","v":0},null,0,0,-198,0,-342,0,-402,0,-576,0,-673,0,-1225,0,-1538,0,-3461,0,0]
[{"$f":"'WEEKLY PAYMENTS'!B1175","v":0},null,0,0,-198,0,-342,0,-402,0,-576,0,-673,0,-1225,0,-1538,0,-3461,0,0,null,{"$f":"IF('WEEKLY PAYMENTS'!B1175<>\"\",'WEEKLY PAYMENTS'!B1175+'WEEKLY PAYMENTS'!G1175,0)","v":0},null,0,0,-198,0,-342,0,-402,0,-576,0,-673,0,-1225,0,-1538,0,-3461,0,0]
[{"$f":"'WEEKLY PAYMENTS'!B1176","v":0},null,0,0,-198,0,-342,0,-402,0,-576,0,-673,0,-1225,0,-1538,0,-3461,0,0,null,{"$f":"IF('WEEKLY PAYMENTS'!B1176<>\"\",'WEEKLY PAYMENTS'!B1176+'WEEKLY PAYMENTS'!G1176,0)","v":0},null,0,0,-198,0,-342,0,-402,0,-576,0,-673,0,-1225,0,-1538,0,-3461,0,0]
[{"$f":"'WEEKLY PAYMENTS'!B1177","v":0},null,0,0,-198,0,-342,0,-402,0,-576,0,-673,0,-1225,0,-1538,0,-3461,0,0,null,{"$f":"IF('WEEKLY PAYMENTS'!B1177<>\"\",'WEEKLY PAYMENTS'!B1177+'WEEKLY PAYMENTS'!G1177,0)","v":0},null,0,0,-198,0,-342,0,-402,0,-576,0,-673,0,-1225,0,-1538,0,-3461,0,0]
[{"$f":"'WEEKLY PAYMENTS'!B1178","v":0},null,0,0,-198,0,-342,0,-402,0,-576,0,-673,0,-1225,0,-1538,0,-3461,0,0,null,{"$f":"IF('WEEKLY PAYMENTS'!B1178<>\"\",'WEEKLY PAYMENTS'!B1178+'WEEKLY PAYMENTS'!G1178,0)","v":0},null,0,0,-198,0,-342,0,-402,0,-576,0,-673,0,-1225,0,-1538,0,-3461,0,0]
[{"$f":"'WEEKLY PAYMENTS'!B1179","v":0},null,0,0,-198,0,-342,0,-402,0,-576,0,-673,0,-1225,0,-1538,0,-3461,0,0,null,{"$f":"IF('WEEKLY PAYMENTS'!B1179<>\"\",'WEEKLY PAYMENTS'!B1179+'WEEKLY PAYMENTS'!G1179,0)","v":0},null,0,0,-198,0,-342,0,-402,0,-576,0,-673,0,-1225,0,-1538,0,-3461,0,0]
[{"$f":"'WEEKLY PAYMENTS'!B1180","v":0},null,0,0,-198,0,-342,0,-402,0,-576,0,-673,0,-1225,0,-1538,0,-3461,0,0,null,{"$f":"IF('WEEKLY PAYMENTS'!B1180<>\"\",'WEEKLY PAYMENTS'!B1180+'WEEKLY PAYMENTS'!G1180,0)","v":0},null,0,0,-198,0,-342,0,-402,0,-576,0,-673,0,-1225,0,-1538,0,-3461,0,0]
[{"$f":"'WEEKLY PAYMENTS'!B1181","v":0},null,0,0,-198,0,-342,0,-402,0,-576,0,-673,0,-1225,0,-1538,0,-3461,0,0,null,{"$f":"IF('WEEKLY PAYMENTS'!B1181<>\"\",'WEEKLY PAYMENTS'!B1181+'WEEKLY PAYMENTS'!G1181,0)","v":0},null,0,0,-198,0,-342,0,-402,0,-576,0,-673,0,-1225,0,-1538,0,-3461,0,0]
[{"$f":"'WEEKLY PAYMENTS'!B1182","v":0},null,0,0,-198,0,-342,0,-402,0,-576,0,-673,0,-1225,0,-1538,0,-3461,0,0,null,{"$f":"IF('WEEKLY PAYMENTS'!B1182<>\"\",'WEEKLY PAYMENTS'!B1182+'WEEKLY PAYMENTS'!G1182,0)","v":0},null,0,0,-198,0,-342,0,-402,0,-576,0,-673,0,-1225,0,-1538,0,-3461,0,0]
[{"$f":"'WEEKLY PAYMENTS'!B1183","v":0},null,0,0,-198,0,-342,0,-402,0,-576,0,-673,0,-1225,0,-1538,0,-3461,0,0,null,{"$f":"IF('WEEKLY PAYMENTS'!B1183<>\"\",'WEEKLY PAYMENTS'!B1183+'WEEKLY PAYMENTS'!G1183,0)","v":0},null,0,0,-198,0,-342,0,-402,0,-576,0,-673,0,-1225,0,-1538,0,-3461,0,0]
[{"$f":"'WEEKLY PAYMENTS'!B1184","v":0},null,0,0,-198,0,-342,0,-402,0,-576,0,-673,0,-1225,0,-1538,0,-3461,0,0,null,{"$f":"IF('WEEKLY PAYMENTS'!B1184<>\"\",'WEEKLY PAYMENTS'!B1184+'WEEKLY PAYMENTS'!G1184,0)","v":0},null,0,0,-198,0,-342,0,-402,0,-576,0,-673,0,-1225,0,-1538,0,-3461,0,0]
[{"$f":"'WEEKLY PAYMENTS'!B1185","v":0},null,0,0,-198,0,-342,0,-402,0,-576,0,-673,0,-1225,0,-1538,0,-3461,0,0,null,{"$f":"IF('WEEKLY PAYMENTS'!B1185<>\"\",'WEEKLY PAYMENTS'!B1185+'WEEKLY PAYMENTS'!G1185,0)","v":0},null,0,0,-198,0,-342,0,-402,0,-576,0,-673,0,-1225,0,-1538,0,-3461,0,0]
[{"$f":"'WEEKLY PAYMENTS'!B1186","v":0},null,0,0,-198,0,-342,0,-402,0,-576,0,-673,0,-1225,0,-1538,0,-3461,0,0,null,{"$f":"IF('WEEKLY PAYMENTS'!B1186<>\"\",'WEEKLY PAYMENTS'!B1186+'WEEKLY PAYMENTS'!G1186,0)","v":0},null,0,0,-198,0,-342,0,-402,0,-576,0,-673,0,-1225,0,-1538,0,-3461,0,0]
[{"$f":"'WEEKLY PAYMENTS'!B1187","v":0},null,0,0,-198,0,-342,0,-402,0,-576,0,-673,0,-1225,0,-1538,0,-3461,0,0,null,{"$f":"IF('WEEKLY PAYMENTS'!B1187<>\"\",'WEEKLY PAYMENTS'!B1187+'WEEKLY PAYMENTS'!G1187,0)","v":0},null,0,0,-198,0,-342,0,-402,0,-576,0,-673,0,-1225,0,-1538,0,-3461,0,0]
[{"$f":"'WEEKLY PAYMENTS'!B1188","v":0},null,0,0,-198,0,-342,0,-402,0,-576,0,-673,0,-1225,0,-1538,0,-3461,0,0,null,{"$f":"IF('WEEKLY PAYMENTS'!B1188<>\"\",'WEEKLY PAYMENTS'!B1188+'WEEKLY PAYMENTS'!G1188,0)","v":0},null,0,0,-198,0,-342,0,-402,0,-576,0,-673,0,-1225,0,-1538,0,-3461,0,0]
[{"$f":"'WEEKLY PAYMENTS'!B1189","v":0},null,0,0,-198,0,-342,0,-402,0,-576,0,-673,0,-1225,0,-1538,0,-3461,0,0,null,{"$f":"IF('WEEKLY PAYMENTS'!B1189<>\"\",'WEEKLY PAYMENTS'!B1189+'WEEKLY PAYMENTS'!G1189,0)","v":0},null,0,0,-198,0,-342,0,-402,0,-576,0,-673,0,-1225,0,-1538,0,-3461,0,0]
[{"$f":"'WEEKLY PAYMENTS'!B1190","v":0},null,0,0,-198,0,-342,0,-402,0,-576,0,-673,0,-1225,0,-1538,0,-3461,0,0,null,{"$f":"IF('WEEKLY PAYMENTS'!B1190<>\"\",'WEEKLY PAYMENTS'!B1190+'WEEKLY PAYMENTS'!G1190,0)","v":0},null,0,0,-198,0,-342,0,-402,0,-576,0,-673,0,-1225,0,-1538,0,-3461,0,0]
[{"$f":"'WEEKLY PAYMENTS'!B1191","v":0},null,0,0,-198,0,-342,0,-402,0,-576,0,-673,0,-1225,0,-1538,0,-3461,0,0,null,{"$f":"IF('WEEKLY PAYMENTS'!B1191<>\"\",'WEEKLY PAYMENTS'!B1191+'WEEKLY PAYMENTS'!G1191,0)","v":0},null,0,0,-198,0,-342,0,-402,0,-576,0,-673,0,-1225,0,-1538,0,-3461,0,0]
[{"$f":"'WEEKLY PAYMENTS'!B1192","v":0},null,0,0,-198,0,-342,0,-402,0,-576,0,-673,0,-1225,0,-1538,0,-3461,0,0,null,{"$f":"IF('WEEKLY PAYMENTS'!B1192<>\"\",'WEEKLY PAYMENTS'!B1192+'WEEKLY PAYMENTS'!G1192,0)","v":0},null,0,0,-198,0,-342,0,-402,0,-576,0,-673,0,-1225,0,-1538,0,-3461,0,0]
[{"$f":"'WEEKLY PAYMENTS'!B1193","v":0},null,0,0,-198,0,-342,0,-402,0,-576,0,-673,0,-1225,0,-1538,0,-3461,0,0,null,{"$f":"IF('WEEKLY PAYMENTS'!B1193<>\"\",'WEEKLY PAYMENTS'!B1193+'WEEKLY PAYMENTS'!G1193,0)","v":0},null,0,0,-198,0,-342,0,-402,0,-576,0,-673,0,-1225,0,-1538,0,-3461,0,0]
[{"$f":"'WEEKLY PAYMENTS'!B1194","v":0},null,0,0,-198,0,-342,0,-402,0,-576,0,-673,0,-1225,0,-1538,0,-3461,0,0,null,{"$f":"IF('WEEKLY PAYMENTS'!B1194<>\"\",'WEEKLY PAYMENTS'!B1194+'WEEKLY PAYMENTS'!G1194,0)","v":0},null,0,0,-198,0,-342,0,-402,0,-576,0,-673,0,-1225,0,-1538,0,-3461,0,0]
[{"$f":"'WEEKLY PAYMENTS'!B1195","v":0},null,0,0,-198,0,-342,0,-402,0,-576,0,-673,0,-1225,0,-1538,0,-3461,0,0,null,{"$f":"IF('WEEKLY PAYMENTS'!B1195<>\"\",'WEEKLY PAYMENTS'!B1195+'WEEKLY PAYMENTS'!G1195,0)","v":0},null,0,0,-198,0,-342,0,-402,0,-576,0,-673,0,-1225,0,-1538,0,-3461,0,0]
[{"$f":"'WEEKLY PAYMENTS'!B1196","v":0},null,0,0,-198,0,-342,0,-402,0,-576,0,-673,0,-1225,0,-1538,0,-3461,0,0,null,{"$f":"IF('WEEKLY PAYMENTS'!B1196<>\"\",'WEEKLY PAYMENTS'!B1196+'WEEKLY PAYMENTS'!G1196,0)","v":0},null,0,0,-198,0,-342,0,-402,0,-576,0,-673,0,-1225,0,-1538,0,-3461,0,0]
[{"$f":"'WEEKLY PAYMENTS'!B1197","v":0},null,0,0,-198,0,-342,0,-402,0,-576,0,-673,0,-1225,0,-1538,0,-3461,0,0,null,{"$f":"IF('WEEKLY PAYMENTS'!B1197<>\"\",'WEEKLY PAYMENTS'!B1197+'WEEKLY PAYMENTS'!G1197,0)","v":0},null,0,0,-198,0,-342,0,-402,0,-576,0,-673,0,-1225,0,-1538,0,-3461,0,0]
[{"$f":"'WEEKLY PAYMENTS'!B1198","v":0},null,0,0,-198,0,-342,0,-402,0,-576,0,-673,0,-1225,0,-1538,0,-3461,0,0,null,{"$f":"IF('WEEKLY PAYMENTS'!B1198<>\"\",'WEEKLY PAYMENTS'!B1198+'WEEKLY PAYMENTS'!G1198,0)","v":0},null,0,0,-198,0,-342,0,-402,0,-576,0,-673,0,-1225,0,-1538,0,-3461,0,0]
[{"$f":"'WEEKLY PAYMENTS'!B1199","v":0},null,0,0,-198,0,-342,0,-402,0,-576,0,-673,0,-1225,0,-1538,0,-3461,0,0,null,{"$f":"IF('WEEKLY PAYMENTS'!B1199<>\"\",'WEEKLY PAYMENTS'!B1199+'WEEKLY PAYMENTS'!G1199,0)","v":0},null,0,0,-198,0,-342,0,-402,0,-576,0,-673,0,-1225,0,-1538,0,-3461,0,0]
[{"$f":"'WEEKLY PAYMENTS'!B1200","v":0},null,0,0,-198,0,-342,0,-402,0,-576,0,-673,0,-1225,0,-1538,0,-3461,0,0,null,{"$f":"IF('WEEKLY PAYMENTS'!B1200<>\"\",'WEEKLY PAYMENTS'!B1200+'WEEKLY PAYMENTS'!G1200,0)","v":0},null,0,0,-198,0,-342,0,-402,0,-576,0,-673,0,-1225,0,-1538,0,-3461,0,0]

{"sheet":"Spreadsheet History","index":7,"n_rows":43,"n_cols":4,"rows_kept":43,"cut":false,"hidden":true,"merged":[]}
["Date","Version","Author","Changes"]
["2007-11-23",1,"Matthew Nicholas & Graham Kirkman","Initial version"]
["2008-03-25",1.01,"Graham Kirkman","Fixed problem with interest calculation. The start of week date had changed but wasn't reflected in the number of weeks in a month calculation."]
["2008-04-30",1.02,"Graham Kirkman","The sum for interest in the 1987/1988 financial year was summing up the wrong columns. Also added some ROUND functions so that values are more in line with one another."]
["2008-06-23",1.0209999999999999,"Graham Kirkman","Add the new tax rates that come into effect 1/7/2008"]
["2008-07-03",1.022,"Graham Kirkman","Change interest rate for 2008/2009 fin year to 11.67%"]
["2008-07-03",1.0229999999999999,"Graham Kirkman","Fix Layout of 2007/2008 fin year to reflect it is a previous Fin year."]
["2008-07-15",1.024,"Graham Kirkman","Increase the cell size for past Backpay to show sums > $4000,000.00."]
["2008-07-22",1.0249999999999999,"Graham Kirkman","Alter the cell attributes to auto fit the figures in the summary fields."]
["2008-09-18",1.026,"Graham Kirkman","Change Password to sheets and macros"]
["2009-07-08",1.0269999999999999,"Rimas Sestokas","Modifed tax scales and interest rate for 09/10"]
["2010-06-01",1.03,"Duncan Priest","Hide tax columns (M to Q) as Curam calculates this differently and could cause confusion (CO6034)"]
["2011-07-01",1.0309999999999999,"Heidrun Richter","CO7953, new interest rate"]
["2011-08-05",1.032,"Heidrun Richter","CO8218, some formulas were missing."]
["2011-08-12",1.0329999999999999,"Heidrun Richter","CO8234, Issues with the newly inserted rows for the new tax rates having columns B+C locked. "]
["2011-08-13",1.034,"Heidrun Richter","CO8234, Issues with the newly inserted rows for the new tax rates having columns B+C locked. "]
["2011-12-05",1.0349999999999999,"Nandita Mazumdar","A) add cells for worker name and claim number\nB) hide or remove the \"claim tax free threshold\" component\nC) re-label the 'Start date\" to \"payment due date\"\nD) re-label \"Gross Payment Already Paid\" to \"Gross Already Paid by Agent\" - I know we didn't discuss this one but thought it's worth adding so it's clear this isn't used for employer payments to the worker"]
["2012-01-18",1.036,"Nandita Mazumdar","CO8697 - Changes required to the backpay/interest calculator.\n \n1. That the amounts calculated be totalled into in periods matching the ATO's methods A, B & C for the interest and income maintenance. These totals are: \n \nMethod A= payment date was due in the current financial year. Note: the calculator already produces this total.  \nMethod B = payments in the previous financial year that were due to be paid within the 12 months prior to the backpay payment date.  This may require a field to enter the anticipated payment date.\nMethod C = payments due greater than 12 months ago from the anticipated backpay payment date. \n \n2. That the text in bold \"Please save this document to communications in Curam - this text not in the print area\".  This text should not appear when the spreadsheet is printed."]
["2012-02-07",1.0369999999999999,"Steve Hammond","Backpay & Interest Summary added to replicate data to be entered into Curam"]
["2012-05-28",1.038,"Steve Hammond","Changed Calculator & Summary to reduce periods from Methods A,B & C to Present & Past"]
["2012-07-03",1.0389999999999999,"Steve Hammond","1. Fixed problem with Summary not working due to financial year changeover.\n2. Amended Compounded Interest formula in line with Mal Watt's instruction.\n3. New interest rate added for 2012/13."]
["2012-08-02",1.04,"Steve Hammond","1. Option included to select an alternative Interest Effective Date that then calculates only from that point.\n2. Redesign of Summary sheet to reflect changes to the method that Agent(s) use to process manual back pays in Curam."]
["2012-11-28",1.0409999999999999,"Heidrun Richter","CO9769 - update interest rate for the year starting 1/7/2005 to 9.95%"]
["2013-05-01",1.042,"Steve Hammond","Fixed Summary sheet issue where 1900 dates were appearing in the 2nd line of the 'Payment Information entry for Curam' section when only backpay from current year was input."]
["2013-06-20",1.0429999999999999,"Steve Hammond","Fixed Summary sheet where the 2nd line of the Backpay summary section wasn't populating when backpay was more than 2 years old."]
["2013-06-26",1.044,"Steve Hammond","Fixed Summary sheet where the 2nd line of the financial years breakdown section wasn't populating the amounts when in the week crossover at year end (cells O26 & V26)."]
["2013-07-01",1.0449999999999999,"Nandita Mazumdar","Change interest rate for 2013/2014 to 10.10%. Also changed the title of column H to \"Effective Interest Rate %\""]
["2013-07-11",1.046,"Steve Mitchell/Hammond","Interest rates changed from effective to nominal.  Formula changed to apply nominal rates"]
["2013-08-06",1.0469999999999999,"Steve Mitchell ","Following discussions with Tas Carabellas and approval from Rob Cordiner the prime bank interest rate was reinstated in the calculator and is now compounded weekly.  No reference to nominal or effective as there is no refernce in the regs or act"]
["2013-12-02",1.048,"Steve Hammond","New tab for interest on Lump Sums payable on Death (S45)"]
["2014-07-01",1.0489999999999999,"Nandita Mazumdar","Change interest rate for 2014/2015 to 9.95%."]
["2014-07-10",1.05,"Steve Mitchell ","Interest payment service codes for input to Curam added to headings in S45 tab"]
["2014-07-25",1.0509999999999999,"Steve Hammond","Missing formula in summary page cell J30 added (resulted in missing figures in that row)  "]
["2014-12-23",1.052,"Steve Hammond","Amended the Payment Due Date formula on the Weekly Payments tab to bring in the next week's date 12 days later, rather than 14. This will populate the day row each Monday rather than each Wednesday. Versa case 16867 for more info."]
["2015-04-08",1.0529999999999999,"Steve Hammond","Calculator updated for changes wef 01/07/2015"]
["2015-06-23",1.054,"Steve Hammond","Added 2 more years of dates to the relevant tables (now up to June 2017)."]
["2015-08-12",1.0549999999999999,"Steve Hammond","Corrected the Summary tab so that the Interest 'To' and 'Due' dates for the current year calculate to the latest week from the Monday, rather than the Wednesday"]
["2015-09-29",1.056,"Steve Hammond","Changes made to the 'Payment information for entry into Curam by Agent' section of the Summary tab\n1. On the Backpay side, a new column called ILI Type which will always be DIRE. To only show in a row if populated.\n2. On the Interest side, a new column called ILI Type which, if due date is in a prior financial year then INTRL, or if due date is current financial year then INTR on the first row (current year) if populated. On the second row (prior years) always to be INTRL if populated.\n3. On the Interest side, the due date column in both rows (where populated) to change to the same due date as the Backpay side if Backpay has ONLY been paid in prior years (second row on Backpay side), otherwise to remain unchanged."]
["2016-05-25",1.0569999999999999,"Steve Hammond","Change made to the Summary tab as the 'To' date field in the Backpay Period was cutting off on the 7th May. Formulas extended from row 1500 to row 2500 to correct."]
["2016-07-01",1.0580000000000001,"Steve Hammond","Change interest rate for 2016/2017 to 9.34%."]
["2017-04-19",1.0589999999999999,"Steve Hammond","Amended formulas on the Summary tab from 'Dates!$G$4:$G$32' to 'Dates!$G$4:$G$40' to allow for extra rows in the lookup formulas"]
["2017-06-28",1.06,"Steve Hammond","Change interest rate for 2017/2018 to 9.49%."]
["2017-07-07",1.0609999999999999,"Steve Hammond","Amended lookup formula for Table 3"]

{"sheet":"Variables","index":8,"n_rows":4,"n_cols":2,"rows_kept":4,"cut":false,"hidden":true,"merged":[]}
["_Example",false]
["_Shading",false]
["_Series","OfficeReady 3.0"]
["_Look",1]